Workbook
Name RM_6.3.sz.mell__A_2: #REF!
Name RM_6.4.sz.mell__A_1: #REF!
Name RM_6.4.sz.mell__A_2: #REF!

Sheet KV_1.sz.mell.
B1: 1. melléklet a …/2025.(…) önkormányzati rendelethez
A2: SAJÓSZÖGED KÖZSÉGI ÖNKORMÁNYZAT
A3: 2025. ÉVI KÖLTSÉGVETÉS
A4: ÖSSZEVONT MÉRLEGE
A6: B E V É T E L E K
C7: Forintban!
A8: Sor- szám | B8: Bevételi jogcím | C8: 2025. évi előirányzat
B9: A | C9: B
A10: 1 | B10: Működési célú támogatások államháztartáson belülről (10+…+11+…+14) | C10: =C19+C20+C21+C22+C23 -> 322705176
A11: 2 | B11: Helyi önkormányzatok működésének általános támogatása | C11: 73498900
A12: 3 | B12: Önkormányzatok egyes köznevelési feladatainak támogatása | C12: 109823636
A13: 4 | B13: Önkormányzatok szociális és gyermekjóléti feladatainak támogatása | C13: 60407500
A14: 5 | B14: Önkormányzatok gyermekétkeztetési feladatainak támogatása | C14: 64410577
A15: 6 | B15: Önkormányzatok kulturális feladatainak támogatása | C15: 5291283
A16: 7 | B16: Működési célú kvi támogatások és kiegészítő támogatások | C16: 4543552
A17: 8 | B17: Elszámolásból származó bevételek
A18: 9 | B18: Elvonások és befizetések bevételei
A19: 10 | B19: Önkormányzat működési támogatásai (2+…+.9) | C19: =SUM(C11:C18) -> 317975448
A20: 11 | B20: Működési célú garancia- és kezességvállalásból megtérülések
A21: 12 | B21: Működési célú visszatérítendő támogatások, kölcsönök visszatérülése
A22: 13 | B22: Működési célú visszatérítendő támogatások, kölcsönök igénybevétele
A23: 14 | B23: Egyéb működési célú támogatások bevételei | C23: 4729728
A24: 15 | B24: 14-ből EU-s támogatás
A25: 16 | B25: Felhalmozási célú támogatások államháztartáson belülről (17+…+21) | C25: =+C26+C27+C28+C29+C30 -> 74964450
A26: 17 | B26: Felhalmozási célú önkormányzati támogatások
A27: 18 | B27: Felhalmozási célú garancia- és kezességvállalásból megtérülések
A28: 19 | B28: Felhalmozási célú visszatérítendő támogatások, kölcsönök visszatérülése
A29: 20 | B29: Felhalmozási célú visszatérítendő támogatások, kölcsönök igénybevétele
A30: 21 | B30: Egyéb felhalmozási célú támogatások bevételei | C30: 74964450
A31: 22 | B31: 21-ből EU-s támogatás | C31: 74964450
A32: 23 | B32: Közhatalmi bevételek (24+…+30) | C32: =SUM(C33:C39) -> 554178790
A33: 24 | B33: Építményadó | C33: 3200000
A34: 25 | B34: Idegenforgalmi adó
A35: 26 | B35: Iparűzési adó | C35: 210000000
A36: 27 | B36: Talajterhelési díj | C36: 400000
A37: 28 | B37: Gépjárműadó
A38: 29 | B38: Telekadó | C38: 340228790
A39: 30 | B39: Egyéb közhatalmi bevételek | C39: 350000
A40: 31 | B40: Működési bevételek (32+…+ 42) | C40: =SUM(C41:C51) -> 117712844
A41: 32 | B41: Készletértékesítés ellenértéke
...

Sheet KV_2.sz.mell.
A1: 2. melléklet a …/2025.(…) önkormányzati rendelethez
B3: I. Működési célú bevételek és kiadások mérlege (Önkormányzati szinten)
E4: Forintban!
A5: Sor- szám | B5: Bevételek | D5: Kiadások
B6: Megnevezés | C6: 2025. évi előirányzat | D6: Megnevezés | E6: =+C6 -> 2025. évi előirányzat
B7: A | C7: B | D7: C | E7: D
A8: 1 | B8: Működési célú támogatások államháztartáson belülről | C8: 322705176 | D8: Személyi juttatások | E8: 400488727
A9: 2 | B9: 1.-ból EU-s támogatás | D9: Munkaadókat terhelő járulékok és szociális hozzájárulási adó | E9: 57230699
A10: 3 | B10: Közhatalmi bevételek | C10: 554178790 | D10: Dologi kiadások | E10: 336753908
A11: 4 | B11: Működési bevételek | C11: 117712844 | D11: Ellátottak pénzbeli juttatásai | E11: 21973000
A12: 5 | B12: Működési célú átvett pénzeszközök | D12: Egyéb működési célú kiadások | E12: 166347331
A13: 6 | B13: 5.-ból EU-s támogatás (közvetlen)
A14: 7 | B14: Egyéb működési bevételek
A15: 8
A16: 9 | D16: Az 5-ből -Tartalékok | E16: 18000000
A17: 10
A18: 11
A19: 12
A20: 13 | B20: Költségvetési bevételek összesen (1+3+4+5+7+…+12.) | C20: =C8+C10+C11+C12+C14+C15+C16+C17+C18+C19 -> 994596810 | D20: Költségvetési kiadások összesen (1+...+8+10+…12) | E20: =SUM(E8:E15)+E17+E18+E19 -> 982793665
A21: 14 | B21: Hiány belső finanszírozásának bevételei (15.+…+18. ) | C21: =SUM(C22:C25) -> -11803145 | D21: Értékpapír vásárlása, visszavásárlása
A22: 15 | B22: Költségvetési maradvány igénybevétele | C22: -11803145 | D22: Likviditási célú hitelek törlesztése
A23: 16 | B23: Vállalkozási maradvány igénybevétele | D23: Rövid lejáratú hitelek törlesztése
A24: 17 | B24: Betét visszavonásából származó bevétel | D24: Hosszú lejáratú hitelek törlesztése
A25: 18 | B25: Értékpapír értékesítése | D25: Kölcsön törlesztése
A26: 19 | B26: Hiány külső finanszírozásának bevételei (20+…+21) | C26: =+C27+C28 -> 0 | D26: Forgatási célú belföldi, külföldi értékpapírok vásárlása
A27: 20 | B27: Likviditási célú hitelek, kölcsönök felvétele | D27: Pénzeszközök lekötött betétként elhelyezése
A28: 21 | B28: Államháztartáson belüli megelőlegezések | D28: Államháztartáson belüli megelőlegezések törlesztése
A29: 22 | B29: Váltóbevételek | D29: Adóssághoz nem kapcsolódó származékos ügyletek
A30: 23 | B30: Adóssághoz nem kapcsolódó származékos ügyletek bevételei | D30: Váltókiadások
A31: 24 | B31: Működési célú finanszírozási bevételek összesen (14+19+22+23) | C31: =+C21+C26+C29+C30 -> -11803145 | D31: Működési célú finanszírozási kiadások összesen (14+...+23) | E31: =SUM(E21:E30) -> 0
A32: 25 | B32: BEVÉTEL ÖSSZESEN (13+24) | C32: =+C20+C31 -> 982793665 | D32: KIADÁSOK ÖSSZESEN (13+24) | E32: =+E20+E31 -> 982793665
A33: 26 | B33: Költségvetési hiány: | C33: =IF(C20-E20<0,E20-C20,"-") -> - | D33: Költségvetési többlet: | E33: =IF(C20-E20>0,C20-E20,"-") -> 11803145
A34: 27 | B34: Bruttó hiány: | C34: =IF(C32-E32<0,E32-C32,"-") -> - | D34: Bruttó többlet: | E34: =IF(C32-E32>0,C32-E32,"-") -> -
A35: =IF(C34<>"-","Nem lehet bruttó hiány, mert az Mötv. 111. § (4) bekezédse szerint A költségvetési rendeletben működési hiány nem tervezhető.","")
B38: II. Felhalmozási célú bevételek és kiadások mérlege (Önkormányzati szinten)
E39: =E4 -> Forintban!
A40: Sor- szám | B40: Bevételek | D40: Kiadások
B41: Megnevezés | C41: =+'KV_2.sz.mell.'!C41 -> 2025. évi előirányzat | D41: Megnevezés | E41: =+'KV_2.sz.mell.'!C41 -> 2025. évi előirányzat
B42: A | C42: B | D42: C | E42: D
A43: 1 | B43: Felhalmozási célú támogatások államháztartáson belülről | C43: 74964450 | D43: Beruházások | E43: 100675500
...

Sheet KV_3.sz.mell.
B2: 3. melléklet a …/2025.(…) önkormányzati rendelethez
A4: SAJÓSZÖGED KÖZSÉGI ÖNKORMÁNYZAT adósságot keletkeztető ügyletekből és kezességvállalásokból fennálló kötelezettségei
E5: Forintban!
A6: Sor-szám | B6: MEGNEVEZÉS | C6: Évek | F6: Összesen (F=C+D+E)
C7: 2026 | D7: =+C7+1 -> 2027 | E7: =+D7+1 -> 2028
B8: A | C8: B | D8: C | E8: D | F8: E
A9: 1. | B9: NEMLEGES! | F9: =SUM(C9:E9) -> 0
A10: 2. | F10: =SUM(C10:E10) -> 0
A11: 3. | F11: =SUM(C11:E11) -> 0
A12: 4. | F12: =SUM(C12:E12) -> 0
A13: 5. | F13: =SUM(C13:E13) -> 0
A14: 6. | B14: ÖSSZES KÖTELEZETTSÉG | C14: =SUM(C9:C13) -> 0 | D14: =SUM(D9:D13) -> 0 | E14: =SUM(E9:E13) -> 0 | F14: =SUM(F9:F13) -> 0

Sheet KV_4.sz.mell.
B2: 4. melléklet a …/2025.(…) önkormányzati rendelethez
A4: SAJÓSZÖGED KÖZSÉGI ÖNKORMÁNYZAT saját bevételeinek részletezése az adósságot keletkeztető ügyletből származó tárgyévi fizetési kötelezettség megállapításához
C5: Forintban!
A6: Sor-szám | B6: Bevételi jogcímek | C6: 2025. évi előirányzat
B7: A | C7: B
A8: 1. | B8: Helyi adóból és a települési adóból származó bevétel | C8: 554178790
A9: 2. | B9: Az önkormányzati vagyon és az önkormányzatot megillető vagyoni értékű jog értékesítéséből és hasznosításából származó bevétel
A10: 3. | B10: Osztalék, koncessziós díj és hozambevétel
A11: 4. | B11: Tárgyi eszköz és az immateriális jószág, részvény, részesedés, vállalat értékesítéséből vagy privatizációból származó bevétel
A12: 5. | B12: Bírság-, pótlék- és díjbevétel
A13: 6. | B13: Kezesség-, illetve garanciavállalással kapcsolatos megtérülés
A14: SAJÁT BEVÉTELEK ÖSSZESEN* | C14: =SUM(C8:C13) -> 554178790
A15: *Az adósságot keletkeztető ügyletekhez történő hozzájárulás részletes szabályairól szóló 353/2011. (XII.31.) Korm. Rendelet 2.§ (1) bekezdése alapján.

Sheet KV_5.sz.mell.
B2: 5. melléklet a …/2025.(…) önkormányzati rendelethez
A4: SAJÓSZÖGED KÖZSÉGI ÖNKORMÁNYZAT 2025. évi adósságot keletkeztető fejlesztési céljai
C5: ='KV_4.sz.mell.'!C5 -> Forintban!
A6: Sor-szám | B6: Fejlesztési cél leírása | C6: Fejlesztés várható kiadása
B7: A | C7: B
A8: 1. | B8: NEMLEGES!
A9: 2.
A10: 3.
A11: 4. | B11: ADÓSSÁGOT KELETKEZTETŐ ÜGYLETEK VÁRHATÓ EGYÜTTES ÖSSZEGE* | C11: =SUM(C8:C10) -> 0
A12: * Magyarország gazdasági stabilitásáról szóló 2011. évi CXCIV. törvény 8. § (2) bekezdése szerinti adósságot keletkezető ügyletek.

Sheet KV_6.sz.mell.
B2: 6. melléklet a …/2025.(…) önkormányzati rendelethez
A4: Beruházási (felhalmozási) kiadások előirányzata beruházásonként
F5: ='KV_5.sz.mell.'!C5 -> Forintban!
A6: Beruházás megnevezése | B6: Teljes költség | C6: Kivitelezés kezdési és befejezési éve | D6: Felhasználás 2024. XII. 31-ig | E6: 2025. évi előirányzat | F6: 2025. utáni szükséglet
A7: A | B7: B | C7: C | D7: D | E7: E | F7: F=(B-D-E)
A8: Sajószöged Községi Önkormányzat | B8: =SUM(B9:B11) -> 95278000 | D8: =SUM(D9:D11) -> 0 | E8: =SUM(E9:E11) -> 95278000 | F8: =SUM(F9:F11) -> 0
A9: TOP_PLUSZ-1.2.1-BO1-2022-00195 - Közlekedési pályázat | B9: 3500000 | C9: 2025 | E9: 3500000 | F9: 0
A10: Önkormányzat befektetési jegy vásárlás | B10: 90000000 | C10: 2025 | E10: 90000000 | F10: 0
A11: Kisértékű gép, berendezés pótlás | B11: 1778000 | C11: 2025 | E11: 1778000 | F11: 0
A12: 0
A13: Sajószögedi Polgármesteri Hivatal | B13: =B14 -> 1587500 | D13: =D14 -> 0 | E13: =E14 -> 1587500 | F13: =F14 -> 0
A14: Kisértékű gép, berendezés pótlás | B14: 1587500 | C14: 2025 | E14: 1587500 | F14: 0
A15: 0
A16: Sajószögedi Általános Művelődési Központ | B16: =B17 -> 2870200 | D16: =D17 -> 0 | E16: =E17 -> 2870200 | F16: =F17 -> 0
A17: Kisértékű gép, berendezés pótlás | B17: 2870200 | C17: 2025 | E17: 2870200 | F17: 0
A18: 0
A19: Sajószögedi Zöld Sziget Bölcsőde | B19: =B20 -> 939800 | D19: =D20 -> 0 | E19: =E20 -> 939800 | F19: =F20 -> 0
A20: Kisértékű gép, berendezés pótlás | B20: 939800 | C20: 2025 | E20: 939800 | F20: 0
A21: ÖSSZESEN: | B21: =SUM(B8,B13,B16,B19) -> 100675500 | D21: =SUM(D8,D13,D16,D19) -> 0 | E21: =SUM(E8,E13,E16,E19) -> 100675500 | F21: =SUM(F8,F13,F16,F19) -> 0

Sheet KV_7.sz.mell.
B2: 7. melléklet a …/2025.(…) önkormányzati rendelethez
A4: Felújítási kiadások előirányzata felújításonként
F5: Forintban!
A6: Felújítás megnevezése | B6: Teljes költség | C6: Kivitelezés kezdési és befejezési éve | D6: Felhasználás 2024. XII. 31-ig | E6: 2025. évi előirányzat | F6: 2025. utáni szükséglet
A7: A | B7: B | C7: C | D7: D | E7: E | F7: F=(B-D-E)
A8: Sajószöged Községi Önkormányzat | B8: =SUM(B9:B10) -> 113859125 | D8: =SUM(D9:D10) -> 2815875 | E8: =SUM(E9:E10) -> 103310000 | F8: =SUM(F9:F10) -> 0
A9: TOP_PLUSZ_3.3.2-21-BO1-2022-00052 - Helyi egészségügyi és szociális infrastruktúra fejlesztése | B9: 110049125 | C9: 2023-2025 | D9: 2815875 | E9: 99500000
A10: Orvosi szolgálati lakás felújítása | B10: 3810000 | C10: 2025 | E10: 3810000 | F10: =B10-D10-E10 -> 0
F11: =B11-D11-E11 -> 0
F12: =B12-D12-E12 -> 0
F13: =B13-D13-E13 -> 0
F14: =B14-D14-E14 -> 0
F15: =B15-D15-E15 -> 0
F16: =B16-D16-E16 -> 0
F17: =B17-D17-E17 -> 0
F18: =B18-D18-E18 -> 0
F19: =B19-D19-E19 -> 0
F20: =B20-D20-E20 -> 0
F21: =B21-D21-E21 -> 0
F22: =B22-D22-E22 -> 0
A23: ÖSSZESEN: | B23: =B8 -> 113859125 | D23: =D8 -> 2815875 | E23: =E8 -> 103310000 | F23: =F8 -> 0

Sheet KV_8.sz.mell.
A1: 8. melléklet a …/2025.(…) önkormányzati rendelethez
A3: Európai uniós támogatással megvalósuló projektek
A4: bevételei, kiadásai
A6: Összes projekt 2025
E8: ='KV_7.sz.mell.'!F5 -> Forintban!
A9: Források | B9: Támogatási szerződés szerinti bevételek, kiadások
B10: A projrktre jóváhagyott összes bevétel, kiadás | C10: Évenkénti ütemezés
C11: 2025. előttre ütemezett bevétel, kiadás | D11: 2025. évre ütemezett bevétel, kiadás | E11: 2025. utánra ütemezett bevétel, kiadás
A13: A | B13: B=(C+D+E) | C13: C | D13: D | E13: E
A14: Saját erő | B14: =C14+D14+E14 -> 0
A15: - saját erőből központi támogatás | B15: =C15+D15+E15 -> 0
A16: EU-s forrás | B16: =C16+D16+E16 -> 116365000 | C16: =C38+C60 -> 116365000
A17: Társfinanszírozás | B17: =C17+D17+E17 -> 0
A18: Hitel | B18: =C18+D18+E18 -> 0
A19: Egyéb forrás | B19: =C19+D19+E19 -> 0
A20: Források összesen: | B20: =B14+SUM(B16:B19) -> 116365000 | C20: =C14+SUM(C16:C19) -> 116365000 | D20: =D14+SUM(D16:D19) -> 0 | E20: =E14+SUM(E16:E19) -> 0
A21: Személyi jellegű | B21: =C21+D21+E21 -> 0
A22: Beruházások, beszerzések | B22: =C22+D22+E22 -> 103000000 | C22: =C44+C66 -> 0 | D22: =D44+D66 -> 103000000
A23: Szolgáltatások igénybe vétele | B23: =C23+D23+E23 -> 13365000 | C23: =C45+C67 -> 2815875 | D23: =D45+D67 -> 10549125
A24: Adminisztratív költségek | B24: =C24+D24+E24 -> 0 | C24: =C46+C68 -> 0 | D24: =D46+D68 -> 0
B25: =C25+D25+E25 -> 0
A26: Kiadások összesen: | B26: =SUM(B21:B25) -> 116365000 | C26: =SUM(C21:C25) -> 2815875 | D26: =SUM(D21:D25) -> 113549125 | E26: =SUM(E21:E25) -> 0
A29: EU-s projekt neve, azonosítója:* | C29: TOP_PLUSZ_3.3.2-21-BO1-2022-00052 - Helyi egészségügyi és szociális infrastruktúra fejlesztése
E30: ='KV_7.sz.mell.'!F27 -> 0
A31: Források | B31: Támogatási szerződés szerinti bevételek, kiadások
B32: A projrktre jóváhagyott összes bevétel, kiadás | C32: Évenkénti ütemezés
C33: 2025. előttre ütemezett bevétel, kiadás | D33: 2025. évre ütemezett bevétel, kiadás | E33: 2025. utánra ütemezett bevétel, kiadás
A35: A | B35: B=(C+D+E) | C35: C | D35: D | E35: E
A36: Saját erő | B36: =C36+D36+E36 -> 0
A37: - saját erőből központi támogatás | B37: =C37+D37+E37 -> 0
A38: EU-s forrás | B38: =C38+D38+E38 -> 112865000 | C38: 112865000
A39: Társfinanszírozás | B39: =C39+D39+E39 -> 0
A40: Hitel | B40: =C40+D40+E40 -> 0
A41: Egyéb forrás | B41: =C41+D41+E41 -> 0
A42: Források összesen: | B42: =B36+SUM(B38:B41) -> 112865000 | C42: =C36+SUM(C38:C41) -> 112865000 | D42: =D36+SUM(D38:D41) -> 0 | E42: =E36+SUM(E38:E41) -> 0
A43: Személyi jellegű | B43: =C43+D43+E43 -> 0
A44: Beruházások, beszerzések | B44: =C44+D44+E44 -> 99500000 | D44: 99500000
A45: Szolgáltatások igénybe vétele | B45: =C45+D45+E45 -> 13365000 | C45: 2815875 | D45: 10549125
A46: Adminisztratív költségek | B46: =C46+D46+E46 -> 0
B47: =C47+D47+E47 -> 0
...

Sheet KV_9.sz.mell
C1: 9. melléklet a …/2025.(…) önkormányzati rendelethez
A2: SAJÓSZÖGED KÖZSÉGI ÖNKORMÁNYZAT | C2: 01
A3: Összes bevétel, kiadás | C3: 01
C4: Forintban!
A5: Sor- szám | B5: Bevételi jogcím | C5: 2025. évi előirányzat
B6: A | C6: B
A7: 1 | B7: Működési célú támogatások államháztartáson belülről (10+…+11+…+14) | C7: 322705176
A8: 2 | B8: Helyi önkormányzatok működésének általános támogatása | C8: 73498900
A9: 3 | B9: Önkormányzatok egyes köznevelési feladatainak támogatása | C9: 109823636
A10: 4 | B10: Önkormányzatok szociális és gyermekjóléti feladatainak támogatása | C10: 60407500
A11: 5 | B11: Önkormányzatok gyermekétkeztetési feladatainak támogatása | C11: 64410577
A12: 6 | B12: Önkormányzatok kulturális feladatainak támogatása | C12: 5291283
A13: 7 | B13: Működési célú kvi támogatások és kiegészítő támogatások | C13: 4543552
A14: 8 | B14: Elszámolásból származó bevételek
A15: 9 | B15: Elvonások és befizetések bevételei
A16: 10 | B16: Önkormányzat működési támogatásai (2+…+.9) | C16: 317975448
A17: 11 | B17: Működési célú garancia- és kezességvállalásból megtérülések
A18: 12 | B18: Működési célú visszatérítendő támogatások, kölcsönök visszatérülése
A19: 13 | B19: Működési célú visszatérítendő támogatások, kölcsönök igénybevétele
A20: 14 | B20: Egyéb működési célú támogatások bevételei | C20: 4729728
A21: 15 | B21: 14-ből EU-s támogatás
A22: 16 | B22: Felhalmozási célú támogatások államháztartáson belülről (17+…+21) | C22: 74964450
A23: 17 | B23: Felhalmozási célú önkormányzati támogatások
A24: 18 | B24: Felhalmozási célú garancia- és kezességvállalásból megtérülések
A25: 19 | B25: Felhalmozási célú visszatérítendő támogatások, kölcsönök visszatérülése
A26: 20 | B26: Felhalmozási célú visszatérítendő támogatások, kölcsönök igénybevétele
A27: 21 | B27: Egyéb felhalmozási célú támogatások bevételei | C27: 74964450
A28: 22 | B28: 21-ből EU-s támogatás | C28: 74964450
A29: 23 | B29: Közhatalmi bevételek (24+…+30) | C29: 554128790
A30: 24 | B30: Építményadó | C30: 3200000
A31: 25 | B31: Idegenforgalmi adó
A32: 26 | B32: Iparűzési adó | C32: 210000000
A33: 27 | B33: Talajterhelési díj | C33: 400000
A34: 28 | B34: Gépjárműadó
A35: 29 | B35: Telekadó | C35: 340228790
A36: 30 | B36: Egyéb közhatalmi bevételek | C36: 300000
A37: 31 | B37: Működési bevételek (32+…+ 42) | C37: 93555000
A38: 32 | B38: Készletértékesítés ellenértéke
A39: 33 | B39: Szolgáltatások ellenértéke | C39: 6700000
A40: 34 | B40: Közvetített szolgáltatások értéke | C40: 1600000
...

Sheet KV_10.sz.mell
B2: 10. melléklet a …/2025.(…) önkormányzati rendelethez
A4: Adatszolgáltatás az elismert tartozásállományról
A6: Költségvetési szerv neve: | C6: SAJÓSZÖGED KÖZSÉGI ÖNKORMÁNYZAT
A8: Költségvetési szerv számlaszáma: | C8: 11734114-15348609-00000000
A10: Éves eredeti kiadási előirányzat: 1.206.649.009 Ft
A11: 30 napon túli elismert tartozásállomány összesen: 10.369.844 Ft | G11: Forintban!
A12: Sor-szám | B12: Tartozásállomány megnevezése | C12: 30 nap alatti állomány | D12: 30-60 nap közötti állomány | E12: 60 napon túli állomány | F12: Át-ütemezett | G12: Összesen:
A13: 1. | B13: Állammal szembeni tartozások | G13: =SUM(C13:F13) -> 0
A14: 2. | B14: Központi költségvetéssel szemben fennálló tartozás | G14: =SUM(C14:F14) -> 0
A15: 3. | B15: Elkülönített állami pénzalapokkal szembeni tartozás | G15: =SUM(C15:F15) -> 0
A16: 4. | B16: TB alapokkal szembeni tartozás | G16: =SUM(C16:F16) -> 0
A17: 5. | B17: Tartozásállomány önkormányzatok és intézmények felé | G17: =SUM(C17:F17) -> 0
A18: 6. | B18: Egyéb tartozásállomány | C18: 10369844 | G18: =SUM(C18:F18) -> 10369844
A19: 7. | B19: Összesen: | C19: =SUM(C13:C18) -> 10369844 | D19: =SUM(D13:D18) -> 0 | E19: =SUM(E13:E18) -> 0 | F19: =SUM(F13:F18) -> 0 | G19: =SUM(C19:F19) -> 10369844
A23: Kelt,………….…..
D27: költségvetési szerv vezetője

Sheet KV_11.sz.mell
A1: 11. melléklet a …/2025.(…) önkormányzati rendelethez
A2: A 2025. évi általános működés és ágazati feladatok támogatásának alakulása jogcímenként
C3: Forintban!
A4: 2024. évi XC. törvény 2. melléklete száma | B4: Jogcím | C4: 2025. évi tervezett támogatás összesen
A5: A | B5: B | C5: C
A6: 1.1. | B6: A települési önkormányzatok működésének általános támogatása | C6: 73498900
A7: 1.2. | B7: A települési önkormányzatok egyes köznevelési feladatainak támogatása | C7: 109823636
A8: 1.3. | B8: A települési önkormányzatok egyes szociális és gyermekjóléti feladatainak támogatása | C8: 60407500
A9: 1.4. | B9: A települési önkormányzatok gyermekétkeztetési feladatainak támogatása | C9: 64410577
A10: 1.5. | B10: A települési önkormányzatok kulturális feladatainak támogatása | C10: 5291283
A11: 2.1.1 | B11: Működési célú költségvetési támogatások és kiegészítő támogatások | C11: 4543552
A13: 4. | B13: Önkormányzati szolidaritási hozzájárulás | C13: -50491195
B26: Összesen: | C26: =SUM(C6:C25) -> 267484253
A27: * Magyarország 2025. évi központi költségvetéséról szóló törvény

Sheet KV_12.sz.mell
D1: 12. melléklet a …/2025.(…) önkormányzati rendelethez
A2: K I M U T A T Á S a 2025. évben céljelleggel juttatott támogatásokról
C4: Forintban!
A5: Sor- szám | B5: Támogatott szervezet neve | C5: Támogatás célja | D5: Támogatás összege
A6: 1. | B6: Egyéb működési célú támogatások ÁH-n belülre | D6: =SUM(D7:D10) -> 3746136
A7: 1.1 | B7: Rendelőintézet Tiszaúváros | C7: Fogászati hozzájárulás | D7: 1214136
A8: 1.2 | B8: Emberi Erőforrás Támogatáskezelő | C8: Bursa Hungarica támogatás | D8: 1700000
A9: 1.3 | B9: Tiszaújvárosi Humánszolgáltató Központ | C9: Jelzőrendszeres HSNY műk. | D9: 232000
A10: 1.3 | B10: Paul Dent Plusz Kft | C10: Fogászati hétvégi ügyelet támogatása | D10: 600000
A12: 2. | B12: Egyéb működési célú támogatások ÁH-n kívülre | D12: =SUM(D13:D17) -> 94110000
A13: 2.1 | B13: Szöged Kft. | C13: működési támogatás | D13: 77950000
A14: 2.2 | B14: Sajószöged Községi Testedző Kör | C14: működési támogatás | D14: 11530000
A15: 2.3 | B15: Sajószöged Polgárőr Egyesület | C15: működési támogatás | D15: 1630000
A16: 2.4 | B16: Alapítványok, civil szerveztek | C16: működési támogatás | D16: 1000000
A17: 2.5 | B17: Első lakáshoz jutók támogatása | C17: támogatás | D17: 2000000
A19: 3. | B19: Egyéb felhalmozási célú támogatások ÁH-n kívülre | D19: =D20 -> 9500000
A20: 3.1 | B20: Szöged Kft. | C20: felhalmozási támogatás | D20: 9500000
A22: Összesen: | D22: =SUM(D6,D12,D19) -> 107356136

Sheet KV_1.sz.tájékoztató_t.
E1: 1. tájékoztató tábla a …/2025.(…) önkormányzati rendelethez
A3: SAJÓSZÖGED KÖZSÉGI ÖNKORMÁNYZAT
A4: Tájékoztató a 2023. évi tény, 2024. évi várható és 2025. évi terv adatokról
A5: B E V É T E L E K
E6: Forintban!
A7: Sor- szám | B7: Bevételi jogcím | C7: 2023. évi tény | D7: 2024. évi várható | E7: 2025. évi előirányzat
A8: A | B8: B | C8: C | D8: D | E8: E
A9: 1 | B9: Működési célú támogatások államháztartáson belülről (10+…+11+…+14) | C9: 267001207 | D9: 301523743 | E9: 322705176
A10: 2 | B10: Helyi önkormányzatok működésének általános támogatása | C10: 75464121 | D10: 77101311 | E10: 73498900
A11: 3 | B11: Önkormányzatok egyes köznevelési feladatainak támogatása | C11: 76185334 | D11: 98346736 | E11: 109823636
A12: 4 | B12: Önkormányzatok szociális és gyermekjóléti feladatainak támogatása | C12: 55258192 | D12: 57152885 | E12: 60407500
A13: 5 | B13: Önkormányzatok gyermekétkeztetési feladatainak támogatása | C13: 39373435 | D13: 54369657 | E13: 64410577
A14: 6 | B14: Önkormányzatok kulturális feladatainak támogatása | C14: 6193673 | D14: 6621736 | E14: 5291283
A15: 7 | B15: Működési célú kvi támogatások és kiegészítő támogatások | C15: 1653540 | D15: 1653540 | E15: 4543552
A16: 8 | B16: Elszámolásból származó bevételek | C16: 4772738 | D16: 1553569
A17: 9 | B17: Elvonások és befizetések bevételei
A18: 10 | B18: Önkormányzat működési támogatásai (2+…+.9) | C18: 258901033 | D18: 296799434 | E18: 317975448
A19: 11 | B19: Működési célú garancia- és kezességvállalásból megtérülések
A20: 12 | B20: Működési célú visszatérítendő támogatások, kölcsönök visszatérülése
A21: 13 | B21: Működési célú visszatérítendő támogatások, kölcsönök igénybevétele
A22: 14 | B22: Egyéb működési célú támogatások bevételei | C22: 8100174 | D22: 4724309 | E22: 4729728
A23: 15 | B23: 14-ből EU-s támogatás
A24: 16 | B24: Felhalmozási célú támogatások államháztartáson belülről (17+…+21) | C24: 287402090 | D24: 9999 | E24: 74964450
A25: 17 | B25: Felhalmozási célú önkormányzati támogatások
A26: 18 | B26: Felhalmozási célú garancia- és kezességvállalásból megtérülések
A27: 19 | B27: Felhalmozási célú visszatérítendő támogatások, kölcsönök visszatérülése
A28: 20 | B28: Felhalmozási célú visszatérítendő támogatások, kölcsönök igénybevétele
A29: 21 | B29: Egyéb felhalmozási célú támogatások bevételei | C29: 287402090 | D29: 9999 | E29: 74964450
A30: 22 | B30: 21-ből EU-s támogatás | C30: 287402090 | E30: 74964450
A31: 23 | B31: Közhatalmi bevételek (24+…+30) | C31: 454328561 | D31: 496230114 | E31: 554178790
A32: 24 | B32: Építményadó | C32: 2697329 | D32: 3508656 | E32: 3200000
A33: 25 | B33: Idegenforgalmi adó
A34: 26 | B34: Iparűzési adó | C34: 236345948 | D34: 210886490 | E34: 210000000
A35: 27 | B35: Talajterhelési díj | C35: 664608 | D35: 253800 | E35: 400000
A36: 28 | B36: Gépjárműadó
A37: 29 | B37: Telekadó | C37: 211866780 | D37: 280627064 | E37: 340228790
A38: 30 | B38: Egyéb közhatalmi bevételek | C38: 2753896 | D38: 954104 | E38: 350000
A39: 31 | B39: Működési bevételek (32+…+ 42) | C39: 67694694 | D39: 86309692 | E39: 117712844
A40: 32 | B40: Készletértékesítés ellenértéke
A41: 33 | B41: Szolgáltatások ellenértéke | C41: 16552963 | D41: 19961345 | E41: 22617200
...

Sheet KV_2.sz.tájékoztató_t.
I1: 2. tájékoztató tábla a …/2025.(…) önkormányzati rendelethez
A3: Többéves kihatással járó döntések számszerűsítése évenkénti bontásban és összesítve célok szerint
B4: NEMLEGES! | I4: ='[1]KV_1.sz.tájékoztató_t.'!E5 -> Forintban!
A5: Sor- szám | B5: Kötelezettség jogcíme | C5: Köt. váll. éve | D5: =+CONCATENATE(LEFT([1]KV_ÖSSZEFÜGGÉSEK!A5,4)," előtti kifizetés") -> 2025 előtti kifizetés | E5: Kiadás vonzata évenként | I5: Összesen
E6: =+CONCATENATE(LEFT([1]KV_ÖSSZEFÜGGÉSEK!A5,4),".") -> 2025. | F6: =+CONCATENATE(LEFT([1]KV_ÖSSZEFÜGGÉSEK!A5,4)+1,".") -> 2026. | G6: =+CONCATENATE(LEFT([1]KV_ÖSSZEFÜGGÉSEK!A5,4)+2,".") -> 2027. | H6: =+CONCATENATE(LEFT([1]KV_ÖSSZEFÜGGÉSEK!A5,4)+2,".",CHAR(10)," után") -> 2027. után
A7: A | B7: B | C7: C | D7: D | E7: E | F7: F | G7: G | H7: H | I7: I=(D+E+F+G+H)
A8: 1. | B8: Működési célú finanszírozási kiadások (hiteltörlesztés, értékpapír vásárlás, stb.) | D8: =+D9+D10 -> 0 | E8: =+E9+E10 -> 0 | F8: =+F9+F10 -> 0 | G8: =+G9+G10 -> 0 | H8: =+H9+H10 -> 0 | I8: =SUM(D8:H8) -> 0
A9: 2. | B9: ............................ | I9: =SUM(D9:H9) -> 0
A10: 3. | B10: ............................ | I10: =SUM(D10:H10) -> 0
A11: 4. | B11: Felhalmozási célú finanszírozási kiadások (hiteltörlesztés, értékpapír vásárlás, stb.) | D11: =+D12+D13 -> 0 | E11: =+E12+E13 -> 0 | F11: =+F12+F13 -> 0 | G11: =+G12+G13 -> 0 | H11: =+H12+H13 -> 0 | I11: =SUM(D11:H11) -> 0
A12: 5. | B12: ............................ | I12: =SUM(D12:H12) -> 0
A13: 6. | B13: ............................ | I13: =SUM(D13:H13) -> 0
A14: 7. | B14: Beruházási kiadások beruházásonként | D14: =+D15 -> 0 | E14: =+E15 -> 0 | F14: =+F15 -> 0 | G14: =+G15 -> 0 | H14: =+H15 -> 0 | I14: =SUM(D14:H14) -> 0
A15: 8. | B15: ............................ | I15: =SUM(D15:H15) -> 0
A16: 9. | B16: Felújítási kiadások felújításonként | D16: =+D17 -> 0 | E16: =+E17 -> 0 | F16: =+F17 -> 0 | G16: =+G17 -> 0 | H16: =+H17 -> 0 | I16: =SUM(D16:H16) -> 0
A17: 10. | B17: ............................ | I17: =SUM(D17:H17) -> 0
A18: 11. | B18: Egyéb (Pl.: garancia és kezességvállalás, stb.) | D18: =+D19 -> 0 | E18: =+E19 -> 0 | F18: =+F19 -> 0 | G18: =+G19 -> 0 | H18: =+H19 -> 0 | I18: =SUM(D18:H18) -> 0
A19: 12. | B19: ............................ | I19: =SUM(D19:H19) -> 0
A20: Összesen (1+4+7+9+11) | D20: =+D8+D11+D14+D16+D18 -> 0 | E20: =+E8+E11+E14+E16+E18 -> 0 | F20: =+F8+F11+F14+F16+F18 -> 0 | G20: =+G8+G11+G14+G16+G18 -> 0 | H20: =+H8+H11+H14+H16+H18 -> 0 | I20: =+I8+I11+I14+I16+I18 -> 0

Sheet KV_3.sz.tájékoztató_t.
D1: 3. tájékoztató tábla a …/2025.(…) önkormányzati rendelethez
B3: Az önkormányzat által adott közvetett támogatások (kedvezmények)
D4: Forintban!
A5: Sor-szám | B5: Bevételi jogcím | C5: Kedvezmény nélkül elérhető bevétel | D5: Kedvezmények összege
A6: A | B6: B | C6: C | D6: D
A7: 1. | B7: Ellátottak térítési díjának méltányosságból történő elengedése
A8: 2. | B8: Ellátottak kártérítésének méltányosságból történő elengedése
A9: 3. | B9: Lakosság részére lakásépítéshez nyújtott kölcsön elengedése
A10: 4. | B10: Lakosság részére lakásfelújításhoz nyújtott kölcsön elengedése
A11: 5. | B11: Helyi adóból biztosított kedvezmény, mentesség összesen
A12: 6. | B12: -ebből: Építményadó
A13: 7. | B13: Telekadó
A14: 9. | B14: Magánszemélyek kommunális adója
A15: 10. | B15: Idegenforgalmi adó tartózkodás után
A16: 11. | B16: Idegenforgalmi adó épület után
A17: 12. | B17: Iparűzési adó állandó jelleggel végzett iparűzési tevékenység után
A18: 13. | B18: Gépjárműadóból biztosított kedvezmény, mentesség
... A21: 16. | B21: Egyéb kedvezmény
A22: 17. | B22: Egyéb kölcsön elengedése | C22: 320000 | D22: 320000
A23: 18.
A24: 19.
A25: 20.
A26: 21.
A27: 22.
A28: 23.
A29: 24.
A30: 25.
A31: 26.
A32: 27. | B32: Összesen: | C32: 320000 | D32: 320000

Sheet KV_4.sz.tájékoztató_t.
O1: 4. tájékoztató tábla a …/2025.(…) önkormányzati rendelethez
A3: Előirányzat-felhasználási terv 2025. évre
O4: Forintban!
A5: Sor-szám | B5: Megnevezés | C5: Január | D5: Február | E5: Március | F5: Április | G5: Május | H5: Június | I5: Július | J5: Auguszt. | K5: Szept. | L5: Okt. | M5: Nov. | N5: Dec. | O5: Összesen:
A6: 1. | B6: Bevételek
A7: 2. | B7: Működési célú támogatások ÁH-on belül | C7: 36705176 | D7: 26000000 | E7: 26000000 | F7: 26000000 | G7: 26000000 | H7: 26000000 | I7: 26000000 | J7: 26000000 | K7: 26000000 | L7: 26000000 | M7: 26000000 | N7: 26000000 | O7: 322705176
A8: 3. | B8: Felhalmozási célú támogatások ÁH-on belül | E8: 74964450 | O8: 74964450
A9: 4. | B9: Közhatalmi bevételek | C9: 1000000 | D9: 1000000 | E9: 272089395 | F9: 1000000 | G9: 1000000 | H9: 1000000 | I9: 1000000 | J9: 1000000 | K9: 272089395 | L9: 1000000 | M9: 1000000 | N9: 1000000 | O9: 554178790
A10: 5. | B10: Működési bevételek | C10: 10000000 | D10: 10000000 | E10: 10000000 | F10: 10000000 | G10: 10000000 | H10: 10000000 | I10: 8856422 | J10: 8856422 | K10: 10000000 | L10: 10000000 | M10: 10000000 | N10: 10000000 | O10: 117712844
A11: 6. | B11: Felhalmozási bevételek | D11: 30000000 | J11: 30000000 | O11: 60000000
A12: 7. | B12: Működési célú átvett pénzeszközök | O12: 0
A13: 8. | B13: Felhalmozási célú átvett pénzeszközök | C13: 125971 | D13: 125971 | E13: 125971 | F13: 125971 | G13: 125971 | H13: 125971 | I13: 125971 | J13: 125971 | K13: 125971 | L13: 125971 | M13: 125971 | N13: 125973 | O13: 1511654
A14: 9. | B14: Finanszírozási bevételek | C14: 75576095 | O14: 75576095
A15: 10. | B15: Bevételek összesen: | C15: 123407242 | D15: 67125971 | E15: 383179816 | F15: 37125971 | G15: 37125971 | H15: 37125971 | I15: 35982393 | J15: 65982393 | K15: 308215366 | L15: 37125971 | M15: 37125971 | N15: 37125973 | O15: 1206649009
A16: 11. | B16: Kiadások
A17: 12. | B17: Személyi juttatások | C17: 32600000 | D17: 32600000 | E17: 32600000 | F17: 32600000 | G17: 32600000 | H17: 32600000 | I17: 32600000 | J17: 32600000 | K17: 32600000 | L17: 32600000 | M17: 32600000 | N17: 41888727 | O17: 400488727
A18: 13. | B18: Munkaadókat terhelő járulékok és szociális hozzájárulási adó | C18: 4600000 | D18: 4600000 | E18: 4600000 | F18: 4600000 | G18: 4600000 | H18: 4600000 | I18: 4600000 | J18: 4600000 | K18: 4600000 | L18: 4600000 | M18: 4600000 | N18: 6630699 | O18: 57230699
A19: 14. | B19: Dologi kiadások | C19: 28062826 | D19: 28062826 | E19: 28062826 | F19: 28062826 | G19: 28062826 | H19: 28062826 | I19: 28062826 | J19: 28062826 | K19: 28062826 | L19: 28062826 | M19: 28062826 | N19: 28062822 | O19: 336753908
A20: 15. | B20: Ellátottak pénzbeli juttatásai | C20: 600000 | D20: 600000 | E20: 600000 | F20: 600000 | G20: 600000 | H20: 600000 | I20: 600000 | J20: 600000 | K20: 5000000 | L20: 600000 | M20: 600000 | N20: 10973000 | O20: 21973000
A21: 16. | B21: Egyéb működési célú kiadások | C21: 13862278 | D21: 13862278 | E21: 13862278 | F21: 13862278 | G21: 13862278 | H21: 13862278 | I21: 13862278 | J21: 13862278 | K21: 13862278 | L21: 13862278 | M21: 13862278 | N21: 13862273 | O21: 166347331
A22: 17. | B22: Beruházások | C22: 880000 | D22: 880000 | E22: 60995500 | F22: 880000 | G22: 880000 | H22: 880000 | I22: 880000 | J22: 880000 | K22: 30880000 | L22: 880000 | M22: 880000 | N22: 880000 | O22: 100675500
A23: 18. | B23: Felújítások | H23: 15000000 | I23: 15000000 | J23: 15000000 | K23: 15000000 | L23: 15000000 | M23: 15000000 | N23: 13310000 | O23: 103310000
A24: 19. | B24: Egyéb felhalmozási kiadások | E24: 5000000 | K24: 4500000 | O24: 9500000
A25: 20. | B25: Finanszírozási kiadások | C25: 10369844 | O25: 10369844
A26: 21. | B26: Kiadások összesen: | C26: 90974948 | D26: 80605104 | E26: 145720604 | F26: 80605104 | G26: 80605104 | H26: 95605104 | I26: 95605104 | J26: 95605104 | K26: 134505104 | L26: 95605104 | M26: 95605104 | N26: 115607521 | O26: 1206649009
A27: 22. | B27: Egyenleg | C27: 32432294 | D27: -13479133 | E27: 237459212 | F27: -43479133 | G27: -43479133 | H27: -58479133 | I27: -59622711 | J27: -29622711 | K27: 173710262 | L27: -58479133 | M27: -58479133 | N27: -78481548 | O27: 0

Sheet KV_5.sz.tájékoztató_t.
E1: 5. tájékoztató tábla a …/2025.(…) önkormányzati rendelethez
A3: SAJÓSZÖGED KÖZSÉGI ÖNKORMÁNYZAT
A4: 2025. ÉVI KÖLTSÉGVETÉSI ÉVET KÖVETŐ 3 ÉV TERVEZETT
A5: BEVÉTELEI, KIADÁSAI
A6: 1. sz. táblázat | E6: Forintban!
A7: Sor- szám | B7: Bevételi jogcím | C7: 2026. évi | D7: 2027. évi | E7: 2028. évi
A8: A | B8: B | C8: C | D8: D | E8: E
A9: 1. | B9: Működési célú támogatások államháztartáson belülről | C9: 350000000 | D9: 370000000 | E9: 390000000
A10: 2. | B10: Felhalmozási célú támogatások államháztartáson belülről
A11: 3. | B11: Közhatalmi bevételek (4….+7……10) | C11: 559178790 | D11: 564178790 | E11: 569178790
A12: 4. | B12: Építményadó | C12: 3200000 | D12: 3200000 | E12: 3200000
A13: 5. | B13: Idegenforgalmi adó
A14: 6. | B14: Iparűzési adó | C14: 215000000 | D14: 220000000 | E14: 225000000
A15: 7. | B15: Talajterhelési díj | C15: 400000 | D15: 400000 | E15: 400000
A16: 8. | B16: Gépjárműadó
A17: 9. | B17: Telekadó | C17: 340228790 | D17: 340228790 | E17: 340228790
A18: 10. | B18: Egyéb közhatalmi bevételek | C18: 350000 | D18: 350000 | E18: 350000
A19: 11. | B19: Működési bevételek | C19: 90000000 | D19: 95000000 | E19: 100000000
A20: 12. | B20: Felhalmozási bevételek
A21: 13. | B21: Működési célú átvett pénzeszközök
A22: 14. | B22: Felhalmozási célú átvett pénzeszközök | C22: 1200000 | D22: 1000000 | E22: 800000
A23: 15. | B23: KÖLTSÉGVETÉSI BEVÉTELEK ÖSSZESEN: (1+2+3+11…+14) | C23: 1000378790 | D23: 1030178790 | E23: 1059978790
A24: 16. | B24: FINANSZÍROZÁSI BEVÉTELEK ÖSSZESEN:
A25: 17. | B25: KÖLTSÉGVETÉSI ÉS FINANSZÍROZÁSI BEVÉTELEK ÖSSZESEN: (15+16) | C25: 1000378790 | D25: 1030178790 | E25: 1059978790
A27: K I A D Á S O K
A28: 2. sz. táblázat | E28: Forintban!
A29: Sor-szám | B29: Kiadási jogcímek | C29: 2026. évi | D29: 2027. évi | E29: 2028. évi
A30: A | B30: B | C30: C | D30: D | E30: E
A31: 1. | B31: Működési költségvetés kiadásai | C31: 980000000 | D31: 1010000000 | E31: 1040000000
A32: 2. | B32: Felhalmozási költségvetés kiadásai (3+4+5) | C32: 9378790 | D32: 8678790 | E32: 9608946
A33: 3. | B33: Beruházások | C33: 9378790 | D33: 8678790 | E33: 9608946
A34: 4. | B34: Felújítások
A35: 5. | B35: Egyéb felhalmozási kiadások
A36: 6. | B36: KÖLTSÉGVETÉSI KIADÁSOK ÖSSZESEN (1+2) | C36: 989378790 | D36: 1018678790 | E36: 1049608946
A37: 7. | B37: FINANSZÍROZÁSI KIADÁSOK ÖSSZESEN: | C37: 11000000 | D37: 11500000 | E37: 10369844
A38: 8. | B38: KIADÁSOK ÖSSZESEN: (6+47) | C38: 1000378790 | D38: 1030178790 | E38: 1059978790
C39: 0 | D39: 0 | E39: 0
