Workbook

Sheet Záradék
A1: PROMT 23 KFT
A2: 4080 Hajdúnánás, Böszörményi u 1.
A3: Tel.: (30) 9552-7920
A4: Adószám: 11141163-2-09
A5: Cégjegyzékszám: 09-09-001684
A9: Cím : Sajószöged Önkormányzat | C9: Kelt: 2024. év 05. hó 16.nap
A13: A munka leírása:
A14: Sajószöged útfelújítás
A20: Költségvetés főösszesítő
A21: Megnevezés | C21: Anyagköltség | D21: Díjköltség
A22: 1. Építmény közvetlen költségei | C22: =ROUND(SUM('Fejezet összesítő'!B2:B3),0) -> 25966250 | D22: =ROUND(SUM('Fejezet összesítő'!C2:C3),0) -> 6444000
A23: 1.1 Közvetlen önköltség összesen | C23: =ROUND(C22,0) -> 25966250 | D23: =ROUND(D22,0) -> 6444000
A24: 2.1 ÁFA vetítési alap | C24: =ROUND(C23+D23,0) -> 32410250
A25: 2.2 Áfa | B25: 0.27 | C25: =ROUND(C24*B25,0) -> 8750768
A26: 3. A munka ára | C26: =ROUND(C24+C25,0) -> 41161018
B30: Aláírás

Sheet Fejezet összesítő
A1: Fejezetek megnevezése | B1: Anyag összege | C1: Díj összege | D1: Mindösszesen
A2: 01 Tóparti utak | B2: ='Tóparti utak'!H14 -> 18946250 | C2: ='Tóparti utak'!I14 -> 4589250 | D2: =B2+C2 -> 23535500
A3: 02 Iskola előtti út és parkoló | B3: ='Iskola előtti út és parkoló'!H12 -> 7020000 | C3: ='Iskola előtti út és parkoló'!I12 -> 1854750 | D3: =C3+B3 -> 8874750
A4: Összesen: | B4: =ROUND(SUM(B2:B3),0) -> 25966250 | C4: =ROUND(SUM(C2:C3), 0) -> 6444000 | D4: =D2+D3 -> 32410250

Sheet Tóparti utak
A1: Ssz. | B1: Tételszám | C1: Tétel szövege | D1: Menny. | E1: Egység | F1: Anyag egységár | G1: Díj egységre | H1: Anyag összesen | I1: Díj összesen
A3: 1 | B3: K | C3: Sérült burkalatalap bontása helyreállítása | D3: 30 | E3: m2 | F3: 18500 | G3: 17100 | H3: =ROUND(D3*F3, 0) -> 555000 | I3: =ROUND(D3*G3, 0) -> 513000
A5: 2 | B5: K | C5: Útalap készítés zúzottkőből | D5: 50 | E5: m2 | F5: 10600 | G5: 18900 | H5: =ROUND(D5*F5, 0) -> 530000 | I5: =ROUND(D5*G5, 0) -> 945000
A7: 3 | B7: K | C7: Aszfalt szőnyeg terítés gépi erővel AC-11 | D7: 94.5 | E7: m3 | F7: 170000 | G7: 22000 | H7: =ROUND(D7*F7, 0) -> 16065000 | I7: =ROUND(D7*G7, 0) -> 2079000
A9: 4 | B9: K | C9: Aszfalt szőnyeg terítés kézi erővel AC-11 | D9: 3 | E9: m3 | F9: 170000 | G9: 55000 | H9: =ROUND(D9*F9, 0) -> 510000 | I9: =ROUND(D9*G9, 0) -> 165000
A11: 5 | B11: K | C11: Padka építése 10 cm vastagságban | D11: 52.5 | E11: m3 | F11: 24500 | G11: 16900 | H11: =ROUND(D11*F11, 0) -> 1286250 | I11: =ROUND(D11*G11, 0) -> 887250
C14: Fejezet összesen: | H14: =ROUND(SUM(H2:H13),0) -> 18946250 | I14: =ROUND(SUM(I2:I13),0) -> 4589250
C15: Mindösszesen: | H15: =H14+I14 -> 23535500

Sheet Iskola előtti út és parkoló
A1: Ssz. | B1: Tételszám | C1: Tétel szövege | D1: Menny. | E1: Egység | F1: Anyag egységár | G1: Díj egységre | H1: Anyag összesen | I1: Díj összesen
A3: 1 | B3: K | C3: Nyomvonal helyreállítás | D3: 15 | E3: m2 | F3: 18500 | G3: 17100 | H3: =ROUND(D3*F3, 0) -> 277500 | I3: =ROUND(D3*G3, 0) -> 256500
A5: 3 | B5: K | C5: Aszfalt szőnyeg terítés gépi erővel AC-11 | D5: 21.75 | E5: m3 | F5: 170000 | G5: 22000 | H5: =ROUND(D5*F5, 0) -> 3697500 | I5: =ROUND(D5*G5, 0) -> 478500
A7: 4 | B7: K | C7: Aszfalt szőnyeg terítés kézi erővel AC-11 | D7: 15.75 | E7: m3 | F7: 170000 | G7: 55000 | H7: =ROUND(D7*F7, 0) -> 2677500 | I7: =ROUND(D7*G7, 0) -> 866250
A9: 5 | B9: K | C9: Padka építése 10 cm vastagságban | D9: 15 | E9: m3 | F9: 24500 | G9: 16900 | H9: =ROUND(D9*F9, 0) -> 367500 | I9: =ROUND(D9*G9, 0) -> 253500
C12: Fejezet összesen: | H12: =ROUND(SUM(H2:H11),0) -> 7020000 | I12: =ROUND(SUM(I2:I11),0) -> 1854750
C13: Mindösszesen: | H13: =H12+I12 -> 8874750
