Workbook
Name _ftn1: 'Z_7.3.tájékoztató_t.'!$A$31
Name _ftnref1: 'Z_7.3.tájékoztató_t.'!$A$22

Sheet Z_TARTALOMJEGYZÉK
A1: 2021
A2: Tartalomjegyzék
A4: Dokumentum neve | B4: A dokumentációs rendszerben található táblázatok listája | C4: Ugrás
A6: ZÁRSZÁMADÁSI RENDLET
A7: Alapadatok | B7: Adatok megadása | C7: =HYPERLINK(SUBSTITUTE(CELL("address",Z_ALAPADATOK!A1),"'",""),SUBSTITUTE(MID(CELL("address",Z_ALAPADATOK!A1),SEARCH("]",CELL("address",Z_ALAPADATOK!A1),1)+1,LEN(CELL("address",Z_ALAPADATOK!A1))-SEARCH("]",CELL("address",Z_ALAPADATOK!A1),1)),"'","")) -> Z_ALAPADATOK!$A$1
A8: Összefüggések | B8: Táblázatok adatainak összefüggései | C8: =HYPERLINK(SUBSTITUTE(CELL("address",Z_ÖSSZEFÜGGÉSEK!A1),"'",""),SUBSTITUTE(MID(CELL("address",Z_ÖSSZEFÜGGÉSEK!A1),SEARCH("]",CELL("address",Z_ÖSSZEFÜGGÉSEK!A1),1)+1,LEN(CELL("address",Z_ÖSSZEFÜGGÉSEK!A1))-SEARCH("]",CELL("address",Z_ÖSSZEFÜGGÉSEK!A1),1)),"'","")) -> Z_ÖSSZEFÜGGÉSEK!$A$1
A9: 1.1. melléklet | B9: =CONCATENATE(LOWER('Z_1.1.sz.mell.'!A3)) -> 2021. évi zárszámadásának pénzügyi mérlege | C9: =HYPERLINK(SUBSTITUTE(CELL("address",'Z_1.1.sz.mell.'!A1),"'",""),SUBSTITUTE(MID(CELL("address",'Z_1.1.sz.mell.'!A1),SEARCH("]",CELL("address",'Z_1.1.sz.mell.'!A1),1)+1,LEN(CELL("address",'Z_1.1.sz.mell.'!A1))-SEARCH("]",CELL("address",'Z_1.1.sz.mell.'!A1),1)),"'","")) -> Z_1.1.sz.mell.!$A$1
A10: 1.2. melléklet | B10: ='Z_1.2.sz.mell.'!A3 -> 2021. ÉVI ZÁRSZÁMADÁS | C10: =HYPERLINK(SUBSTITUTE(CELL("address",'Z_1.2.sz.mell.'!A1),"'",""),SUBSTITUTE(MID(CELL("address",'Z_1.2.sz.mell.'!A1),SEARCH("]",CELL("address",'Z_1.2.sz.mell.'!A1),1)+1,LEN(CELL("address",'Z_1.2.sz.mell.'!A1))-SEARCH("]",CELL("address",'Z_1.2.sz.mell.'!A1),1)),"'","")) -> Z_1.2.sz.mell.!$A$1
A11: 1.3. melléklet | B11: ='Z_1.3.sz.mell.'!A3 -> 2021. ÉVI ZÁRSZÁMADÁS | C11: =HYPERLINK(SUBSTITUTE(CELL("address",'Z_1.3.sz.mell.'!A1),"'",""),SUBSTITUTE(MID(CELL("address",'Z_1.3.sz.mell.'!A1),SEARCH("]",CELL("address",'Z_1.3.sz.mell.'!A1),1)+1,LEN(CELL("address",'Z_1.3.sz.mell.'!A1))-SEARCH("]",CELL("address",'Z_1.3.sz.mell.'!A1),1)),"'","")) -> Z_1.3.sz.mell.!$A$1
A12: 1.4. melléklet | B12: ='Z_1.4.sz.mell.'!A3 -> 2021. ÉVI ZÁRSZÁMADÁS | C12: =HYPERLINK(SUBSTITUTE(CELL("address",'Z_1.4.sz.mell.'!A1),"'",""),SUBSTITUTE(MID(CELL("address",'Z_1.4.sz.mell.'!A1),SEARCH("]",CELL("address",'Z_1.4.sz.mell.'!A1),1)+1,LEN(CELL("address",'Z_1.4.sz.mell.'!A1))-SEARCH("]",CELL("address",'Z_1.4.sz.mell.'!A1),1)),"'","")) -> Z_1.4.sz.mell.!$A$1
A13: 2.1. melléklet | B13: Működési célú bevételek, kiadások mérlege | C13: =HYPERLINK(SUBSTITUTE(CELL("address",'Z_2.1.sz.mell'!A1),"'",""),SUBSTITUTE(MID(CELL("address",'Z_2.1.sz.mell'!A1),SEARCH("]",CELL("address",'Z_2.1.sz.mell'!A1),1)+1,LEN(CELL("address",'Z_2.1.sz.mell'!A1))-SEARCH("]",CELL("address",'Z_2.1.sz.mell'!A1),1)),"'","")) -> Z_2.1.sz.mell!$A$1
A14: 2.2. melléklet | B14: Felhalmozási célú bevételek, kiadások mérlege | C14: =HYPERLINK(SUBSTITUTE(CELL("address",'Z_2.2.sz.mell'!A1),"'",""),SUBSTITUTE(MID(CELL("address",'Z_2.2.sz.mell'!A1),SEARCH("]",CELL("address",'Z_2.2.sz.mell'!A1),1)+1,LEN(CELL("address",'Z_2.2.sz.mell'!A1))-SEARCH("]",CELL("address",'Z_2.2.sz.mell'!A1),1)),"'","")) -> Z_2.2.sz.mell!$A$1
A15: Ellenőrző lista | B15: Ellenőrzés az 1-es és 2.1., 2.2. mellékletek adati esetében | C15: =HYPERLINK(SUBSTITUTE(CELL("address",Z_ELLENŐRZÉS!A1),"'",""),SUBSTITUTE(MID(CELL("address",Z_ELLENŐRZÉS!A1),SEARCH("]",CELL("address",Z_ELLENŐRZÉS!A1),1)+1,LEN(CELL("address",Z_ELLENŐRZÉS!A1))-SEARCH("]",CELL("address",Z_ELLENŐRZÉS!A1),1)),"'","")) -> Z_ELLENŐRZÉS!$A$1
A16: 3. melléklet | B16: Beruházási (felhalmozási) kiadások előirányzata beruházásonként | C16: =HYPERLINK(SUBSTITUTE(CELL("address",'Z_3.sz.mell.'!#REF!),"'",""),SUBSTITUTE(MID(CELL("address",'Z_3.sz.mell.'!#REF!),SEARCH("]",CELL("address",'Z_3.sz.mell.'!#REF!),1)+1,LEN(CELL("address",'Z_3.sz.mell.'!#REF!))-SEARCH("]",CELL("address",'Z_3.sz.mell.'!#REF!),1)),"'","")) -> #REF!
A17: 4. melléklet | B17: Felújítási kiadások előirányzata felújításonként | C17: =HYPERLINK(SUBSTITUTE(CELL("address",'Z_4.sz.mell.'!#REF!),"'",""),SUBSTITUTE(MID(CELL("address",'Z_4.sz.mell.'!#REF!),SEARCH("]",CELL("address",'Z_4.sz.mell.'!#REF!),1)+1,LEN(CELL("address",'Z_4.sz.mell.'!#REF!))-SEARCH("]",CELL("address",'Z_4.sz.mell.'!#REF!),1)),"'","")) -> #REF!
A18: 5. melléklet | B18: ='Z_5.sz.mell.'!A3 -> Európai uniós támogatással megvalósuló projektek | C18: =HYPERLINK(SUBSTITUTE(CELL("address",'Z_5.sz.mell.'!A1),"'",""),SUBSTITUTE(MID(CELL("address",'Z_5.sz.mell.'!A1),SEARCH("]",CELL("address",'Z_5.sz.mell.'!A1),1)+1,LEN(CELL("address",'Z_5.sz.mell.'!A1))-SEARCH("]",CELL("address",'Z_5.sz.mell.'!A1),1)),"'","")) -> Z_5.sz.mell.!$A$1
A19: 6.1. melléklet | B19: Összes bevétel, kiadás | C19: =HYPERLINK(SUBSTITUTE(CELL("address",'Z_6.1.sz.mell'!A1),"'",""),SUBSTITUTE(MID(CELL("address",'Z_6.1.sz.mell'!A1),SEARCH("]",CELL("address",'Z_6.1.sz.mell'!A1),1)+1,LEN(CELL("address",'Z_6.1.sz.mell'!A1))-SEARCH("]",CELL("address",'Z_6.1.sz.mell'!A1),1)),"'","")) -> Z_6.1.sz.mell!$A$1
A20: 6.1.1. melléklet | B20: Kötelező feladtok bevételei, kiadásai | C20: =HYPERLINK(SUBSTITUTE(CELL("address",'Z_6.1.1.sz.mell'!A1),"'",""),SUBSTITUTE(MID(CELL("address",'Z_6.1.1.sz.mell'!A1),SEARCH("]",CELL("address",'Z_6.1.1.sz.mell'!A1),1)+1,LEN(CELL("address",'Z_6.1.1.sz.mell'!A1))-SEARCH("]",CELL("address",'Z_6.1.1.sz.mell'!A1),1)),"'","")) -> Z_6.1.1.sz.mell!$A$1
A21: 6.1.2. melléklet | B21: Önként vállalt feladatok bevételei, kiadásai | C21: =HYPERLINK(SUBSTITUTE(CELL("address",'Z_6.1.2.sz.mell'!A1),"'",""),SUBSTITUTE(MID(CELL("address",'Z_6.1.2.sz.mell'!A1),SEARCH("]",CELL("address",'Z_6.1.2.sz.mell'!A1),1)+1,LEN(CELL("address",'Z_6.1.2.sz.mell'!A1))-SEARCH("]",CELL("address",'Z_6.1.2.sz.mell'!A1),1)),"'","")) -> Z_6.1.2.sz.mell!$A$1
A22: 6.1.3. melléklet | B22: Államigazgatási feladatok bevételei, kiadásai | C22: =HYPERLINK(SUBSTITUTE(CELL("address",'Z_6.1.3.sz.mell'!A1),"'",""),SUBSTITUTE(MID(CELL("address",'Z_6.1.3.sz.mell'!A1),SEARCH("]",CELL("address",'Z_6.1.3.sz.mell'!A1),1)+1,LEN(CELL("address",'Z_6.1.3.sz.mell'!A1))-SEARCH("]",CELL("address",'Z_6.1.3.sz.mell'!A1),1)),"'","")) -> Z_6.1.3.sz.mell!$A$1
A23: 6.2. melléklet | B23: =Z_ALAPADATOK!A11 -> Sajószögedi Polgármesteri Hivatal | C23: =HYPERLINK(SUBSTITUTE(CELL("address",'Z_6.2.sz.mell'!A1),"'",""),SUBSTITUTE(MID(CELL("address",'Z_6.2.sz.mell'!A1),SEARCH("]",CELL("address",'Z_6.2.sz.mell'!A1),1)+1,LEN(CELL("address",'Z_6.2.sz.mell'!A1))-SEARCH("]",CELL("address",'Z_6.2.sz.mell'!A1),1)),"'","")) -> Z_6.2.sz.mell!$A$1
A24: 6.3. melléklet | B24: =Z_ALAPADATOK!B13 -> Sajószögedi Általános Művelődési Központ - Család és Gyermekjóléti Szolgálat - Konyha - Művelődési Ház és Könyvtár | C24: =HYPERLINK(SUBSTITUTE(CELL("address",'Z_6.3.sz.mell'!A1),"'",""),SUBSTITUTE(MID(CELL("address",'Z_6.3.sz.mell'!A1),SEARCH("]",CELL("address",'Z_6.3.sz.mell'!A1),1)+1,LEN(CELL("address",'Z_6.3.sz.mell'!A1))-SEARCH("]",CELL("address",'Z_6.3.sz.mell'!A1),1)),"'","")) -> Z_6.3.sz.mell!$A$1
A25: 6.4. melléklet | B25: =Z_ALAPADATOK!B15 -> Sajószögedi Zöld Sziget Bölcsőde | C25: =HYPERLINK(SUBSTITUTE(CELL("address",'Z_6.4.sz.mell'!A1),"'",""),SUBSTITUTE(MID(CELL("address",'Z_6.4.sz.mell'!A1),SEARCH("]",CELL("address",'Z_6.4.sz.mell'!A1),1)+1,LEN(CELL("address",'Z_6.4.sz.mell'!A1))-SEARCH("]",CELL("address",'Z_6.4.sz.mell'!A1),1)),"'","")) -> Z_6.4.sz.mell!$A$1
A26: 6.5. melléklet | B26: =Z_ALAPADATOK!B17 -> 3 kvi név | C26: =HYPERLINK(SUBSTITUTE(CELL("address",'Z_6.5.sz.mell'!A1),"'",""),SUBSTITUTE(MID(CELL("address",'Z_6.5.sz.mell'!A1),SEARCH("]",CELL("address",'Z_6.5.sz.mell'!A1),1)+1,LEN(CELL("address",'Z_6.5.sz.mell'!A1))-SEARCH("]",CELL("address",'Z_6.5.sz.mell'!A1),1)),"'","")) -> Z_6.5.sz.mell!$A$1
A27: 6.6. melléklet | B27: =Z_ALAPADATOK!B19 -> 4 kvi név | C27: =HYPERLINK(SUBSTITUTE(CELL("address",'Z_6.6.sz.mell'!A1),"'",""),SUBSTITUTE(MID(CELL("address",'Z_6.6.sz.mell'!A1),SEARCH("]",CELL("address",'Z_6.6.sz.mell'!A1),1)+1,LEN(CELL("address",'Z_6.6.sz.mell'!A1))-SEARCH("]",CELL("address",'Z_6.6.sz.mell'!A1),1)),"'","")) -> Z_6.6.sz.mell!$A$1
A28: 6.7. melléklet | B28: =Z_ALAPADATOK!B21 -> 5 kvi név | C28: =HYPERLINK(SUBSTITUTE(CELL("address",'Z_6.7.sz.mell'!A1),"'",""),SUBSTITUTE(MID(CELL("address",'Z_6.7.sz.mell'!A1),SEARCH("]",CELL("address",'Z_6.7.sz.mell'!A1),1)+1,LEN(CELL("address",'Z_6.7.sz.mell'!A1))-SEARCH("]",CELL("address",'Z_6.7.sz.mell'!A1),1)),"'","")) -> Z_6.7.sz.mell!$A$1
A29: 6.8. melléklet | B29: =Z_ALAPADATOK!B23 -> 6 kvi név | C29: =HYPERLINK(SUBSTITUTE(CELL("address",'Z_6.8.sz.mell'!A1),"'",""),SUBSTITUTE(MID(CELL("address",'Z_6.8.sz.mell'!A1),SEARCH("]",CELL("address",'Z_6.8.sz.mell'!A1),1)+1,LEN(CELL("address",'Z_6.8.sz.mell'!A1))-SEARCH("]",CELL("address",'Z_6.8.sz.mell'!A1),1)),"'","")) -> Z_6.8.sz.mell!$A$1
A30: 6.9. melléklet | B30: =Z_ALAPADATOK!B25 -> 7 kvi név | C30: =HYPERLINK(SUBSTITUTE(CELL("address",'Z_6.9.sz.mell'!A1),"'",""),SUBSTITUTE(MID(CELL("address",'Z_6.9.sz.mell'!A1),SEARCH("]",CELL("address",'Z_6.9.sz.mell'!A1),1)+1,LEN(CELL("address",'Z_6.9.sz.mell'!A1))-SEARCH("]",CELL("address",'Z_6.9.sz.mell'!A1),1)),"'","")) -> Z_6.9.sz.mell!$A$1
A31: 6.10. melléklet | B31: =Z_ALAPADATOK!B27 -> 8 kvi név | C31: =HYPERLINK(SUBSTITUTE(CELL("address",'Z_6.10.sz.mell'!A1),"'",""),SUBSTITUTE(MID(CELL("address",'Z_6.10.sz.mell'!A1),SEARCH("]",CELL("address",'Z_6.10.sz.mell'!A1),1)+1,LEN(CELL("address",'Z_6.10.sz.mell'!A1))-SEARCH("]",CELL("address",'Z_6.10.sz.mell'!A1),1)),"'","")) -> Z_6.10.sz.mell!$A$1
A32: 6.11. melléklet | B32: =Z_ALAPADATOK!B29 -> 9 kvi név | C32: =HYPERLINK(SUBSTITUTE(CELL("address",'Z_6.11.sz.mell'!A1),"'",""),SUBSTITUTE(MID(CELL("address",'Z_6.11.sz.mell'!A1),SEARCH("]",CELL("address",'Z_6.11.sz.mell'!A1),1)+1,LEN(CELL("address",'Z_6.11.sz.mell'!A1))-SEARCH("]",CELL("address",'Z_6.11.sz.mell'!A1),1)),"'","")) -> Z_6.11.sz.mell!$A$1
A33: 6.12. melléklet | B33: =Z_ALAPADATOK!B31 -> 10 kvi név | C33: =HYPERLINK(SUBSTITUTE(CELL("address",'Z_6.12.sz.mell'!A1),"'",""),SUBSTITUTE(MID(CELL("address",'Z_6.12.sz.mell'!A1),SEARCH("]",CELL("address",'Z_6.12.sz.mell'!A1),1)+1,LEN(CELL("address",'Z_6.12.sz.mell'!A1))-SEARCH("]",CELL("address",'Z_6.12.sz.mell'!A1),1)),"'","")) -> Z_6.12.sz.mell!$A$1
A34: 7. melléklet | B34: =PROPER('Z_7.sz.mell'!A3) -> Költségvetési Szervek Maradványának Alakulása | C34: =HYPERLINK(SUBSTITUTE(CELL("address",'Z_7.sz.mell'!A1),"'",""),SUBSTITUTE(MID(CELL("address",'Z_7.sz.mell'!A1),SEARCH("]",CELL("address",'Z_7.sz.mell'!A1),1)+1,LEN(CELL("address",'Z_7.sz.mell'!A1))-SEARCH("]",CELL("address",'Z_7.sz.mell'!A1),1)),"'","")) -> Z_7.sz.mell!$A$1
A35: 8. melléklet | B35: ='Z_8.sz.mell'!B1 -> 2021. évi általános működés és ágazati feladatok támogatásának alakulása jogcímenként | C35: =HYPERLINK(SUBSTITUTE(CELL("address",'Z_8.sz.mell'!A1),"'",""),SUBSTITUTE(MID(CELL("address",'Z_8.sz.mell'!A1),SEARCH("]",CELL("address",'Z_8.sz.mell'!A1),1)+1,LEN(CELL("address",'Z_8.sz.mell'!A1))-SEARCH("]",CELL("address",'Z_8.sz.mell'!A1),1)),"'","")) -> Z_8.sz.mell!$A$1
A36: 1. tájékoztató tábla | B36: =CONCATENATE(PROPER('Z_1.tájékoztató_t.'!A2)," ",LOWER('Z_1.tájékoztató_t.'!A3)) -> Sajószöged Községi Önkormányzat 2021. évi zárszámadásának pénzügyi mérlege | C36: =HYPERLINK(SUBSTITUTE(CELL("address",'Z_1.tájékoztató_t.'!A1),"'",""),SUBSTITUTE(MID(CELL("address",'Z_1.tájékoztató_t.'!A1),SEARCH("]",CELL("address",'Z_1.tájékoztató_t.'!A1),1)+1,LEN(CELL("address",'Z_1.tájékoztató_t.'!A1))-SEARCH("]",CELL("address",'Z_1.tájékoztató_t.'!A1),1)),"'","")) -> Z_1.tájékoztató_t.!$A$1
A37: 2. tájékoztató tábla | B37: ='Z_2.tájékoztató_t.'!A1 -> Többéves kihatással járó döntésekből származó kötzelezettségek célok szerinti, évenkénti bontásban | C37: =HYPERLINK(SUBSTITUTE(CELL("address",'Z_2.tájékoztató_t.'!A2),"'",""),SUBSTITUTE(MID(CELL("address",'Z_2.tájékoztató_t.'!A2),SEARCH("]",CELL("address",'Z_2.tájékoztató_t.'!A2),1)+1,LEN(CELL("address",'Z_2.tájékoztató_t.'!A2))-SEARCH("]",CELL("address",'Z_2.tájékoztató_t.'!A2),1)),"'","")) -> Z_2.tájékoztató_t.!$A$2
A38: 3. tájékoztató tábla | B38: ='Z_3.tájékoztató_t.'!A1 -> Az önkormányzat által nyújtott hitel és kölcsön alakulása lejárat és eszközök szerinti bontásban | C38: =HYPERLINK(SUBSTITUTE(CELL("address",'Z_3.tájékoztató_t.'!A1),"'",""),SUBSTITUTE(MID(CELL("address",'Z_3.tájékoztató_t.'!A1),SEARCH("]",CELL("address",'Z_3.tájékoztató_t.'!A1),1)+1,LEN(CELL("address",'Z_3.tájékoztató_t.'!A1))-SEARCH("]",CELL("address",'Z_3.tájékoztató_t.'!A1),1)),"'","")) -> Z_3.tájékoztató_t.!$A$1
A39: 4. tájékoztató tábla | B39: ='Z_4.tájékoztató_t.'!A1 -> Adósság állomány alakulása lejárat, eszközök, bel- és külföldi hitelezők szerinti bontásban 2021. december 31-én | C39: =HYPERLINK(SUBSTITUTE(CELL("address",'Z_4.tájékoztató_t.'!A1),"'",""),SUBSTITUTE(MID(CELL("address",'Z_4.tájékoztató_t.'!A1),SEARCH("]",CELL("address",'Z_4.tájékoztató_t.'!A1),1)+1,LEN(CELL("address",'Z_4.tájékoztató_t.'!A1))-SEARCH("]",CELL("address",'Z_4.tájékoztató_t.'!A1),1)),"'","")) -> Z_4.tájékoztató_t.!$A$1
A40: 5. tájékoztató tábla | B40: ='Z_5.tájékoztató_t.'!A3 -> Az önkormányzat által adott közvetett támogatások | C40: =HYPERLINK(SUBSTITUTE(CELL("address",'Z_5.tájékoztató_t.'!A1),"'",""),SUBSTITUTE(MID(CELL("address",'Z_5.tájékoztató_t.'!A1),SEARCH("]",CELL("address",'Z_5.tájékoztató_t.'!A1),1)+1,LEN(CELL("address",'Z_5.tájékoztató_t.'!A1))-SEARCH("]",CELL("address",'Z_5.tájékoztató_t.'!A1),1)),"'","")) -> Z_5.tájékoztató_t.!$A$1
A41: 6. tájékoztató tábla | B41: =CONCATENATE(PROPER('Z_6.tájékoztató_t.'!A3)," ",LOWER('Z_6.tájékoztató_t.'!A4)) -> K I M U T A T Á S a 2021. évi céljelleggel juttatott támogatások felhasználásáról | C41: =HYPERLINK(SUBSTITUTE(CELL("address",'Z_6.tájékoztató_t.'!A1),"'",""),SUBSTITUTE(MID(CELL("address",'Z_6.tájékoztató_t.'!A1),SEARCH("]",CELL("address",'Z_6.tájékoztató_t.'!A1),1)+1,LEN(CELL("address",'Z_6.tájékoztató_t.'!A1))-SEARCH("]",CELL("address",'Z_6.tájékoztató_t.'!A1),1)),"'","")) -> Z_6.tájékoztató_t.!$A$1
A42: 7.1. tájékoztató tábla | B42: =CONCATENATE(PROPER('Z_7.1.tájékoztató_t.'!A2)," ",'Z_7.1.tájékoztató_t.'!A3) -> Vagyonkimutatás a könyvviteli mérlegben értékkel szerplő eszközökről | C42: =HYPERLINK(SUBSTITUTE(CELL("address",'Z_7.1.tájékoztató_t.'!A1),"'",""),SUBSTITUTE(MID(CELL("address",'Z_7.1.tájékoztató_t.'!A1),SEARCH("]",CELL("address",'Z_7.1.tájékoztató_t.'!A1),1)+1,LEN(CELL("address",'Z_7.1.tájékoztató_t.'!A1))-SEARCH("]",CELL("address",'Z_7.1.tájékoztató_t.'!A1),1)),"'","")) -> Z_7.1.tájékoztató_t.!$A$1
A43: 7.2. tájékoztató tábla | B43: =CONCATENATE(PROPER('Z_7.2.tájékoztató_t.'!A3)," ",'Z_7.2.tájékoztató_t.'!A4) -> Vagyonkimutatás a könyvviteli mérlegben értékkel szereplő forrásokról | C43: =HYPERLINK(SUBSTITUTE(CELL("address",'Z_7.2.tájékoztató_t.'!A1),"'",""),SUBSTITUTE(MID(CELL("address",'Z_7.2.tájékoztató_t.'!A1),SEARCH("]",CELL("address",'Z_7.2.tájékoztató_t.'!A1),1)+1,LEN(CELL("address",'Z_7.2.tájékoztató_t.'!A1))-SEARCH("]",CELL("address",'Z_7.2.tájékoztató_t.'!A1),1)),"'","")) -> Z_7.2.tájékoztató_t.!$A$1
A44: 7.3. tájékoztató tábla | B44: =CONCATENATE(PROPER('Z_7.3.tájékoztató_t.'!A3)," ",'Z_7.3.tájékoztató_t.'!A4) -> Vagyonkimutatás az érték nélkül nyilvántartott eszkzözkről | C44: =HYPERLINK(SUBSTITUTE(CELL("address",'Z_7.3.tájékoztató_t.'!A1),"'",""),SUBSTITUTE(MID(CELL("address",'Z_7.3.tájékoztató_t.'!A1),SEARCH("]",CELL("address",'Z_7.3.tájékoztató_t.'!A1),1)+1,LEN(CELL("address",'Z_7.3.tájékoztató_t.'!A1))-SEARCH("]",CELL("address",'Z_7.3.tájékoztató_t.'!A1),1)),"'","")) -> Z_7.3.tájékoztató_t.!$A$1
A45: 8. tájékoztató tábla | B45: =CONCATENATE('Z_8.tájékoztató_t.'!A2,'Z_8.tájékoztató_t.'!A3) -> Sajószöged Községi Önkormányzat tulajdonában álló gazdálkodó szervezetek működéséből származókötelezettségek és részesedések alakulása 2021. évben | C45: =HYPERLINK(SUBSTITUTE(CELL("address",'Z_8.tájékoztató_t.'!A1),"'",""),SUBSTITUTE(MID(CELL("address",'Z_8.tájékoztató_t.'!A1),SEARCH("]",CELL("address",'Z_8.tájékoztató_t.'!A1),1)+1,LEN(CELL("address",'Z_8.tájékoztató_t.'!A1))-SEARCH("]",CELL("address",'Z_8.tájékoztató_t.'!A1),1)),"'","")) -> Z_8.tájékoztató_t.!$A$1
A46: 9. tájékoztató tábla | B46: Pénzeszköz változás levezetése | C46: =HYPERLINK(SUBSTITUTE(CELL("address",'Z_9.tájékoztató_t.'!A1),"'",""),SUBSTITUTE(MID(CELL("address",'Z_9.tájékoztató_t.'!A1),SEARCH("]",CELL("address",'Z_9.tájékoztató_t.'!A1),1)+1,LEN(CELL("address",'Z_9.tájékoztató_t.'!A1))-SEARCH("]",CELL("address",'Z_9.tájékoztató_t.'!A1),1)),"'","")) -> Z_9.tájékoztató_t.!$A$1

Sheet Z_ALAPADATOK
B1: =Z_TARTALOMJEGYZÉK!A1 -> 2021 | C1: . évi
A2: ALAPADATOK
A3: Sajószöged Községi Önkormányzat
A6: Előterjesztéskor
A7: a | B7: … | C7: / | D7: =CONCATENATE(Z_TARTALOMJEGYZÉK!A1+1,".") -> 2022. | E7: ( | F7: … | G7: ) | H7: önkormányzati rendelethez
H10: Mellékletben külön?
A11: Sajószögedi Polgármesteri Hivatal | H11: Igen | J11: 6. | K11: =IF($H$11="Nem","",2) -> 2 | L11: . | M11: =CONCATENATE(J11,K11,L11) -> 6.2.
A13: 1. költségvetési szerv neve | B13: Sajószögedi Általános Művelődési Központ - Család és Gyermekjóléti Szolgálat - Konyha - Művelődési Ház és Könyvtár | J13: 6. | K13: =IF(H11="Nem",2,3) -> 3 | L13: . | M13: =CONCATENATE(J13,K13,L13) -> 6.3.
A15: 2. költségvetési szerv neve | B15: Sajószögedi Zöld Sziget Bölcsőde | J15: 6. | K15: =K13+1 -> 4 | L15: . | M15: =CONCATENATE(J15,K15,L15) -> 6.4.
A17: 3. költségvetési szerv neve | B17: 3 kvi név | J17: 6. | K17: =K15+1 -> 5 | L17: . | M17: =CONCATENATE(J17,K17,L17) -> 6.5.
A19: 4. költségvetési szerv neve | B19: 4 kvi név | J19: 6. | K19: =K17+1 -> 6 | L19: . | M19: =CONCATENATE(J19,K19,L19) -> 6.6.
A21: 5. költségvetési szerv neve | B21: 5 kvi név | J21: 6. | K21: =K19+1 -> 7 | L21: . | M21: =CONCATENATE(J21,K21,L21) -> 6.7.
A23: 6. költségvetési szerv neve | B23: 6 kvi név | J23: 6. | K23: =K21+1 -> 8 | L23: . | M23: =CONCATENATE(J23,K23,L23) -> 6.8.
A25: 7. költségvetési szerv neve | B25: 7 kvi név | J25: 6. | K25: =K23+1 -> 9 | L25: . | M25: =CONCATENATE(J25,K25,L25) -> 6.9.
A27: 8. költségvetési szerv neve | B27: 8 kvi név | J27: 6. | K27: =K25+1 -> 10 | L27: . | M27: =CONCATENATE(J27,K27,L27) -> 6.10.
A29: 8. költségvetési szerv neve | B29: 9 kvi név | J29: 6. | K29: =K27+1 -> 11 | L29: . | M29: =CONCATENATE(J29,K29,L29) -> 6.11.
A31: 10. költségvetési szerv neve | B31: 10 kvi név | J31: 6. | K31: =K29+1 -> 12 | L31: . | M31: =CONCATENATE(J31,K31,L31) -> 6.12.

Sheet Z_ÖSSZEFÜGGÉSEK
A1: Zárszámadási rendelet űrlapjainak összefüggései:
A6: =CONCATENATE(Z_ALAPADATOK!B1,". évi eredeti előirányzat BEVÉTELEK") -> 2021. évi eredeti előirányzat BEVÉTELEK
A9: 1.1. sz. melléklet Bevételek táblázat C. oszlop 9 sora = | B9: 2.1. számú melléklet C. oszlop 13. sor + 2.2. számú melléklet C. oszlop 12. sor
A10: 1.1 sz. melléklet Bevételek táblázat C. oszlop 17 sora = | B10: 2.1. számú melléklet C. oszlop 24. sor + 2.2. számú melléklet C. oszlop 25. sor
A11: 1.1 sz. melléklet Bevételek táblázat C. oszlop 18 sora = | B11: 2.1. számú melléklet C. oszlop 25. sor + 2.2. számú melléklet C. oszlop 26. sor
A13: =+CONCATENATE(LEFT(A6,4),". évi módosított előirányzat BEVÉTELEK") -> 2021. évi módosított előirányzat BEVÉTELEK
A15: 1.1. sz. melléklet Bevételek táblázat D. oszlop 9 sora = | B15: 2.1. számú melléklet D. oszlop 13. sor + 2.2. számú melléklet D. oszlop 12. sor
A16: 1.1. sz. melléklet Bevételek táblázat D. oszlop 17 sora = | B16: 2.1. számú melléklet D. oszlop 24. sor + 2.2. számú melléklet D. oszlop 25. sor
A17: 1.1. sz. melléklet Bevételek táblázat D. oszlop 18 sora = | B17: 2.1. számú melléklet D. oszlop 25. sor + 2.2. számú melléklet D. oszlop 26. sor
A19: =+CONCATENATE(LEFT(A6,4),".évi teljesített BEVÉTELEK") -> 2021.évi teljesített BEVÉTELEK
A21: 1.1. sz. melléklet Bevételek táblázat E. oszlop 9 sora = | B21: 2.1. számú melléklet E. oszlop 13. sor + 2.2. számú melléklet E. oszlop 12. sor
A22: 1.1. sz. melléklet Bevételek táblázat E. oszlop 17 sora = | B22: 2.1. számú melléklet E. oszlop 24. sor + 2.2. számú melléklet E. oszlop 25. sor
A23: 1.1. sz. melléklet Bevételek táblázat E. oszlop 18 sora = | B23: 2.1. számú melléklet E. oszlop 25. sor + 2.2. számú melléklet E. oszlop 26. sor
A25: =+CONCATENATE(LEFT(A6,4),". évi eredeti előirányzat KIADÁSOK") -> 2021. évi eredeti előirányzat KIADÁSOK
A27: 1.1.sz. melléklet Kiadások táblázat C. oszlop 3 sora = | B27: 2.1. számú melléklet G. oszlop 13. sor + 2.2. számú melléklet G. oszlop 12. sor
A28: 1.1. sz. melléklet Kiadások táblázat C. oszlop 10 sora = | B28: 2.1. számú melléklet G. oszlop 24. sor + 2.2. számú melléklet G. oszlop 25. sor
A29: 1.1. sz. melléklet Kiadások táblázat C. oszlop 11 sora = | B29: 2.1. számú melléklet G. oszlop 25. sor + 2.2. számú melléklet G. oszlop 26. sor
A31: =+CONCATENATE(LEFT(A6,4),". évi módosított előirányzat KIADÁSOK") -> 2021. évi módosított előirányzat KIADÁSOK
A33: 1.1. sz. melléklet Kiadások táblázat D. oszlop 3 sora = | B33: 2.1. számú melléklet H. oszlop 13. sor + 2.2. számú melléklet H. oszlop 12. sor
A34: 1.1. sz. melléklet Kiadások táblázat D. oszlop 10 sora = | B34: 2.1. számú melléklet H. oszlop 24. sor + 2.2. számú melléklet H. oszlop 25. sor
A35: 1.1. sz. melléklet Kiadások táblázat D. oszlop 11 sora = | B35: 2.1. számú melléklet H. oszlop 25. sor + 2.2. számú melléklet H. oszlop 26. sor
A37: =+CONCATENATE(LEFT(A6,4),".évi teljesített KIADÁSOK") -> 2021.évi teljesített KIADÁSOK
A39: 1.1. sz. melléklet Kiadások táblázat E. oszlop 3 sora = | B39: 2.1. számú melléklet I. oszlop 13. sor + 2.2. számú melléklet I. oszlop 12. sor
A40: 1.1. sz. melléklet Kiadások táblázat E. oszlop 10 sora = | B40: 2.1. számú melléklet I. oszlop 24. sor + 2.2. számú melléklet I. oszlop 25. sor
A41: 1.1.sz. melléklet Kiadások táblázat E. oszlop 11 sora = | B41: 2.1. számú melléklet I. oszlop 25. sor + 2.2. számú melléklet I. oszlop 26. sor

Sheet Z_1.1.sz.mell.
B1: =CONCATENATE("1.1. melléklet ",Z_ALAPADATOK!A7," ",Z_ALAPADATOK!B7," ",Z_ALAPADATOK!C7," ",Z_ALAPADATOK!D7," ",Z_ALAPADATOK!E7," ",Z_ALAPADATOK!F7," ",Z_ALAPADATOK!G7," ",Z_ALAPADATOK!H7) -> 1.1. melléklet a … / 2022. ( … ) önkormányzati rendelethez
A2: =CONCATENATE(Z_ALAPADATOK!A3) -> Sajószöged Községi Önkormányzat
A3: =CONCATENATE(Z_ALAPADATOK!B1,". évi ZÁRSZÁMADÁSÁNAK PÉNZÜGYI MÉRLEGE") -> 2021. évi ZÁRSZÁMADÁSÁNAK PÉNZÜGYI MÉRLEGE
A6: B E V É T E L E K
A7: 1. sz. táblázat | E7: Forintban!
A8: Sor- szám | B8: Bevételi jogcím | C8: =+CONCATENATE(LEFT(Z_ÖSSZEFÜGGÉSEK!A6,4),". évi") -> 2021. évi
C9: Eredeti előirányzat | D9: Módosított előirányzat | E9: =+CONCATENATE(LEFT(Z_ÖSSZEFÜGGÉSEK!A6,4),". XII. 31.",CHAR(10),"teljesítés") -> 2021. XII. 31. teljesítés
A10: A | B10: B | C10: C | D10: D | E10: E
A11: 1. | B11: Önkormányzat működési támogatásai (1.1.+…+.1.6.) | C11: =+C12+C13+C14+C15+C16+C17 -> 168879689 | D11: =+D12+D13+D14+D15+D16+D17 -> 192219846 | E11: =+E12+E13+E14+E15+E16+E17 -> 192219846
A12: 1.1. | B12: Helyi önkormányzatok működésének általános támogatása | C12: 57626844 | D12: 57872570 | E12: 57872570
A13: 1.2. | B13: Önkormányzatok egyes köznevelési feladatainak támogatása | C13: 51930050 | D13: 54207000 | E13: 54207000
A14: 1.3. | B14: Önkormányzatok szociális és gyermekjóléti feladatainak támogatása | C14: 54251505 | D14: 57091483 | E14: 57091483
A15: 1.4. | B15: Önkormányzatok kulturális feladatainak támogatása | C15: 5071290 | D15: 5155422 | E15: 5155422
A16: 1.5. | B16: Működési célú kvi támogatások és kiegészítő támogatások | D16: 17711650 | E16: 17711650
A17: 1.6. | B17: Elszámolásból származó bevételek | D17: 181721 | E17: 181721
A18: 2. | B18: Működési célú támogatások államháztartáson belülről (2.1.+…+.2.5.) | C18: =+C19+C20+C21+C22+C23 -> 8356200 | D18: =+D19+D20+D21+D22+D23 -> 11374380 | E18: =+E19+E20+E21+E22+E23 -> 12365299
A19: 2.1. | B19: Elvonások és befizetések bevételei
A20: 2.2. | B20: Működési célú garancia- és kezességvállalásból megtérülések
A21: 2.3. | B21: Működési célú visszatérítendő támogatások, kölcsönök visszatérülése
A22: 2.4. | B22: Működési célú visszatérítendő támogatások, kölcsönök igénybevétele
A23: 2.5. | B23: Egyéb működési célú támogatások bevételei | C23: 8356200 | D23: 11374380 | E23: 12365299
A24: 2.6. | B24: 2.5.-ből EU-s támogatás
A25: 3. | B25: Felhalmozási célú támogatások államháztartáson belülről (3.1.+…+3.5.) | C25: =+C26+C27+C28+C29+C30 -> 30000000 | D25: =+D26+D27+D28+D29+D30 -> 119719194 | E25: =+E26+E27+E28+E29+E30 -> 89719194
A26: 3.1. | B26: Felhalmozási célú önkormányzati támogatások
A27: 3.2. | B27: Felhalmozási célú garancia- és kezességvállalásból megtérülések
A28: 3.3. | B28: Felhalmozási célú visszatérítendő támogatások, kölcsönök visszatérülése
A29: 3.4. | B29: Felhalmozási célú visszatérítendő támogatások, kölcsönök igénybevétele
A30: 3.5. | B30: Egyéb felhalmozási célú támogatások bevételei | C30: 30000000 | D30: 119719194 | E30: 89719194
A31: 3.6. | B31: 3.5.-ből EU-s támogatás | C31: 30000000 | D31: 119719194 | E31: 89719194
A32: 4. | B32: Közhatalmi bevételek (4.1.+…+4.7.) | C32: =SUM(C33:C39) -> 212960000 | D32: =SUM(D33:D39) -> 213060000 | E32: =SUM(E33:E39) -> 223901819
A33: 4.1. | B33: Építményadó | C33: 3100000 | D33: 3100000 | E33: 3008321
A34: 4.2. | B34: Idegenforgalmi adó | C34: 0 | D34: 0
A35: 4.3. | B35: Iparűzési adó | C35: 110000000 | D35: 110000000 | E35: 119557187
A36: 4.4. | B36: Talajterhelési díj | C36: 350000 | D36: 350000 | E36: 1067520
A37: 4.5. | B37: Gépjárműadó | C37: 0 | D37: 0
A38: 4.6. | B38: Telekadó | C38: 99000000 | D38: 99000000 | E38: 99759980
A39: 4.7. | B39: Egyéb közhatalmi bevételek | C39: 510000 | D39: 610000 | E39: =1576331-E36 -> 508811
A40: 5. | B40: Működési bevételek (5.1.+…+ 5.11.) | C40: =SUM(C41:C51) -> 56427933 | D40: =SUM(D41:D51) -> 93760420 | E40: =SUM(E41:E51) -> 84402367
A41: 5.1. | B41: Készletértékesítés ellenértéke
A42: 5.2. | B42: Szolgáltatások ellenértéke | C42: 15895271 | D42: 14157234 | E42: 13260118
A43: 5.3. | B43: Közvetített szolgáltatások értéke | C43: 1500000 | D43: 2854860 | E43: 2801657
A44: 5.4. | B44: Tulajdonosi bevételek | C44: 14000000 | D44: 36874754 | E44: 33074197
A45: 5.5. | B45: Ellátási díjak | C45: 13323666 | D45: 18332185 | E45: 15440348
A46: 5.6. | B46: Kiszámlázott általános forgalmi adó | C46: 11708996 | D46: 18549614 | E46: 16982009
A47: 5.7. | B47: Általános forgalmi adó visszatérítése | D47: 2401000 | E47: 2401000
A48: 5.8. | B48: Kamatbevételek és más nyereségjellegű bevételek
A49: 5.9. | B49: Egyéb pénzügyi műveletek bevételei | D49: 42 | E49: 62
A50: 5.10. | B50: Biztosító által fizetett kártérítés | D50: 350000 | E50: 350000
A51: 5.11. | B51: Egyéb működési bevételek | D51: 240731 | E51: 92976
A52: 6. | B52: Felhalmozási bevételek (6.1.+…+6.5.) | C52: =SUM(C53:C57) -> 1267716 | D52: =SUM(D53:D57) -> 26385826 | E52: =SUM(E53:E57) -> 11385826
A53: 6.1. | B53: Immateriális javak értékesítése
A54: 6.2. | B54: Ingatlanok értékesítése | C54: 1267716 | D54: 6385826 | E54: 6385826
A55: 6.3. | B55: Egyéb tárgyi eszközök értékesítése
A56: 6.4. | B56: Részesedések értékesítése | D56: 20000000 | E56: 5000000
A57: 6.5. | B57: Részesedések megszűnéséhez kapcsolódó bevételek
A58: 7. | B58: Működési célú átvett pénzeszközök (7.1. + … + 7.3.) | C58: =SUM(C59:C61) -> 0 | D58: =SUM(D59:D61) -> 0 | E58: =SUM(E59:E61) -> 370000
A59: 7.1. | B59: Működési célú garancia- és kezességvállalásból megtérülések ÁH-n kívülről
A60: 7.2. | B60: Működési célú visszatérítendő támogatások, kölcsönök visszatér. ÁH-n kívülről
A61: 7.3. | B61: Egyéb működési célú átvett pénzeszköz | E61: 370000
A62: 7.4. | B62: 7.3.-ból EU-s támogatás (közvetlen)
A63: 8. | B63: Felhalmozási célú átvett pénzeszközök (8.1.+8.2.+8.3.) | C63: =SUM(C64:C66) -> 1649641 | D63: =SUM(D64:D66) -> 1923842 | E63: =SUM(E64:E66) -> 2042980
A64: 8.1. | B64: Felhalm. célú garancia- és kezességvállalásból megtérülések ÁH-n kívülről
A65: 8.2. | B65: Felhalm. célú visszatérítendő támogatások, kölcsönök visszatér. ÁH-n kívülről | C65: 1649641 | D65: 1923842 | E65: 2042980
A66: 8.3. | B66: Egyéb felhalmozási célú átvett pénzeszköz
A67: 8.4. | B67: 8.3.-ból EU-s támogatás (közvetlen)
A68: 9. | B68: KÖLTSÉGVETÉSI BEVÉTELEK ÖSSZESEN: (1+…+8) | C68: =+C11+C18+C25+C32+C40+C52+C58+C63 -> 479541179 | D68: =+D11+D18+D25+D32+D40+D52+D58+D63 -> 658443508 | E68: =+E11+E18+E25+E32+E40+E52+E58+E63 -> 616407331
A69: 10. | B69: Hitel-, kölcsönfelvétel államháztartáson kívülről (10.1.+10.3.) | C69: =SUM(C70:C72) -> 0 | D69: =SUM(D70:D72) -> 0 | E69: =SUM(E70:E72) -> 0
A70: 10.1. | B70: Hosszú lejáratú hitelek, kölcsönök felvétele
A71: 10.2. | B71: Likviditási célú hitelek, kölcsönök felvétele pénzügyi vállalkozástól
A72: 10.3. | B72: Rövid lejáratú hitelek, kölcsönök felvétele
A73: 11. | B73: Belföldi értékpapírok bevételei (11.1. +…+ 11.4.) | C73: =SUM(C74:C77) -> 20000000 | D73: =SUM(D74:D77) -> 0 | E73: =SUM(E74:E77) -> 0
A74: 11.1. | B74: Forgatási célú belföldi értékpapírok beváltása, értékesítése | C74: 20000000
A75: 11.2. | B75: Éven belüli lejáratú belföldi értékpapírok kibocsátása
A76: 11.3. | B76: Befektetési célú belföldi értékpapírok beváltása, értékesítése
A77: 11.4. | B77: Éven túli lejáratú belföldi értékpapírok kibocsátása
A78: 12. | B78: Maradvány igénybevétele (12.1. + 12.2.) | C78: =SUM(C79:C80) -> 162743567 | D78: =SUM(D79:D80) -> 165080644 | E78: =SUM(E79:E80) -> 165080644
A79: 12.1. | B79: Előző év költségvetési maradványának igénybevétele | C79: 162743567 | D79: 165080644 | E79: 165080644
A80: 12.2. | B80: Előző év vállalkozási maradványának igénybevétele
A81: 13. | B81: Belföldi finanszírozás bevételei (13.1. + … + 13.3.) | C81: =SUM(C82:C84) -> 0 | D81: =SUM(D82:D84) -> 554674 | E81: =SUM(E82:E84) -> 7640915
A82: 13.1. | B82: Államháztartáson belüli megelőlegezések | D82: 554674 | E82: 7640915
A83: 13.2. | B83: Államháztartáson belüli megelőlegezések törlesztése
A84: 13.3. | B84: Lekötött betétek megszüntetése
A85: 14. | B85: Külföldi finanszírozás bevételei (14.1.+…14.4.) | C85: =SUM(C86:C89) -> 0 | D85: =SUM(D86:D89) -> 0 | E85: =SUM(E86:E89) -> 0
A86: 14.1. | B86: Forgatási célú külföldi értékpapírok beváltása, értékesítése
A87: 14.2. | B87: Befektetési célú külföldi értékpapírok beváltása, értékesítése
A88: 14.3. | B88: Külföldi értékpapírok kibocsátása
A89: 14.4. | B89: Külföldi hitelek, kölcsönök felvétele
A90: 15. | B90: Váltóbevételek
A91: 16. | B91: Adóssághoz nem kapcsolódó származékos ügyletek bevételei
A92: 17. | B92: FINANSZÍROZÁSI BEVÉTELEK ÖSSZESEN: (10. + … +16.) | C92: =+C69+C73+C78+C81+C85+C91+C90 -> 182743567 | D92: =+D69+D73+D78+D81+D85+D91+D90 -> 165635318 | E92: =+E69+E73+E78+E81+E85+E91+E90 -> 172721559
A93: 18. | B93: KÖLTSÉGVETÉSI ÉS FINANSZÍROZÁSI BEVÉTELEK ÖSSZESEN: (9+17) | C93: =+C68+C92 -> 662284746 | D93: =+D68+D92 -> 824078826 | E93: =+E68+E92 -> 789128890
A95: K I A D Á S O K
A96: 2. sz. táblázat | E96: =E7 -> Forintban!
A97: Sor- szám | B97: Kiadási jogcím | C97: =+CONCATENATE(LEFT(Z_ÖSSZEFÜGGÉSEK!A6,4),". évi") -> 2021. évi
C98: Eredeti előirányzat | D98: Módosított előirányzat | E98: =CONCATENATE(E9) -> 2021. XII. 31. teljesítés
A99: A | B99: B | C99: C | D99: D | E99: E
A100: 1. | B100: Működési költségvetés kiadásai (1.1+…+1.5.+1.18.) | C100: =C101+C102+C103+C104+C105+C118 -> 527038642 | D100: =D101+D102+D103+D104+D105+D118 -> 570614658 | E100: =E101+E102+E103+E104+E105+E118 -> 516600178
A101: 1.1. | B101: Személyi juttatások | C101: 190005619 | D101: 209070783 | E101: 197439245
A102: 1.2. | B102: Munkaadókat terhelő járulékok és szociális hozzájárulási adó | C102: 32318032 | D102: 34633394 | E102: 30009650
A103: 1.3. | B103: Dologi kiadások | C103: 197853933 | D103: 215705711 | E103: 191010825
...

Sheet Z_1.2.sz.mell.
B1: =CONCATENATE("1.2. melléklet ",Z_ALAPADATOK!A7," ",Z_ALAPADATOK!B7," ",Z_ALAPADATOK!C7," ",Z_ALAPADATOK!D7," ",Z_ALAPADATOK!E7," ",Z_ALAPADATOK!F7," ",Z_ALAPADATOK!G7," ",Z_ALAPADATOK!H7) -> 1.2. melléklet a … / 2022. ( … ) önkormányzati rendelethez
A2: =CONCATENATE(Z_ALAPADATOK!A3) -> Sajószöged Községi Önkormányzat
A3: =CONCATENATE(Z_ALAPADATOK!B1,". ÉVI ZÁRSZÁMADÁS") -> 2021. ÉVI ZÁRSZÁMADÁS
A4: KÖTELEZŐ FELADATOK PÉNZÜGYI MÉRLEGE
A6: B E V É T E L E K
A7: 1. sz. táblázat | E7: =CONCATENATE('Z_1.1.sz.mell.'!E7) -> Forintban!
A8: Sor- szám | B8: Bevételi jogcím | C8: =+CONCATENATE(LEFT(Z_ÖSSZEFÜGGÉSEK!A6,4),". évi") -> 2021. évi
C9: Eredeti előirányzat | D9: Módosított előirányzat | E9: =CONCATENATE('Z_1.1.sz.mell.'!E9) -> 2021. XII. 31. teljesítés
A10: A | B10: B | C10: C | D10: D | E10: E
A11: 1. | B11: Önkormányzat működési támogatásai (1.1.+…+.1.6.) | C11: ='Z_1.1.sz.mell.'!C11 -> 168879689 | D11: ='Z_1.1.sz.mell.'!D11 -> 192219846 | E11: ='Z_1.1.sz.mell.'!E11 -> 192219846
A12: 1.1. | B12: Helyi önkormányzatok működésének általános támogatása | C12: ='Z_1.1.sz.mell.'!C12 -> 57626844 | D12: ='Z_1.1.sz.mell.'!D12 -> 57872570 | E12: ='Z_1.1.sz.mell.'!E12 -> 57872570
A13: 1.2. | B13: Önkormányzatok egyes köznevelési feladatainak támogatása | C13: ='Z_1.1.sz.mell.'!C13 -> 51930050 | D13: ='Z_1.1.sz.mell.'!D13 -> 54207000 | E13: ='Z_1.1.sz.mell.'!E13 -> 54207000
A14: 1.3. | B14: Önkormányzatok szociális és gyermekjóléti feladatainak támogatása | C14: ='Z_1.1.sz.mell.'!C14 -> 54251505 | D14: ='Z_1.1.sz.mell.'!D14 -> 57091483 | E14: ='Z_1.1.sz.mell.'!E14 -> 57091483
A15: 1.4. | B15: Önkormányzatok kulturális feladatainak támogatása | C15: ='Z_1.1.sz.mell.'!C15 -> 5071290 | D15: ='Z_1.1.sz.mell.'!D15 -> 5155422 | E15: ='Z_1.1.sz.mell.'!E15 -> 5155422
A16: 1.5. | B16: Működési célú kvi támogatások és kiegészítő támogatások | C16: ='Z_1.1.sz.mell.'!C16 -> 0 | D16: ='Z_1.1.sz.mell.'!D16 -> 17711650 | E16: ='Z_1.1.sz.mell.'!E16 -> 17711650
A17: 1.6. | B17: Elszámolásból származó bevételek | C17: ='Z_1.1.sz.mell.'!C17 -> 0 | D17: ='Z_1.1.sz.mell.'!D17 -> 181721 | E17: ='Z_1.1.sz.mell.'!E17 -> 181721
A18: 2. | B18: Működési célú támogatások államháztartáson belülről (2.1.+…+.2.5.) | C18: ='Z_1.1.sz.mell.'!C18 -> 8356200 | D18: ='Z_1.1.sz.mell.'!D18 -> 11374380 | E18: ='Z_1.1.sz.mell.'!E18 -> 12365299
A19: 2.1. | B19: Elvonások és befizetések bevételei | C19: ='Z_1.1.sz.mell.'!C19 -> 0 | D19: ='Z_1.1.sz.mell.'!D19 -> 0 | E19: ='Z_1.1.sz.mell.'!E19 -> 0
A20: 2.2. | B20: Működési célú garancia- és kezességvállalásból megtérülések | C20: ='Z_1.1.sz.mell.'!C20 -> 0 | D20: ='Z_1.1.sz.mell.'!D20 -> 0 | E20: ='Z_1.1.sz.mell.'!E20 -> 0
A21: 2.3. | B21: Működési célú visszatérítendő támogatások, kölcsönök visszatérülése | C21: ='Z_1.1.sz.mell.'!C21 -> 0 | D21: ='Z_1.1.sz.mell.'!D21 -> 0 | E21: ='Z_1.1.sz.mell.'!E21 -> 0
A22: 2.4. | B22: Működési célú visszatérítendő támogatások, kölcsönök igénybevétele | C22: ='Z_1.1.sz.mell.'!C22 -> 0 | D22: ='Z_1.1.sz.mell.'!D22 -> 0 | E22: ='Z_1.1.sz.mell.'!E22 -> 0
... A32: 4. | B32: Közhatalmi bevételek (4.1.+…+4.7.) | C32: ='Z_1.1.sz.mell.'!C32 -> 212960000 | D32: ='Z_1.1.sz.mell.'!D32 -> 213060000 | E32: ='Z_1.1.sz.mell.'!E32 -> 223901819
A33: 4.1. | B33: ='Z_1.1.sz.mell.'!B33 -> Építményadó | C33: ='Z_1.1.sz.mell.'!C33 -> 3100000 | D33: ='Z_1.1.sz.mell.'!D33 -> 3100000 | E33: ='Z_1.1.sz.mell.'!E33 -> 3008321
A34: 4.2. | B34: ='Z_1.1.sz.mell.'!B34 -> Idegenforgalmi adó | C34: ='Z_1.1.sz.mell.'!C34 -> 0 | D34: ='Z_1.1.sz.mell.'!D34 -> 0 | E34: ='Z_1.1.sz.mell.'!E34 -> 0
A35: 4.3. | B35: ='Z_1.1.sz.mell.'!B35 -> Iparűzési adó | C35: ='Z_1.1.sz.mell.'!C35 -> 110000000 | D35: ='Z_1.1.sz.mell.'!D35 -> 110000000 | E35: ='Z_1.1.sz.mell.'!E35 -> 119557187
A36: 4.4. | B36: ='Z_1.1.sz.mell.'!B36 -> Talajterhelési díj | C36: ='Z_1.1.sz.mell.'!C36 -> 350000 | D36: ='Z_1.1.sz.mell.'!D36 -> 350000 | E36: ='Z_1.1.sz.mell.'!E36 -> 1067520
A37: 4.5. | B37: ='Z_1.1.sz.mell.'!B37 -> Gépjárműadó | C37: ='Z_1.1.sz.mell.'!C37 -> 0 | D37: ='Z_1.1.sz.mell.'!D37 -> 0 | E37: ='Z_1.1.sz.mell.'!E37 -> 0
A38: 4.6. | B38: ='Z_1.1.sz.mell.'!B38 -> Telekadó | C38: ='Z_1.1.sz.mell.'!C38 -> 99000000 | D38: ='Z_1.1.sz.mell.'!D38 -> 99000000 | E38: ='Z_1.1.sz.mell.'!E38 -> 99759980
A39: 4.7. | B39: ='Z_1.1.sz.mell.'!B39 -> Egyéb közhatalmi bevételek | C39: ='Z_1.1.sz.mell.'!C39 -> 510000 | D39: ='Z_1.1.sz.mell.'!D39 -> 610000 | E39: ='Z_1.1.sz.mell.'!E39 -> 508811
A40: 5. | B40: Működési bevételek (5.1.+…+ 5.11.) | C40: ='Z_1.1.sz.mell.'!C40 -> 56427933 | D40: ='Z_1.1.sz.mell.'!D40 -> 93760420 | E40: ='Z_1.1.sz.mell.'!E40 -> 84402367
A41: 5.1. | B41: Készletértékesítés ellenértéke | C41: ='Z_1.1.sz.mell.'!C41 -> 0 | D41: ='Z_1.1.sz.mell.'!D41 -> 0 | E41: ='Z_1.1.sz.mell.'!E41 -> 0
A42: 5.2. | B42: Szolgáltatások ellenértéke | C42: ='Z_1.1.sz.mell.'!C42 -> 15895271 | D42: ='Z_1.1.sz.mell.'!D42 -> 14157234 | E42: ='Z_1.1.sz.mell.'!E42 -> 13260118
A43: 5.3. | B43: Közvetített szolgáltatások értéke | C43: ='Z_1.1.sz.mell.'!C43 -> 1500000 | D43: ='Z_1.1.sz.mell.'!D43 -> 2854860 | E43: ='Z_1.1.sz.mell.'!E43 -> 2801657
A44: 5.4. | B44: Tulajdonosi bevételek | C44: ='Z_1.1.sz.mell.'!C44 -> 14000000 | D44: ='Z_1.1.sz.mell.'!D44 -> 36874754 | E44: ='Z_1.1.sz.mell.'!E44 -> 33074197
A45: 5.5. | B45: Ellátási díjak | C45: ='Z_1.1.sz.mell.'!C45 -> 13323666 | D45: ='Z_1.1.sz.mell.'!D45 -> 18332185 | E45: ='Z_1.1.sz.mell.'!E45 -> 15440348
A46: 5.6. | B46: Kiszámlázott általános forgalmi adó | C46: ='Z_1.1.sz.mell.'!C46 -> 11708996 | D46: ='Z_1.1.sz.mell.'!D46 -> 18549614 | E46: ='Z_1.1.sz.mell.'!E46 -> 16982009
A47: 5.7. | B47: Általános forgalmi adó visszatérítése | C47: ='Z_1.1.sz.mell.'!C47 -> 0 | D47: ='Z_1.1.sz.mell.'!D47 -> 2401000 | E47: ='Z_1.1.sz.mell.'!E47 -> 2401000
A48: 5.8. | B48: Kamatbevételek és más nyereségjellegű bevételek | C48: ='Z_1.1.sz.mell.'!C48 -> 0 | D48: ='Z_1.1.sz.mell.'!D48 -> 0 | E48: ='Z_1.1.sz.mell.'!E48 -> 0
A49: 5.9. | B49: Egyéb pénzügyi műveletek bevételei | C49: ='Z_1.1.sz.mell.'!C49 -> 0 | D49: ='Z_1.1.sz.mell.'!D49 -> 42 | E49: ='Z_1.1.sz.mell.'!E49 -> 62
A50: 5.10. | B50: Biztosító által fizetett kártérítés | C50: ='Z_1.1.sz.mell.'!C50 -> 0 | D50: ='Z_1.1.sz.mell.'!D50 -> 350000 | E50: ='Z_1.1.sz.mell.'!E50 -> 350000
A51: 5.11. | B51: Egyéb működési bevételek | C51: ='Z_1.1.sz.mell.'!C51 -> 0 | D51: ='Z_1.1.sz.mell.'!D51 -> 240731 | E51: ='Z_1.1.sz.mell.'!E51 -> 92976
... A93: 18. | B93: KÖLTSÉGVETÉSI ÉS FINANSZÍROZÁSI BEVÉTELEK ÖSSZESEN: (9+17) | C93: ='Z_1.1.sz.mell.'!C93 -> 662284746 | D93: ='Z_1.1.sz.mell.'!D93 -> 824078826 | E93: ='Z_1.1.sz.mell.'!E93 -> 789128890
A95: K I A D Á S O K
A96: 2. sz. táblázat | E96: =E7 -> Forintban!
A97: Sor- szám | B97: Kiadási jogcím | C97: =+CONCATENATE(LEFT(Z_ÖSSZEFÜGGÉSEK!A6,4),". évi") -> 2021. évi
C98: Eredeti előirányzat | D98: Módosított előirányzat | E98: =CONCATENATE(E9) -> 2021. XII. 31. teljesítés
A99: A | B99: B | C99: C | D99: D | E99: E
A100: 1. | B100: Működési költségvetés kiadásai (1.1+…+1.5.+1.18.) | C100: ='Z_1.1.sz.mell.'!C100 -> 527038642 | D100: ='Z_1.1.sz.mell.'!D100 -> 570614658 | E100: ='Z_1.1.sz.mell.'!E100 -> 516600178
A101: 1.1. | B101: Személyi juttatások | C101: ='Z_1.1.sz.mell.'!C101 -> 190005619 | D101: ='Z_1.1.sz.mell.'!D101 -> 209070783 | E101: ='Z_1.1.sz.mell.'!E101 -> 197439245
A102: 1.2. | B102: Munkaadókat terhelő járulékok és szociális hozzájárulási adó | C102: ='Z_1.1.sz.mell.'!C102 -> 32318032 | D102: ='Z_1.1.sz.mell.'!D102 -> 34633394 | E102: ='Z_1.1.sz.mell.'!E102 -> 30009650
A103: 1.3. | B103: Dologi kiadások | C103: ='Z_1.1.sz.mell.'!C103 -> 197853933 | D103: ='Z_1.1.sz.mell.'!D103 -> 215705711 | E103: ='Z_1.1.sz.mell.'!E103 -> 191010825
A104: 1.4. | B104: Ellátottak pénzbeli juttatásai | C104: ='Z_1.1.sz.mell.'!C104 -> 12550000 | D104: ='Z_1.1.sz.mell.'!D104 -> 12550000 | E104: ='Z_1.1.sz.mell.'!E104 -> 10715288
A105: 1.5 | B105: Egyéb működési célú kiadások | C105: ='Z_1.1.sz.mell.'!C105 -> 84311058 | D105: ='Z_1.1.sz.mell.'!D105 -> 91431807 | E105: ='Z_1.1.sz.mell.'!E105 -> 87425170
A106: 1.6. | B106: - az 1.5-ből: - Előző évi elszámolásból származó befizetések | C106: ='Z_1.1.sz.mell.'!C106 -> 0 | D106: ='Z_1.1.sz.mell.'!D106 -> 873299 | E106: ='Z_1.1.sz.mell.'!E106 -> 873299
A107: 1.7. | B107: - Törvényi előíráson alapuló befizetések | C107: ='Z_1.1.sz.mell.'!C107 -> 18547030 | D107: ='Z_1.1.sz.mell.'!D107 -> 18547030 | E107: ='Z_1.1.sz.mell.'!E107 -> 18547030
A108: 1.8. | B108: - Elvonások és befizetések | C108: ='Z_1.1.sz.mell.'!C108 -> 0 | D108: ='Z_1.1.sz.mell.'!D108 -> 0 | E108: ='Z_1.1.sz.mell.'!E108 -> 0
A109: 1.9. | B109: - Garancia- és kezességvállalásból kifizetés ÁH-n belülre | C109: ='Z_1.1.sz.mell.'!C109 -> 0 | D109: ='Z_1.1.sz.mell.'!D109 -> 0 | E109: ='Z_1.1.sz.mell.'!E109 -> 0
A110: 1.10. | B110: -Visszatérítendő támogatások, kölcsönök nyújtása ÁH-n belülre | C110: ='Z_1.1.sz.mell.'!C110 -> 0 | D110: ='Z_1.1.sz.mell.'!D110 -> 0 | E110: ='Z_1.1.sz.mell.'!E110 -> 0
A111: 1.11. | B111: - Visszatérítendő támogatások, kölcsönök törlesztése ÁH-n belülre | C111: ='Z_1.1.sz.mell.'!C111 -> 0 | D111: ='Z_1.1.sz.mell.'!D111 -> 0 | E111: ='Z_1.1.sz.mell.'!E111 -> 0
... A161: 11. | B161: KIADÁSOK ÖSSZESEN: (3.+10.) | C161: ='Z_1.1.sz.mell.'!C161 -> 662284746 | D161: ='Z_1.1.sz.mell.'!D161 -> 824078826 | E161: ='Z_1.1.sz.mell.'!E161 -> 677893313
C162: =C93-C161 -> 0 | D162: =D93-D161 -> 0
A163: KÖLTSÉGVETÉSI, FINANSZÍROZÁSI BEVÉTELEK ÉS KIADÁSOK EGYENLEGE
A164: 3. sz. táblázat | E164: =E96 -> Forintban!
A165: 1 | B165: Költségvetési hiány, többlet ( költségvetési bevételek 9. sor - költségvetési kiadások 3. sor) (+/-) | C165: =+C68-C135 -> -175988378 | D165: =+D68-D135 -> -158325455 | E165: =+E68-E135 -> -54176119
A166: 2. | B166: Finanszírozási bevételek, kiadások egyenlege (finanszírozási bevételek 17. sor - finanszírozási kiadások 10. sor) (+/-) | C166: =+C92-C160 -> 175988378 | D166: =+D92-D160 -> 158325455 | E166: =+E92-E160 -> 165411696

Sheet Z_1.3.sz.mell.
B1: =CONCATENATE("1.3. melléklet ",Z_ALAPADATOK!A7," ",Z_ALAPADATOK!B7," ",Z_ALAPADATOK!C7," ",Z_ALAPADATOK!D7," ",Z_ALAPADATOK!E7," ",Z_ALAPADATOK!F7," ",Z_ALAPADATOK!G7," ",Z_ALAPADATOK!H7) -> 1.3. melléklet a … / 2022. ( … ) önkormányzati rendelethez
A2: =CONCATENATE(Z_ALAPADATOK!A3) -> Sajószöged Községi Önkormányzat
A3: =CONCATENATE(Z_ALAPADATOK!B1,". ÉVI ZÁRSZÁMADÁS") -> 2021. ÉVI ZÁRSZÁMADÁS
A4: ÖNKÉNT VÁLLALT FELADATOK PÉNZÜGYI MÉRLEGE
A6: B E V É T E L E K
A7: 1. sz. táblázat | E7: =CONCATENATE('Z_1.2.sz.mell.'!E7) -> Forintban!
A8: Sor- szám | B8: Bevételi jogcím | C8: =+CONCATENATE(LEFT(Z_ÖSSZEFÜGGÉSEK!A6,4),". évi") -> 2021. évi
C9: Eredeti előirányzat | D9: Módosított előirányzat | E9: =CONCATENATE('Z_1.2.sz.mell.'!E9) -> 2021. XII. 31. teljesítés
A10: A | B10: B | C10: C | D10: D | E10: E
A11: 1. | B11: Önkormányzat működési támogatásai (1.1.+…+.1.6.) | C11: =+C12+C13+C14+C15+C16+C17 -> 0 | D11: =+D12+D13+D14+D15+D16+D17 -> 0 | E11: =+E12+E13+E14+E15+E16+E17 -> 0
A12: 1.1. | B12: Helyi önkormányzatok működésének általános támogatása
A13: 1.2. | B13: Önkormányzatok egyes köznevelési feladatainak támogatása
A14: 1.3. | B14: Önkormányzatok szociális és gyermekjóléti feladatainak támogatása
A15: 1.4. | B15: Önkormányzatok kulturális feladatainak támogatása
A16: 1.5. | B16: Működési célú kvi támogatások és kiegészítő támogatások
A17: 1.6. | B17: Elszámolásból származó bevételek
A18: 2. | B18: Működési célú támogatások államháztartáson belülről (2.1.+…+.2.5.) | C18: =+C19+C20+C21+C22+C23 -> 0 | D18: =+D19+D20+D21+D22+D23 -> 0 | E18: =+E19+E20+E21+E22+E23 -> 0
A19: 2.1. | B19: Elvonások és befizetések bevételei
A20: 2.2. | B20: Működési célú garancia- és kezességvállalásból megtérülések
A21: 2.3. | B21: Működési célú visszatérítendő támogatások, kölcsönök visszatérülése
A22: 2.4. | B22: Működési célú visszatérítendő támogatások, kölcsönök igénybevétele
A23: 2.5. | B23: Egyéb működési célú támogatások bevételei
A24: 2.6. | B24: 2.5.-ből EU-s támogatás
A25: 3. | B25: Felhalmozási célú támogatások államháztartáson belülről (3.1.+…+3.5.) | C25: =+C26+C27+C28+C29+C30 -> 0 | D25: =+D26+D27+D28+D29+D30 -> 0 | E25: =+E26+E27+E28+E29+E30 -> 0
A26: 3.1. | B26: Felhalmozási célú önkormányzati támogatások
A27: 3.2. | B27: Felhalmozási célú garancia- és kezességvállalásból megtérülések
A28: 3.3. | B28: Felhalmozási célú visszatérítendő támogatások, kölcsönök visszatérülése
A29: 3.4. | B29: Felhalmozási célú visszatérítendő támogatások, kölcsönök igénybevétele
A30: 3.5. | B30: Egyéb felhalmozási célú támogatások bevételei
A31: 3.6. | B31: 3.5.-ből EU-s támogatás
A32: 4. | B32: Közhatalmi bevételek (4.1.+…+4.7.) | C32: =SUM(C33:C39) -> 0 | D32: =SUM(D33:D39) -> 0 | E32: =SUM(E33:E39) -> 0
A33: 4.1. | B33: ='Z_1.1.sz.mell.'!B33 -> Építményadó
A34: 4.2. | B34: ='Z_1.1.sz.mell.'!B34 -> Idegenforgalmi adó
A35: 4.3. | B35: ='Z_1.1.sz.mell.'!B35 -> Iparűzési adó
A36: 4.4. | B36: ='Z_1.1.sz.mell.'!B36 -> Talajterhelési díj
A37: 4.5. | B37: ='Z_1.1.sz.mell.'!B37 -> Gépjárműadó
A38: 4.6. | B38: ='Z_1.1.sz.mell.'!B38 -> Telekadó
A39: 4.7. | B39: ='Z_1.1.sz.mell.'!B39 -> Egyéb közhatalmi bevételek
A40: 5. | B40: Működési bevételek (5.1.+…+ 5.11.) | C40: =SUM(C41:C51) -> 0 | D40: =SUM(D41:D51) -> 0 | E40: =SUM(E41:E51) -> 0
A41: 5.1. | B41: Készletértékesítés ellenértéke
A42: 5.2. | B42: Szolgáltatások ellenértéke
A43: 5.3. | B43: Közvetített szolgáltatások értéke
A44: 5.4. | B44: Tulajdonosi bevételek
A45: 5.5. | B45: Ellátási díjak
A46: 5.6. | B46: Kiszámlázott általános forgalmi adó
A47: 5.7. | B47: Általános forgalmi adó visszatérítése
A48: 5.8. | B48: Kamatbevételek és más nyereségjellegű bevételek
A49: 5.9. | B49: Egyéb pénzügyi műveletek bevételei
A50: 5.10. | B50: Biztosító által fizetett kártérítés
A51: 5.11. | B51: Egyéb működési bevételek
A52: 6. | B52: Felhalmozási bevételek (6.1.+…+6.5.) | C52: =SUM(C53:C57) -> 0 | D52: =SUM(D53:D57) -> 0 | E52: =SUM(E53:E57) -> 0
A53: 6.1. | B53: Immateriális javak értékesítése
A54: 6.2. | B54: Ingatlanok értékesítése
A55: 6.3. | B55: Egyéb tárgyi eszközök értékesítése
A56: 6.4. | B56: Részesedések értékesítése
A57: 6.5. | B57: Részesedések megszűnéséhez kapcsolódó bevételek
A58: 7. | B58: Működési célú átvett pénzeszközök (7.1. + … + 7.3.) | C58: =SUM(C59:C61) -> 0 | D58: =SUM(D59:D61) -> 0 | E58: =SUM(E59:E61) -> 0
A59: 7.1. | B59: Működési célú garancia- és kezességvállalásból megtérülések ÁH-n kívülről
A60: 7.2. | B60: Működési célú visszatérítendő támogatások, kölcsönök visszatér. ÁH-n kívülről
A61: 7.3. | B61: Egyéb működési célú átvett pénzeszköz
A62: 7.4. | B62: 7.3.-ból EU-s támogatás (közvetlen)
A63: 8. | B63: Felhalmozási célú átvett pénzeszközök (8.1.+8.2.+8.3.) | C63: =SUM(C64:C66) -> 0 | D63: =SUM(D64:D66) -> 0 | E63: =SUM(E64:E66) -> 0
A64: 8.1. | B64: Felhalm. célú garancia- és kezességvállalásból megtérülések ÁH-n kívülről
A65: 8.2. | B65: Felhalm. célú visszatérítendő támogatások, kölcsönök visszatér. ÁH-n kívülről
A66: 8.3. | B66: Egyéb felhalmozási célú átvett pénzeszköz
A67: 8.4. | B67: 8.3.-ból EU-s támogatás (közvetlen)
A68: 9. | B68: KÖLTSÉGVETÉSI BEVÉTELEK ÖSSZESEN: (1+…+8) | C68: =+C11+C18+C25+C32+C40+C52+C58+C63 -> 0 | D68: =+D11+D18+D25+D32+D40+D52+D58+D63 -> 0 | E68: =+E11+E18+E25+E32+E40+E52+E58+E63 -> 0
A69: 10. | B69: Hitel-, kölcsönfelvétel államháztartáson kívülről (10.1.+10.3.) | C69: =SUM(C70:C72) -> 0 | D69: =SUM(D70:D72) -> 0 | E69: =SUM(E70:E72) -> 0
A70: 10.1. | B70: Hosszú lejáratú hitelek, kölcsönök felvétele
A71: 10.2. | B71: Likviditási célú hitelek, kölcsönök felvétele pénzügyi vállalkozástól
A72: 10.3. | B72: Rövid lejáratú hitelek, kölcsönök felvétele
A73: 11. | B73: Belföldi értékpapírok bevételei (11.1. +…+ 11.4.) | C73: =SUM(C74:C77) -> 0 | D73: =SUM(D74:D77) -> 0 | E73: =SUM(E74:E77) -> 0
A74: 11.1. | B74: Forgatási célú belföldi értékpapírok beváltása, értékesítése
A75: 11.2. | B75: Éven belüli lejáratú belföldi értékpapírok kibocsátása
A76: 11.3. | B76: Befektetési célú belföldi értékpapírok beváltása, értékesítése
A77: 11.4. | B77: Éven túli lejáratú belföldi értékpapírok kibocsátása
A78: 12. | B78: Maradvány igénybevétele (12.1. + 12.2.) | C78: =SUM(C79:C80) -> 0 | D78: =SUM(D79:D80) -> 0 | E78: =SUM(E79:E80) -> 0
A79: 12.1. | B79: Előző év költségvetési maradványának igénybevétele
A80: 12.2. | B80: Előző év vállalkozási maradványának igénybevétele
A81: 13. | B81: Belföldi finanszírozás bevételei (13.1. + … + 13.3.) | C81: =SUM(C82:C84) -> 0 | D81: =SUM(D82:D84) -> 0 | E81: =SUM(E82:E84) -> 0
A82: 13.1. | B82: Államháztartáson belüli megelőlegezések
A83: 13.2. | B83: Államháztartáson belüli megelőlegezések törlesztése
A84: 13.3. | B84: Lekötött betétek megszüntetése
A85: 14. | B85: Külföldi finanszírozás bevételei (14.1.+…14.4.) | C85: =SUM(C86:C89) -> 0 | D85: =SUM(D86:D89) -> 0 | E85: =SUM(E86:E89) -> 0
A86: 14.1. | B86: Forgatási célú külföldi értékpapírok beváltása, értékesítése
A87: 14.2. | B87: Befektetési célú külföldi értékpapírok beváltása, értékesítése
A88: 14.3. | B88: Külföldi értékpapírok kibocsátása
A89: 14.4. | B89: Külföldi hitelek, kölcsönök felvétele
A90: 15. | B90: Váltóbevételek
A91: 16. | B91: Adóssághoz nem kapcsolódó származékos ügyletek bevételei
A92: 17. | B92: FINANSZÍROZÁSI BEVÉTELEK ÖSSZESEN: (10. + … +16.) | C92: =+C69+C73+C78+C81+C85+C91+C90 -> 0 | D92: =+D69+D73+D78+D81+D85+D91+D90 -> 0 | E92: =+E69+E73+E78+E81+E85+E91+E90 -> 0
A93: 18. | B93: KÖLTSÉGVETÉSI ÉS FINANSZÍROZÁSI BEVÉTELEK ÖSSZESEN: (9+17) | C93: =+C68+C92 -> 0 | D93: =+D68+D92 -> 0 | E93: =+E68+E92 -> 0
A95: K I A D Á S O K
A96: 2. sz. táblázat | E96: =E7 -> Forintban!
A97: Sor- szám | B97: Kiadási jogcím | C97: =+CONCATENATE(LEFT(Z_ÖSSZEFÜGGÉSEK!A6,4),". évi") -> 2021. évi
C98: Eredeti előirányzat | D98: Módosított előirányzat | E98: =CONCATENATE(E9) -> 2021. XII. 31. teljesítés
A99: A | B99: B | C99: C | D99: D | E99: E
A100: 1. | B100: Működési költségvetés kiadásai (1.1+…+1.5.+1.18.) | C100: =C101+C102+C103+C104+C105+C118 -> 0 | D100: =D101+D102+D103+D104+D105+D118 -> 0 | E100: =E101+E102+E103+E104+E105+E118 -> 0
A101: 1.1. | B101: Személyi juttatások
A102: 1.2. | B102: Munkaadókat terhelő járulékok és szociális hozzájárulási adó
...

Sheet Z_1.4.sz.mell.
B1: =CONCATENATE("1.4. melléklet ",Z_ALAPADATOK!A7," ",Z_ALAPADATOK!B7," ",Z_ALAPADATOK!C7," ",Z_ALAPADATOK!D7," ",Z_ALAPADATOK!E7," ",Z_ALAPADATOK!F7," ",Z_ALAPADATOK!G7," ",Z_ALAPADATOK!H7) -> 1.4. melléklet a … / 2022. ( … ) önkormányzati rendelethez
A2: =CONCATENATE(Z_ALAPADATOK!A3) -> Sajószöged Községi Önkormányzat
A3: =CONCATENATE(Z_ALAPADATOK!B1,". ÉVI ZÁRSZÁMADÁS") -> 2021. ÉVI ZÁRSZÁMADÁS
A4: ÁLLAMIGAZGATÁSI FELADATOK PÉNZÜGYI MÉRLEGE
A6: B E V É T E L E K
A7: 1. sz. táblázat | E7: =CONCATENATE('Z_1.3.sz.mell.'!E7) -> Forintban!
A8: Sor- szám | B8: Bevételi jogcím | C8: =+CONCATENATE(LEFT(Z_ÖSSZEFÜGGÉSEK!A6,4),". évi") -> 2021. évi
C9: Eredeti előirányzat | D9: Módosított előirányzat | E9: =CONCATENATE('Z_1.3.sz.mell.'!E9) -> 2021. XII. 31. teljesítés
A10: A | B10: B | C10: C | D10: D | E10: E
A11: 1. | B11: Önkormányzat működési támogatásai (1.1.+…+.1.6.) | C11: =+C12+C13+C14+C15+C16+C17 -> 0 | D11: =+D12+D13+D14+D15+D16+D17 -> 0 | E11: =+E12+E13+E14+E15+E16+E17 -> 0
A12: 1.1. | B12: Helyi önkormányzatok működésének általános támogatása
A13: 1.2. | B13: Önkormányzatok egyes köznevelési feladatainak támogatása
A14: 1.3. | B14: Önkormányzatok szociális és gyermekjóléti feladatainak támogatása
A15: 1.4. | B15: Önkormányzatok kulturális feladatainak támogatása
A16: 1.5. | B16: Működési célú kvi támogatások és kiegészítő támogatások
A17: 1.6. | B17: Elszámolásból származó bevételek
A18: 2. | B18: Működési célú támogatások államháztartáson belülről (2.1.+…+.2.5.) | C18: =+C19+C20+C21+C22+C23 -> 0 | D18: =+D19+D20+D21+D22+D23 -> 0 | E18: =+E19+E20+E21+E22+E23 -> 0
A19: 2.1. | B19: Elvonások és befizetések bevételei
A20: 2.2. | B20: Működési célú garancia- és kezességvállalásból megtérülések
A21: 2.3. | B21: Működési célú visszatérítendő támogatások, kölcsönök visszatérülése
A22: 2.4. | B22: Működési célú visszatérítendő támogatások, kölcsönök igénybevétele
A23: 2.5. | B23: Egyéb működési célú támogatások bevételei
A24: 2.6. | B24: 2.5.-ből EU-s támogatás
A25: 3. | B25: Felhalmozási célú támogatások államháztartáson belülről (3.1.+…+3.5.) | C25: =+C26+C27+C28+C29+C30 -> 0 | D25: =+D26+D27+D28+D29+D30 -> 0 | E25: =+E26+E27+E28+E29+E30 -> 0
A26: 3.1. | B26: Felhalmozási célú önkormányzati támogatások
A27: 3.2. | B27: Felhalmozási célú garancia- és kezességvállalásból megtérülések
A28: 3.3. | B28: Felhalmozási célú visszatérítendő támogatások, kölcsönök visszatérülése
A29: 3.4. | B29: Felhalmozási célú visszatérítendő támogatások, kölcsönök igénybevétele
A30: 3.5. | B30: Egyéb felhalmozási célú támogatások bevételei
A31: 3.6. | B31: 3.5.-ből EU-s támogatás
A32: 4. | B32: Közhatalmi bevételek (4.1.+…+4.7.) | C32: =SUM(C33:C39) -> 0 | D32: =SUM(D33:D39) -> 0 | E32: =SUM(E33:E39) -> 0
A33: 4.1. | B33: ='Z_1.1.sz.mell.'!B33 -> Építményadó
A34: 4.2. | B34: ='Z_1.1.sz.mell.'!B34 -> Idegenforgalmi adó
A35: 4.3. | B35: ='Z_1.1.sz.mell.'!B35 -> Iparűzési adó
A36: 4.4. | B36: ='Z_1.1.sz.mell.'!B36 -> Talajterhelési díj
A37: 4.5. | B37: ='Z_1.1.sz.mell.'!B37 -> Gépjárműadó
A38: 4.6. | B38: ='Z_1.1.sz.mell.'!B38 -> Telekadó
A39: 4.7. | B39: ='Z_1.1.sz.mell.'!B39 -> Egyéb közhatalmi bevételek
A40: 5. | B40: Működési bevételek (5.1.+…+ 5.11.) | C40: =SUM(C41:C51) -> 0 | D40: =SUM(D41:D51) -> 0 | E40: =SUM(E41:E51) -> 0
A41: 5.1. | B41: Készletértékesítés ellenértéke
A42: 5.2. | B42: Szolgáltatások ellenértéke
A43: 5.3. | B43: Közvetített szolgáltatások értéke
A44: 5.4. | B44: Tulajdonosi bevételek
A45: 5.5. | B45: Ellátási díjak
A46: 5.6. | B46: Kiszámlázott általános forgalmi adó
A47: 5.7. | B47: Általános forgalmi adó visszatérítése
A48: 5.8. | B48: Kamatbevételek és más nyereségjellegű bevételek
A49: 5.9. | B49: Egyéb pénzügyi műveletek bevételei
A50: 5.10. | B50: Biztosító által fizetett kártérítés
A51: 5.11. | B51: Egyéb működési bevételek
A52: 6. | B52: Felhalmozási bevételek (6.1.+…+6.5.) | C52: =SUM(C53:C57) -> 0 | D52: =SUM(D53:D57) -> 0 | E52: =SUM(E53:E57) -> 0
A53: 6.1. | B53: Immateriális javak értékesítése
A54: 6.2. | B54: Ingatlanok értékesítése
A55: 6.3. | B55: Egyéb tárgyi eszközök értékesítése
A56: 6.4. | B56: Részesedések értékesítése
A57: 6.5. | B57: Részesedések megszűnéséhez kapcsolódó bevételek
A58: 7. | B58: Működési célú átvett pénzeszközök (7.1. + … + 7.3.) | C58: =SUM(C59:C61) -> 0 | D58: =SUM(D59:D61) -> 0 | E58: =SUM(E59:E61) -> 0
A59: 7.1. | B59: Működési célú garancia- és kezességvállalásból megtérülések ÁH-n kívülről
A60: 7.2. | B60: Működési célú visszatérítendő támogatások, kölcsönök visszatér. ÁH-n kívülről
A61: 7.3. | B61: Egyéb működési célú átvett pénzeszköz
A62: 7.4. | B62: 7.3.-ból EU-s támogatás (közvetlen)
A63: 8. | B63: Felhalmozási célú átvett pénzeszközök (8.1.+8.2.+8.3.) | C63: =SUM(C64:C66) -> 0 | D63: =SUM(D64:D66) -> 0 | E63: =SUM(E64:E66) -> 0
A64: 8.1. | B64: Felhalm. célú garancia- és kezességvállalásból megtérülések ÁH-n kívülről
A65: 8.2. | B65: Felhalm. célú visszatérítendő támogatások, kölcsönök visszatér. ÁH-n kívülről
A66: 8.3. | B66: Egyéb felhalmozási célú átvett pénzeszköz
A67: 8.4. | B67: 8.3.-ból EU-s támogatás (közvetlen)
A68: 9. | B68: KÖLTSÉGVETÉSI BEVÉTELEK ÖSSZESEN: (1+…+8) | C68: =+C11+C18+C25+C32+C40+C52+C58+C63 -> 0 | D68: =+D11+D18+D25+D32+D40+D52+D58+D63 -> 0 | E68: =+E11+E18+E25+E32+E40+E52+E58+E63 -> 0
A69: 10. | B69: Hitel-, kölcsönfelvétel államháztartáson kívülről (10.1.+10.3.) | C69: =SUM(C70:C72) -> 0 | D69: =SUM(D70:D72) -> 0 | E69: =SUM(E70:E72) -> 0
A70: 10.1. | B70: Hosszú lejáratú hitelek, kölcsönök felvétele
A71: 10.2. | B71: Likviditási célú hitelek, kölcsönök felvétele pénzügyi vállalkozástól
A72: 10.3. | B72: Rövid lejáratú hitelek, kölcsönök felvétele
A73: 11. | B73: Belföldi értékpapírok bevételei (11.1. +…+ 11.4.) | C73: =SUM(C74:C77) -> 0 | D73: =SUM(D74:D77) -> 0 | E73: =SUM(E74:E77) -> 0
A74: 11.1. | B74: Forgatási célú belföldi értékpapírok beváltása, értékesítése
A75: 11.2. | B75: Éven belüli lejáratú belföldi értékpapírok kibocsátása
A76: 11.3. | B76: Befektetési célú belföldi értékpapírok beváltása, értékesítése
A77: 11.4. | B77: Éven túli lejáratú belföldi értékpapírok kibocsátása
A78: 12. | B78: Maradvány igénybevétele (12.1. + 12.2.) | C78: =SUM(C79:C80) -> 0 | D78: =SUM(D79:D80) -> 0 | E78: =SUM(E79:E80) -> 0
A79: 12.1. | B79: Előző év költségvetési maradványának igénybevétele
A80: 12.2. | B80: Előző év vállalkozási maradványának igénybevétele
A81: 13. | B81: Belföldi finanszírozás bevételei (13.1. + … + 13.3.) | C81: =SUM(C82:C84) -> 0 | D81: =SUM(D82:D84) -> 0 | E81: =SUM(E82:E84) -> 0
A82: 13.1. | B82: Államháztartáson belüli megelőlegezések
A83: 13.2. | B83: Államháztartáson belüli megelőlegezések törlesztése
A84: 13.3. | B84: Lekötött betétek megszüntetése
A85: 14. | B85: Külföldi finanszírozás bevételei (14.1.+…14.4.) | C85: =SUM(C86:C89) -> 0 | D85: =SUM(D86:D89) -> 0 | E85: =SUM(E86:E89) -> 0
A86: 14.1. | B86: Forgatási célú külföldi értékpapírok beváltása, értékesítése
A87: 14.2. | B87: Befektetési célú külföldi értékpapírok beváltása, értékesítése
A88: 14.3. | B88: Külföldi értékpapírok kibocsátása
A89: 14.4. | B89: Külföldi hitelek, kölcsönök felvétele
A90: 15. | B90: Váltóbevételek
A91: 16. | B91: Adóssághoz nem kapcsolódó származékos ügyletek bevételei
A92: 17. | B92: FINANSZÍROZÁSI BEVÉTELEK ÖSSZESEN: (10. + … +16.) | C92: =+C69+C73+C78+C81+C85+C91+C90 -> 0 | D92: =+D69+D73+D78+D81+D85+D91+D90 -> 0 | E92: =+E69+E73+E78+E81+E85+E91+E90 -> 0
A93: 18. | B93: KÖLTSÉGVETÉSI ÉS FINANSZÍROZÁSI BEVÉTELEK ÖSSZESEN: (9+17) | C93: =+C68+C92 -> 0 | D93: =+D68+D92 -> 0 | E93: =+E68+E92 -> 0
A95: K I A D Á S O K
A96: 2. sz. táblázat | E96: =E7 -> Forintban!
A97: Sor- szám | B97: Kiadási jogcím | C97: =+CONCATENATE(LEFT(Z_ÖSSZEFÜGGÉSEK!A6,4),". évi") -> 2021. évi
C98: Eredeti előirányzat | D98: Módosított előirányzat | E98: =CONCATENATE(E9) -> 2021. XII. 31. teljesítés
A99: A | B99: B | C99: C | D99: D | E99: E
A100: 1. | B100: Működési költségvetés kiadásai (1.1+…+1.5.+1.18.) | C100: =C101+C102+C103+C104+C105+C118 -> 0 | D100: =D101+D102+D103+D104+D105+D118 -> 0 | E100: =E101+E102+E103+E104+E105+E118 -> 0
A101: 1.1. | B101: Személyi juttatások
A102: 1.2. | B102: Munkaadókat terhelő járulékok és szociális hozzájárulási adó
...

Sheet Z_2.1.sz.mell
B1: I. Működési célú bevételek és kiadások mérlege (Önkormányzati szinten) | J1: =CONCATENATE("2.1. melléklet ",Z_ALAPADATOK!A7," ",Z_ALAPADATOK!B7," ",Z_ALAPADATOK!C7," ",Z_ALAPADATOK!D7," ",Z_ALAPADATOK!E7," ",Z_ALAPADATOK!F7," ",Z_ALAPADATOK!G7," ",Z_ALAPADATOK!H7) -> 2.1. melléklet a … / 2022. ( … ) önkormányzati rendelethez
I2: =CONCATENATE('Z_1.4.sz.mell.'!E7) -> Forintban!
A3: Sor- szám | B3: Bevételek | F3: Kiadások
B4: Megnevezés | C4: =+CONCATENATE('Z_1.1.sz.mell.'!C8," eredeti előirányzat") -> 2021. évi eredeti előirányzat | D4: =+CONCATENATE('Z_1.1.sz.mell.'!C8," módosított előirányzat") -> 2021. évi módosított előirányzat | E4: =CONCATENATE('Z_1.4.sz.mell.'!E9) -> 2021. XII. 31. teljesítés | F4: Megnevezés | G4: =+C4 -> 2021. évi eredeti előirányzat | H4: =+D4 -> 2021. évi módosított előirányzat | I4: =+E4 -> 2021. XII. 31. teljesítés
A5: A | B5: B | C5: C | D5: D | E5: E | F5: F | G5: G | H5: H | I5: I
A6: 1. | B6: Önkormányzatok működési támogatásai | C6: 168879689 | D6: 192219846 | E6: 192219846 | F6: Személyi juttatások | G6: 190005619 | H6: 209070783 | I6: ='Z_1.1.sz.mell.'!E101 -> 197439245
A7: 2. | B7: Működési célú támogatások államháztartáson belülről | C7: 8356200 | D7: 11374380 | E7: 12365299 | F7: Munkaadókat terhelő járulékok és szociális hozzájárulási adó | G7: 32318032 | H7: 34633394 | I7: ='Z_1.1.sz.mell.'!E102 -> 30009650
A8: 3. | B8: 2.-ból EU-s támogatás | D8: 0 | F8: Dologi kiadások | G8: 197853933 | H8: 215705711 | I8: ='Z_1.1.sz.mell.'!E103 -> 191010825
A9: 4. | B9: Közhatalmi bevételek | C9: 212960000 | D9: 213060000 | E9: 223901819 | F9: Ellátottak pénzbeli juttatásai | G9: 12550000 | H9: 12550000 | I9: ='Z_1.1.sz.mell.'!E104 -> 10715288
A10: 5. | B10: Működési bevételek | C10: 56427933 | D10: 93760420 | E10: 84402367 | F10: Egyéb működési célú kiadások | G10: 84311058 | H10: 91431807 | I10: ='Z_1.1.sz.mell.'!E105 -> 87425170
A11: 6. | B11: Működési célú átvett pénzeszközök | E11: 370000 | F11: Tartalékok | G11: 10000000 | H11: 7222963
A12: 7. | B12: 6.-ból EU-s támogatás (közvetlen)
A13: 8.
A14: 9.
A15: 10.
A16: 11.
A17: 12.
A18: 13. | B18: Költségvetési bevételek összesen (1.+2.+4.+5.+6.+8.+…+12.) | C18: =C6+C7+C9+C10+C11+C13+C14+C15+C16+C17 -> 446623822 | D18: =D6+D7+D9+D10+D11+D13+D14+D15+D16+D17 -> 510414646 | E18: =E6+E7+E9+E10+E11+E13+E14+E15+E16+E17 -> 513259331 | F18: Költségvetési kiadások összesen (1.+...+12.) | G18: =SUM(G6:G17) -> 527038642 | H18: =SUM(H6:H17) -> 570614658 | I18: =SUM(I6:I17) -> 516600178
A19: 14. | B19: Hiány belső finanszírozásának bevételei (15.+…+19. ) | C19: =+C20+C21+C22+C23 -> 87170009 | D19: =+D20+D21+D22+D23 -> 66955201 | E19: =+E20+E21+E22+E23 -> 66955201 | F19: Értékpapír vásárlása, visszavásárlása
A20: 15. | B20: Költségvetési maradvány igénybevétele | C20: 67170009 | D20: 66955201 | E20: 61955201 | F20: Likviditási célú hitelek törlesztése
A21: 16. | B21: Vállalkozási maradvány igénybevétele | F21: Rövid lejáratú hitelek törlesztése
A22: 17. | B22: Betét visszavonásából származó bevétel | F22: Hosszú lejáratú hitelek törlesztése
A23: 18. | B23: Egyéb belső finanszírozási bevételek | C23: 20000000 | D23: 0 | E23: 5000000 | F23: Kölcsön törlesztése
A24: 19. | B24: Értékpapírok bevételei | F24: Forgatási célú belföldi, külföldi értékpapírok vásárlása
A25: 20. | B25: Hiány külső finanszírozásának bevételei (21.+…+23.) | C25: =C26+C27 -> 0 | D25: =D26+D27 -> 0 | E25: =E26+E27 -> 0 | F25: Pénzeszközök lekötött betétként elhelyezése
A26: 21. | B26: Likviditási célú hitelek, kölcsönök felvétele | F26: Adóssághoz nem kapcsolódó származékos ügyletek
A27: 22. | B27: Váltóbevételek | F27: Váltókiadások
A28: 23. | B28: Államháztartáson belüli megelőlegezés | D28: 554674 | E28: 7640915 | F28: Államháztartáson belüli megelőlegezések visszafizetése | G28: 6755189 | H28: 7309863 | I28: 7309863
A29: 24. | B29: Működési célú finanszírozási bevételek összesen (14.+20.) | C29: =+C19+C25+C28 -> 87170009 | D29: =+D19+D25+D28 -> 67509875 | E29: =+E19+E25+E28 -> 74596116 | F29: Működési célú finanszírozási kiadások összesen (13.+...+23.) | G29: =SUM(G19:G28) -> 6755189 | H29: =SUM(H19:H28) -> 7309863 | I29: =SUM(I19:I28) -> 7309863
A30: 25. | B30: BEVÉTEL ÖSSZESEN (13.+24.) | C30: =+C18+C29 -> 533793831 | D30: =+D18+D29 -> 577924521 | E30: =+E18+E29 -> 587855447 | G30: =+G18+G29 -> 533793831 | H30: =+H18+H29 -> 577924521 | I30: =+I18+I29 -> 523910041
A31: 26. | B31: Költségvetési hiány: | C31: =IF(C18-G18<0,G18-C18,"-") -> 80414820 | D31: =IF(D18-H18<0,H18-D18,"-") -> 60200012 | E31: =IF(E18-I18<0,I18-E18,"-") -> 3340847 | F31: Költségvetési többlet: | G31: =IF(C18-G18>0,C18-G18,"-") -> - | H31: =IF(D18-H18>0,D18-H18,"-") -> - | I31: =IF(E18-I18>0,E18-I18,"-") -> -
A32: 27. | B32: Bruttó hiány: | C32: =IF(C30-G30<0,G30-C30,"-") -> - | D32: =IF(D30-H30<0,H30-D30,"-") -> - | E32: =IF(E30-I30<0,I30-E30,"-") -> - | F32: Bruttó többlet: | G32: =IF(C30-G30>0,C30-G30,"-") -> - | H32: =IF(D30-H30>0,D30-H30,"-") -> - | I32: =IF(E30-I30>0,E30-I30,"-") -> 63945406

Sheet Z_2.2.sz.mell
B1: II. Felhalmozási célú bevételek és kiadások mérlege (Önkormányzati szinten) | J1: =CONCATENATE("2.2. melléklet ",Z_ALAPADATOK!A7," ",Z_ALAPADATOK!B7," ",Z_ALAPADATOK!C7," ",Z_ALAPADATOK!D7," ",Z_ALAPADATOK!E7," ",Z_ALAPADATOK!F7," ",Z_ALAPADATOK!G7," ",Z_ALAPADATOK!H7) -> 2.2. melléklet a … / 2022. ( … ) önkormányzati rendelethez
I2: ='Z_2.1.sz.mell'!I2 -> Forintban!
A3: Sor- szám | B3: Bevételek | F3: Kiadások
B4: Megnevezés | C4: =+CONCATENATE('Z_1.1.sz.mell.'!C8," eredeti előirányzat") -> 2021. évi eredeti előirányzat | D4: =+CONCATENATE('Z_1.1.sz.mell.'!C8," módosított előirányzat") -> 2021. évi módosított előirányzat | E4: =CONCATENATE('Z_2.1.sz.mell'!E4) -> 2021. XII. 31. teljesítés | F4: Megnevezés | G4: =+C4 -> 2021. évi eredeti előirányzat | H4: =+D4 -> 2021. évi módosított előirányzat | I4: =+E4 -> 2021. XII. 31. teljesítés
A5: A | B5: B | C5: C | D5: D | E5: E | F5: F | G5: G | H5: H | I5: I
A6: 1. | B6: Felhalmozási célú támogatások államháztartáson belülről | C6: 30000000 | D6: 119719194 | E6: 89719194 | F6: Beruházások | G6: 33380818 | H6: ='Z_1.1.sz.mell.'!D122 -> 25784466 | I6: ='Z_1.1.sz.mell.'!E122 -> 23574143
A7: 2. | B7: 1.-ből EU-s támogatás | C7: 30000000 | D7: 30000000 | E7: 89719194 | F7: 1.-ből EU-s forrásból megvalósuló beruházás | H7: ='Z_1.1.sz.mell.'!D123 -> 8509200 | I7: ='Z_1.1.sz.mell.'!E123 -> 8509200
A8: 3. | B8: Felhalmozási bevételek | C8: 1267716 | D8: 26385826 | E8: 11385826 | F8: Felújítások | G8: 95110097 | H8: ='Z_1.1.sz.mell.'!D124 -> 216026421 | I8: ='Z_1.1.sz.mell.'!E124 -> 126065711
A9: 4. | B9: Felhalmozási célú átvett pénzeszközök átvétele | C9: 1649641 | D9: 1923842 | E9: 2042980 | F9: 3.-ból EU-s forrásból megvalósuló felújítás | G9: ='Z_1.1.sz.mell.'!C125 -> 87833480 | H9: ='Z_1.1.sz.mell.'!D125 -> 184833480 | I9: ='Z_1.1.sz.mell.'!E125 -> 121637168
A10: 5. | B10: 4.-ből EU-s támogatás (közvetlen) | F10: Egyéb felhalmozási kiadások | H10: 4343418 | I10: 4343418
A11: 6. | B11: Egyéb felhalmozási célú bevételek
A12: 7.
A13: 8.
A14: 9.
A15: 10.
A16: 11. | F16: Tartalékok
A17: 12. | B17: Költségvetési bevételek összesen: (1.+3.+4.+6.+…+11.) | C17: =+C6+C8+C9+C11+C12+C13+C14+C15+C16 -> 32917357 | D17: =+D6+D8+D9+D11+D12+D13+D14+D15+D16 -> 148028862 | E17: =+E6+E8+E9+E11+E12+E13+E14+E15+E16 -> 103148000 | F17: Költségvetési kiadások összesen: (1.+3.+5.+...+11.) | G17: =+G6+G8+G10+G11+G12+G13+G14+G15+G16 -> 128490915 | H17: =+H6+H8+H10+H11+H12+H13+H14+H15+H16 -> 246154305 | I17: =+I6+I8+I10+I11+I12+I13+I14+I15+I16 -> 153983272
A18: 13. | B18: Hiány belső finanszírozás bevételei ( 14+…+18) | C18: =+C19+C20+C21+C22+C23 -> 95573558 | D18: =+D19+D20+D21+D22+D23 -> 98125443 | E18: =+E19+E20+E21+E22+E23 -> 98125443 | F18: Értékpapír vásárlása, visszavásárlása
A19: 14. | B19: Költségvetési maradvány igénybevétele | C19: 95573558 | D19: 98125443 | E19: 98125443 | F19: Hitelek törlesztése
A20: 15. | B20: Vállalkozási maradvány igénybevétele | F20: Rövid lejáratú hitelek törlesztése
A21: 16. | B21: Betét visszavonásából származó bevétel | F21: Hosszú lejáratú hitelek törlesztése
A22: 17. | B22: Értékpapír értékesítése | F22: Kölcsön törlesztése
A23: 18. | B23: Egyéb belső finanszírozási bevételek | F23: Befektetési célú belföldi, külföldi értékpapírok vásárlása
A24: 19. | B24: Hiány külső finanszírozásának bevételei (20+…+24 ) | C24: =+C25+C26+C27+C28+C29 -> 0 | D24: =+D25+D26+D27+D28+D29 -> 0 | E24: =+E25+E26+E27+E28+E29 -> 0 | F24: Betét elhelyezése
A25: 20. | B25: Hosszú lejáratú hitelek, kölcsönök felvétele | F25: Pénzügyi lízing kiadásai
A26: 21. | B26: Likviditási célú hitelek, kölcsönök felvétele
A27: 22. | B27: Rövid lejáratú hitelek, kölcsönök felvétele
A28: 23. | B28: Értékpapírok kibocsátása
A29: 24. | B29: Egyéb külső finanszírozási bevételek
A30: 25. | B30: Felhalmozási célú finanszírozási bevételek összesen (13.+19.) | C30: =+C18+C24 -> 95573558 | D30: =+D18+D24 -> 98125443 | E30: =+E18+E24 -> 98125443 | F30: Felhalmozási célú finanszírozási kiadások összesen (13.+...+24.) | G30: =SUM(G18:G29) -> 0 | H30: =SUM(H18:H29) -> 0 | I30: =SUM(I18:I29) -> 0
A31: 26. | B31: BEVÉTEL ÖSSZESEN (12+25) | C31: =+C17+C30 -> 128490915 | D31: =+D17+D30 -> 246154305 | E31: =+E17+E30 -> 201273443 | F31: KIADÁSOK ÖSSZESEN (12+25) | G31: =+G17+G30 -> 128490915 | H31: =+H17+H30 -> 246154305 | I31: =+I17+I30 -> 153983272
A32: 27. | B32: Költségvetési hiány: | C32: =IF(C17-G17<0,G17-C17,"-") -> 95573558 | D32: =IF(D17-H17<0,H17-D17,"-") -> 98125443 | E32: =IF(E17-I17<0,I17-E17,"-") -> 50835272 | F32: Költségvetési többlet: | G32: =IF(C17-G17>0,C17-G17,"-") -> - | H32: =IF(D17-H17>0,D17-H17,"-") -> - | I32: =IF(E17-I17>0,E17-I17,"-") -> -
A33: 28. | B33: Bruttó hiány: | C33: =IF(C31-G31<0,G31-C31,"-") -> - | D33: =IF(D31-H31<0,H31-D31,"-") -> - | E33: =IF(E31-I31<0,I31-E31,"-") -> - | F33: Bruttó többlet: | G33: =IF(C31-G31>0,C31-G31,"-") -> - | H33: =IF(D31-H31>0,D31-H31,"-") -> - | I33: =IF(E31-I31>0,E31-I31,"-") -> 47290171

Sheet Z_ELLENŐRZÉS
A1: Zárszámadási rendelet űrlapjainak összefüggései: | E1: ELTÉRÉS
A4: =+Z_ÖSSZEFÜGGÉSEK!A6 -> 2021. évi eredeti előirányzat BEVÉTELEK
A6: 1.1. sz. melléklet Bevételek táblázat C. oszlop 9 sora = | B6: =+'Z_1.1.sz.mell.'!C68 -> 479541179 | C6: 2.1. számú melléklet C. oszlop 13. sor + 2.2. számú melléklet C. oszlop 12. sor | D6: =+'Z_2.1.sz.mell'!C18+'Z_2.2.sz.mell'!C17 -> 479541179 | E6: =+B6-D6 -> 0
A7: 1.1. sz. melléklet Bevételek táblázat C. oszlop 17 sora = | B7: =+'Z_1.1.sz.mell.'!C92 -> 182743567 | C7: 2.1. számú melléklet C. oszlop 24. sor + 2.2. számú melléklet C. oszlop 25. sor | D7: =+'Z_2.1.sz.mell'!C29+'Z_2.2.sz.mell'!C30 -> 182743567 | E7: =+B7-D7 -> 0
A8: 1.1. sz. melléklet Bevételek táblázat C. oszlop 18 sora = | B8: =+'Z_1.1.sz.mell.'!C93 -> 662284746 | C8: 2.1. számú melléklet C. oszlop 25. sor + 2.2. számú melléklet C. oszlop 26. sor | D8: =+'Z_2.1.sz.mell'!C30+'Z_2.2.sz.mell'!C31 -> 662284746 | E8: =+B8-D8 -> 0
A10: =+Z_ÖSSZEFÜGGÉSEK!A13 -> 2021. évi módosított előirányzat BEVÉTELEK
A12: 1.1. sz. melléklet Bevételek táblázat D. oszlop 9 sora = | B12: =+'Z_1.1.sz.mell.'!D68 -> 658443508 | C12: 2.1. számú melléklet D. oszlop 13. sor + 2.2. számú melléklet D. oszlop 12. sor | D12: =+'Z_2.1.sz.mell'!D18+'Z_2.2.sz.mell'!D17 -> 658443508 | E12: =+B12-D12 -> 0
A13: 1.1. sz. melléklet Bevételek táblázat D. oszlop 17 sora = | B13: =+'Z_1.1.sz.mell.'!D92 -> 165635318 | C13: 2.1. számú melléklet D. oszlop 24. sor + 2.2. számú melléklet D. oszlop 25. sor | D13: =+'Z_2.1.sz.mell'!D29+'Z_2.2.sz.mell'!D30 -> 165635318 | E13: =+B13-D13 -> 0
A14: 1.1. sz. melléklet Bevételek táblázat D. oszlop 18 sora = | B14: =+'Z_1.1.sz.mell.'!D93 -> 824078826 | C14: 2.1. számú melléklet D. oszlop 25. sor + 2.2. számú melléklet D. oszlop 26. sor | D14: =+'Z_2.1.sz.mell'!D30+'Z_2.2.sz.mell'!D31 -> 824078826 | E14: =+B14-D14 -> 0
A16: =+Z_ÖSSZEFÜGGÉSEK!A19 -> 2021.évi teljesített BEVÉTELEK
A18: 1.1. sz. melléklet Bevételek táblázat E. oszlop 9 sora = | B18: =+'Z_1.1.sz.mell.'!E68 -> 616407331 | C18: 2.1. számú melléklet E. oszlop 13. sor + 2.2. számú melléklet E. oszlop 12. sor | D18: =+'Z_2.1.sz.mell'!E18+'Z_2.2.sz.mell'!E17 -> 616407331 | E18: =+B18-D18 -> 0
A19: 1.1. sz. melléklet Bevételek táblázat E. oszlop 17 sora = | B19: =+'Z_1.1.sz.mell.'!E92 -> 172721559 | C19: 2.1. számú melléklet E. oszlop 24. sor + 2.2. számú melléklet E. oszlop 25. sor | D19: =+'Z_2.1.sz.mell'!E29+'Z_2.2.sz.mell'!E30 -> 172721559 | E19: =+B19-D19 -> 0
A20: 1.1. sz. melléklet Bevételek táblázat E. oszlop 18 sora = | B20: =+'Z_1.1.sz.mell.'!E93 -> 789128890 | C20: 2.1. számú melléklet E. oszlop 25. sor + 2.2. számú melléklet E. oszlop 26. sor | D20: =+'Z_2.1.sz.mell'!E30+'Z_2.2.sz.mell'!E31 -> 789128890 | E20: =+B20-D20 -> 0
A22: =+Z_ÖSSZEFÜGGÉSEK!A25 -> 2021. évi eredeti előirányzat KIADÁSOK
A24: 1.1. sz. melléklet Kiadások táblázat C. oszlop 3 sora = | B24: =+'Z_1.1.sz.mell.'!C135 -> 655529557 | C24: 2.1. számú melléklet G. oszlop 13. sor + 2.2. számú melléklet G. oszlop 12. sor | D24: =+'Z_2.1.sz.mell'!G18+'Z_2.2.sz.mell'!G17 -> 655529557 | E24: =+B24-D24 -> 0
A25: 1.1. sz. melléklet Kiadások táblázat C. oszlop 10 sora = | B25: =+'Z_1.1.sz.mell.'!C160 -> 6755189 | C25: 2.1. számú melléklet G. oszlop 24. sor + 2.2. számú melléklet G. oszlop 25. sor | D25: =+'Z_2.1.sz.mell'!G29+'Z_2.2.sz.mell'!G30 -> 6755189 | E25: =+B25-D25 -> 0
A26: 1.1. sz. melléklet Kiadások táblázat C. oszlop 11 sora = | B26: =+'Z_1.1.sz.mell.'!C161 -> 662284746 | C26: 2.1. számú melléklet G. oszlop 25. sor + 2.2. számú melléklet G. oszlop 26. sor | D26: =+'Z_2.1.sz.mell'!G30+'Z_2.2.sz.mell'!G31 -> 662284746 | E26: =+B26-D26 -> 0
A28: =+Z_ÖSSZEFÜGGÉSEK!A31 -> 2021. évi módosított előirányzat KIADÁSOK
A30: 1.1. sz. melléklet Kiadások táblázat D. oszlop 3 sora = | B30: =+'Z_1.1.sz.mell.'!D135 -> 816768963 | C30: 2.1. számú melléklet H. oszlop 13. sor + 2.2. számú melléklet H. oszlop 12. sor | D30: =+'Z_2.1.sz.mell'!H18+'Z_2.2.sz.mell'!H17 -> 816768963 | E30: =+B30-D30 -> 0
A31: 1.1. sz. melléklet Kiadások táblázat D. oszlop 10 sora = | B31: =+'Z_1.1.sz.mell.'!D160 -> 7309863 | C31: 2.1. számú melléklet H. oszlop 24. sor + 2.2. számú melléklet H. oszlop 25. sor | D31: =+'Z_2.1.sz.mell'!H29+'Z_2.2.sz.mell'!H30 -> 7309863 | E31: =+B31-D31 -> 0
A32: 1.1. sz. melléklet Kiadások táblázat D. oszlop 11 sora = | B32: =+'Z_1.1.sz.mell.'!D161 -> 824078826 | C32: 2.1. számú melléklet H. oszlop 25. sor + 2.2. számú melléklet H. oszlop 26. sor | D32: =+'Z_2.1.sz.mell'!H30+'Z_2.2.sz.mell'!H31 -> 824078826 | E32: =+B32-D32 -> 0
A34: =+Z_ÖSSZEFÜGGÉSEK!A37 -> 2021.évi teljesített KIADÁSOK
A36: 1.1. sz. melléklet Kiadások táblázat E. oszlop 3 sora = | B36: =+'Z_1.1.sz.mell.'!E135 -> 670583450 | C36: 2.1. számú melléklet I. oszlop 13. sor + 2.2. számú melléklet I. oszlop 12. sor | D36: =+'Z_2.1.sz.mell'!I18+'Z_2.2.sz.mell'!I17 -> 670583450 | E36: =+B36-D36 -> 0
A37: 1.1. sz. melléklet Kiadások táblázat E. oszlop 10 sora = | B37: =+'Z_1.1.sz.mell.'!E160 -> 7309863 | C37: 2.1. számú melléklet I. oszlop 24. sor + 2.2. számú melléklet I. oszlop 25. sor | D37: =+'Z_2.1.sz.mell'!I29+'Z_2.2.sz.mell'!I30 -> 7309863 | E37: =+B37-D37 -> 0
A38: 1.1. sz. melléklet Kiadások táblázat E. oszlop 11 sora = | B38: =+'Z_1.1.sz.mell.'!E161 -> 677893313 | C38: 2.1. számú melléklet I. oszlop 25. sor + 2.2. számú melléklet I. oszlop 26. sor | D38: =+'Z_2.1.sz.mell'!I30+'Z_2.2.sz.mell'!I31 -> 677893313 | E38: =+B38-D38 -> 0

Sheet Z_3.sz.mell.
A1: Beruházási (felhalmozási) kiadások előirányzata és teljesítése beruházásonként | H1: =CONCATENATE("3. melléklet ",Z_ALAPADATOK!$A$7," ",Z_ALAPADATOK!$B$7," ",Z_ALAPADATOK!$C$7," ",Z_ALAPADATOK!$D$7," ",Z_ALAPADATOK!$E$7," ",Z_ALAPADATOK!$F$7," ",Z_ALAPADATOK!$G$7," ",Z_ALAPADATOK!$H$7) -> 3. melléklet a … / 2022. ( … ) önkormányzati rendelethez
G2: ='Z_2.2.sz.mell'!I2 -> Forintban!
A3: Beruházás megnevezése | B3: Teljes költség | C3: Kivitelezés kezdési és befejezési éve | D3: =+CONCATENATE("Felhasználás ",LEFT(Z_ÖSSZEFÜGGÉSEK!A6,4)-1,". XII. 31-ig") -> Felhasználás 2020. XII. 31-ig | E3: =+CONCATENATE(LEFT(Z_ÖSSZEFÜGGÉSEK!A6,4),". évi",CHAR(10),"módosított előirányzat") -> 2021. évi módosított előirányzat | F3: =+CONCATENATE("Teljesítés",CHAR(10),LEFT(Z_ÖSSZEFÜGGÉSEK!A6,4),". I. 1-től XII.31-ig") -> Teljesítés 2021. I. 1-től XII.31-ig | G3: =+CONCATENATE("Összes teljesítés",CHAR(10),LEFT(Z_ÖSSZEFÜGGÉSEK!A6,4),". XII. 31-ig") -> Összes teljesítés 2021. XII. 31-ig
A4: A | B4: B | C4: C | D4: D | E4: E | F4: F | G4: G=(D+F)
A5: Egyéb immateriális eszközök beszerzése | B5: 94869 | C5: 2021 | F5: 94869 | G5: =D5+F5 -> 94869
A6: Sajószögedi Zöld Sziget Bölcsőde épületüveg fóliázás | B6: 1188720 | C6: 2021 | F6: 1188720 | G6: =D6+F6 -> 1188720
A7: Térfigyelő kamerarendszer beüzemelése | B7: 3942212 | C7: 2014-2022 | D7: 2635463 | E7: 1306749 | G7: =D7+F7 -> 2635463
A8: Okos zebra (Vasút út/Bem út) | B8: 3421180 | C8: 2021 | F8: 3421180 | G8: =D8+F8 -> 3421180
A9: Művelődési ház űj mérőhely kialakítása | B9: 2840480 | C9: 2021 | F9: 2840480 | G9: =D9+F9 -> 2840480
A10: Fekvőrendőr kiépítése (Széchenyi és Táncsics út) | B10: 457200 | C10: 2021 | F10: 457200 | G10: =D10+F10 -> 457200
A11: TOP 1.4.1-15-BO1-2016-00080 Óvoda és konyha fejlesztése | B11: 8509200 | C11: 2021 | F11: 8509200 | G11: =D11+F11 -> 8509200
A12: Konyhatechnológiai eszközök (napközi) | B12: 1834896 | C12: 2021 | F12: 1834896 | G12: =D12+F12 -> 1834896
A13: Egyéb tárgyi eszközök beszerzése | B13: 2034956 | C13: 2021 | F13: 2034956 | G13: =D13+F13 -> 2034956
G14: =D14+F14 -> 0
G15: =D15+F15 -> 0
A16: Egyéb tárgyi eszközök beszerzése PH | B16: 150107 | C16: 2021 | F16: 150107 | G16: =D16+F16 -> 150107
A17: Egyéb tárgyi eszközök beszerzése ÁMK | B17: 2202669 | C17: 2021 | F17: 2202669 | G17: =D17+F17 -> 2202669
A18: Egyéb immateriális eszközök beszerzése ÁMK | B18: 109855 | C18: 2021 | F18: 109855 | G18: =D18+F18 -> 109855
A19: Egyéb tárgyi eszközök beszerzése Bölcsőde | B19: 730011 | C19: 2021 | F19: 730011 | G19: =D19+F19 -> 730011
G20: =D20+F20 -> 0
G21: =D21+F21 -> 0
G22: =D22+F22 -> 0
A23: ÖSSZESEN: | B23: =SUM(B5:B22) -> 27516355 | D23: =SUM(D5:D22) -> 2635463 | F23: =SUM(F5:F22) -> 23574143 | G23: =SUM(G5:G22) -> 26209606
G25: =SUM(F11) -> 8509200

Sheet Z_4.sz.mell.
A1: Felújítási kiadások előirányzata és teljesítése felújításonként | H1: =CONCATENATE("4. melléklet ",Z_ALAPADATOK!$A$7," ",Z_ALAPADATOK!$B$7," ",Z_ALAPADATOK!$C$7," ",Z_ALAPADATOK!$D$7," ",Z_ALAPADATOK!$E$7," ",Z_ALAPADATOK!$F$7," ",Z_ALAPADATOK!$G$7," ",Z_ALAPADATOK!$H$7) -> 4. melléklet a … / 2022. ( … ) önkormányzati rendelethez
G2: ='Z_3.sz.mell.'!G2 -> Forintban!
A3: Felújítás megnevezése | B3: Teljes költség | C3: Kivitelezés kezdési és befejezési éve | D3: =+'Z_3.sz.mell.'!D3 -> Felhasználás 2020. XII. 31-ig | E3: =+CONCATENATE(LEFT(Z_ÖSSZEFÜGGÉSEK!A6,4),". évi",CHAR(10),"módosított előirányzat") -> 2021. évi módosított előirányzat | F3: =+CONCATENATE("Teljesítés",CHAR(10),LEFT(Z_ÖSSZEFÜGGÉSEK!A6,4),". I. 1-től XII. 31-ig") -> Teljesítés 2021. I. 1-től XII. 31-ig | G3: =+CONCATENATE("Összes teljesítés",CHAR(10),LEFT(Z_ÖSSZEFÜGGÉSEK!A6,4),". XII. 31-ig") -> Összes teljesítés 2021. XII. 31-ig
A4: A | B4: B | C4: C | D4: D | E4: E | F4: F | G4: G=(D+F)
A5: TOP 3.2.1-16-BO1-2017-00055 Iskola energetikai korszerűsítése | B5: 169976625 | C5: 2020-2022 | D5: 2978150 | F5: 121065668 | G5: =D5+F5 -> 124043818
A6: Napkközi felújítás | B6: 3738785 | C6: 2021 | D6: 1647042 | F6: 2091743 | G6: =D6+F6 -> 3738785
A7: TOP 3.2.1-16-BO1-2020-00163 Önkormányzati épületek energetikai korszerűsítése | B7: 30000000 | C7: 2021-2022 | F7: 571500 | G7: =D7+F7 -> 571500
A8: "Községháza energetikai felújítása Sajószögeden" c. projekt | B8: 2336800 | C8: 2021 | F8: 2336800 | G8: =D8+F8 -> 2336800
G9: =D9+F9 -> 0
G10: =D10+F10 -> 0
G11: =D11+F11 -> 0
G12: =D12+F12 -> 0
G13: =D13+F13 -> 0
G14: =D14+F14 -> 0
G15: =D15+F15 -> 0
G16: =D16+F16 -> 0
G17: =D17+F17 -> 0
G18: =D18+F18 -> 0
G19: =D19+F19 -> 0
G20: =D20+F20 -> 0
... G23: =D23+F23 -> 0
A24: ÖSSZESEN: | B24: =SUM(B5:B23) -> 206052210 | D24: =SUM(D5:D23) -> 4625192 | F24: =SUM(F5:F23) -> 126065711 | G24: =SUM(G5:G23) -> 130690903
G26: =SUM(F5,F7) -> 121637168

Sheet Z_5.sz.mell.
A1: 5. melléklet a … / 2022. ( … ) önkormányzati rendelethez
A3: Európai uniós támogatással megvalósuló projektek
A4: bevételei, kiadásai, hozzájárulások
A6: EU-s projekt neve, azonosítója: | C6: TOP 1.4.1-15-BO1-2016-00080 Óvoda és Konyha fejlesztése Sajószögeden
H7: Forintban!
A8: Források | B8: Támogatási szerződés szerinti bevételek, kiadások
B9: Módosítás utáni összes forrás, kiadás | C9: Évenkénti ütemezés
C10: =CONCATENATE(Z_TARTALOMJEGYZÉK!$A$1,". előtti forrás, kiadás") -> 2021. előtti forrás, kiadás | D10: Eredeti | E10: Módosított | F10: =CONCATENATE("Összes teljesítés ",Z_TARTALOMJEGYZÉK!$A$1,". XII.31 -ig") -> Összes teljesítés 2021. XII.31 -ig | G10: Eredeti | H10: Módosított | I10: =CONCATENATE("Összes teljesítés ",Z_TARTALOMJEGYZÉK!$A$1,". XII.31 -ig") -> Összes teljesítés 2021. XII.31 -ig
D11: =CONCATENATE(Z_TARTALOMJEGYZÉK!$A$1,". évi") -> 2021. évi | G11: =CONCATENATE(Z_TARTALOMJEGYZÉK!$A$1,". után") -> 2021. után
A12: A | B12: B=C+E+H | C12: C | D12: D | E12: E | F12: F | G12: G | H12: H | I12: I=C+F
A13: Saját erő | B13: =C13+E13+H13 -> 10124323 | C13: 10124323 | I13: =C13+F13 -> 10124323
A14: - saját erőből központi támogatás | B14: =C14+E14+H14 -> 0 | I14: =C14+F14 -> 0
A15: EU-s forrás | B15: =C15+E15+H15 -> 173389594 | C15: 165714104 | E15: 7675490 | F15: 7675490 | I15: =C15+F15 -> 173389594
A16: Társfinanszírozás | B16: =C16+E16+H16 -> 0 | I16: =C16+F16 -> 0
A17: Hitel | B17: =C17+E17+H17 -> 0 | I17: =C17+F17 -> 0
A18: Egyéb forrás | B18: =C18+E18+H18 -> 0 | I18: =C18+F18 -> 0
A19: Források összesen: | B19: =B13+SUM(B15:B18) -> 183513917 | C19: =C13+SUM(C15:C18) -> 175838427 | D19: =D13+SUM(D15:D18) -> 0 | E19: =E13+SUM(E15:E18) -> 7675490 | F19: =F13+SUM(F15:F18) -> 7675490 | G19: =G13+SUM(G15:G18) -> 0 | H19: =H13+SUM(H15:H18) -> 0 | I19: =I13+SUM(I15:I18) -> 183513917
A20: Személyi jellegű | B20: =C20+E20+H20 -> 0 | I20: =C20+F20 -> 0
A21: Beruházások, beszerzések | B21: =C21+E21+H21 -> 144248566 | C21: 135739366 | E21: 8509200 | F21: 8509200 | I21: =C21+F21 -> 144248566
A22: Szolgáltatások igénybe vétele | B22: =C22+E22+H22 -> 1751000 | C22: 1751000 | I22: =C22+F22 -> 1751000
A23: Adminisztratív költségek | B23: =C23+E23+H23 -> 0 | C23: 0 | I23: =C23+F23 -> 0
A24: Fordított ÁFA | B24: =C24+E24+H24 -> 31994841 | C24: 31994841 | I24: =C24+F24 -> 31994841
A25: Kiadások összesen: | B25: =SUM(B20:B24) -> 177994407 | C25: =SUM(C20:C24) -> 169485207 | D25: =SUM(D20:D24) -> 0 | E25: =SUM(E20:E24) -> 8509200 | F25: =SUM(F20:F24) -> 8509200 | G25: =SUM(G20:G24) -> 0 | H25: =SUM(H20:H24) -> 0 | I25: =SUM(I20:I24) -> 177994407
A30: EU-s projekt neve, azonosítója: | C30: TOP 3.2.1-16-BO1-2017-00055 Iskola energetikai korszerűsítése
H31: Forintban!
A32: Források | B32: Támogatási szerződés szerinti bevételek, kiadások
B33: =B9 -> Módosítás utáni összes forrás, kiadás | C33: Évenkénti ütemezés
C34: =CONCATENATE(Z_TARTALOMJEGYZÉK!$A$1,". előtti forrás, kiadás") -> 2021. előtti forrás, kiadás | D34: Eredeti | E34: Módosított | F34: =CONCATENATE("Összes teljesítés ",Z_TARTALOMJEGYZÉK!$A$1,". XII.31 -ig") -> Összes teljesítés 2021. XII.31 -ig | G34: Eredeti | H34: Módosított | I34: =CONCATENATE("Összes teljesítés ",Z_TARTALOMJEGYZÉK!$A$1,". XII.31 -ig") -> Összes teljesítés 2021. XII.31 -ig
D35: =CONCATENATE(Z_TARTALOMJEGYZÉK!$A$1,". évi") -> 2021. évi | G35: =CONCATENATE(Z_TARTALOMJEGYZÉK!$A$1,". után") -> 2021. után
A36: A | B36: B=C+E+H | C36: C | D36: D | E36: E | F36: F | G36: G | H36: H | I36: I=C+F
A37: Saját erő | B37: =C37+E37+H37 -> 0 | I37: =C37+F37 -> 0
A38: - saját erőből központi támogatás | B38: =C38+E38+H38 -> 0 | I38: =C38+F38 -> 0
A39: EU-s forrás | B39: =C39+E39+H39 -> 169976625 | C39: 117478820 | E39: =D39+52497805 -> 52497805 | F39: =E39 -> 52497805 | I39: =C39+F39 -> 169976625
A40: Társfinanszírozás | B40: =C40+E40+H40 -> 0 | I40: =C40+F40 -> 0
A41: Hitel | B41: =C41+E41+H41 -> 0 | I41: =C41+F41 -> 0
A42: Egyéb forrás | B42: =C42+E42+H42 -> 0 | I42: =C42+F42 -> 0
A43: Források összesen: | B43: =B37+SUM(B39:B42) -> 169976625 | C43: =C37+SUM(C39:C42) -> 117478820 | D43: =D37+SUM(D39:D42) -> 0 | E43: =E37+SUM(E39:E42) -> 52497805 | F43: =F37+SUM(F39:F42) -> 52497805 | G43: =G37+SUM(G39:G42) -> 0 | H43: =H37+SUM(H39:H42) -> 0 | I43: =I37+SUM(I39:I42) -> 169976625
A44: Személyi jellegű | B44: =C44+E44+H44 -> 0 | I44: =C44+F44 -> 0
A45: Beruházások, beszerzések | B45: =C45+E45+H45 -> 161305725 | D45: 87833480 | E45: 121637168 | F45: 121637168 | H45: 39668557 | I45: =C45+F45 -> 121637168
A46: Szolgáltatások igénybe vétele | B46: =C46+E46+H46 -> 8670900 | D46: 5930300 | E46: 1243000 | F46: 1243000 | H46: 7427900 | I46: =C46+F46 -> 1243000
A47: Adminisztratív költségek | B47: =C47+E47+H47 -> 0 | D47: 0 | I47: =C47+F47 -> 0
A48: Előleg | B48: =C48+E48+H48 -> 0 | D48: 23715040 | E48: 39668557 | F48: 39668557 | H48: -39668557 | I48: =C48+F48 -> 39668557
A49: Kiadások összesen: | B49: =SUM(B44:B48) -> 169976625 | C49: =SUM(C44:C48) -> 0 | D49: =SUM(D44:D48) -> 117478820 | E49: =SUM(E44:E48) -> 162548725 | F49: =SUM(F44:F48) -> 162548725 | G49: =SUM(G44:G48) -> 0 | H49: =SUM(H44:H48) -> 7427900 | I49: =SUM(I44:I48) -> 162548725

Sheet Z_6.1.sz.mell
B1: =CONCATENATE("6.1. melléklet ",Z_ALAPADATOK!A7," ",Z_ALAPADATOK!B7," ",Z_ALAPADATOK!C7," ",Z_ALAPADATOK!D7," ",Z_ALAPADATOK!E7," ",Z_ALAPADATOK!F7," ",Z_ALAPADATOK!G7," ",Z_ALAPADATOK!H7) -> 6.1. melléklet a … / 2022. ( … ) önkormányzati rendelethez
A2: Megnevezés | B2: =CONCATENATE(Z_ALAPADATOK!A3) -> Sajószöged Községi Önkormányzat | E2: 01
A3: Feladat megnevezése | B3: Összes bevétel, kiadás | E3: 01
E4: ='Z_4.sz.mell.'!G2 -> Forintban!
A5: Száma | B5: Kiemelt előirányzat, előirányzat megnevezése | C5: Eredeti előirányzat | D5: Módosított előirányzat | E5: =+CONCATENATE("Teljesítés",CHAR(10),LEFT(Z_ÖSSZEFÜGGÉSEK!A6,4),". XII. 31.") -> Teljesítés 2021. XII. 31.
A6: A | B6: B | C6: C | D6: D | E6: E
A7: Bevételek
A8: 1. | B8: Önkormányzat működési támogatásai (1.1.+…+.1.6.) | C8: =+C9+C10+C11+C12+C13+C14 -> 168879689 | D8: =+D9+D10+D11+D12+D13+D14 -> 192219846 | E8: =+E9+E10+E11+E12+E13+E14 -> 192219846
A9: 1.1. | B9: Helyi önkormányzatok működésének általános támogatása | C9: 57626844 | D9: 57872570 | E9: 57872570
A10: 1.2. | B10: Önkormányzatok egyes köznevelési feladatainak támogatása | C10: 51930050 | D10: 54207000 | E10: 54207000
A11: 1.3. | B11: Önkormányzatok szociális és gyermekjóléti feladatainak támogatása | C11: 54251505 | D11: 57091483 | E11: 57091483
A12: 1.4. | B12: Önkormányzatok kulturális feladatainak támogatása | C12: 5071290 | D12: 5155422 | E12: 5155422
A13: 1.5. | B13: Működési célú kvi támogatások és kiegészítő támogatások | D13: 17711650 | E13: 17711650
A14: 1.6. | B14: Elszámolásból származó bevételek | D14: 181721 | E14: 181721
A15: 2. | B15: Működési célú támogatások államháztartáson belülről (2.1.+…+.2.5.) | C15: =+C16+C17+C18+C19+C20 -> 8356200 | D15: =+D16+D17+D18+D19+D20 -> 11374380 | E15: =+E16+E17+E18+E19+E20 -> 12365299
A16: 2.1. | B16: Elvonások és befizetések bevételei
A17: 2.2. | B17: Működési célú garancia- és kezességvállalásból megtérülések
A18: 2.3. | B18: Működési célú visszatérítendő támogatások, kölcsönök visszatérülése
A19: 2.4. | B19: Működési célú visszatérítendő támogatások, kölcsönök igénybevétele
A20: 2.5. | B20: Egyéb működési célú támogatások bevételei | C20: 8356200 | D20: 11374380 | E20: 12365299
A21: 2.6. | B21: 2.5.-ből EU-s támogatás
A22: 3. | B22: Felhalmozási célú támogatások államháztartáson belülről (3.1.+…+3.5.) | C22: =+C23+C24+C25+C26+C27 -> 30000000 | D22: =+D23+D24+D25+D26+D27 -> 119719194 | E22: =+E23+E24+E25+E26+E27 -> 89719194
A23: 3.1. | B23: Felhalmozási célú önkormányzati támogatások
A24: 3.2. | B24: Felhalmozási célú garancia- és kezességvállalásból megtérülések
A25: 3.3. | B25: Felhalmozási célú visszatérítendő támogatások, kölcsönök visszatérülése
A26: 3.4. | B26: Felhalmozási célú visszatérítendő támogatások, kölcsönök igénybevétele
A27: 3.5. | B27: Egyéb felhalmozási célú támogatások bevételei | C27: 30000000 | D27: 119719194 | E27: 89719194
A28: 3.6. | B28: 3.5.-ből EU-s támogatás | C28: 30000000 | D28: 119719194 | E28: =E27 -> 89719194
A29: 4. | B29: Közhatalmi bevételek (4.1.+…+4.7.) | C29: =SUM(C30:C36) -> 212900000 | D29: =SUM(D30:D36) -> 213000000 | E29: =SUM(E30:E36) -> 223886819
A30: 4.1. | B30: ='Z_1.1.sz.mell.'!B33 -> Építményadó | C30: 3100000 | D30: 3100000 | E30: 3008321
A31: 4.2. | B31: ='Z_1.1.sz.mell.'!B34 -> Idegenforgalmi adó
A32: 4.3. | B32: ='Z_1.1.sz.mell.'!B35 -> Iparűzési adó | C32: 110000000 | D32: 110000000 | E32: 119557187
A33: 4.4. | B33: ='Z_1.1.sz.mell.'!B36 -> Talajterhelési díj | C33: 350000 | D33: 350000 | E33: 1067520
A34: 4.5. | B34: ='Z_1.1.sz.mell.'!B37 -> Gépjárműadó
A35: 4.6. | B35: ='Z_1.1.sz.mell.'!B38 -> Telekadó | C35: 99000000 | D35: 99000000 | E35: 99759980
A36: 4.7. | B36: Egyéb közhatalmi bevételek | C36: 450000 | D36: 550000 | E36: 493811
A37: 5. | B37: Működési bevételek (5.1.+…+ 5.11.) | C37: =SUM(C38:C48) -> 37149491 | D37: =SUM(D38:D48) -> 74776978 | E37: =SUM(E38:E48) -> 66865534
A38: 5.1. | B38: Készletértékesítés ellenértéke
A39: 5.2. | B39: Szolgáltatások ellenértéke | C39: 2000000 | D39: 3254089 | E39: 2583413
A40: 5.3. | B40: Közvetített szolgáltatások értéke | C40: 1500000 | D40: 2854860 | E40: 2801657
A41: 5.4. | B41: Tulajdonosi bevételek | C41: 14000000 | D41: 36874754 | E41: 33074197
A42: 5.5. | B42: Ellátási díjak | C42: 11911502 | D42: 13720021 | E42: 11876321
A43: 5.6. | B43: Kiszámlázott általános forgalmi adó | C43: 7737989 | D43: 15251481 | E43: 13708512
A44: 5.7. | B44: Általános forgalmi adó visszatérítése | D44: 2401000 | E44: 2401000
A45: 5.8. | B45: Kamatbevételek és más nyereségjellegű bevételek
A46: 5.9. | B46: Egyéb pénzügyi műveletek bevételei | D46: 42 | E46: 61
A47: 5.10. | B47: Biztosító által fizetett kártérítés | D47: 350000 | E47: 350000
A48: 5.11. | B48: Egyéb működési bevételek | D48: 70731 | E48: 70373
A49: 6. | B49: Felhalmozási bevételek (6.1.+…+6.5.) | C49: =SUM(C50:C54) -> 1267716 | D49: =SUM(D50:D54) -> 26385826 | E49: =SUM(E50:E54) -> 11385826
A50: 6.1. | B50: Immateriális javak értékesítése
A51: 6.2. | B51: Ingatlanok értékesítése | C51: 1267716 | D51: 6385826 | E51: 6385826
A52: 6.3. | B52: Egyéb tárgyi eszközök értékesítése
A53: 6.4. | B53: Részesedések értékesítése | D53: 20000000 | E53: 5000000
A54: 6.5. | B54: Részesedések megszűnéséhez kapcsolódó bevételek
A55: 7. | B55: Működési célú átvett pénzeszközök (7.1. + … + 7.3.) | C55: =SUM(C56:C58) -> 0 | D55: =SUM(D56:D58) -> 0 | E55: =SUM(E56:E58) -> 0
A56: 7.1. | B56: Működési célú garancia- és kezességvállalásból megtérülések ÁH-n kívülről
A57: 7.2. | B57: Működési célú visszatérítendő támogatások, kölcsönök visszatér. ÁH-n kívülről
A58: 7.3. | B58: Egyéb működési célú átvett pénzeszköz
A59: 7.4. | B59: 7.3.-ból EU-s támogatás (közvetlen)
A60: 8. | B60: Felhalmozási célú átvett pénzeszközök (8.1.+8.2.+8.3.) | C60: =SUM(C61:C63) -> 1649641 | D60: =SUM(D61:D63) -> 1923842 | E60: =SUM(E61:E63) -> 2042980
A61: 8.1. | B61: Felhalm. célú garancia- és kezességvállalásból megtérülések ÁH-n kívülről
A62: 8.2. | B62: Felhalm. célú visszatérítendő támogatások, kölcsönök visszatér. ÁH-n kívülről | C62: 1649641 | D62: 1923842 | E62: 2042980
A63: 8.3. | B63: Egyéb felhalmozási célú átvett pénzeszköz
A64: 8.4. | B64: 8.3.-ból EU-s támogatás (közvetlen)
A65: 9. | B65: KÖLTSÉGVETÉSI BEVÉTELEK ÖSSZESEN: (1+…+8) | C65: =+C8+C15+C22+C29+C37+C49+C55+C60 -> 460202737 | D65: =+D8+D15+D22+D29+D37+D49+D55+D60 -> 639400066 | E65: =+E8+E15+E22+E29+E37+E49+E55+E60 -> 598485498
A66: 10. | B66: Hitel-, kölcsönfelvétel államháztartáson kívülről (10.1.+10.3.) | C66: =SUM(C67:C69) -> 0 | D66: =SUM(D67:D69) -> 0 | E66: =SUM(E67:E69) -> 0
A67: 10.1. | B67: Hosszú lejáratú hitelek, kölcsönök felvétele
A68: 10.2. | B68: Likviditási célú hitelek, kölcsönök felvétele pénzügyi vállalkozástól
A69: 10.3. | B69: Rövid lejáratú hitelek, kölcsönök felvétele
A70: 11. | B70: Belföldi értékpapírok bevételei (11.1. +…+ 11.4.) | C70: =SUM(C71:C74) -> 20000000 | D70: =SUM(D71:D74) -> 0 | E70: =SUM(E71:E74) -> 0
A71: 11.1. | B71: Forgatási célú belföldi értékpapírok beváltása, értékesítése | C71: 20000000
A72: 11.2. | B72: Éven belüli lejáratú belföldi értékpapírok kibocsátása
A73: 11.3. | B73: Befektetési célú belföldi értékpapírok beváltása, értékesítése
A74: 11.4. | B74: Éven túli lejáratú belföldi értékpapírok kibocsátása
A75: 12. | B75: Maradvány igénybevétele (12.1. + 12.2.) | C75: =SUM(C76:C77) -> 160139572 | D75: =SUM(D76:D77) -> 162476649 | E75: =SUM(E76:E77) -> 162476649
A76: 12.1. | B76: Előző év költségvetési maradványának igénybevétele | C76: 160139572 | D76: 162476649 | E76: 162476649
A77: 12.2. | B77: Előző év vállalkozási maradványának igénybevétele
A78: 13. | B78: Belföldi finanszírozás bevételei (13.1. + … + 13.3.) | C78: =SUM(C79:C81) -> 0 | D78: =SUM(D79:D81) -> 554674 | E78: =SUM(E79:E81) -> 7640915
A79: 13.1. | B79: Államháztartáson belüli megelőlegezések | D79: 554674 | E79: 7640915
A80: 13.2. | B80: Államháztartáson belüli megelőlegezések törlesztése
A81: 13.3. | B81: Lekötött betétek megszüntetése
A82: 14. | B82: Külföldi finanszírozás bevételei (14.1.+…14.4.) | C82: =SUM(C83:C86) -> 0 | D82: =SUM(D83:D86) -> 0 | E82: =SUM(E83:E86) -> 0
A83: 14.1. | B83: Forgatási célú külföldi értékpapírok beváltása, értékesítése
A84: 14.2. | B84: Befektetési célú külföldi értékpapírok beváltása, értékesítése
A85: 14.3. | B85: Külföldi értékpapírok kibocsátása
A86: 14.4. | B86: Külföldi hitelek, kölcsönök felvétele
A87: 15. | B87: Váltóbevételek
A88: 16. | B88: Adóssághoz nem kapcsolódó származékos ügyletek bevételei
A89: 17. | B89: FINANSZÍROZÁSI BEVÉTELEK ÖSSZESEN: (10. + … +16.) | C89: =+C66+C70+C75+C78+C82+C88+C87 -> 180139572 | D89: =+D66+D70+D75+D78+D82+D88+D87 -> 163031323 | E89: =+E66+E70+E75+E78+E82+E88+E87 -> 170117564
A90: 18. | B90: BEVÉTELEK ÖSSZESEN: (9+17) | C90: =+C65+C89 -> 640342309 | D90: =+D65+D89 -> 802431389 | E90: =+E65+E89 -> 768603062
A92: Kiadások
A93: 1. | B93: Működési költségvetés kiadásai (1.1+…+1.5+1.18.) | C93: =+C94+C95+C96+C97+C98+C111 -> 269676314 | D93: =+D94+D95+D96+D97+D98+D111 -> 293587934 | E93: =+E94+E95+E96+E97+E98+E111 -> 265135093
A94: 1.1. | B94: Személyi juttatások | C94: 36898383 | D94: 41846949 | E94: 39527842
A95: 1.2. | B95: Munkaadókat terhelő járulékok és szociális hozzájárulási adó | C95: 7020540 | D95: 7720540 | E95: 5544614
A96: 1.3. | B96: Dologi kiadások | C96: 118896333 | D96: 132815675 | E96: 121922179
A97: 1.4. | B97: Ellátottak pénzbeli juttatásai | C97: 12550000 | D97: 12550000 | E97: 10715288
A98: 1.5 | B98: Egyéb működési célú kiadások | C98: =SUM(C99:C110) -> 84311058 | D98: 91431807 | E98: 87425170
A99: 1.6. | B99: az 1.5-ből: - Előző évi elszámolásból származó befizetések | D99: 873299 | E99: 873299
A100: 1.7. | B100: - Törvényi előíráson alapuló befizetések | C100: 18547030 | D100: 18547030 | E100: 18547030
A101: 1.8. | B101: - Elvonások és befizetések | D101: 0
...

Sheet Z_6.1.1.sz.mell
B1: =CONCATENATE("6.1.1. melléklet ",Z_ALAPADATOK!A7," ",Z_ALAPADATOK!B7," ",Z_ALAPADATOK!C7," ",Z_ALAPADATOK!D7," ",Z_ALAPADATOK!E7," ",Z_ALAPADATOK!F7," ",Z_ALAPADATOK!G7," ",Z_ALAPADATOK!H7) -> 6.1.1. melléklet a … / 2022. ( … ) önkormányzati rendelethez
A2: Megnevezés | B2: =CONCATENATE(Z_ALAPADATOK!A3) -> Sajószöged Községi Önkormányzat | E2: 01
A3: Feladat megnevezése | B3: Kötelező feladatok bevételei, kiadásai | E3: 02
E4: ='Z_6.1.sz.mell'!E4 -> Forintban!
A5: Száma | B5: Kiemelt előirányzat, előirányzat megnevezése | C5: Eredeti előirányzat | D5: Módosított előirányzat | E5: =CONCATENATE('Z_6.1.sz.mell'!E5) -> Teljesítés 2021. XII. 31.
A6: A | B6: B | C6: C | D6: D | E6: E
A7: Bevételek
A8: 1. | B8: Önkormányzat működési támogatásai (1.1.+…+.1.6.) | C8: ='Z_6.1.sz.mell'!C8 -> 168879689 | D8: ='Z_6.1.sz.mell'!D8 -> 192219846 | E8: ='Z_6.1.sz.mell'!E8 -> 192219846
A9: 1.1. | B9: Helyi önkormányzatok működésének általános támogatása | C9: ='Z_6.1.sz.mell'!C9 -> 57626844 | D9: ='Z_6.1.sz.mell'!D9 -> 57872570 | E9: ='Z_6.1.sz.mell'!E9 -> 57872570
A10: 1.2. | B10: Önkormányzatok egyes köznevelési feladatainak támogatása | C10: ='Z_6.1.sz.mell'!C10 -> 51930050 | D10: ='Z_6.1.sz.mell'!D10 -> 54207000 | E10: ='Z_6.1.sz.mell'!E10 -> 54207000
A11: 1.3. | B11: Önkormányzatok szociális és gyermekjóléti feladatainak támogatása | C11: ='Z_6.1.sz.mell'!C11 -> 54251505 | D11: ='Z_6.1.sz.mell'!D11 -> 57091483 | E11: ='Z_6.1.sz.mell'!E11 -> 57091483
A12: 1.4. | B12: Önkormányzatok kulturális feladatainak támogatása | C12: ='Z_6.1.sz.mell'!C12 -> 5071290 | D12: ='Z_6.1.sz.mell'!D12 -> 5155422 | E12: ='Z_6.1.sz.mell'!E12 -> 5155422
A13: 1.5. | B13: Működési célú kvi támogatások és kiegészítő támogatások | C13: ='Z_6.1.sz.mell'!C13 -> 0 | D13: ='Z_6.1.sz.mell'!D13 -> 17711650 | E13: ='Z_6.1.sz.mell'!E13 -> 17711650
A14: 1.6. | B14: Elszámolásból származó bevételek | C14: ='Z_6.1.sz.mell'!C14 -> 0 | D14: ='Z_6.1.sz.mell'!D14 -> 181721 | E14: ='Z_6.1.sz.mell'!E14 -> 181721
A15: 2. | B15: Működési célú támogatások államháztartáson belülről (2.1.+…+.2.5.) | C15: ='Z_6.1.sz.mell'!C15 -> 8356200 | D15: ='Z_6.1.sz.mell'!D15 -> 11374380 | E15: ='Z_6.1.sz.mell'!E15 -> 12365299
A16: 2.1. | B16: Elvonások és befizetések bevételei | C16: ='Z_6.1.sz.mell'!C16 -> 0 | D16: ='Z_6.1.sz.mell'!D16 -> 0 | E16: ='Z_6.1.sz.mell'!E16 -> 0
A17: 2.2. | B17: Működési célú garancia- és kezességvállalásból megtérülések | C17: ='Z_6.1.sz.mell'!C17 -> 0 | D17: ='Z_6.1.sz.mell'!D17 -> 0 | E17: ='Z_6.1.sz.mell'!E17 -> 0
A18: 2.3. | B18: Működési célú visszatérítendő támogatások, kölcsönök visszatérülése | C18: ='Z_6.1.sz.mell'!C18 -> 0 | D18: ='Z_6.1.sz.mell'!D18 -> 0 | E18: ='Z_6.1.sz.mell'!E18 -> 0
A19: 2.4. | B19: Működési célú visszatérítendő támogatások, kölcsönök igénybevétele | C19: ='Z_6.1.sz.mell'!C19 -> 0 | D19: ='Z_6.1.sz.mell'!D19 -> 0 | E19: ='Z_6.1.sz.mell'!E19 -> 0
... A29: 4. | B29: Közhatalmi bevételek (4.1.+…+4.7.) | C29: ='Z_6.1.sz.mell'!C29 -> 212900000 | D29: ='Z_6.1.sz.mell'!D29 -> 213000000 | E29: ='Z_6.1.sz.mell'!E29 -> 223886819
A30: 4.1. | B30: ='Z_1.1.sz.mell.'!B33 -> Építményadó | C30: ='Z_6.1.sz.mell'!C30 -> 3100000 | D30: ='Z_6.1.sz.mell'!D30 -> 3100000 | E30: ='Z_6.1.sz.mell'!E30 -> 3008321
A31: 4.2. | B31: ='Z_1.1.sz.mell.'!B34 -> Idegenforgalmi adó | C31: ='Z_6.1.sz.mell'!C31 -> 0 | D31: ='Z_6.1.sz.mell'!D31 -> 0 | E31: ='Z_6.1.sz.mell'!E31 -> 0
A32: 4.3. | B32: ='Z_1.1.sz.mell.'!B35 -> Iparűzési adó | C32: ='Z_6.1.sz.mell'!C32 -> 110000000 | D32: ='Z_6.1.sz.mell'!D32 -> 110000000 | E32: ='Z_6.1.sz.mell'!E32 -> 119557187
A33: 4.4. | B33: ='Z_1.1.sz.mell.'!B36 -> Talajterhelési díj | C33: ='Z_6.1.sz.mell'!C33 -> 350000 | D33: ='Z_6.1.sz.mell'!D33 -> 350000 | E33: ='Z_6.1.sz.mell'!E33 -> 1067520
A34: 4.5. | B34: ='Z_1.1.sz.mell.'!B37 -> Gépjárműadó | C34: ='Z_6.1.sz.mell'!C34 -> 0 | D34: ='Z_6.1.sz.mell'!D34 -> 0 | E34: ='Z_6.1.sz.mell'!E34 -> 0
A35: 4.6. | B35: ='Z_1.1.sz.mell.'!B38 -> Telekadó | C35: ='Z_6.1.sz.mell'!C35 -> 99000000 | D35: ='Z_6.1.sz.mell'!D35 -> 99000000 | E35: ='Z_6.1.sz.mell'!E35 -> 99759980
A36: 4.7. | B36: ='Z_1.1.sz.mell.'!B39 -> Egyéb közhatalmi bevételek | C36: ='Z_6.1.sz.mell'!C36 -> 450000 | D36: ='Z_6.1.sz.mell'!D36 -> 550000 | E36: ='Z_6.1.sz.mell'!E36 -> 493811
A37: 5. | B37: Működési bevételek (5.1.+…+ 5.11.) | C37: ='Z_6.1.sz.mell'!C37 -> 37149491 | D37: ='Z_6.1.sz.mell'!D37 -> 74776978 | E37: ='Z_6.1.sz.mell'!E37 -> 66865534
A38: 5.1. | B38: Készletértékesítés ellenértéke | C38: ='Z_6.1.sz.mell'!C38 -> 0 | D38: ='Z_6.1.sz.mell'!D38 -> 0 | E38: ='Z_6.1.sz.mell'!E38 -> 0
A39: 5.2. | B39: Szolgáltatások ellenértéke | C39: ='Z_6.1.sz.mell'!C39 -> 2000000 | D39: ='Z_6.1.sz.mell'!D39 -> 3254089 | E39: ='Z_6.1.sz.mell'!E39 -> 2583413
A40: 5.3. | B40: Közvetített szolgáltatások értéke | C40: ='Z_6.1.sz.mell'!C40 -> 1500000 | D40: ='Z_6.1.sz.mell'!D40 -> 2854860 | E40: ='Z_6.1.sz.mell'!E40 -> 2801657
A41: 5.4. | B41: Tulajdonosi bevételek | C41: ='Z_6.1.sz.mell'!C41 -> 14000000 | D41: ='Z_6.1.sz.mell'!D41 -> 36874754 | E41: ='Z_6.1.sz.mell'!E41 -> 33074197
A42: 5.5. | B42: Ellátási díjak | C42: ='Z_6.1.sz.mell'!C42 -> 11911502 | D42: ='Z_6.1.sz.mell'!D42 -> 13720021 | E42: ='Z_6.1.sz.mell'!E42 -> 11876321
A43: 5.6. | B43: Kiszámlázott általános forgalmi adó | C43: ='Z_6.1.sz.mell'!C43 -> 7737989 | D43: ='Z_6.1.sz.mell'!D43 -> 15251481 | E43: ='Z_6.1.sz.mell'!E43 -> 13708512
A44: 5.7. | B44: Általános forgalmi adó visszatérítése | C44: ='Z_6.1.sz.mell'!C44 -> 0 | D44: ='Z_6.1.sz.mell'!D44 -> 2401000 | E44: ='Z_6.1.sz.mell'!E44 -> 2401000
A45: 5.8. | B45: Kamatbevételek és más nyereségjellegű bevételek | C45: ='Z_6.1.sz.mell'!C45 -> 0 | D45: ='Z_6.1.sz.mell'!D45 -> 0 | E45: ='Z_6.1.sz.mell'!E45 -> 0
A46: 5.9. | B46: Egyéb pénzügyi műveletek bevételei | C46: ='Z_6.1.sz.mell'!C46 -> 0 | D46: ='Z_6.1.sz.mell'!D46 -> 42 | E46: ='Z_6.1.sz.mell'!E46 -> 61
A47: 5.10. | B47: Biztosító által fizetett kártérítés | C47: ='Z_6.1.sz.mell'!C47 -> 0 | D47: ='Z_6.1.sz.mell'!D47 -> 350000 | E47: ='Z_6.1.sz.mell'!E47 -> 350000
A48: 5.11. | B48: Egyéb működési bevételek | C48: ='Z_6.1.sz.mell'!C48 -> 0 | D48: ='Z_6.1.sz.mell'!D48 -> 70731 | E48: ='Z_6.1.sz.mell'!E48 -> 70373
... A90: 18. | B90: BEVÉTELEK ÖSSZESEN: (9+17) | C90: ='Z_6.1.sz.mell'!C90 -> 640342309 | D90: ='Z_6.1.sz.mell'!D90 -> 802431389 | E90: ='Z_6.1.sz.mell'!E90 -> 768603062
A92: Kiadások
A93: 1. | B93: Működési költségvetés kiadásai (1.1+…+1.5+1.18.) | C93: ='Z_6.1.sz.mell'!C93 -> 269676314 | D93: ='Z_6.1.sz.mell'!D93 -> 293587934 | E93: ='Z_6.1.sz.mell'!E93 -> 265135093
A94: 1.1. | B94: Személyi juttatások | C94: ='Z_6.1.sz.mell'!C94 -> 36898383 | D94: ='Z_6.1.sz.mell'!D94 -> 41846949 | E94: ='Z_6.1.sz.mell'!E94 -> 39527842
A95: 1.2. | B95: Munkaadókat terhelő járulékok és szociális hozzájárulási adó | C95: ='Z_6.1.sz.mell'!C95 -> 7020540 | D95: ='Z_6.1.sz.mell'!D95 -> 7720540 | E95: ='Z_6.1.sz.mell'!E95 -> 5544614
A96: 1.3. | B96: Dologi kiadások | C96: ='Z_6.1.sz.mell'!C96 -> 118896333 | D96: ='Z_6.1.sz.mell'!D96 -> 132815675 | E96: ='Z_6.1.sz.mell'!E96 -> 121922179
A97: 1.4. | B97: Ellátottak pénzbeli juttatásai | C97: ='Z_6.1.sz.mell'!C97 -> 12550000 | D97: ='Z_6.1.sz.mell'!D97 -> 12550000 | E97: ='Z_6.1.sz.mell'!E97 -> 10715288
A98: 1.5 | B98: Egyéb működési célú kiadások | C98: ='Z_6.1.sz.mell'!C98 -> 84311058 | D98: ='Z_6.1.sz.mell'!D98 -> 91431807 | E98: ='Z_6.1.sz.mell'!E98 -> 87425170
A99: 1.6. | B99: az 1.5-ből: - Előző évi elszámolásból származó befizetések | C99: ='Z_6.1.sz.mell'!C99 -> 0 | D99: ='Z_6.1.sz.mell'!D99 -> 873299 | E99: ='Z_6.1.sz.mell'!E99 -> 873299
A100: 1.7. | B100: - Törvényi előíráson alapuló befizetések | C100: ='Z_6.1.sz.mell'!C100 -> 18547030 | D100: ='Z_6.1.sz.mell'!D100 -> 18547030 | E100: ='Z_6.1.sz.mell'!E100 -> 18547030
A101: 1.8. | B101: - Elvonások és befizetések | C101: ='Z_6.1.sz.mell'!C101 -> 0 | D101: ='Z_6.1.sz.mell'!D101 -> 0 | E101: ='Z_6.1.sz.mell'!E101 -> 0
A102: 1.9. | B102: - Garancia- és kezességvállalásból kifizetés ÁH-n belülre | C102: ='Z_6.1.sz.mell'!C102 -> 0 | D102: ='Z_6.1.sz.mell'!D102 -> 0 | E102: ='Z_6.1.sz.mell'!E102 -> 0
A103: 1.10. | B103: -Visszatérítendő támogatások, kölcsönök nyújtása ÁH-n belülre | C103: ='Z_6.1.sz.mell'!C103 -> 0 | D103: ='Z_6.1.sz.mell'!D103 -> 0 | E103: ='Z_6.1.sz.mell'!E103 -> 0
A104: 1.11. | B104: - Visszatérítendő támogatások, kölcsönök törlesztése ÁH-n belülre | C104: ='Z_6.1.sz.mell'!C104 -> 0 | D104: ='Z_6.1.sz.mell'!D104 -> 0 | E104: ='Z_6.1.sz.mell'!E104 -> 0
... A155: 11. | B155: KIADÁSOK ÖSSZESEN: (3.+10.) | C155: ='Z_6.1.sz.mell'!C155 -> 640342309 | D155: ='Z_6.1.sz.mell'!D155 -> 802431389 | E155: ='Z_6.1.sz.mell'!E155 -> 659538412
C156: =C90-C155 -> 0 | D156: =D90-D155 -> 0
A157: Tényleges állományi létszám előirányzat (fő) | C157: ='Z_6.1.sz.mell'!C157 -> 15 | D157: ='Z_6.1.sz.mell'!D157 -> 15 | E157: ='Z_6.1.sz.mell'!E157 -> 16
A158: Közfoglalkoztatottak tényleges állományi létszáma (fő) | C158: ='Z_6.1.sz.mell'!C158 -> 2 | D158: ='Z_6.1.sz.mell'!D158 -> 2 | E158: ='Z_6.1.sz.mell'!E158 -> 2

Sheet Z_6.1.2.sz.mell
E1: =CONCATENATE("6.1.2. melléklet ",Z_ALAPADATOK!A7," ",Z_ALAPADATOK!B7," ",Z_ALAPADATOK!C7," ",Z_ALAPADATOK!D7," ",Z_ALAPADATOK!E7," ",Z_ALAPADATOK!F7," ",Z_ALAPADATOK!G7," ",Z_ALAPADATOK!H7) -> 6.1.2. melléklet a … / 2022. ( … ) önkormányzati rendelethez
A2: Megnevezés | B2: =CONCATENATE(Z_ALAPADATOK!A3) -> Sajószöged Községi Önkormányzat | E2: 01
A3: Feladat megnevezése | B3: Önként vállalt feladatok bevételei, kiadásai | E3: 02
E4: ='Z_6.1.1.sz.mell'!E4 -> Forintban!
A5: Száma | B5: Kiemelt előirányzat, előirányzat megnevezése | C5: Eredeti előirányzat | D5: Módosított előirányzat | E5: =CONCATENATE('Z_6.1.1.sz.mell'!E5) -> Teljesítés 2021. XII. 31.
A6: A | B6: B | C6: C | D6: D | E6: E
A7: Bevételek
A8: 1. | B8: Önkormányzat működési támogatásai (1.1.+…+.1.6.) | C8: =+C9+C10+C11+C12+C13+C14 -> 0 | D8: =+D9+D10+D11+D12+D13+D14 -> 0 | E8: =+E9+E10+E11+E12+E13+E14 -> 0
A9: 1.1. | B9: Helyi önkormányzatok működésének általános támogatása
A10: 1.2. | B10: Önkormányzatok egyes köznevelési feladatainak támogatása
A11: 1.3. | B11: Önkormányzatok szociális és gyermekjóléti feladatainak támogatása
A12: 1.4. | B12: Önkormányzatok kulturális feladatainak támogatása
A13: 1.5. | B13: Működési célú kvi támogatások és kiegészítő támogatások
A14: 1.6. | B14: Elszámolásból származó bevételek
A15: 2. | B15: Működési célú támogatások államháztartáson belülről (2.1.+…+.2.5.) | C15: =+C16+C17+C18+C19+C20 -> 0 | D15: =+D16+D17+D18+D19+D20 -> 0 | E15: =+E16+E17+E18+E19+E20 -> 0
A16: 2.1. | B16: Elvonások és befizetések bevételei
A17: 2.2. | B17: Működési célú garancia- és kezességvállalásból megtérülések
A18: 2.3. | B18: Működési célú visszatérítendő támogatások, kölcsönök visszatérülése
A19: 2.4. | B19: Működési célú visszatérítendő támogatások, kölcsönök igénybevétele
A20: 2.5. | B20: Egyéb működési célú támogatások bevételei
A21: 2.6. | B21: 2.5.-ből EU-s támogatás
A22: 3. | B22: Felhalmozási célú támogatások államháztartáson belülről (3.1.+…+3.5.) | C22: =+C23+C24+C25+C26+C27 -> 0 | D22: =+D23+D24+D25+D26+D27 -> 0 | E22: =+E23+E24+E25+E26+E27 -> 0
A23: 3.1. | B23: Felhalmozási célú önkormányzati támogatások
A24: 3.2. | B24: Felhalmozási célú garancia- és kezességvállalásból megtérülések
A25: 3.3. | B25: Felhalmozási célú visszatérítendő támogatások, kölcsönök visszatérülése
A26: 3.4. | B26: Felhalmozási célú visszatérítendő támogatások, kölcsönök igénybevétele
A27: 3.5. | B27: Egyéb felhalmozási célú támogatások bevételei
A28: 3.6. | B28: 3.5.-ből EU-s támogatás
A29: 4. | B29: Közhatalmi bevételek (4.1.+…+4.7.) | C29: =SUM(C30:C36) -> 0 | D29: =SUM(D30:D36) -> 0 | E29: =SUM(E30:E36) -> 0
A30: 4.1. | B30: ='Z_1.1.sz.mell.'!B33 -> Építményadó
A31: 4.2. | B31: ='Z_1.1.sz.mell.'!B34 -> Idegenforgalmi adó
A32: 4.3. | B32: ='Z_1.1.sz.mell.'!B35 -> Iparűzési adó
A33: 4.4. | B33: ='Z_1.1.sz.mell.'!B36 -> Talajterhelési díj
A34: 4.5. | B34: ='Z_1.1.sz.mell.'!B37 -> Gépjárműadó
A35: 4.6. | B35: ='Z_1.1.sz.mell.'!B38 -> Telekadó
A36: 4.7. | B36: ='Z_1.1.sz.mell.'!B39 -> Egyéb közhatalmi bevételek
A37: 5. | B37: Működési bevételek (5.1.+…+ 5.11.) | C37: =SUM(C38:C48) -> 0 | D37: =SUM(D38:D48) -> 0 | E37: =SUM(E38:E48) -> 0
A38: 5.1. | B38: Készletértékesítés ellenértéke
A39: 5.2. | B39: Szolgáltatások ellenértéke
A40: 5.3. | B40: Közvetített szolgáltatások értéke
A41: 5.4. | B41: Tulajdonosi bevételek
A42: 5.5. | B42: Ellátási díjak
A43: 5.6. | B43: Kiszámlázott általános forgalmi adó
A44: 5.7. | B44: Általános forgalmi adó visszatérítése
A45: 5.8. | B45: Kamatbevételek és más nyereségjellegű bevételek
A46: 5.9. | B46: Egyéb pénzügyi műveletek bevételei
A47: 5.10. | B47: Biztosító által fizetett kártérítés
A48: 5.11. | B48: Egyéb működési bevételek
A49: 6. | B49: Felhalmozási bevételek (6.1.+…+6.5.) | C49: =SUM(C50:C54) -> 0 | D49: =SUM(D50:D54) -> 0 | E49: =SUM(E50:E54) -> 0
A50: 6.1. | B50: Immateriális javak értékesítése
A51: 6.2. | B51: Ingatlanok értékesítése
A52: 6.3. | B52: Egyéb tárgyi eszközök értékesítése
A53: 6.4. | B53: Részesedések értékesítése
A54: 6.5. | B54: Részesedések megszűnéséhez kapcsolódó bevételek
A55: 7. | B55: Működési célú átvett pénzeszközök (7.1. + … + 7.3.) | C55: =SUM(C56:C58) -> 0 | D55: =SUM(D56:D58) -> 0 | E55: =SUM(E56:E58) -> 0
A56: 7.1. | B56: Működési célú garancia- és kezességvállalásból megtérülések ÁH-n kívülről
A57: 7.2. | B57: Működési célú visszatérítendő támogatások, kölcsönök visszatér. ÁH-n kívülről
A58: 7.3. | B58: Egyéb működési célú átvett pénzeszköz
A59: 7.4. | B59: 7.3.-ból EU-s támogatás (közvetlen)
A60: 8. | B60: Felhalmozási célú átvett pénzeszközök (8.1.+8.2.+8.3.) | C60: =SUM(C61:C63) -> 0 | D60: =SUM(D61:D63) -> 0 | E60: =SUM(E61:E63) -> 0
A61: 8.1. | B61: Felhalm. célú garancia- és kezességvállalásból megtérülések ÁH-n kívülről
A62: 8.2. | B62: Felhalm. célú visszatérítendő támogatások, kölcsönök visszatér. ÁH-n kívülről
A63: 8.3. | B63: Egyéb felhalmozási célú átvett pénzeszköz
A64: 8.4. | B64: 8.3.-ból EU-s támogatás (közvetlen)
A65: 9. | B65: KÖLTSÉGVETÉSI BEVÉTELEK ÖSSZESEN: (1+…+8) | C65: =+C8+C15+C22+C29+C37+C49+C55+C60 -> 0 | D65: =+D8+D15+D22+D29+D37+D49+D55+D60 -> 0 | E65: =+E8+E15+E22+E29+E37+E49+E55+E60 -> 0
A66: 10. | B66: Hitel-, kölcsönfelvétel államháztartáson kívülről (10.1.+10.3.) | C66: =SUM(C67:C69) -> 0 | D66: =SUM(D67:D69) -> 0 | E66: =SUM(E67:E69) -> 0
A67: 10.1. | B67: Hosszú lejáratú hitelek, kölcsönök felvétele
A68: 10.2. | B68: Likviditási célú hitelek, kölcsönök felvétele pénzügyi vállalkozástól
A69: 10.3. | B69: Rövid lejáratú hitelek, kölcsönök felvétele
A70: 11. | B70: Belföldi értékpapírok bevételei (11.1. +…+ 11.4.) | C70: =SUM(C71:C74) -> 0 | D70: =SUM(D71:D74) -> 0 | E70: =SUM(E71:E74) -> 0
A71: 11.1. | B71: Forgatási célú belföldi értékpapírok beváltása, értékesítése
A72: 11.2. | B72: Éven belüli lejáratú belföldi értékpapírok kibocsátása
A73: 11.3. | B73: Befektetési célú belföldi értékpapírok beváltása, értékesítése
A74: 11.4. | B74: Éven túli lejáratú belföldi értékpapírok kibocsátása
A75: 12. | B75: Maradvány igénybevétele (12.1. + 12.2.) | C75: =SUM(C76:C77) -> 0 | D75: =SUM(D76:D77) -> 0 | E75: =SUM(E76:E77) -> 0
A76: 12.1. | B76: Előző év költségvetési maradványának igénybevétele
A77: 12.2. | B77: Előző év vállalkozási maradványának igénybevétele
A78: 13. | B78: Belföldi finanszírozás bevételei (13.1. + … + 13.3.) | C78: =SUM(C79:C81) -> 0 | D78: =SUM(D79:D81) -> 0 | E78: =SUM(E79:E81) -> 0
A79: 13.1. | B79: Államháztartáson belüli megelőlegezések
A80: 13.2. | B80: Államháztartáson belüli megelőlegezések törlesztése
A81: 13.3. | B81: Lekötött betétek megszüntetése
A82: 14. | B82: Külföldi finanszírozás bevételei (14.1.+…14.4.) | C82: =SUM(C83:C86) -> 0 | D82: =SUM(D83:D86) -> 0 | E82: =SUM(E83:E86) -> 0
A83: 14.1. | B83: Forgatási célú külföldi értékpapírok beváltása, értékesítése
A84: 14.2. | B84: Befektetési célú külföldi értékpapírok beváltása, értékesítése
A85: 14.3. | B85: Külföldi értékpapírok kibocsátása
A86: 14.4. | B86: Külföldi hitelek, kölcsönök felvétele
A87: 15. | B87: Váltóbevételek
A88: 16. | B88: Adóssághoz nem kapcsolódó származékos ügyletek bevételei
A89: 17. | B89: FINANSZÍROZÁSI BEVÉTELEK ÖSSZESEN: (10. + … +16.) | C89: =+C66+C70+C75+C78+C82+C88+C87 -> 0 | D89: =+D66+D70+D75+D78+D82+D88+D87 -> 0 | E89: =+E66+E70+E75+E78+E82+E88+E87 -> 0
A90: 18. | B90: BEVÉTELEK ÖSSZESEN: (9+17) | C90: =+C65+C89 -> 0 | D90: =+D65+D89 -> 0 | E90: =+E65+E89 -> 0
A92: Kiadások
A93: 1. | B93: Működési költségvetés kiadásai (1.1+…+1.5+1.18.) | C93: =+C94+C95+C96+C97+C98+C111 -> 0 | D93: =+D94+D95+D96+D97+D98+D111 -> 0 | E93: =+E94+E95+E96+E97+E98+E111 -> 0
A94: 1.1. | B94: Személyi juttatások
A95: 1.2. | B95: Munkaadókat terhelő járulékok és szociális hozzájárulási adó
A96: 1.3. | B96: Dologi kiadások
A97: 1.4. | B97: Ellátottak pénzbeli juttatásai
A98: 1.5 | B98: Egyéb működési célú kiadások
A99: 1.6. | B99: az 1.5-ből: - Előző évi elszámolásból származó befizetések
A100: 1.7. | B100: - Törvényi előíráson alapuló befizetések
A101: 1.8. | B101: - Elvonások és befizetések
...

Sheet Z_6.1.3.sz.mell
B1: =CONCATENATE("6.1.3. melléklet ",Z_ALAPADATOK!A7," ",Z_ALAPADATOK!B7," ",Z_ALAPADATOK!C7," ",Z_ALAPADATOK!D7," ",Z_ALAPADATOK!E7," ",Z_ALAPADATOK!F7," ",Z_ALAPADATOK!G7," ",Z_ALAPADATOK!H7) -> 6.1.3. melléklet a … / 2022. ( … ) önkormányzati rendelethez
A2: Megnevezés | B2: =CONCATENATE(Z_ALAPADATOK!A3) -> Sajószöged Községi Önkormányzat | E2: 01
A3: Feladat megnevezése | B3: Államigazgatási feladatok bevételei, kiadásai | E3: 02
E4: ='Z_6.1.2.sz.mell'!E4 -> Forintban!
A5: Száma | B5: Kiemelt előirányzat, előirányzat megnevezése | C5: Eredeti előirányzat | D5: Módosított előirányzat | E5: =CONCATENATE('Z_6.1.2.sz.mell'!E5) -> Teljesítés 2021. XII. 31.
A6: A | B6: B | C6: C | D6: D | E6: E
A7: Bevételek
A8: 1. | B8: Önkormányzat működési támogatásai (1.1.+…+.1.6.) | C8: =+C9+C10+C11+C12+C13+C14 -> 0 | D8: =+D9+D10+D11+D12+D13+D14 -> 0 | E8: =+E9+E10+E11+E12+E13+E14 -> 0
A9: 1.1. | B9: Helyi önkormányzatok működésének általános támogatása
A10: 1.2. | B10: Önkormányzatok egyes köznevelési feladatainak támogatása
A11: 1.3. | B11: Önkormányzatok szociális és gyermekjóléti feladatainak támogatása
A12: 1.4. | B12: Önkormányzatok kulturális feladatainak támogatása
A13: 1.5. | B13: Működési célú kvi támogatások és kiegészítő támogatások
A14: 1.6. | B14: Elszámolásból származó bevételek
A15: 2. | B15: Működési célú támogatások államháztartáson belülről (2.1.+…+.2.5.) | C15: =+C16+C17+C18+C19+C20 -> 0 | D15: =+D16+D17+D18+D19+D20 -> 0 | E15: =+E16+E17+E18+E19+E20 -> 0
A16: 2.1. | B16: Elvonások és befizetések bevételei
A17: 2.2. | B17: Működési célú garancia- és kezességvállalásból megtérülések
A18: 2.3. | B18: Működési célú visszatérítendő támogatások, kölcsönök visszatérülése
A19: 2.4. | B19: Működési célú visszatérítendő támogatások, kölcsönök igénybevétele
A20: 2.5. | B20: Egyéb működési célú támogatások bevételei
A21: 2.6. | B21: 2.5.-ből EU-s támogatás
A22: 3. | B22: Felhalmozási célú támogatások államháztartáson belülről (3.1.+…+3.5.) | C22: =+C23+C24+C25+C26+C27 -> 0 | D22: =+D23+D24+D25+D26+D27 -> 0 | E22: =+E23+E24+E25+E26+E27 -> 0
A23: 3.1. | B23: Felhalmozási célú önkormányzati támogatások
A24: 3.2. | B24: Felhalmozási célú garancia- és kezességvállalásból megtérülések
A25: 3.3. | B25: Felhalmozási célú visszatérítendő támogatások, kölcsönök visszatérülése
A26: 3.4. | B26: Felhalmozási célú visszatérítendő támogatások, kölcsönök igénybevétele
A27: 3.5. | B27: Egyéb felhalmozási célú támogatások bevételei
A28: 3.6. | B28: 3.5.-ből EU-s támogatás
A29: 4. | B29: Közhatalmi bevételek (4.1.+…+4.7.) | C29: =SUM(C30:C36) -> 0 | D29: =SUM(D30:D36) -> 0 | E29: =SUM(E30:E36) -> 0
A30: 4.1. | B30: ='Z_1.1.sz.mell.'!B33 -> Építményadó
A31: 4.2. | B31: ='Z_1.1.sz.mell.'!B34 -> Idegenforgalmi adó
A32: 4.3. | B32: ='Z_1.1.sz.mell.'!B35 -> Iparűzési adó
A33: 4.4. | B33: ='Z_1.1.sz.mell.'!B36 -> Talajterhelési díj
A34: 4.5. | B34: ='Z_1.1.sz.mell.'!B37 -> Gépjárműadó
A35: 4.6. | B35: ='Z_1.1.sz.mell.'!B38 -> Telekadó
A36: 4.7. | B36: ='Z_1.1.sz.mell.'!B39 -> Egyéb közhatalmi bevételek
A37: 5. | B37: Működési bevételek (5.1.+…+ 5.11.) | C37: =SUM(C38:C48) -> 0 | D37: =SUM(D38:D48) -> 0 | E37: =SUM(E38:E48) -> 0
A38: 5.1. | B38: Készletértékesítés ellenértéke
A39: 5.2. | B39: Szolgáltatások ellenértéke
A40: 5.3. | B40: Közvetített szolgáltatások értéke
A41: 5.4. | B41: Tulajdonosi bevételek
A42: 5.5. | B42: Ellátási díjak
A43: 5.6. | B43: Kiszámlázott általános forgalmi adó
A44: 5.7. | B44: Általános forgalmi adó visszatérítése
A45: 5.8. | B45: Kamatbevételek és más nyereségjellegű bevételek
A46: 5.9. | B46: Egyéb pénzügyi műveletek bevételei
A47: 5.10. | B47: Biztosító által fizetett kártérítés
A48: 5.11. | B48: Egyéb működési bevételek
A49: 6. | B49: Felhalmozási bevételek (6.1.+…+6.5.) | C49: =SUM(C50:C54) -> 0 | D49: =SUM(D50:D54) -> 0 | E49: =SUM(E50:E54) -> 0
A50: 6.1. | B50: Immateriális javak értékesítése
A51: 6.2. | B51: Ingatlanok értékesítése
A52: 6.3. | B52: Egyéb tárgyi eszközök értékesítése
A53: 6.4. | B53: Részesedések értékesítése
A54: 6.5. | B54: Részesedések megszűnéséhez kapcsolódó bevételek
A55: 7. | B55: Működési célú átvett pénzeszközök (7.1. + … + 7.3.) | C55: =SUM(C56:C58) -> 0 | D55: =SUM(D56:D58) -> 0 | E55: =SUM(E56:E58) -> 0
A56: 7.1. | B56: Működési célú garancia- és kezességvállalásból megtérülések ÁH-n kívülről
A57: 7.2. | B57: Működési célú visszatérítendő támogatások, kölcsönök visszatér. ÁH-n kívülről
A58: 7.3. | B58: Egyéb működési célú átvett pénzeszköz
A59: 7.4. | B59: 7.3.-ból EU-s támogatás (közvetlen)
A60: 8. | B60: Felhalmozási célú átvett pénzeszközök (8.1.+8.2.+8.3.) | C60: =SUM(C61:C63) -> 0 | D60: =SUM(D61:D63) -> 0 | E60: =SUM(E61:E63) -> 0
A61: 8.1. | B61: Felhalm. célú garancia- és kezességvállalásból megtérülések ÁH-n kívülről
A62: 8.2. | B62: Felhalm. célú visszatérítendő támogatások, kölcsönök visszatér. ÁH-n kívülről
A63: 8.3. | B63: Egyéb felhalmozási célú átvett pénzeszköz
A64: 8.4. | B64: 8.3.-ból EU-s támogatás (közvetlen)
A65: 9. | B65: KÖLTSÉGVETÉSI BEVÉTELEK ÖSSZESEN: (1+…+8) | C65: =+C8+C15+C22+C29+C37+C49+C55+C60 -> 0 | D65: =+D8+D15+D22+D29+D37+D49+D55+D60 -> 0 | E65: =+E8+E15+E22+E29+E37+E49+E55+E60 -> 0
A66: 10. | B66: Hitel-, kölcsönfelvétel államháztartáson kívülről (10.1.+10.3.) | C66: =SUM(C67:C69) -> 0 | D66: =SUM(D67:D69) -> 0 | E66: =SUM(E67:E69) -> 0
A67: 10.1. | B67: Hosszú lejáratú hitelek, kölcsönök felvétele
A68: 10.2. | B68: Likviditási célú hitelek, kölcsönök felvétele pénzügyi vállalkozástól
A69: 10.3. | B69: Rövid lejáratú hitelek, kölcsönök felvétele
A70: 11. | B70: Belföldi értékpapírok bevételei (11.1. +…+ 11.4.) | C70: =SUM(C71:C74) -> 0 | D70: =SUM(D71:D74) -> 0 | E70: =SUM(E71:E74) -> 0
A71: 11.1. | B71: Forgatási célú belföldi értékpapírok beváltása, értékesítése
A72: 11.2. | B72: Éven belüli lejáratú belföldi értékpapírok kibocsátása
A73: 11.3. | B73: Befektetési célú belföldi értékpapírok beváltása, értékesítése
A74: 11.4. | B74: Éven túli lejáratú belföldi értékpapírok kibocsátása
A75: 12. | B75: Maradvány igénybevétele (12.1. + 12.2.) | C75: =SUM(C76:C77) -> 0 | D75: =SUM(D76:D77) -> 0 | E75: =SUM(E76:E77) -> 0
A76: 12.1. | B76: Előző év költségvetési maradványának igénybevétele
A77: 12.2. | B77: Előző év vállalkozási maradványának igénybevétele
A78: 13. | B78: Belföldi finanszírozás bevételei (13.1. + … + 13.3.) | C78: =SUM(C79:C81) -> 0 | D78: =SUM(D79:D81) -> 0 | E78: =SUM(E79:E81) -> 0
A79: 13.1. | B79: Államháztartáson belüli megelőlegezések
A80: 13.2. | B80: Államháztartáson belüli megelőlegezések törlesztése
A81: 13.3. | B81: Lekötött betétek megszüntetése
A82: 14. | B82: Külföldi finanszírozás bevételei (14.1.+…14.4.) | C82: =SUM(C83:C86) -> 0 | D82: =SUM(D83:D86) -> 0 | E82: =SUM(E83:E86) -> 0
A83: 14.1. | B83: Forgatási célú külföldi értékpapírok beváltása, értékesítése
A84: 14.2. | B84: Befektetési célú külföldi értékpapírok beváltása, értékesítése
A85: 14.3. | B85: Külföldi értékpapírok kibocsátása
A86: 14.4. | B86: Külföldi hitelek, kölcsönök felvétele
A87: 15. | B87: Váltóbevételek
A88: 16. | B88: Adóssághoz nem kapcsolódó származékos ügyletek bevételei
A89: 17. | B89: FINANSZÍROZÁSI BEVÉTELEK ÖSSZESEN: (10. + … +16.) | C89: =+C66+C70+C75+C78+C82+C88+C87 -> 0 | D89: =+D66+D70+D75+D78+D82+D88+D87 -> 0 | E89: =+E66+E70+E75+E78+E82+E88+E87 -> 0
A90: 18. | B90: BEVÉTELEK ÖSSZESEN: (9+17) | C90: =+C65+C89 -> 0 | D90: =+D65+D89 -> 0 | E90: =+E65+E89 -> 0
A92: Kiadások
A93: 1. | B93: Működési költségvetés kiadásai (1.1+…+1.5+1.18.) | C93: =+C94+C95+C96+C97+C98+C111 -> 0 | D93: =+D94+D95+D96+D97+D98+D111 -> 0 | E93: =+E94+E95+E96+E97+E98+E111 -> 0
A94: 1.1. | B94: Személyi juttatások
A95: 1.2. | B95: Munkaadókat terhelő járulékok és szociális hozzájárulási adó
A96: 1.3. | B96: Dologi kiadások
A97: 1.4. | B97: Ellátottak pénzbeli juttatásai
A98: 1.5 | B98: Egyéb működési célú kiadások
A99: 1.6. | B99: az 1.5-ből: - Előző évi elszámolásból származó befizetések
A100: 1.7. | B100: - Törvényi előíráson alapuló befizetések
A101: 1.8. | B101: - Elvonások és befizetések
...

Sheet Z_6.2.sz.mell
B1: =CONCATENATE("6.2. melléklet ",Z_ALAPADATOK!A7," ",Z_ALAPADATOK!B7," ",Z_ALAPADATOK!C7," ",Z_ALAPADATOK!D7," ",Z_ALAPADATOK!E7," ",Z_ALAPADATOK!F7," ",Z_ALAPADATOK!G7," ",Z_ALAPADATOK!H7) -> 6.2. melléklet a … / 2022. ( … ) önkormányzati rendelethez
A2: Költségvetési szerv | B2: Polgármesteri /közös/ hivatal | E2: 02
A3: Feladat megnevezése | B3: Összes bevétel, kiadás | E3: 01
E4: ='Z_6.1.3.sz.mell'!E4 -> Forintban!
A5: Száma | B5: Kiemelt előirányzat, előirányzat megnevezése | C5: Eredeti előirányzat | D5: Módosított előirányzat | E5: =CONCATENATE('Z_6.1.3.sz.mell'!E5) -> Teljesítés 2021. XII. 31.
A6: A | B6: B | C6: C | D6: D | E6: E
A7: Bevételek
A8: 1. | B8: Működési bevételek (1.1.+…+1.11.) | C8: =SUM(C9:C19) -> 0 | D8: =SUM(D9:D19) -> 0 | E8: =SUM(E9:E19) -> 3573
A9: 1.1. | B9: Készletértékesítés ellenértéke
A10: 1.2. | B10: Szolgáltatások ellenértéke
A11: 1.3. | B11: Közvetített szolgáltatások értéke
A12: 1.4. | B12: Tulajdonosi bevételek
A13: 1.5. | B13: Ellátási díjak
A14: 1.6. | B14: Kiszámlázott általános forgalmi adó
A15: 1.7. | B15: Általános forgalmi adó visszatérülése
A16: 1.8. | B16: Kamatbevételek
A17: 1.9. | B17: Egyéb pénzügyi műveletek bevételei
A18: 1.10. | B18: Biztosító által fizetett kártérítés
A19: 1.11. | B19: Egyéb működési bevételek | E19: 3573
A20: 2. | B20: Működési célú támogatások államháztartáson belülről (2.1.+…+2.3.) | C20: =SUM(C21:C23) -> 0 | D20: =SUM(D21:D23) -> 0 | E20: =SUM(E21:E23) -> 0
A21: 2.1. | B21: Elvonások és befizetések bevételei
A22: 2.2. | B22: Visszatérítendő támogatások, kölcsönök visszatérülése ÁH-n belülről
A23: 2.3. | B23: Egyéb működési célú támogatások bevételei államháztartáson belülről
A24: 2.4. | B24: 2.3-ból EU támogatás
A25: 3. | B25: Közhatalmi bevételek | C25: 60000 | D25: 60000 | E25: 15000
A26: 4. | B26: Felhalmozási célú támogatások államháztartáson belülről (4.1.+…+4.3.) | C26: =+C27+C28+C29 -> 0 | D26: =+D27+D28+D29 -> 0 | E26: =+E27+E28+E29 -> 0
A27: 4.1. | B27: Felhalmozási célú önkormányzati támogatások
A28: 4.2. | B28: Visszatérítendő támogatások, kölcsönök visszatérülése ÁH-n belülről
A29: 4.3. | B29: Egyéb felhalmozási célú támogatások bevételei államháztartáson belülről
A30: 4.4. | B30: 4.3.-ból EU-s támogatás
A31: 5. | B31: Felhalmozási bevételek (5.1.+…+5.3.) | C31: =+C32+C33+C34 -> 0 | D31: =+D32+D33+D34 -> 0 | E31: =+E32+E33+E34 -> 0
A32: 5.1. | B32: Immateriális javak értékesítése
A33: 5.2. | B33: Ingatlanok értékesítése
A34: 5.3. | B34: Egyéb tárgyi eszközök értékesítése
A35: 6. | B35: Működési célú átvett pénzeszközök
A36: 7. | B36: Felhalmozási célú átvett pénzeszközök
A37: 8. | B37: Költségvetési bevételek összesen (1.+…+7.) | C37: =+C8+C20+C25+C26+C31+C35+C36 -> 60000 | D37: =+D8+D20+D25+D26+D31+D35+D36 -> 60000 | E37: =+E8+E20+E25+E26+E31+E35+E36 -> 18573
A38: 9. | B38: Finanszírozási bevételek (9.1.+…+9.3.) | C38: =+C39+C40+C41 -> 73255369 | D38: =+D39+D40+D41 -> 79502841 | E38: =+E39+E40+E41 -> 73750300
A39: 9.1. | B39: Költségvetési maradvány igénybevétele | C39: 76793 | D39: 76793 | E39: 76793
A40: 9.2. | B40: Vállalkozási maradvány igénybevétele | D40: 0
A41: 9.3. | B41: Irányító szervi (önkormányzati) támogatás (intézményfinanszírozás) | C41: 73178576 | D41: 79426048 | E41: 73673507
A42: 10. | B42: BEVÉTELEK ÖSSZESEN: (8.+9.) | C42: =+C37+C38 -> 73315369 | D42: =+D37+D38 -> 79562841 | E42: =+E37+E38 -> 73768873
A45: Kiadások
A46: 1. | B46: Működési költségvetés kiadásai (1.1+…+1.5.) | C46: =SUM(C47:C51) -> 72045369 | D46: =SUM(D47:D51) -> 79412734 | E46: =SUM(E47:E51) -> 73363590
A47: 1.1. | B47: Személyi juttatások | C47: 48204216 | D47: 55317509 | E47: 54008811
A48: 1.2. | B48: Munkaadókat terhelő járulékok és szociális hozzájárulási adó | C48: 7661353 | D48: 8692078 | E48: 8666382
A49: 1.3. | B49: Dologi kiadások | C49: 16179800 | D49: 15403147 | E49: 10688397
A50: 1.4. | B50: Ellátottak pénzbeli juttatásai
A51: 1.5. | B51: Egyéb működési célú kiadások
A52: 2. | B52: Felhalmozási költségvetés kiadásai (2.1.+…+2.3.) | C52: =SUM(C53:C55) -> 1270000 | D52: =SUM(D53:D55) -> 150107 | E52: =SUM(E53:E55) -> 150107
A53: 2.1. | B53: Beruházások | C53: 1270000 | D53: 150107 | E53: 150107
A54: 2.2. | B54: Felújítások
A55: 2.3. | B55: Egyéb fejlesztési célú kiadások
A56: 2.4. | B56: 2.3.-ból EU-s támogatásból megvalósuló programok, projektek kiadása
A57: 3. | B57: Finanszírozási kiadások
A58: 4. | B58: KIADÁSOK ÖSSZESEN: (1.+2.+3.) | C58: =+C46+C52+C57 -> 73315369 | D58: =+D46+D52+D57 -> 79562841 | E58: =+E46+E52+E57 -> 73513697
C59: =C42-C58 -> 0 | D59: =D42-D58 -> 0
A60: Tényleges állományi létszám előirányzat (fő) | C60: 8 | D60: 8 | E60: 8
A61: Közfoglalkoztatottak tényleges állományi létszáma (fő)

Sheet Z_6.2.1.sz.mell
B1: =CONCATENATE("6.2.1. melléklet ",Z_ALAPADATOK!A7," ",Z_ALAPADATOK!B7," ",Z_ALAPADATOK!C7," ",Z_ALAPADATOK!D7," ",Z_ALAPADATOK!E7," ",Z_ALAPADATOK!F7," ",Z_ALAPADATOK!G7," ",Z_ALAPADATOK!H7) -> 6.2.1. melléklet a … / 2022. ( … ) önkormányzati rendelethez
A2: Költségvetési szerv | B2: =CONCATENATE('Z_6.2.sz.mell'!B2:D2) -> Polgármesteri /közös/ hivatal | E2: 02
A3: Feladat megnevezése | B3: Kötelező feladatok bevételei, kiadásai | E3: 02
E4: ='Z_6.2.sz.mell'!E4 -> Forintban!
A5: Száma | B5: Kiemelt előirányzat, előirányzat megnevezése | C5: Eredeti előirányzat | D5: Módosított előirányzat | E5: =CONCATENATE('Z_6.2.sz.mell'!E5) -> Teljesítés 2021. XII. 31.
A6: A | B6: B | C6: C | D6: D | E6: E
A7: Bevételek
A8: 1. | B8: Működési bevételek (1.1.+…+1.11.) | C8: ='Z_6.2.sz.mell'!C8 -> 0 | D8: ='Z_6.2.sz.mell'!D8 -> 0 | E8: ='Z_6.2.sz.mell'!E8 -> 3573
A9: 1.1. | B9: Készletértékesítés ellenértéke | C9: ='Z_6.2.sz.mell'!C9 -> 0 | D9: ='Z_6.2.sz.mell'!D9 -> 0 | E9: ='Z_6.2.sz.mell'!E9 -> 0
A10: 1.2. | B10: Szolgáltatások ellenértéke | C10: ='Z_6.2.sz.mell'!C10 -> 0 | D10: ='Z_6.2.sz.mell'!D10 -> 0 | E10: ='Z_6.2.sz.mell'!E10 -> 0
A11: 1.3. | B11: Közvetített szolgáltatások értéke | C11: ='Z_6.2.sz.mell'!C11 -> 0 | D11: ='Z_6.2.sz.mell'!D11 -> 0 | E11: ='Z_6.2.sz.mell'!E11 -> 0
A12: 1.4. | B12: Tulajdonosi bevételek | C12: ='Z_6.2.sz.mell'!C12 -> 0 | D12: ='Z_6.2.sz.mell'!D12 -> 0 | E12: ='Z_6.2.sz.mell'!E12 -> 0
A13: 1.5. | B13: Ellátási díjak | C13: ='Z_6.2.sz.mell'!C13 -> 0 | D13: ='Z_6.2.sz.mell'!D13 -> 0 | E13: ='Z_6.2.sz.mell'!E13 -> 0
A14: 1.6. | B14: Kiszámlázott általános forgalmi adó | C14: ='Z_6.2.sz.mell'!C14 -> 0 | D14: ='Z_6.2.sz.mell'!D14 -> 0 | E14: ='Z_6.2.sz.mell'!E14 -> 0
A15: 1.7. | B15: Általános forgalmi adó visszatérülése | C15: ='Z_6.2.sz.mell'!C15 -> 0 | D15: ='Z_6.2.sz.mell'!D15 -> 0 | E15: ='Z_6.2.sz.mell'!E15 -> 0
A16: 1.8. | B16: Kamatbevételek | C16: ='Z_6.2.sz.mell'!C16 -> 0 | D16: ='Z_6.2.sz.mell'!D16 -> 0 | E16: ='Z_6.2.sz.mell'!E16 -> 0
A17: 1.9. | B17: Egyéb pénzügyi műveletek bevételei | C17: ='Z_6.2.sz.mell'!C17 -> 0 | D17: ='Z_6.2.sz.mell'!D17 -> 0 | E17: ='Z_6.2.sz.mell'!E17 -> 0
A18: 1.10. | B18: Biztosító által fizetett kártérítés | C18: ='Z_6.2.sz.mell'!C18 -> 0 | D18: ='Z_6.2.sz.mell'!D18 -> 0 | E18: ='Z_6.2.sz.mell'!E18 -> 0
A19: 1.11. | B19: Egyéb működési bevételek | C19: ='Z_6.2.sz.mell'!C19 -> 0 | D19: ='Z_6.2.sz.mell'!D19 -> 0 | E19: ='Z_6.2.sz.mell'!E19 -> 3573
... A42: 10. | B42: BEVÉTELEK ÖSSZESEN: (8.+9.) | C42: ='Z_6.2.sz.mell'!C42 -> 73315369 | D42: ='Z_6.2.sz.mell'!D42 -> 79562841 | E42: ='Z_6.2.sz.mell'!E42 -> 73768873
A45: Kiadások
A46: 1. | B46: Működési költségvetés kiadásai (1.1+…+1.5.) | C46: ='Z_6.2.sz.mell'!C46 -> 72045369 | D46: ='Z_6.2.sz.mell'!D46 -> 79412734 | E46: ='Z_6.2.sz.mell'!E46 -> 73363590
A47: 1.1. | B47: Személyi juttatások | C47: ='Z_6.2.sz.mell'!C47 -> 48204216 | D47: ='Z_6.2.sz.mell'!D47 -> 55317509 | E47: ='Z_6.2.sz.mell'!E47 -> 54008811
A48: 1.2. | B48: Munkaadókat terhelő járulékok és szociális hozzájárulási adó | C48: ='Z_6.2.sz.mell'!C48 -> 7661353 | D48: ='Z_6.2.sz.mell'!D48 -> 8692078 | E48: ='Z_6.2.sz.mell'!E48 -> 8666382
A49: 1.3. | B49: Dologi kiadások | C49: ='Z_6.2.sz.mell'!C49 -> 16179800 | D49: ='Z_6.2.sz.mell'!D49 -> 15403147 | E49: ='Z_6.2.sz.mell'!E49 -> 10688397
A50: 1.4. | B50: Ellátottak pénzbeli juttatásai | C50: ='Z_6.2.sz.mell'!C50 -> 0 | D50: ='Z_6.2.sz.mell'!D50 -> 0 | E50: ='Z_6.2.sz.mell'!E50 -> 0
A51: 1.5. | B51: Egyéb működési célú kiadások | C51: ='Z_6.2.sz.mell'!C51 -> 0 | D51: ='Z_6.2.sz.mell'!D51 -> 0 | E51: ='Z_6.2.sz.mell'!E51 -> 0
A52: 2. | B52: Felhalmozási költségvetés kiadásai (2.1.+…+2.3.) | C52: ='Z_6.2.sz.mell'!C52 -> 1270000 | D52: ='Z_6.2.sz.mell'!D52 -> 150107 | E52: ='Z_6.2.sz.mell'!E52 -> 150107
A53: 2.1. | B53: Beruházások | C53: ='Z_6.2.sz.mell'!C53 -> 1270000 | D53: ='Z_6.2.sz.mell'!D53 -> 150107 | E53: ='Z_6.2.sz.mell'!E53 -> 150107
A54: 2.2. | B54: Felújítások | C54: ='Z_6.2.sz.mell'!C54 -> 0 | D54: ='Z_6.2.sz.mell'!D54 -> 0 | E54: ='Z_6.2.sz.mell'!E54 -> 0
A55: 2.3. | B55: Egyéb fejlesztési célú kiadások | C55: ='Z_6.2.sz.mell'!C55 -> 0 | D55: ='Z_6.2.sz.mell'!D55 -> 0 | E55: ='Z_6.2.sz.mell'!E55 -> 0
A56: 2.4. | B56: 2.3.-ból EU-s támogatásból megvalósuló programok, projektek kiadása | C56: ='Z_6.2.sz.mell'!C56 -> 0 | D56: ='Z_6.2.sz.mell'!D56 -> 0 | E56: ='Z_6.2.sz.mell'!E56 -> 0
A57: 3. | B57: Finanszírozási kiadások | C57: ='Z_6.2.sz.mell'!C57 -> 0 | D57: ='Z_6.2.sz.mell'!D57 -> 0 | E57: ='Z_6.2.sz.mell'!E57 -> 0
A58: 4. | B58: KIADÁSOK ÖSSZESEN: (1.+2.+3.) | C58: ='Z_6.2.sz.mell'!C58 -> 73315369 | D58: ='Z_6.2.sz.mell'!D58 -> 79562841 | E58: ='Z_6.2.sz.mell'!E58 -> 73513697
C59: =C42-C58 -> 0 | D59: =D42-D58 -> 0
A60: Tényleges állományi létszám előirányzat (fő) | C60: ='Z_6.2.sz.mell'!C60 -> 8 | D60: ='Z_6.2.sz.mell'!D60 -> 8 | E60: ='Z_6.2.sz.mell'!E60 -> 8
A61: Közfoglalkoztatottak tényleges állományi létszáma (fő) | C61: ='Z_6.2.sz.mell'!C61 -> 0 | D61: ='Z_6.2.sz.mell'!D61 -> 0 | E61: ='Z_6.2.sz.mell'!E61 -> 0
C64: 2020 | D64: 2021
B65: =1-D65/C65 -> 0.013264218 | C65: 1895452415 | D65: 1870310721 | E65: =C65/D65 -> 1.0134425

Sheet Z_6.2.2.sz.mell
B1: =CONCATENATE("6.2.2. melléklet ",Z_ALAPADATOK!A7," ",Z_ALAPADATOK!B7," ",Z_ALAPADATOK!C7," ",Z_ALAPADATOK!D7," ",Z_ALAPADATOK!E7," ",Z_ALAPADATOK!F7," ",Z_ALAPADATOK!G7," ",Z_ALAPADATOK!H7) -> 6.2.2. melléklet a … / 2022. ( … ) önkormányzati rendelethez
A2: Költségvetési szerv | B2: =CONCATENATE('Z_6.2.1.sz.mell'!B2:D2) -> Polgármesteri /közös/ hivatal | E2: 02
A3: Feladat megnevezése | B3: Önként vállalt feladatok bevételei, kiadásai | E3: 03
E4: ='Z_6.2.1.sz.mell'!E4 -> Forintban!
A5: Száma | B5: Kiemelt előirányzat, előirányzat megnevezése | C5: Eredeti előirányzat | D5: Módosított előirányzat | E5: =CONCATENATE('Z_6.2.1.sz.mell'!E5) -> Teljesítés 2021. XII. 31.
A6: A | B6: B | C6: C | D6: D | E6: E
A7: Bevételek
A8: 1. | B8: Működési bevételek (1.1.+…+1.11.) | C8: =SUM(C9:C19) -> 0 | D8: =SUM(D9:D19) -> 0 | E8: =SUM(E9:E19) -> 0
A9: 1.1. | B9: Készletértékesítés ellenértéke
A10: 1.2. | B10: Szolgáltatások ellenértéke
A11: 1.3. | B11: Közvetített szolgáltatások értéke
A12: 1.4. | B12: Tulajdonosi bevételek
A13: 1.5. | B13: Ellátási díjak
A14: 1.6. | B14: Kiszámlázott általános forgalmi adó
A15: 1.7. | B15: Általános forgalmi adó visszatérülése
A16: 1.8. | B16: Kamatbevételek
A17: 1.9. | B17: Egyéb pénzügyi műveletek bevételei
A18: 1.10. | B18: Biztosító által fizetett kártérítés
A19: 1.11. | B19: Egyéb működési bevételek
A20: 2. | B20: Működési célú támogatások államháztartáson belülről (2.1.+…+2.3.) | C20: =SUM(C21:C23) -> 0 | D20: =SUM(D21:D23) -> 0 | E20: =SUM(E21:E23) -> 0
A21: 2.1. | B21: Elvonások és befizetések bevételei
A22: 2.2. | B22: Visszatérítendő támogatások, kölcsönök visszatérülése ÁH-n belülről
A23: 2.3. | B23: Egyéb működési célú támogatások bevételei államháztartáson belülről
A24: 2.4. | B24: 2.3-ból EU támogatás
A25: 3. | B25: Közhatalmi bevételek
A26: 4. | B26: Felhalmozási célú támogatások államháztartáson belülről (4.1.+…+4.3.) | C26: =+C27+C28+C29 -> 0 | D26: =+D27+D28+D29 -> 0 | E26: =+E27+E28+E29 -> 0
A27: 4.1. | B27: Felhalmozási célú önkormányzati támogatások
A28: 4.2. | B28: Visszatérítendő támogatások, kölcsönök visszatérülése ÁH-n belülről
A29: 4.3. | B29: Egyéb felhalmozási célú támogatások bevételei államháztartáson belülről
A30: 4.4. | B30: 4.3.-ból EU-s támogatás
A31: 5. | B31: Felhalmozási bevételek (5.1.+…+5.3.) | C31: =+C32+C33+C34 -> 0 | D31: =+D32+D33+D34 -> 0 | E31: =+E32+E33+E34 -> 0
A32: 5.1. | B32: Immateriális javak értékesítése
A33: 5.2. | B33: Ingatlanok értékesítése
A34: 5.3. | B34: Egyéb tárgyi eszközök értékesítése
A35: 6. | B35: Működési célú átvett pénzeszközök
A36: 7. | B36: Felhalmozási célú átvett pénzeszközök
A37: 8. | B37: Költségvetési bevételek összesen (1.+…+7.) | C37: =+C8+C20+C25+C26+C31+C35+C36 -> 0 | D37: =+D8+D20+D25+D26+D31+D35+D36 -> 0 | E37: =+E8+E20+E25+E26+E31+E35+E36 -> 0
A38: 9. | B38: Finanszírozási bevételek (9.1.+…+9.3.) | C38: =+C39+C40+C41 -> 0 | D38: =+D39+D40+D41 -> 0 | E38: =+E39+E40+E41 -> 0
A39: 9.1. | B39: Költségvetési maradvány igénybevétele
A40: 9.2. | B40: Vállalkozási maradvány igénybevétele
A41: 9.3. | B41: Irányító szervi (önkormányzati) támogatás (intézményfinanszírozás)
A42: 10. | B42: BEVÉTELEK ÖSSZESEN: (8.+9.) | C42: =+C37+C38 -> 0 | D42: =+D37+D38 -> 0 | E42: =+E37+E38 -> 0
A45: Kiadások
A46: 1. | B46: Működési költségvetés kiadásai (1.1+…+1.5.) | C46: =SUM(C47:C51) -> 0 | D46: =SUM(D47:D51) -> 0 | E46: =SUM(E47:E51) -> 0
A47: 1.1. | B47: Személyi juttatások
A48: 1.2. | B48: Munkaadókat terhelő járulékok és szociális hozzájárulási adó
A49: 1.3. | B49: Dologi kiadások
A50: 1.4. | B50: Ellátottak pénzbeli juttatásai
A51: 1.5. | B51: Egyéb működési célú kiadások
A52: 2. | B52: Felhalmozási költségvetés kiadásai (2.1.+…+2.3.) | C52: =SUM(C53:C55) -> 0 | D52: =SUM(D53:D55) -> 0 | E52: =SUM(E53:E55) -> 0
A53: 2.1. | B53: Beruházások
A54: 2.2. | B54: Felújítások
A55: 2.3. | B55: Egyéb fejlesztési célú kiadások
A56: 2.4. | B56: 2.3.-ból EU-s támogatásból megvalósuló programok, projektek kiadása
A57: 3. | B57: Finanszírozási kiadások
A58: 4. | B58: KIADÁSOK ÖSSZESEN: (1.+2.+3.) | C58: =+C46+C52+C57 -> 0 | D58: =+D46+D52+D57 -> 0 | E58: =+E46+E52+E57 -> 0
C59: =C42-C58 -> 0 | D59: =D42-D58 -> 0
A60: Tényleges állományi létszám előirányzat (fő)
A61: Közfoglalkoztatottak tényleges állományi létszáma (fő)

Sheet Z_6.2.3.sz.mell
B1: =CONCATENATE("6.2.3. melléklet ",Z_ALAPADATOK!A7," ",Z_ALAPADATOK!B7," ",Z_ALAPADATOK!C7," ",Z_ALAPADATOK!D7," ",Z_ALAPADATOK!E7," ",Z_ALAPADATOK!F7," ",Z_ALAPADATOK!G7," ",Z_ALAPADATOK!H7) -> 6.2.3. melléklet a … / 2022. ( … ) önkormányzati rendelethez
A2: Költségvetési szerv | B2: =CONCATENATE('Z_6.2.2.sz.mell'!B2:D2) -> Polgármesteri /közös/ hivatal | E2: 02
A3: Feladat megnevezése | B3: Államigazgatási feladatok bevételei, kiadásai | E3: 04
E4: ='Z_6.2.2.sz.mell'!E4 -> Forintban!
A5: Száma | B5: Kiemelt előirányzat, előirányzat megnevezése | C5: Eredeti előirányzat | D5: Módosított előirányzat | E5: =CONCATENATE('Z_6.2.2.sz.mell'!E5) -> Teljesítés 2021. XII. 31.
A6: A | B6: B | C6: C | D6: D | E6: E
A7: Bevételek
A8: 1. | B8: Működési bevételek (1.1.+…+1.11.) | C8: =SUM(C9:C19) -> 0 | D8: =SUM(D9:D19) -> 0 | E8: =SUM(E9:E19) -> 0
A9: 1.1. | B9: Készletértékesítés ellenértéke
A10: 1.2. | B10: Szolgáltatások ellenértéke
A11: 1.3. | B11: Közvetített szolgáltatások értéke
A12: 1.4. | B12: Tulajdonosi bevételek
A13: 1.5. | B13: Ellátási díjak
A14: 1.6. | B14: Kiszámlázott általános forgalmi adó
A15: 1.7. | B15: Általános forgalmi adó visszatérülése
A16: 1.8. | B16: Kamatbevételek
A17: 1.9. | B17: Egyéb pénzügyi műveletek bevételei
A18: 1.10. | B18: Biztosító által fizetett kártérítés
A19: 1.11. | B19: Egyéb működési bevételek
A20: 2. | B20: Működési célú támogatások államháztartáson belülről (2.1.+…+2.3.) | C20: =SUM(C21:C23) -> 0 | D20: =SUM(D21:D23) -> 0 | E20: =SUM(E21:E23) -> 0
A21: 2.1. | B21: Elvonások és befizetések bevételei
A22: 2.2. | B22: Visszatérítendő támogatások, kölcsönök visszatérülése ÁH-n belülről
A23: 2.3. | B23: Egyéb működési célú támogatások bevételei államháztartáson belülről
A24: 2.4. | B24: 2.3-ból EU támogatás
A25: 3. | B25: Közhatalmi bevételek
A26: 4. | B26: Felhalmozási célú támogatások államháztartáson belülről (4.1.+…+4.3.) | C26: =+C27+C28+C29 -> 0 | D26: =+D27+D28+D29 -> 0 | E26: =+E27+E28+E29 -> 0
A27: 4.1. | B27: Felhalmozási célú önkormányzati támogatások
A28: 4.2. | B28: Visszatérítendő támogatások, kölcsönök visszatérülése ÁH-n belülről
A29: 4.3. | B29: Egyéb felhalmozási célú támogatások bevételei államháztartáson belülről
A30: 4.4. | B30: 4.3.-ból EU-s támogatás
A31: 5. | B31: Felhalmozási bevételek (5.1.+…+5.3.) | C31: =+C32+C33+C34 -> 0 | D31: =+D32+D33+D34 -> 0 | E31: =+E32+E33+E34 -> 0
A32: 5.1. | B32: Immateriális javak értékesítése
A33: 5.2. | B33: Ingatlanok értékesítése
A34: 5.3. | B34: Egyéb tárgyi eszközök értékesítése
A35: 6. | B35: Működési célú átvett pénzeszközök
A36: 7. | B36: Felhalmozási célú átvett pénzeszközök
A37: 8. | B37: Költségvetési bevételek összesen (1.+…+7.) | C37: =+C8+C20+C25+C26+C31+C35+C36 -> 0 | D37: =+D8+D20+D25+D26+D31+D35+D36 -> 0 | E37: =+E8+E20+E25+E26+E31+E35+E36 -> 0
A38: 9. | B38: Finanszírozási bevételek (9.1.+…+9.3.) | C38: =+C39+C40+C41 -> 0 | D38: =+D39+D40+D41 -> 0 | E38: =+E39+E40+E41 -> 0
A39: 9.1. | B39: Költségvetési maradvány igénybevétele
A40: 9.2. | B40: Vállalkozási maradvány igénybevétele
A41: 9.3. | B41: Irányító szervi (önkormányzati) támogatás (intézményfinanszírozás)
A42: 10. | B42: BEVÉTELEK ÖSSZESEN: (8.+9.) | C42: =+C37+C38 -> 0 | D42: =+D37+D38 -> 0 | E42: =+E37+E38 -> 0
A45: Kiadások
A46: 1. | B46: Működési költségvetés kiadásai (1.1+…+1.5.) | C46: =SUM(C47:C51) -> 0 | D46: =SUM(D47:D51) -> 0 | E46: =SUM(E47:E51) -> 0
A47: 1.1. | B47: Személyi juttatások
A48: 1.2. | B48: Munkaadókat terhelő járulékok és szociális hozzájárulási adó
A49: 1.3. | B49: Dologi kiadások
A50: 1.4. | B50: Ellátottak pénzbeli juttatásai
A51: 1.5. | B51: Egyéb működési célú kiadások
A52: 2. | B52: Felhalmozási költségvetés kiadásai (2.1.+…+2.3.) | C52: =SUM(C53:C55) -> 0 | D52: =SUM(D53:D55) -> 0 | E52: =SUM(E53:E55) -> 0
A53: 2.1. | B53: Beruházások
A54: 2.2. | B54: Felújítások
A55: 2.3. | B55: Egyéb fejlesztési célú kiadások
A56: 2.4. | B56: 2.3.-ból EU-s támogatásból megvalósuló programok, projektek kiadása
A57: 3. | B57: Finanszírozási kiadások
A58: 4. | B58: KIADÁSOK ÖSSZESEN: (1.+2.+3.) | C58: =+C46+C52+C57 -> 0 | D58: =+D46+D52+D57 -> 0 | E58: =+E46+E52+E57 -> 0
C59: =C42-C58 -> 0 | D59: =D42-D58 -> 0
A60: Tényleges állományi létszám előirányzat (fő)
A61: Közfoglalkoztatottak tényleges állományi létszáma (fő)

Sheet Z_6.3.sz.mell
B1: =CONCATENATE(Z_ALAPADATOK!M13," melléklet ",Z_ALAPADATOK!A7," ",Z_ALAPADATOK!B7," ",Z_ALAPADATOK!C7," ",Z_ALAPADATOK!D7," ",Z_ALAPADATOK!E7," ",Z_ALAPADATOK!F7," ",Z_ALAPADATOK!G7," ",Z_ALAPADATOK!H7) -> 6.3. melléklet a … / 2022. ( … ) önkormányzati rendelethez
A2: Költségvetési szerv | B2: =CONCATENATE(Z_ALAPADATOK!B13) -> Sajószögedi Általános Művelődési Központ - Család és Gyermekjóléti Szolgálat - Konyha - Művelődési Ház és Könyvtár | E2: 03
A3: Feladat megnevezése | B3: Összes bevétel, kiadás | E3: 01
E4: ='Z_6.2.3.sz.mell'!E4 -> Forintban!
A5: Száma | B5: Kiemelt előirányzat, előirányzat megnevezése | C5: Eredeti előirányzat | D5: Módosított előirányzat | E5: =CONCATENATE('Z_6.2.3.sz.mell'!E5) -> Teljesítés 2021. XII. 31.
A6: A | B6: B | C6: C | D6: D | E6: E
A7: Bevételek
A8: 1. | B8: Működési bevételek (1.1.+…+1.11.) | C8: =SUM(C9:C19) -> 15478442 | D8: =SUM(D9:D19) -> 16233442 | E8: =SUM(E9:E19) -> 15447468
A9: 1.1. | B9: Készletértékesítés ellenértéke
A10: 1.2. | B10: Szolgáltatások ellenértéke | C10: 10903145 | D10: 10903145 | E10: 10676705
A11: 1.3. | B11: Közvetített szolgáltatások értéke
A12: 1.4. | B12: Tulajdonosi bevételek
A13: 1.5. | B13: Ellátási díjak | C13: 1412164 | D13: 1912164 | E13: 1481027
A14: 1.6. | B14: Kiszámlázott általános forgalmi adó | C14: 3163133 | D14: 3298133 | E14: 3273497
A15: 1.7. | B15: Általános forgalmi adó visszatérülése
A16: 1.8. | B16: Kamatbevételek | E16: 1
A17: 1.9. | B17: Egyéb pénzügyi műveletek bevételei
A18: 1.10. | B18: Biztosító által fizetett kártérítés
A19: 1.11. | B19: Egyéb működési bevételek | D19: 120000 | E19: 16238
A20: 2. | B20: Működési célú támogatások államháztartáson belülről (2.1.+…+2.3.) | C20: =SUM(C21:C23) -> 0 | D20: =SUM(D21:D23) -> 0 | E20: =SUM(E21:E23) -> 0
A21: 2.1. | B21: Elvonások és befizetések bevételei
A22: 2.2. | B22: Visszatérítendő támogatások, kölcsönök visszatérülése ÁH-n belülről
A23: 2.3. | B23: Egyéb működési célú támogatások bevételei államháztartáson belülről
A24: 2.4. | B24: 2.3.-ból EU támogatás
A25: 3. | B25: Közhatalmi bevételek
A26: 4. | B26: Felhalmozási célú támogatások államháztartáson belülről (4.1.+4.2.) | C26: =+C27+C28 -> 0 | D26: =+D27+D28 -> 0 | E26: =+E27+E28 -> 0
A27: 4.1. | B27: Visszatérítendő támogatások, kölcsönök visszatérülése ÁH-n belülről
A28: 4.2. | B28: Egyéb felhalmozási célú támogatások bevételei államháztartáson belülről
A29: 4.3. | B29: 4.2.-ből EU-s támogatás
A30: 5. | B30: Felhalmozási bevételek (5.1.+…+5.3.) | C30: =+C31+C32+C33 -> 0 | D30: =+D31+D32+D33 -> 0 | E30: =+E31+E32+E33 -> 0
A31: 5.1. | B31: Immateriális javak értékesítése
A32: 5.2. | B32: Ingatlanok értékesítése
A33: 5.3. | B33: Egyéb tárgyi eszközök értékesítése
A34: 6. | B34: Működési célú átvett pénzeszközök | E34: 220000
A35: 7. | B35: Felhalmozási célú átvett pénzeszközök
A36: 8. | B36: KÖLTSÉGVETÉSI BEVÉTELEK ÖSSZESEN (1.+…+7.) | C36: =+C8+C20+C25+C26+C30+C34+C35 -> 15478442 | D36: =+D8+D20+D25+D26+D30+D34+D35 -> 16233442 | E36: =+E8+E20+E25+E26+E30+E34+E35 -> 15667468
A37: 9. | B37: Finanszírozási bevételek (9.1.+…+9.3.) | C37: =+C38+C39+C40 -> 134061036 | D37: =+D38+D39+D40 -> 141155367 | E37: =+E38+E39+E40 -> 129569316
A38: 9.1. | B38: Költségvetési maradvány igénybevétele | C38: 2143506 | D38: 2143506 | E38: 2143506
A39: 9.2. | B39: Vállalkozási maradvány igénybevétele
A40: 9.3. | B40: Irányító szervi (önkormányzati) támogatás (intézményfinanszírozás) | C40: 131917530 | D40: 139011861 | E40: 127425810
A41: 10. | B41: BEVÉTELEK ÖSSZESEN: (8.+9.) | C41: =+C36+C37 -> 149539478 | D41: =+D36+D37 -> 157388809 | E41: =+E36+E37 -> 145236784
A44: Kiadások
A45: 1. | B45: Működési költségvetés kiadásai (1.1+…+1.5.) | C45: =SUM(C46:C50) -> 146262878 | D45: =SUM(D46:D50) -> 154112209 | E45: =SUM(E46:E50) -> 139261378
A46: 1.1. | B46: Személyi juttatások | C46: 74959350 | D46: 79844442 | E46: 74723207
A47: 1.2. | B47: Munkaadókat terhelő járulékok és szociális hozzájárulási adó | C47: 12900878 | D47: 13400878 | E47: 11279199
A48: 1.3. | B48: Dologi kiadások | C48: 58402650 | D48: 60866889 | E48: 53258972
A49: 1.4. | B49: Ellátottak pénzbeli juttatásai
A50: 1.5. | B50: Egyéb működési célú kiadások
A51: 2. | B51: Felhalmozási költségvetés kiadásai (2.1.+…+2.3.) | C51: =SUM(C52:C54) -> 3276600 | D51: =SUM(D52:D54) -> 3276600 | E51: =SUM(E52:E54) -> 2312524
A52: 2.1. | B52: Beruházások | C52: 3276600 | D52: 3276600 | E52: 2312524
A53: 2.2. | B53: Felújítások
A54: 2.3. | B54: Egyéb fejlesztési célú kiadások
A55: 2.4. | B55: 2.3.-ból EU-s támogatásból megvalósuló programok, projektek kiadása
A56: 3. | B56: Finanszírozási kiadások
A57: 4. | B57: KIADÁSOK ÖSSZESEN: (1.+2.+3.) | C57: =+C45+C51+C56 -> 149539478 | D57: =+D45+D51+D56 -> 157388809 | E57: =+E45+E51+E56 -> 141573902
C58: =C41-C57 -> 0 | D58: =D41-D57 -> 0
A59: Tényleges állományi létszám előirányzat (fő) | C59: 19 | D59: 19 | E59: 19
A60: Közfoglalkoztatottak tényleges állományi létszáma (fő)

Sheet Z_6.3.1.sz.mell
B1: =CONCATENATE(Z_ALAPADATOK!M13,"1. melléklet ",Z_ALAPADATOK!A7," ",Z_ALAPADATOK!B7," ",Z_ALAPADATOK!C7," ",Z_ALAPADATOK!D7," ",Z_ALAPADATOK!E7," ",Z_ALAPADATOK!F7," ",Z_ALAPADATOK!G7," ",Z_ALAPADATOK!H7) -> 6.3.1. melléklet a … / 2022. ( … ) önkormányzati rendelethez
A2: Költségvetési szerv | B2: =CONCATENATE('Z_6.3.sz.mell'!B2:D2) -> Sajószögedi Általános Művelődési Központ - Család és Gyermekjóléti Szolgálat - Konyha - Művelődési Ház és Könyvtár | E2: 03
A3: Feladat megnevezése | B3: Kötelező feladatok bevételei, kiadásai | E3: 02
E4: ='Z_6.3.sz.mell'!E4 -> Forintban!
A5: Száma | B5: Kiemelt előirányzat, előirányzat megnevezése | C5: Eredeti előirányzat | D5: Módosított előirányzat | E5: =CONCATENATE('Z_6.3.sz.mell'!E5) -> Teljesítés 2021. XII. 31.
A6: A | B6: B | C6: C | D6: D | E6: E
A7: Bevételek
A8: 1. | B8: Működési bevételek (1.1.+…+1.11.) | C8: ='Z_6.3.sz.mell'!C8 -> 15478442 | D8: ='Z_6.3.sz.mell'!D8 -> 16233442 | E8: ='Z_6.3.sz.mell'!E8 -> 15447468
A9: 1.1. | B9: Készletértékesítés ellenértéke | C9: ='Z_6.3.sz.mell'!C9 -> 0 | D9: ='Z_6.3.sz.mell'!D9 -> 0 | E9: ='Z_6.3.sz.mell'!E9 -> 0
A10: 1.2. | B10: Szolgáltatások ellenértéke | C10: ='Z_6.3.sz.mell'!C10 -> 10903145 | D10: ='Z_6.3.sz.mell'!D10 -> 10903145 | E10: ='Z_6.3.sz.mell'!E10 -> 10676705
A11: 1.3. | B11: Közvetített szolgáltatások értéke | C11: ='Z_6.3.sz.mell'!C11 -> 0 | D11: ='Z_6.3.sz.mell'!D11 -> 0 | E11: ='Z_6.3.sz.mell'!E11 -> 0
A12: 1.4. | B12: Tulajdonosi bevételek | C12: ='Z_6.3.sz.mell'!C12 -> 0 | D12: ='Z_6.3.sz.mell'!D12 -> 0 | E12: ='Z_6.3.sz.mell'!E12 -> 0
A13: 1.5. | B13: Ellátási díjak | C13: ='Z_6.3.sz.mell'!C13 -> 1412164 | D13: ='Z_6.3.sz.mell'!D13 -> 1912164 | E13: ='Z_6.3.sz.mell'!E13 -> 1481027
A14: 1.6. | B14: Kiszámlázott általános forgalmi adó | C14: ='Z_6.3.sz.mell'!C14 -> 3163133 | D14: ='Z_6.3.sz.mell'!D14 -> 3298133 | E14: ='Z_6.3.sz.mell'!E14 -> 3273497
A15: 1.7. | B15: Általános forgalmi adó visszatérülése | C15: ='Z_6.3.sz.mell'!C15 -> 0 | D15: ='Z_6.3.sz.mell'!D15 -> 0 | E15: ='Z_6.3.sz.mell'!E15 -> 0
A16: 1.8. | B16: Kamatbevételek | C16: ='Z_6.3.sz.mell'!C16 -> 0 | D16: ='Z_6.3.sz.mell'!D16 -> 0 | E16: ='Z_6.3.sz.mell'!E16 -> 1
A17: 1.9. | B17: Egyéb pénzügyi műveletek bevételei | C17: ='Z_6.3.sz.mell'!C17 -> 0 | D17: ='Z_6.3.sz.mell'!D17 -> 0 | E17: ='Z_6.3.sz.mell'!E17 -> 0
A18: 1.10. | B18: Biztosító által fizetett kártérítés | C18: ='Z_6.3.sz.mell'!C18 -> 0 | D18: ='Z_6.3.sz.mell'!D18 -> 0 | E18: ='Z_6.3.sz.mell'!E18 -> 0
A19: 1.11. | B19: Egyéb működési bevételek | C19: ='Z_6.3.sz.mell'!C19 -> 0 | D19: ='Z_6.3.sz.mell'!D19 -> 120000 | E19: ='Z_6.3.sz.mell'!E19 -> 16238
... A41: 10. | B41: BEVÉTELEK ÖSSZESEN: (8.+9.) | C41: ='Z_6.3.sz.mell'!C41 -> 149539478 | D41: ='Z_6.3.sz.mell'!D41 -> 157388809 | E41: ='Z_6.3.sz.mell'!E41 -> 145236784
A44: Kiadások
A45: 1. | B45: Működési költségvetés kiadásai (1.1+…+1.5.) | C45: ='Z_6.3.sz.mell'!C45 -> 146262878 | D45: ='Z_6.3.sz.mell'!D45 -> 154112209 | E45: ='Z_6.3.sz.mell'!E45 -> 139261378
A46: 1.1. | B46: Személyi juttatások | C46: ='Z_6.3.sz.mell'!C46 -> 74959350 | D46: ='Z_6.3.sz.mell'!D46 -> 79844442 | E46: ='Z_6.3.sz.mell'!E46 -> 74723207
A47: 1.2. | B47: Munkaadókat terhelő járulékok és szociális hozzájárulási adó | C47: ='Z_6.3.sz.mell'!C47 -> 12900878 | D47: ='Z_6.3.sz.mell'!D47 -> 13400878 | E47: ='Z_6.3.sz.mell'!E47 -> 11279199
A48: 1.3. | B48: Dologi kiadások | C48: ='Z_6.3.sz.mell'!C48 -> 58402650 | D48: ='Z_6.3.sz.mell'!D48 -> 60866889 | E48: ='Z_6.3.sz.mell'!E48 -> 53258972
A49: 1.4. | B49: Ellátottak pénzbeli juttatásai | C49: ='Z_6.3.sz.mell'!C49 -> 0 | D49: ='Z_6.3.sz.mell'!D49 -> 0 | E49: ='Z_6.3.sz.mell'!E49 -> 0
A50: 1.5. | B50: Egyéb működési célú kiadások | C50: ='Z_6.3.sz.mell'!C50 -> 0 | D50: ='Z_6.3.sz.mell'!D50 -> 0 | E50: ='Z_6.3.sz.mell'!E50 -> 0
A51: 2. | B51: Felhalmozási költségvetés kiadásai (2.1.+…+2.3.) | C51: ='Z_6.3.sz.mell'!C51 -> 3276600 | D51: ='Z_6.3.sz.mell'!D51 -> 3276600 | E51: ='Z_6.3.sz.mell'!E51 -> 2312524
A52: 2.1. | B52: Beruházások | C52: ='Z_6.3.sz.mell'!C52 -> 3276600 | D52: ='Z_6.3.sz.mell'!D52 -> 3276600 | E52: ='Z_6.3.sz.mell'!E52 -> 2312524
A53: 2.2. | B53: Felújítások | C53: ='Z_6.3.sz.mell'!C53 -> 0 | D53: ='Z_6.3.sz.mell'!D53 -> 0 | E53: ='Z_6.3.sz.mell'!E53 -> 0
A54: 2.3. | B54: Egyéb fejlesztési célú kiadások | C54: ='Z_6.3.sz.mell'!C54 -> 0 | D54: ='Z_6.3.sz.mell'!D54 -> 0 | E54: ='Z_6.3.sz.mell'!E54 -> 0
A55: 2.4. | B55: 2.3.-ból EU-s támogatásból megvalósuló programok, projektek kiadása | C55: ='Z_6.3.sz.mell'!C55 -> 0 | D55: ='Z_6.3.sz.mell'!D55 -> 0 | E55: ='Z_6.3.sz.mell'!E55 -> 0
A56: 3. | B56: Finanszírozási kiadások | C56: ='Z_6.3.sz.mell'!C56 -> 0 | D56: ='Z_6.3.sz.mell'!D56 -> 0 | E56: ='Z_6.3.sz.mell'!E56 -> 0
A57: 4. | B57: KIADÁSOK ÖSSZESEN: (1.+2.+3.) | C57: ='Z_6.3.sz.mell'!C57 -> 149539478 | D57: ='Z_6.3.sz.mell'!D57 -> 157388809 | E57: ='Z_6.3.sz.mell'!E57 -> 141573902
C58: =C41-C57 -> 0 | D58: =D41-D57 -> 0
A59: Tényleges állományi létszám előirányzat (fő) | C59: ='Z_6.3.sz.mell'!C59 -> 19 | D59: ='Z_6.3.sz.mell'!D59 -> 19 | E59: ='Z_6.3.sz.mell'!E59 -> 19
A60: Közfoglalkoztatottak tényleges állományi létszáma (fő) | C60: ='Z_6.3.sz.mell'!C60 -> 0 | D60: ='Z_6.3.sz.mell'!D60 -> 0 | E60: ='Z_6.3.sz.mell'!E60 -> 0

Sheet Z_6.3.2.sz.mell
B1: =CONCATENATE(Z_ALAPADATOK!M13,"2. melléklet ",Z_ALAPADATOK!A7," ",Z_ALAPADATOK!B7," ",Z_ALAPADATOK!C7," ",Z_ALAPADATOK!D7," ",Z_ALAPADATOK!E7," ",Z_ALAPADATOK!F7," ",Z_ALAPADATOK!G7," ",Z_ALAPADATOK!H7) -> 6.3.2. melléklet a … / 2022. ( … ) önkormányzati rendelethez
A2: Költségvetési szerv | B2: =CONCATENATE('Z_6.3.1.sz.mell'!B2:D2) -> Sajószögedi Általános Művelődési Központ - Család és Gyermekjóléti Szolgálat - Konyha - Művelődési Ház és Könyvtár | E2: 03
A3: Feladat megnevezése | B3: Önként vállalt feladatok bevételei, kiadásai | E3: 03
E4: ='Z_6.3.1.sz.mell'!E4 -> Forintban!
A5: Száma | B5: Kiemelt előirányzat, előirányzat megnevezése | C5: Eredeti előirányzat | D5: Módosított előirányzat | E5: =+CONCATENATE("Teljesítés",CHAR(10),LEFT(Z_ÖSSZEFÜGGÉSEK!A6,4),". XII. 31.") -> Teljesítés 2021. XII. 31.
A6: A | B6: B | C6: C | D6: D | E6: E
A7: Bevételek
A8: 1. | B8: Működési bevételek (1.1.+…+1.11.) | C8: =SUM(C9:C19) -> 0 | D8: =SUM(D9:D19) -> 0 | E8: =SUM(E9:E19) -> 0
A9: 1.1. | B9: Készletértékesítés ellenértéke
A10: 1.2. | B10: Szolgáltatások ellenértéke
A11: 1.3. | B11: Közvetített szolgáltatások értéke
A12: 1.4. | B12: Tulajdonosi bevételek
A13: 1.5. | B13: Ellátási díjak
A14: 1.6. | B14: Kiszámlázott általános forgalmi adó
A15: 1.7. | B15: Általános forgalmi adó visszatérülése
A16: 1.8. | B16: Kamatbevételek
A17: 1.9. | B17: Egyéb pénzügyi műveletek bevételei
A18: 1.10. | B18: Biztosító által fizetett kártérítés
A19: 1.11. | B19: Egyéb működési bevételek
A20: 2. | B20: Működési célú támogatások államháztartáson belülről (2.1.+…+2.3.) | C20: =SUM(C21:C23) -> 0 | D20: =SUM(D21:D23) -> 0 | E20: =SUM(E21:E23) -> 0
A21: 2.1. | B21: Elvonások és befizetések bevételei
A22: 2.2. | B22: Visszatérítendő támogatások, kölcsönök visszatérülése ÁH-n belülről
A23: 2.3. | B23: Egyéb működési célú támogatások bevételei államháztartáson belülről
A24: 2.4. | B24: 2.3.-ból EU támogatás
A25: 3. | B25: Közhatalmi bevételek
A26: 4. | B26: Felhalmozási célú támogatások államháztartáson belülről (4.1.+4.2.) | C26: =+C27+C28 -> 0 | D26: =+D27+D28 -> 0 | E26: =+E27+E28 -> 0
A27: 4.1. | B27: Visszatérítendő támogatások, kölcsönök visszatérülése ÁH-n belülről
A28: 4.2. | B28: Egyéb felhalmozási célú támogatások bevételei államháztartáson belülről
A29: 4.3. | B29: 4.2.-ből EU-s támogatás
A30: 5. | B30: Felhalmozási bevételek (5.1.+…+5.3.) | C30: =+C31+C32+C33 -> 0 | D30: =+D31+D32+D33 -> 0 | E30: =+E31+E32+E33 -> 0
A31: 5.1. | B31: Immateriális javak értékesítése
A32: 5.2. | B32: Ingatlanok értékesítése
A33: 5.3. | B33: Egyéb tárgyi eszközök értékesítése
A34: 6. | B34: Működési célú átvett pénzeszközök
A35: 7. | B35: Felhalmozási célú átvett pénzeszközök
A36: 8. | B36: KÖLTSÉGVETÉSI BEVÉTELEK ÖSSZESEN (1.+…+7.) | C36: =+C8+C20+C25+C26+C30+C34+C35 -> 0 | D36: =+D8+D20+D25+D26+D30+D34+D35 -> 0 | E36: =+E8+E20+E25+E26+E30+E34+E35 -> 0
A37: 9. | B37: Finanszírozási bevételek (9.1.+…+9.3.) | C37: =+C38+C39+C40 -> 0 | D37: =+D38+D39+D40 -> 0 | E37: =+E38+E39+E40 -> 0
A38: 9.1. | B38: Költségvetési maradvány igénybevétele
A39: 9.2. | B39: Vállalkozási maradvány igénybevétele
A40: 9.3. | B40: Irányító szervi (önkormányzati) támogatás (intézményfinanszírozás)
A41: 10. | B41: BEVÉTELEK ÖSSZESEN: (8.+9.) | C41: =+C36+C37 -> 0 | D41: =+D36+D37 -> 0 | E41: =+E36+E37 -> 0
A44: Kiadások
A45: 1. | B45: Működési költségvetés kiadásai (1.1+…+1.5.) | C45: =SUM(C46:C50) -> 0 | D45: =SUM(D46:D50) -> 0 | E45: =SUM(E46:E50) -> 0
A46: 1.1. | B46: Személyi juttatások
A47: 1.2. | B47: Munkaadókat terhelő járulékok és szociális hozzájárulási adó
A48: 1.3. | B48: Dologi kiadások
A49: 1.4. | B49: Ellátottak pénzbeli juttatásai
A50: 1.5. | B50: Egyéb működési célú kiadások
A51: 2. | B51: Felhalmozási költségvetés kiadásai (2.1.+…+2.3.) | C51: =SUM(C52:C54) -> 0 | D51: =SUM(D52:D54) -> 0 | E51: =SUM(E52:E54) -> 0
A52: 2.1. | B52: Beruházások
A53: 2.2. | B53: Felújítások
A54: 2.3. | B54: Egyéb fejlesztési célú kiadások
A55: 2.4. | B55: 2.3.-ból EU-s támogatásból megvalósuló programok, projektek kiadása
A56: 3. | B56: Finanszírozási kiadások
A57: 4. | B57: KIADÁSOK ÖSSZESEN: (1.+2.+3.) | C57: =+C45+C51+C56 -> 0 | D57: =+D45+D51+D56 -> 0 | E57: =+E45+E51+E56 -> 0
C58: =C41-C57 -> 0 | D58: =D41-D57 -> 0
A59: Tényleges állományi létszám előirányzat (fő)
A60: Közfoglalkoztatottak tényleges állományi létszáma (fő)

Sheet Z_6.3.3.sz.mell
B1: =CONCATENATE(Z_ALAPADATOK!M13,"3. melléklet ",Z_ALAPADATOK!A7," ",Z_ALAPADATOK!B7," ",Z_ALAPADATOK!C7," ",Z_ALAPADATOK!D7," ",Z_ALAPADATOK!E7," ",Z_ALAPADATOK!F7," ",Z_ALAPADATOK!G7," ",Z_ALAPADATOK!H7) -> 6.3.3. melléklet a … / 2022. ( … ) önkormányzati rendelethez
A2: Költségvetési szerv | B2: =CONCATENATE('Z_6.3.2.sz.mell'!B2:D2) -> Sajószögedi Általános Művelődési Központ - Család és Gyermekjóléti Szolgálat - Konyha - Művelődési Ház és Könyvtár | E2: 03
A3: Feladat megnevezése | B3: Államigazgatási feladatok bevételei, kiadásai | E3: 04
E4: ='Z_6.3.2.sz.mell'!E4 -> Forintban!
A5: Száma | B5: Kiemelt előirányzat, előirányzat megnevezése | C5: Eredeti előirányzat | D5: Módosított előirányzat | E5: =CONCATENATE('Z_6.3.2.sz.mell'!E5) -> Teljesítés 2021. XII. 31.
A6: A | B6: B | C6: C | D6: D | E6: E
A7: Bevételek
A8: 1. | B8: Működési bevételek (1.1.+…+1.11.) | C8: =SUM(C9:C19) -> 0 | D8: =SUM(D9:D19) -> 0 | E8: =SUM(E9:E19) -> 0
A9: 1.1. | B9: Készletértékesítés ellenértéke
A10: 1.2. | B10: Szolgáltatások ellenértéke
A11: 1.3. | B11: Közvetített szolgáltatások értéke
A12: 1.4. | B12: Tulajdonosi bevételek
A13: 1.5. | B13: Ellátási díjak
A14: 1.6. | B14: Kiszámlázott általános forgalmi adó
A15: 1.7. | B15: Általános forgalmi adó visszatérülése
A16: 1.8. | B16: Kamatbevételek
A17: 1.9. | B17: Egyéb pénzügyi műveletek bevételei
A18: 1.10. | B18: Biztosító által fizetett kártérítés
A19: 1.11. | B19: Egyéb működési bevételek
A20: 2. | B20: Működési célú támogatások államháztartáson belülről (2.1.+…+2.3.) | C20: =SUM(C21:C23) -> 0 | D20: =SUM(D21:D23) -> 0 | E20: =SUM(E21:E23) -> 0
A21: 2.1. | B21: Elvonások és befizetések bevételei
A22: 2.2. | B22: Visszatérítendő támogatások, kölcsönök visszatérülése ÁH-n belülről
A23: 2.3. | B23: Egyéb működési célú támogatások bevételei államháztartáson belülről
A24: 2.4. | B24: 2.3.-ból EU támogatás
A25: 3. | B25: Közhatalmi bevételek
A26: 4. | B26: Felhalmozási célú támogatások államháztartáson belülről (4.1.+4.2.) | C26: =+C27+C28 -> 0 | D26: =+D27+D28 -> 0 | E26: =+E27+E28 -> 0
A27: 4.1. | B27: Visszatérítendő támogatások, kölcsönök visszatérülése ÁH-n belülről
A28: 4.2. | B28: Egyéb felhalmozási célú támogatások bevételei államháztartáson belülről
A29: 4.3. | B29: 4.2.-ből EU-s támogatás
A30: 5. | B30: Felhalmozási bevételek (5.1.+…+5.3.) | C30: =+C31+C32+C33 -> 0 | D30: =+D31+D32+D33 -> 0 | E30: =+E31+E32+E33 -> 0
A31: 5.1. | B31: Immateriális javak értékesítése
A32: 5.2. | B32: Ingatlanok értékesítése
A33: 5.3. | B33: Egyéb tárgyi eszközök értékesítése
A34: 6. | B34: Működési célú átvett pénzeszközök
A35: 7. | B35: Felhalmozási célú átvett pénzeszközök
A36: 8. | B36: KÖLTSÉGVETÉSI BEVÉTELEK ÖSSZESEN (1.+…+7.) | C36: =+C8+C20+C25+C26+C30+C34+C35 -> 0 | D36: =+D8+D20+D25+D26+D30+D34+D35 -> 0 | E36: =+E8+E20+E25+E26+E30+E34+E35 -> 0
A37: 9. | B37: Finanszírozási bevételek (9.1.+…+9.3.) | C37: =+C38+C39+C40 -> 0 | D37: =+D38+D39+D40 -> 0 | E37: =+E38+E39+E40 -> 0
A38: 9.1. | B38: Költségvetési maradvány igénybevétele
A39: 9.2. | B39: Vállalkozási maradvány igénybevétele
A40: 9.3. | B40: Irányító szervi (önkormányzati) támogatás (intézményfinanszírozás)
A41: 10. | B41: BEVÉTELEK ÖSSZESEN: (8.+9.) | C41: =+C36+C37 -> 0 | D41: =+D36+D37 -> 0 | E41: =+E36+E37 -> 0
A44: Kiadások
A45: 1. | B45: Működési költségvetés kiadásai (1.1+…+1.5.) | C45: =SUM(C46:C50) -> 0 | D45: =SUM(D46:D50) -> 0 | E45: =SUM(E46:E50) -> 0
A46: 1.1. | B46: Személyi juttatások
A47: 1.2. | B47: Munkaadókat terhelő járulékok és szociális hozzájárulási adó
A48: 1.3. | B48: Dologi kiadások
A49: 1.4. | B49: Ellátottak pénzbeli juttatásai
A50: 1.5. | B50: Egyéb működési célú kiadások
A51: 2. | B51: Felhalmozási költségvetés kiadásai (2.1.+…+2.3.) | C51: =SUM(C52:C54) -> 0 | D51: =SUM(D52:D54) -> 0 | E51: =SUM(E52:E54) -> 0
A52: 2.1. | B52: Beruházások
A53: 2.2. | B53: Felújítások
A54: 2.3. | B54: Egyéb fejlesztési célú kiadások
A55: 2.4. | B55: 2.3.-ból EU-s támogatásból megvalósuló programok, projektek kiadása
A56: 3. | B56: Finanszírozási kiadások
A57: 4. | B57: KIADÁSOK ÖSSZESEN: (1.+2.+3.) | C57: =+C45+C51+C56 -> 0 | D57: =+D45+D51+D56 -> 0 | E57: =+E45+E51+E56 -> 0
C58: =C41-C57 -> 0 | D58: =D41-D57 -> 0
A59: Tényleges állományi létszám előirányzat (fő)
A60: Közfoglalkoztatottak tényleges állományi létszáma (fő)

Sheet Z_6.4.sz.mell
B1: =CONCATENATE(Z_ALAPADATOK!M15," melléklet ",Z_ALAPADATOK!A7," ",Z_ALAPADATOK!B7," ",Z_ALAPADATOK!C7," ",Z_ALAPADATOK!D7," ",Z_ALAPADATOK!E7," ",Z_ALAPADATOK!F7," ",Z_ALAPADATOK!G7," ",Z_ALAPADATOK!H7) -> 6.4. melléklet a … / 2022. ( … ) önkormányzati rendelethez
A2: Költségvetési szerv | B2: =CONCATENATE(Z_ALAPADATOK!B15) -> Sajószögedi Zöld Sziget Bölcsőde | E2: 04
A3: Feladat megnevezése | B3: Összes bevétel, kiadás | E3: 01
E4: ='Z_6.2.3.sz.mell'!E4 -> Forintban!
A5: Száma | B5: Kiemelt előirányzat, előirányzat megnevezése | C5: Eredeti előirányzat | D5: Módosított előirányzat | E5: =CONCATENATE('Z_6.3.3.sz.mell'!E5) -> Teljesítés 2021. XII. 31.
A6: A | B6: B | C6: C | D6: D | E6: E
A7: Bevételek
A8: 1. | B8: Működési bevételek (1.1.+…+1.11.) | C8: =SUM(C9:C19) -> 3800000 | D8: =SUM(D9:D19) -> 2750000 | E8: =SUM(E9:E19) -> 2085792
A9: 1.1. | B9: Készletértékesítés ellenértéke
A10: 1.2. | B10: Szolgáltatások ellenértéke | C10: 2992126
A11: 1.3. | B11: Közvetített szolgáltatások értéke
A12: 1.4. | B12: Tulajdonosi bevételek
A13: 1.5. | B13: Ellátási díjak | D13: 2700000 | E13: 2083000
A14: 1.6. | B14: Kiszámlázott általános forgalmi adó | C14: 807874
A15: 1.7. | B15: Általános forgalmi adó visszatérülése
A16: 1.8. | B16: Kamatbevételek
A17: 1.9. | B17: Egyéb pénzügyi műveletek bevételei
A18: 1.10. | B18: Biztosító által fizetett kártérítés
A19: 1.11. | B19: Egyéb működési bevételek | D19: 50000 | E19: 2792
A20: 2. | B20: Működési célú támogatások államháztartáson belülről (2.1.+…+2.3.) | C20: =SUM(C21:C23) -> 0 | D20: =SUM(D21:D23) -> 0 | E20: =SUM(E21:E23) -> 0
A21: 2.1. | B21: Elvonások és befizetések bevételei
A22: 2.2. | B22: Visszatérítendő támogatások, kölcsönök visszatérülése ÁH-n belülről
A23: 2.3. | B23: Egyéb működési célú támogatások bevételei államháztartáson belülről
A24: 2.4. | B24: 2.3.-ból EU támogatás
A25: 3. | B25: Közhatalmi bevételek
A26: 4. | B26: Felhalmozási célú támogatások államháztartáson belülről (4.1.+4.2.) | C26: =+C27+C28 -> 0 | D26: =+D27+D28 -> 0 | E26: =+E27+E28 -> 0
A27: 4.1. | B27: Visszatérítendő támogatások, kölcsönök visszatérülése ÁH-n belülről
A28: 4.2. | B28: Egyéb felhalmozási célú támogatások bevételei államháztartáson belülről
A29: 4.3. | B29: 4.2.-ből EU-s támogatás
A30: 5. | B30: Felhalmozási bevételek (5.1.+…+5.3.) | C30: =+C31+C32+C33 -> 0 | D30: =+D31+D32+D33 -> 0 | E30: =+E31+E32+E33 -> 0
A31: 5.1. | B31: Immateriális javak értékesítése
A32: 5.2. | B32: Ingatlanok értékesítése
A33: 5.3. | B33: Egyéb tárgyi eszközök értékesítése
A34: 6. | B34: Működési célú átvett pénzeszközök | E34: 150000
A35: 7. | B35: Felhalmozási célú átvett pénzeszközök
A36: 8. | B36: KÖLTSÉGVETÉSI BEVÉTELEK ÖSSZESEN (1.+…+7.) | C36: =+C8+C20+C25+C26+C30+C34+C35 -> 3800000 | D36: =+D8+D20+D25+D26+D30+D34+D35 -> 2750000 | E36: =+E8+E20+E25+E26+E30+E34+E35 -> 2235792
A37: 9. | B37: Finanszírozási bevételek (9.1.+…+9.3.) | C37: =+C38+C39+C40 -> 36536781 | D37: =+D38+D39+D40 -> 42034481 | E37: =+E38+E39+E40 -> 37587205
A38: 9.1. | B38: Költségvetési maradvány igénybevétele | C38: 383696 | D38: 383696 | E38: 383696
A39: 9.2. | B39: Vállalkozási maradvány igénybevétele | D39: 0
A40: 9.3. | B40: Irányító szervi (önkormányzati) támogatás (intézményfinanszírozás) | C40: 36153085 | D40: 41650785 | E40: 37203509
A41: 10. | B41: BEVÉTELEK ÖSSZESEN: (8.+9.) | C41: =+C36+C37 -> 40336781 | D41: =+D36+D37 -> 44784481 | E41: =+E36+E37 -> 39822997
A44: Kiadások
A45: 1. | B45: Működési költségvetés kiadásai (1.1+…+1.5.) | C45: =SUM(C46:C50) -> 39054081 | D45: =SUM(D46:D50) -> 43501781 | E45: =SUM(E46:E50) -> 38840117
A46: 1.1. | B46: Személyi juttatások | C46: 29943670 | D46: 32061883 | E46: 29179385
A47: 1.2. | B47: Munkaadókat terhelő járulékok és szociális hozzájárulási adó | C47: 4735261 | D47: 4819898 | E47: 4519455
A48: 1.3. | B48: Dologi kiadások | C48: 4375150 | D48: 6620000 | E48: 5141277
A49: 1.4. | B49: Ellátottak pénzbeli juttatásai
A50: 1.5. | B50: Egyéb működési célú kiadások
A51: 2. | B51: Felhalmozási költségvetés kiadásai (2.1.+…+2.3.) | C51: =SUM(C52:C54) -> 1282700 | D51: =SUM(D52:D54) -> 1282700 | E51: =SUM(E52:E54) -> 730011
A52: 2.1. | B52: Beruházások | C52: 1282700 | D52: 1282700 | E52: 730011
A53: 2.2. | B53: Felújítások
A54: 2.3. | B54: Egyéb fejlesztési célú kiadások
A55: 2.4. | B55: 2.3.-ból EU-s támogatásból megvalósuló programok, projektek kiadása
A56: 3. | B56: Finanszírozási kiadások
A57: 4. | B57: KIADÁSOK ÖSSZESEN: (1.+2.+3.) | C57: =+C45+C51+C56 -> 40336781 | D57: =+D45+D51+D56 -> 44784481 | E57: =+E45+E51+E56 -> 39570128
C58: =C41-C57 -> 0 | D58: =D41-D57 -> 0
A59: Tényleges állományi létszám előirányzat (fő) | C59: 8 | D59: 8 | E59: 8
A60: Közfoglalkoztatottak tényleges állományi létszáma (fő)

Sheet Z_6.4.1.sz.mell
B1: =CONCATENATE(Z_ALAPADATOK!M15,"1. melléklet ",Z_ALAPADATOK!A7," ",Z_ALAPADATOK!B7," ",Z_ALAPADATOK!C7," ",Z_ALAPADATOK!D7," ",Z_ALAPADATOK!E7," ",Z_ALAPADATOK!F7," ",Z_ALAPADATOK!G7," ",Z_ALAPADATOK!H7) -> 6.4.1. melléklet a … / 2022. ( … ) önkormányzati rendelethez
A2: Költségvetési szerv | B2: =CONCATENATE('Z_6.4.sz.mell'!B2:D2) -> Sajószögedi Zöld Sziget Bölcsőde | E2: 04
A3: Feladat megnevezése | B3: Kötelező feladatok bevételei, kiadásai | E3: 02
E4: ='Z_6.4.sz.mell'!E4 -> Forintban!
A5: Száma | B5: Kiemelt előirányzat, előirányzat megnevezése | C5: Eredeti előirányzat | D5: Módosított előirányzat | E5: =CONCATENATE('Z_6.4.sz.mell'!E5) -> Teljesítés 2021. XII. 31.
A6: A | B6: B | C6: C | D6: D | E6: E
A7: Bevételek
A8: 1. | B8: Működési bevételek (1.1.+…+1.11.) | C8: ='Z_6.4.sz.mell'!C8 -> 3800000 | D8: ='Z_6.4.sz.mell'!D8 -> 2750000 | E8: ='Z_6.4.sz.mell'!E8 -> 2085792
A9: 1.1. | B9: Készletértékesítés ellenértéke | C9: ='Z_6.4.sz.mell'!C9 -> 0 | D9: ='Z_6.4.sz.mell'!D9 -> 0 | E9: ='Z_6.4.sz.mell'!E9 -> 0
A10: 1.2. | B10: Szolgáltatások ellenértéke | C10: ='Z_6.4.sz.mell'!C10 -> 2992126 | D10: ='Z_6.4.sz.mell'!D10 -> 0 | E10: ='Z_6.4.sz.mell'!E10 -> 0
A11: 1.3. | B11: Közvetített szolgáltatások értéke | C11: ='Z_6.4.sz.mell'!C11 -> 0 | D11: ='Z_6.4.sz.mell'!D11 -> 0 | E11: ='Z_6.4.sz.mell'!E11 -> 0
A12: 1.4. | B12: Tulajdonosi bevételek | C12: ='Z_6.4.sz.mell'!C12 -> 0 | D12: ='Z_6.4.sz.mell'!D12 -> 0 | E12: ='Z_6.4.sz.mell'!E12 -> 0
A13: 1.5. | B13: Ellátási díjak | C13: ='Z_6.4.sz.mell'!C13 -> 0 | D13: ='Z_6.4.sz.mell'!D13 -> 2700000 | E13: ='Z_6.4.sz.mell'!E13 -> 2083000
A14: 1.6. | B14: Kiszámlázott általános forgalmi adó | C14: ='Z_6.4.sz.mell'!C14 -> 807874 | D14: ='Z_6.4.sz.mell'!D14 -> 0 | E14: ='Z_6.4.sz.mell'!E14 -> 0
A15: 1.7. | B15: Általános forgalmi adó visszatérülése | C15: ='Z_6.4.sz.mell'!C15 -> 0 | D15: ='Z_6.4.sz.mell'!D15 -> 0 | E15: ='Z_6.4.sz.mell'!E15 -> 0
A16: 1.8. | B16: Kamatbevételek | C16: ='Z_6.4.sz.mell'!C16 -> 0 | D16: ='Z_6.4.sz.mell'!D16 -> 0 | E16: ='Z_6.4.sz.mell'!E16 -> 0
A17: 1.9. | B17: Egyéb pénzügyi műveletek bevételei | C17: ='Z_6.4.sz.mell'!C17 -> 0 | D17: ='Z_6.4.sz.mell'!D17 -> 0 | E17: ='Z_6.4.sz.mell'!E17 -> 0
A18: 1.10. | B18: Biztosító által fizetett kártérítés | C18: ='Z_6.4.sz.mell'!C18 -> 0 | D18: ='Z_6.4.sz.mell'!D18 -> 0 | E18: ='Z_6.4.sz.mell'!E18 -> 0
A19: 1.11. | B19: Egyéb működési bevételek | C19: ='Z_6.4.sz.mell'!C19 -> 0 | D19: ='Z_6.4.sz.mell'!D19 -> 50000 | E19: ='Z_6.4.sz.mell'!E19 -> 2792
... A41: 10. | B41: BEVÉTELEK ÖSSZESEN: (8.+9.) | C41: ='Z_6.4.sz.mell'!C41 -> 40336781 | D41: ='Z_6.4.sz.mell'!D41 -> 44784481 | E41: ='Z_6.4.sz.mell'!E41 -> 39822997
A44: Kiadások
A45: 1. | B45: Működési költségvetés kiadásai (1.1+…+1.5.) | C45: =SUM(C46:C50) -> 39054081 | D45: =SUM(D46:D50) -> 43501781 | E45: =SUM(E46:E50) -> 38840117
A46: 1.1. | B46: Személyi juttatások | C46: ='Z_6.4.sz.mell'!C46 -> 29943670 | D46: ='Z_6.4.sz.mell'!D46 -> 32061883 | E46: ='Z_6.4.sz.mell'!E46 -> 29179385
A47: 1.2. | B47: Munkaadókat terhelő járulékok és szociális hozzájárulási adó | C47: ='Z_6.4.sz.mell'!C47 -> 4735261 | D47: ='Z_6.4.sz.mell'!D47 -> 4819898 | E47: ='Z_6.4.sz.mell'!E47 -> 4519455
A48: 1.3. | B48: Dologi kiadások | C48: ='Z_6.4.sz.mell'!C48 -> 4375150 | D48: ='Z_6.4.sz.mell'!D48 -> 6620000 | E48: ='Z_6.4.sz.mell'!E48 -> 5141277
A49: 1.4. | B49: Ellátottak pénzbeli juttatásai | C49: ='Z_6.4.sz.mell'!C49 -> 0 | D49: ='Z_6.4.sz.mell'!D49 -> 0 | E49: ='Z_6.4.sz.mell'!E49 -> 0
A50: 1.5. | B50: Egyéb működési célú kiadások | C50: ='Z_6.4.sz.mell'!C50 -> 0 | D50: ='Z_6.4.sz.mell'!D50 -> 0 | E50: ='Z_6.4.sz.mell'!E50 -> 0
A51: 2. | B51: Felhalmozási költségvetés kiadásai (2.1.+…+2.3.) | C51: ='Z_6.4.sz.mell'!C51 -> 1282700 | D51: ='Z_6.4.sz.mell'!D51 -> 1282700 | E51: ='Z_6.4.sz.mell'!E51 -> 730011
A52: 2.1. | B52: Beruházások | C52: ='Z_6.4.sz.mell'!C52 -> 1282700 | D52: ='Z_6.4.sz.mell'!D52 -> 1282700 | E52: ='Z_6.4.sz.mell'!E52 -> 730011
A53: 2.2. | B53: Felújítások | C53: ='Z_6.4.sz.mell'!C53 -> 0 | D53: ='Z_6.4.sz.mell'!D53 -> 0 | E53: ='Z_6.4.sz.mell'!E53 -> 0
A54: 2.3. | B54: Egyéb fejlesztési célú kiadások | C54: ='Z_6.4.sz.mell'!C54 -> 0 | D54: ='Z_6.4.sz.mell'!D54 -> 0 | E54: ='Z_6.4.sz.mell'!E54 -> 0
A55: 2.4. | B55: 2.3.-ból EU-s támogatásból megvalósuló programok, projektek kiadása | C55: ='Z_6.4.sz.mell'!C55 -> 0 | D55: ='Z_6.4.sz.mell'!D55 -> 0 | E55: ='Z_6.4.sz.mell'!E55 -> 0
A56: 3. | B56: Finanszírozási kiadások | C56: ='Z_6.4.sz.mell'!C56 -> 0 | D56: ='Z_6.4.sz.mell'!D56 -> 0 | E56: ='Z_6.4.sz.mell'!E56 -> 0
A57: 4. | B57: KIADÁSOK ÖSSZESEN: (1.+2.+3.) | C57: =+C45+C51+C56 -> 40336781 | D57: =+D45+D51+D56 -> 44784481 | E57: =+E45+E51+E56 -> 39570128
C58: =C41-C57 -> 0 | D58: =D41-D57 -> 0
A59: Tényleges állományi létszám előirányzat (fő) | C59: ='Z_6.4.sz.mell'!C59 -> 8 | D59: ='Z_6.4.sz.mell'!D59 -> 8 | E59: ='Z_6.4.sz.mell'!E59 -> 8
A60: Közfoglalkoztatottak tényleges állományi létszáma (fő) | C60: ='Z_6.4.sz.mell'!C60 -> 0 | D60: ='Z_6.4.sz.mell'!D60 -> 0 | E60: ='Z_6.4.sz.mell'!E60 -> 0

Sheet Z_6.4.2.sz.mell
B1: =CONCATENATE(Z_ALAPADATOK!M15,"2. melléklet ",Z_ALAPADATOK!A7," ",Z_ALAPADATOK!B7," ",Z_ALAPADATOK!C7," ",Z_ALAPADATOK!D7," ",Z_ALAPADATOK!E7," ",Z_ALAPADATOK!F7," ",Z_ALAPADATOK!G7," ",Z_ALAPADATOK!H7) -> 6.4.2. melléklet a … / 2022. ( … ) önkormányzati rendelethez
A2: Költségvetési szerv | B2: =CONCATENATE('Z_6.4.1.sz.mell'!B2:D2) -> Sajószögedi Zöld Sziget Bölcsőde | E2: 04
A3: Feladat megnevezése | B3: Önként vállalt feladatok bevételei, kiadásai | E3: 03
E4: ='Z_6.4.1.sz.mell'!E4 -> Forintban!
A5: Száma | B5: Kiemelt előirányzat, előirányzat megnevezése | C5: Eredeti előirányzat | D5: Módosított előirányzat | E5: =CONCATENATE('Z_6.4.1.sz.mell'!E5) -> Teljesítés 2021. XII. 31.
A6: A | B6: B | C6: C | D6: D | E6: E
A7: Bevételek
A8: 1. | B8: Működési bevételek (1.1.+…+1.11.) | C8: =SUM(C9:C19) -> 0 | D8: =SUM(D9:D19) -> 0 | E8: =SUM(E9:E19) -> 0
A9: 1.1. | B9: Készletértékesítés ellenértéke
A10: 1.2. | B10: Szolgáltatások ellenértéke
A11: 1.3. | B11: Közvetített szolgáltatások értéke
A12: 1.4. | B12: Tulajdonosi bevételek
A13: 1.5. | B13: Ellátási díjak
A14: 1.6. | B14: Kiszámlázott általános forgalmi adó
A15: 1.7. | B15: Általános forgalmi adó visszatérülése
A16: 1.8. | B16: Kamatbevételek
A17: 1.9. | B17: Egyéb pénzügyi műveletek bevételei
A18: 1.10. | B18: Biztosító által fizetett kártérítés
A19: 1.11. | B19: Egyéb működési bevételek
A20: 2. | B20: Működési célú támogatások államháztartáson belülről (2.1.+…+2.3.) | C20: =SUM(C21:C23) -> 0 | D20: =SUM(D21:D23) -> 0 | E20: =SUM(E21:E23) -> 0
A21: 2.1. | B21: Elvonások és befizetések bevételei
A22: 2.2. | B22: Visszatérítendő támogatások, kölcsönök visszatérülése ÁH-n belülről
A23: 2.3. | B23: Egyéb működési célú támogatások bevételei államháztartáson belülről
A24: 2.4. | B24: 2.3.-ból EU támogatás
A25: 3. | B25: Közhatalmi bevételek
A26: 4. | B26: Felhalmozási célú támogatások államháztartáson belülről (4.1.+4.2.) | C26: =+C27+C28 -> 0 | D26: =+D27+D28 -> 0 | E26: =+E27+E28 -> 0
A27: 4.1. | B27: Visszatérítendő támogatások, kölcsönök visszatérülése ÁH-n belülről
A28: 4.2. | B28: Egyéb felhalmozási célú támogatások bevételei államháztartáson belülről
A29: 4.3. | B29: 4.2.-ből EU-s támogatás
A30: 5. | B30: Felhalmozási bevételek (5.1.+…+5.3.) | C30: =+C31+C32+C33 -> 0 | D30: =+D31+D32+D33 -> 0 | E30: =+E31+E32+E33 -> 0
A31: 5.1. | B31: Immateriális javak értékesítése
A32: 5.2. | B32: Ingatlanok értékesítése
A33: 5.3. | B33: Egyéb tárgyi eszközök értékesítése
A34: 6. | B34: Működési célú átvett pénzeszközök
A35: 7. | B35: Felhalmozási célú átvett pénzeszközök
A36: 8. | B36: KÖLTSÉGVETÉSI BEVÉTELEK ÖSSZESEN (1.+…+7.) | C36: =+C8+C20+C25+C26+C30+C34+C35 -> 0 | D36: =+D8+D20+D25+D26+D30+D34+D35 -> 0 | E36: =+E8+E20+E25+E26+E30+E34+E35 -> 0
A37: 9. | B37: Finanszírozási bevételek (9.1.+…+9.3.) | C37: =+C38+C39+C40 -> 0 | D37: =+D38+D39+D40 -> 0 | E37: =+E38+E39+E40 -> 0
A38: 9.1. | B38: Költségvetési maradvány igénybevétele
A39: 9.2. | B39: Vállalkozási maradvány igénybevétele
A40: 9.3. | B40: Irányító szervi (önkormányzati) támogatás (intézményfinanszírozás)
A41: 10. | B41: BEVÉTELEK ÖSSZESEN: (8.+9.) | C41: =+C36+C37 -> 0 | D41: =+D36+D37 -> 0 | E41: =+E36+E37 -> 0
A44: Kiadások
A45: 1. | B45: Működési költségvetés kiadásai (1.1+…+1.5.) | C45: =SUM(C46:C50) -> 0 | D45: =SUM(D46:D50) -> 0 | E45: =SUM(E46:E50) -> 0
A46: 1.1. | B46: Személyi juttatások
A47: 1.2. | B47: Munkaadókat terhelő járulékok és szociális hozzájárulási adó
A48: 1.3. | B48: Dologi kiadások
A49: 1.4. | B49: Ellátottak pénzbeli juttatásai
A50: 1.5. | B50: Egyéb működési célú kiadások
A51: 2. | B51: Felhalmozási költségvetés kiadásai (2.1.+…+2.3.) | C51: =SUM(C52:C54) -> 0 | D51: =SUM(D52:D54) -> 0 | E51: =SUM(E52:E54) -> 0
A52: 2.1. | B52: Beruházások
A53: 2.2. | B53: Felújítások
A54: 2.3. | B54: Egyéb fejlesztési célú kiadások
A55: 2.4. | B55: 2.3.-ból EU-s támogatásból megvalósuló programok, projektek kiadása
A56: 3. | B56: Finanszírozási kiadások
A57: 4. | B57: KIADÁSOK ÖSSZESEN: (1.+2.+3.) | C57: =+C45+C51+C56 -> 0 | D57: =+D45+D51+D56 -> 0 | E57: =+E45+E51+E56 -> 0
C58: =C41-C57 -> 0 | D58: =D41-D57 -> 0
A59: Tényleges állományi létszám előirányzat (fő)
A60: Közfoglalkoztatottak tényleges állományi létszáma (fő)

Sheet Z_6.4.3.sz.mell
B1: =CONCATENATE(Z_ALAPADATOK!M15,"3. melléklet ",Z_ALAPADATOK!A7," ",Z_ALAPADATOK!B7," ",Z_ALAPADATOK!C7," ",Z_ALAPADATOK!D7," ",Z_ALAPADATOK!E7," ",Z_ALAPADATOK!F7," ",Z_ALAPADATOK!G7," ",Z_ALAPADATOK!H7) -> 6.4.3. melléklet a … / 2022. ( … ) önkormányzati rendelethez
A2: Költségvetési szerv | B2: =CONCATENATE('Z_6.4.2.sz.mell'!B2:D2) -> Sajószögedi Zöld Sziget Bölcsőde | E2: 04
A3: Feladat megnevezése | B3: Államigazgatási feladatok bevételei, kiadásai | E3: 04
E4: ='Z_6.4.2.sz.mell'!E4 -> Forintban!
A5: Száma | B5: Kiemelt előirányzat, előirányzat megnevezése | C5: Eredeti előirányzat | D5: Módosított előirányzat | E5: =CONCATENATE('Z_6.4.2.sz.mell'!E5) -> Teljesítés 2021. XII. 31.
A6: A | B6: B | C6: C | D6: D | E6: E
A7: Bevételek
A8: 1. | B8: Működési bevételek (1.1.+…+1.11.) | C8: =SUM(C9:C19) -> 0 | D8: =SUM(D9:D19) -> 0 | E8: =SUM(E9:E19) -> 0
A9: 1.1. | B9: Készletértékesítés ellenértéke
A10: 1.2. | B10: Szolgáltatások ellenértéke
A11: 1.3. | B11: Közvetített szolgáltatások értéke
A12: 1.4. | B12: Tulajdonosi bevételek
A13: 1.5. | B13: Ellátási díjak
A14: 1.6. | B14: Kiszámlázott általános forgalmi adó
A15: 1.7. | B15: Általános forgalmi adó visszatérülése
A16: 1.8. | B16: Kamatbevételek
A17: 1.9. | B17: Egyéb pénzügyi műveletek bevételei
A18: 1.10. | B18: Biztosító által fizetett kártérítés
A19: 1.11. | B19: Egyéb működési bevételek
A20: 2. | B20: Működési célú támogatások államháztartáson belülről (2.1.+…+2.3.) | C20: =SUM(C21:C23) -> 0 | D20: =SUM(D21:D23) -> 0 | E20: =SUM(E21:E23) -> 0
A21: 2.1. | B21: Elvonások és befizetések bevételei
A22: 2.2. | B22: Visszatérítendő támogatások, kölcsönök visszatérülése ÁH-n belülről
A23: 2.3. | B23: Egyéb működési célú támogatások bevételei államháztartáson belülről
A24: 2.4. | B24: 2.3.-ból EU támogatás
A25: 3. | B25: Közhatalmi bevételek
A26: 4. | B26: Felhalmozási célú támogatások államháztartáson belülről (4.1.+4.2.) | C26: =+C27+C28 -> 0 | D26: =+D27+D28 -> 0 | E26: =+E27+E28 -> 0
A27: 4.1. | B27: Visszatérítendő támogatások, kölcsönök visszatérülése ÁH-n belülről
A28: 4.2. | B28: Egyéb felhalmozási célú támogatások bevételei államháztartáson belülről
A29: 4.3. | B29: 4.2.-ből EU-s támogatás
A30: 5. | B30: Felhalmozási bevételek (5.1.+…+5.3.) | C30: =+C31+C32+C33 -> 0 | D30: =+D31+D32+D33 -> 0 | E30: =+E31+E32+E33 -> 0
A31: 5.1. | B31: Immateriális javak értékesítése
A32: 5.2. | B32: Ingatlanok értékesítése
A33: 5.3. | B33: Egyéb tárgyi eszközök értékesítése
A34: 6. | B34: Működési célú átvett pénzeszközök
A35: 7. | B35: Felhalmozási célú átvett pénzeszközök
A36: 8. | B36: KÖLTSÉGVETÉSI BEVÉTELEK ÖSSZESEN (1.+…+7.) | C36: =+C8+C20+C25+C26+C30+C34+C35 -> 0 | D36: =+D8+D20+D25+D26+D30+D34+D35 -> 0 | E36: =+E8+E20+E25+E26+E30+E34+E35 -> 0
A37: 9. | B37: Finanszírozási bevételek (9.1.+…+9.3.) | C37: =+C38+C39+C40 -> 0 | D37: =+D38+D39+D40 -> 0 | E37: =+E38+E39+E40 -> 0
A38: 9.1. | B38: Költségvetési maradvány igénybevétele
A39: 9.2. | B39: Vállalkozási maradvány igénybevétele
A40: 9.3. | B40: Irányító szervi (önkormányzati) támogatás (intézményfinanszírozás)
A41: 10. | B41: BEVÉTELEK ÖSSZESEN: (8.+9.) | C41: =+C36+C37 -> 0 | D41: =+D36+D37 -> 0 | E41: =+E36+E37 -> 0
A44: Kiadások
A45: 1. | B45: Működési költségvetés kiadásai (1.1+…+1.5.) | C45: =SUM(C46:C50) -> 0 | D45: =SUM(D46:D50) -> 0 | E45: =SUM(E46:E50) -> 0
A46: 1.1. | B46: Személyi juttatások
A47: 1.2. | B47: Munkaadókat terhelő járulékok és szociális hozzájárulási adó
A48: 1.3. | B48: Dologi kiadások
A49: 1.4. | B49: Ellátottak pénzbeli juttatásai
A50: 1.5. | B50: Egyéb működési célú kiadások
A51: 2. | B51: Felhalmozási költségvetés kiadásai (2.1.+…+2.3.) | C51: =SUM(C52:C54) -> 0 | D51: =SUM(D52:D54) -> 0 | E51: =SUM(E52:E54) -> 0
A52: 2.1. | B52: Beruházások
A53: 2.2. | B53: Felújítások
A54: 2.3. | B54: Egyéb fejlesztési célú kiadások
A55: 2.4. | B55: 2.3.-ból EU-s támogatásból megvalósuló programok, projektek kiadása
A56: 3. | B56: Finanszírozási kiadások
A57: 4. | B57: KIADÁSOK ÖSSZESEN: (1.+2.+3.) | C57: =+C45+C51+C56 -> 0 | D57: =+D45+D51+D56 -> 0 | E57: =+E45+E51+E56 -> 0
C58: =C41-C57 -> 0 | D58: =D41-D57 -> 0
A59: Tényleges állományi létszám előirányzat (fő)
A60: Közfoglalkoztatottak tényleges állományi létszáma (fő)

Sheet Z_6.5.sz.mell
B1: =CONCATENATE(Z_ALAPADATOK!M17," melléklet ",Z_ALAPADATOK!A7," ",Z_ALAPADATOK!B7," ",Z_ALAPADATOK!C7," ",Z_ALAPADATOK!D7," ",Z_ALAPADATOK!E7," ",Z_ALAPADATOK!F7," ",Z_ALAPADATOK!G7," ",Z_ALAPADATOK!H7) -> 6.5. melléklet a … / 2022. ( … ) önkormányzati rendelethez
A2: Költségvetési szerv | B2: =CONCATENATE(Z_ALAPADATOK!B17) -> 3 kvi név | E2: 05
A3: Feladat megnevezése | B3: Összes bevétel, kiadás | E3: 01
E4: ='Z_6.2.3.sz.mell'!E4 -> Forintban!
A5: Száma | B5: Kiemelt előirányzat, előirányzat megnevezése | C5: Eredeti előirányzat | D5: Módosított előirányzat | E5: =CONCATENATE('Z_6.4.3.sz.mell'!E5) -> Teljesítés 2021. XII. 31.
A6: A | B6: B | C6: C | D6: D | E6: E
A7: Bevételek
A8: 1. | B8: Működési bevételek (1.1.+…+1.11.) | C8: =SUM(C9:C19) -> 0 | D8: =SUM(D9:D19) -> 0 | E8: =SUM(E9:E19) -> 0
A9: 1.1. | B9: Készletértékesítés ellenértéke
A10: 1.2. | B10: Szolgáltatások ellenértéke
A11: 1.3. | B11: Közvetített szolgáltatások értéke
A12: 1.4. | B12: Tulajdonosi bevételek
A13: 1.5. | B13: Ellátási díjak
A14: 1.6. | B14: Kiszámlázott általános forgalmi adó
A15: 1.7. | B15: Általános forgalmi adó visszatérülése
A16: 1.8. | B16: Kamatbevételek
A17: 1.9. | B17: Egyéb pénzügyi műveletek bevételei
A18: 1.10. | B18: Biztosító által fizetett kártérítés
A19: 1.11. | B19: Egyéb működési bevételek
A20: 2. | B20: Működési célú támogatások államháztartáson belülről (2.1.+…+2.3.) | C20: =SUM(C21:C23) -> 0 | D20: =SUM(D21:D23) -> 0 | E20: =SUM(E21:E23) -> 0
A21: 2.1. | B21: Elvonások és befizetések bevételei
A22: 2.2. | B22: Visszatérítendő támogatások, kölcsönök visszatérülése ÁH-n belülről
A23: 2.3. | B23: Egyéb működési célú támogatások bevételei államháztartáson belülről
A24: 2.4. | B24: 2.3.-ból EU támogatás
A25: 3. | B25: Közhatalmi bevételek
A26: 4. | B26: Felhalmozási célú támogatások államháztartáson belülről (4.1.+4.2.) | C26: =+C27+C28 -> 0 | D26: =+D27+D28 -> 0 | E26: =+E27+E28 -> 0
A27: 4.1. | B27: Visszatérítendő támogatások, kölcsönök visszatérülése ÁH-n belülről
A28: 4.2. | B28: Egyéb felhalmozási célú támogatások bevételei államháztartáson belülről
A29: 4.3. | B29: 4.2.-ből EU-s támogatás
A30: 5. | B30: Felhalmozási bevételek (5.1.+…+5.3.) | C30: =+C31+C32+C33 -> 0 | D30: =+D31+D32+D33 -> 0 | E30: =+E31+E32+E33 -> 0
A31: 5.1. | B31: Immateriális javak értékesítése
A32: 5.2. | B32: Ingatlanok értékesítése
A33: 5.3. | B33: Egyéb tárgyi eszközök értékesítése
A34: 6. | B34: Működési célú átvett pénzeszközök
A35: 7. | B35: Felhalmozási célú átvett pénzeszközök
A36: 8. | B36: KÖLTSÉGVETÉSI BEVÉTELEK ÖSSZESEN (1.+…+7.) | C36: =+C8+C20+C25+C26+C30+C34+C35 -> 0 | D36: =+D8+D20+D25+D26+D30+D34+D35 -> 0 | E36: =+E8+E20+E25+E26+E30+E34+E35 -> 0
A37: 9. | B37: Finanszírozási bevételek (9.1.+…+9.3.) | C37: =+C38+C39+C40 -> 0 | D37: =+D38+D39+D40 -> 0 | E37: =+E38+E39+E40 -> 0
A38: 9.1. | B38: Költségvetési maradvány igénybevétele
A39: 9.2. | B39: Vállalkozási maradvány igénybevétele
A40: 9.3. | B40: Irányító szervi (önkormányzati) támogatás (intézményfinanszírozás)
A41: 10. | B41: BEVÉTELEK ÖSSZESEN: (8.+9.) | C41: =+C36+C37 -> 0 | D41: =+D36+D37 -> 0 | E41: =+E36+E37 -> 0
A44: Kiadások
A45: 1. | B45: Működési költségvetés kiadásai (1.1+…+1.5.) | C45: =SUM(C46:C50) -> 0 | D45: =SUM(D46:D50) -> 0 | E45: =SUM(E46:E50) -> 0
A46: 1.1. | B46: Személyi juttatások
A47: 1.2. | B47: Munkaadókat terhelő járulékok és szociális hozzájárulási adó
A48: 1.3. | B48: Dologi kiadások
A49: 1.4. | B49: Ellátottak pénzbeli juttatásai
A50: 1.5. | B50: Egyéb működési célú kiadások
A51: 2. | B51: Felhalmozási költségvetés kiadásai (2.1.+…+2.3.) | C51: =SUM(C52:C54) -> 0 | D51: =SUM(D52:D54) -> 0 | E51: =SUM(E52:E54) -> 0
A52: 2.1. | B52: Beruházások
A53: 2.2. | B53: Felújítások
A54: 2.3. | B54: Egyéb fejlesztési célú kiadások
A55: 2.4. | B55: 2.3.-ból EU-s támogatásból megvalósuló programok, projektek kiadása
A56: 3. | B56: Finanszírozási kiadások
A57: 4. | B57: KIADÁSOK ÖSSZESEN: (1.+2.+3.) | C57: =+C45+C51+C56 -> 0 | D57: =+D45+D51+D56 -> 0 | E57: =+E45+E51+E56 -> 0
C58: =C41-C57 -> 0 | D58: =D41-D57 -> 0
A59: Tényleges állományi létszám előirányzat (fő)
A60: Közfoglalkoztatottak tényleges állományi létszáma (fő)

Sheet Z_6.5.1.sz.mell
B1: =CONCATENATE(Z_ALAPADATOK!M17,"1. melléklet ",Z_ALAPADATOK!A7," ",Z_ALAPADATOK!B7," ",Z_ALAPADATOK!C7," ",Z_ALAPADATOK!D7," ",Z_ALAPADATOK!E7," ",Z_ALAPADATOK!F7," ",Z_ALAPADATOK!G7," ",Z_ALAPADATOK!H7) -> 6.5.1. melléklet a … / 2022. ( … ) önkormányzati rendelethez
A2: Költségvetési szerv | B2: =CONCATENATE('Z_6.5.sz.mell'!B2:D2) -> 3 kvi név | E2: 05
A3: Feladat megnevezése | B3: Kötelező feladatok bevételei, kiadásai | E3: 02
E4: ='Z_6.5.sz.mell'!E4 -> Forintban!
A5: Száma | B5: Kiemelt előirányzat, előirányzat megnevezése | C5: Eredeti előirányzat | D5: Módosított előirányzat | E5: =CONCATENATE('Z_6.5.sz.mell'!E5) -> Teljesítés 2021. XII. 31.
A6: A | B6: B | C6: C | D6: D | E6: E
A7: Bevételek
A8: 1. | B8: Működési bevételek (1.1.+…+1.11.) | C8: =SUM(C9:C19) -> 0 | D8: =SUM(D9:D19) -> 0 | E8: =SUM(E9:E19) -> 0
A9: 1.1. | B9: Készletértékesítés ellenértéke
A10: 1.2. | B10: Szolgáltatások ellenértéke
A11: 1.3. | B11: Közvetített szolgáltatások értéke
A12: 1.4. | B12: Tulajdonosi bevételek
A13: 1.5. | B13: Ellátási díjak
A14: 1.6. | B14: Kiszámlázott általános forgalmi adó
A15: 1.7. | B15: Általános forgalmi adó visszatérülése
A16: 1.8. | B16: Kamatbevételek
A17: 1.9. | B17: Egyéb pénzügyi műveletek bevételei
A18: 1.10. | B18: Biztosító által fizetett kártérítés
A19: 1.11. | B19: Egyéb működési bevételek
A20: 2. | B20: Működési célú támogatások államháztartáson belülről (2.1.+…+2.3.) | C20: =SUM(C21:C23) -> 0 | D20: =SUM(D21:D23) -> 0 | E20: =SUM(E21:E23) -> 0
A21: 2.1. | B21: Elvonások és befizetések bevételei
A22: 2.2. | B22: Visszatérítendő támogatások, kölcsönök visszatérülése ÁH-n belülről
A23: 2.3. | B23: Egyéb működési célú támogatások bevételei államháztartáson belülről
A24: 2.4. | B24: 2.3.-ból EU támogatás
A25: 3. | B25: Közhatalmi bevételek
A26: 4. | B26: Felhalmozási célú támogatások államháztartáson belülről (4.1.+4.2.) | C26: =+C27+C28 -> 0 | D26: =+D27+D28 -> 0 | E26: =+E27+E28 -> 0
A27: 4.1. | B27: Visszatérítendő támogatások, kölcsönök visszatérülése ÁH-n belülről
A28: 4.2. | B28: Egyéb felhalmozási célú támogatások bevételei államháztartáson belülről
A29: 4.3. | B29: 4.2.-ből EU-s támogatás
A30: 5. | B30: Felhalmozási bevételek (5.1.+…+5.3.) | C30: =+C31+C32+C33 -> 0 | D30: =+D31+D32+D33 -> 0 | E30: =+E31+E32+E33 -> 0
A31: 5.1. | B31: Immateriális javak értékesítése
A32: 5.2. | B32: Ingatlanok értékesítése
A33: 5.3. | B33: Egyéb tárgyi eszközök értékesítése
A34: 6. | B34: Működési célú átvett pénzeszközök
A35: 7. | B35: Felhalmozási célú átvett pénzeszközök
A36: 8. | B36: KÖLTSÉGVETÉSI BEVÉTELEK ÖSSZESEN (1.+…+7.) | C36: =+C8+C20+C25+C26+C30+C34+C35 -> 0 | D36: =+D8+D20+D25+D26+D30+D34+D35 -> 0 | E36: =+E8+E20+E25+E26+E30+E34+E35 -> 0
A37: 9. | B37: Finanszírozási bevételek (9.1.+…+9.3.) | C37: =+C38+C39+C40 -> 0 | D37: =+D38+D39+D40 -> 0 | E37: =+E38+E39+E40 -> 0
A38: 9.1. | B38: Költségvetési maradvány igénybevétele
A39: 9.2. | B39: Vállalkozási maradvány igénybevétele
A40: 9.3. | B40: Irányító szervi (önkormányzati) támogatás (intézményfinanszírozás)
A41: 10. | B41: BEVÉTELEK ÖSSZESEN: (8.+9.) | C41: =+C36+C37 -> 0 | D41: =+D36+D37 -> 0 | E41: =+E36+E37 -> 0
A44: Kiadások
A45: 1. | B45: Működési költségvetés kiadásai (1.1+…+1.5.) | C45: =SUM(C46:C50) -> 0 | D45: =SUM(D46:D50) -> 0 | E45: =SUM(E46:E50) -> 0
A46: 1.1. | B46: Személyi juttatások
A47: 1.2. | B47: Munkaadókat terhelő járulékok és szociális hozzájárulási adó
A48: 1.3. | B48: Dologi kiadások
A49: 1.4. | B49: Ellátottak pénzbeli juttatásai
A50: 1.5. | B50: Egyéb működési célú kiadások
A51: 2. | B51: Felhalmozási költségvetés kiadásai (2.1.+…+2.3.) | C51: =SUM(C52:C54) -> 0 | D51: =SUM(D52:D54) -> 0 | E51: =SUM(E52:E54) -> 0
A52: 2.1. | B52: Beruházások
A53: 2.2. | B53: Felújítások
A54: 2.3. | B54: Egyéb fejlesztési célú kiadások
A55: 2.4. | B55: 2.3.-ból EU-s támogatásból megvalósuló programok, projektek kiadása
A56: 3. | B56: Finanszírozási kiadások
A57: 4. | B57: KIADÁSOK ÖSSZESEN: (1.+2.+3.) | C57: =+C45+C51+C56 -> 0 | D57: =+D45+D51+D56 -> 0 | E57: =+E45+E51+E56 -> 0
C58: =C41-C57 -> 0 | D58: =D41-D57 -> 0
A59: Tényleges állományi létszám előirányzat (fő)
A60: Közfoglalkoztatottak tényleges állományi létszáma (fő)

Sheet Z_6.5.2.sz.mell
B1: =CONCATENATE(Z_ALAPADATOK!M17,"2. melléklet ",Z_ALAPADATOK!A7," ",Z_ALAPADATOK!B7," ",Z_ALAPADATOK!C7," ",Z_ALAPADATOK!D7," ",Z_ALAPADATOK!E7," ",Z_ALAPADATOK!F7," ",Z_ALAPADATOK!G7," ",Z_ALAPADATOK!H7) -> 6.5.2. melléklet a … / 2022. ( … ) önkormányzati rendelethez
A2: Költségvetési szerv | B2: =CONCATENATE('Z_6.5.1.sz.mell'!B2:D2) -> 3 kvi név | E2: 05
A3: Feladat megnevezése | B3: Önként vállalt feladatok bevételei, kiadásai | E3: 03
E4: ='Z_6.5.1.sz.mell'!E4 -> Forintban!
A5: Száma | B5: Kiemelt előirányzat, előirányzat megnevezése | C5: Eredeti előirányzat | D5: Módosított előirányzat | E5: =CONCATENATE('Z_6.5.1.sz.mell'!E5) -> Teljesítés 2021. XII. 31.
A6: A | B6: B | C6: C | D6: D | E6: E
A7: Bevételek
A8: 1. | B8: Működési bevételek (1.1.+…+1.11.) | C8: =SUM(C9:C19) -> 0 | D8: =SUM(D9:D19) -> 0 | E8: =SUM(E9:E19) -> 0
A9: 1.1. | B9: Készletértékesítés ellenértéke
A10: 1.2. | B10: Szolgáltatások ellenértéke
A11: 1.3. | B11: Közvetített szolgáltatások értéke
A12: 1.4. | B12: Tulajdonosi bevételek
A13: 1.5. | B13: Ellátási díjak
A14: 1.6. | B14: Kiszámlázott általános forgalmi adó
A15: 1.7. | B15: Általános forgalmi adó visszatérülése
A16: 1.8. | B16: Kamatbevételek
A17: 1.9. | B17: Egyéb pénzügyi műveletek bevételei
A18: 1.10. | B18: Biztosító által fizetett kártérítés
A19: 1.11. | B19: Egyéb működési bevételek
A20: 2. | B20: Működési célú támogatások államháztartáson belülről (2.1.+…+2.3.) | C20: =SUM(C21:C23) -> 0 | D20: =SUM(D21:D23) -> 0 | E20: =SUM(E21:E23) -> 0
A21: 2.1. | B21: Elvonások és befizetések bevételei
A22: 2.2. | B22: Visszatérítendő támogatások, kölcsönök visszatérülése ÁH-n belülről
A23: 2.3. | B23: Egyéb működési célú támogatások bevételei államháztartáson belülről
A24: 2.4. | B24: 2.3.-ból EU támogatás
A25: 3. | B25: Közhatalmi bevételek
A26: 4. | B26: Felhalmozási célú támogatások államháztartáson belülről (4.1.+4.2.) | C26: =+C27+C28 -> 0 | D26: =+D27+D28 -> 0 | E26: =+E27+E28 -> 0
A27: 4.1. | B27: Visszatérítendő támogatások, kölcsönök visszatérülése ÁH-n belülről
A28: 4.2. | B28: Egyéb felhalmozási célú támogatások bevételei államháztartáson belülről
A29: 4.3. | B29: 4.2.-ből EU-s támogatás
A30: 5. | B30: Felhalmozási bevételek (5.1.+…+5.3.) | C30: =+C31+C32+C33 -> 0 | D30: =+D31+D32+D33 -> 0 | E30: =+E31+E32+E33 -> 0
A31: 5.1. | B31: Immateriális javak értékesítése
A32: 5.2. | B32: Ingatlanok értékesítése
A33: 5.3. | B33: Egyéb tárgyi eszközök értékesítése
A34: 6. | B34: Működési célú átvett pénzeszközök
A35: 7. | B35: Felhalmozási célú átvett pénzeszközök
A36: 8. | B36: KÖLTSÉGVETÉSI BEVÉTELEK ÖSSZESEN (1.+…+7.) | C36: =+C8+C20+C25+C26+C30+C34+C35 -> 0 | D36: =+D8+D20+D25+D26+D30+D34+D35 -> 0 | E36: =+E8+E20+E25+E26+E30+E34+E35 -> 0
A37: 9. | B37: Finanszírozási bevételek (9.1.+…+9.3.) | C37: =+C38+C39+C40 -> 0 | D37: =+D38+D39+D40 -> 0 | E37: =+E38+E39+E40 -> 0
A38: 9.1. | B38: Költségvetési maradvány igénybevétele
A39: 9.2. | B39: Vállalkozási maradvány igénybevétele
A40: 9.3. | B40: Irányító szervi (önkormányzati) támogatás (intézményfinanszírozás)
A41: 10. | B41: BEVÉTELEK ÖSSZESEN: (8.+9.) | C41: =+C36+C37 -> 0 | D41: =+D36+D37 -> 0 | E41: =+E36+E37 -> 0
A44: Kiadások
A45: 1. | B45: Működési költségvetés kiadásai (1.1+…+1.5.) | C45: =SUM(C46:C50) -> 0 | D45: =SUM(D46:D50) -> 0 | E45: =SUM(E46:E50) -> 0
A46: 1.1. | B46: Személyi juttatások
A47: 1.2. | B47: Munkaadókat terhelő járulékok és szociális hozzájárulási adó
A48: 1.3. | B48: Dologi kiadások
A49: 1.4. | B49: Ellátottak pénzbeli juttatásai
A50: 1.5. | B50: Egyéb működési célú kiadások
A51: 2. | B51: Felhalmozási költségvetés kiadásai (2.1.+…+2.3.) | C51: =SUM(C52:C54) -> 0 | D51: =SUM(D52:D54) -> 0 | E51: =SUM(E52:E54) -> 0
A52: 2.1. | B52: Beruházások
A53: 2.2. | B53: Felújítások
A54: 2.3. | B54: Egyéb fejlesztési célú kiadások
A55: 2.4. | B55: 2.3.-ból EU-s támogatásból megvalósuló programok, projektek kiadása
A56: 3. | B56: Finanszírozási kiadások
A57: 4. | B57: KIADÁSOK ÖSSZESEN: (1.+2.+3.) | C57: =+C45+C51+C56 -> 0 | D57: =+D45+D51+D56 -> 0 | E57: =+E45+E51+E56 -> 0
C58: =C41-C57 -> 0 | D58: =D41-D57 -> 0
A59: Tényleges állományi létszám előirányzat (fő)
A60: Közfoglalkoztatottak tényleges állományi létszáma (fő)

Sheet Z_6.5.3.sz.mell
B1: =CONCATENATE(Z_ALAPADATOK!M17,"3. melléklet ",Z_ALAPADATOK!A7," ",Z_ALAPADATOK!B7," ",Z_ALAPADATOK!C7," ",Z_ALAPADATOK!D7," ",Z_ALAPADATOK!E7," ",Z_ALAPADATOK!F7," ",Z_ALAPADATOK!G7," ",Z_ALAPADATOK!H7) -> 6.5.3. melléklet a … / 2022. ( … ) önkormányzati rendelethez
A2: Költségvetési szerv | B2: =CONCATENATE('Z_6.5.2.sz.mell'!B2:D2) -> 3 kvi név | E2: 05
A3: Feladat megnevezése | B3: Államigazgatási feladatok bevételei, kiadásai | E3: 04
E4: ='Z_6.5.2.sz.mell'!E4 -> Forintban!
A5: Száma | B5: Kiemelt előirányzat, előirányzat megnevezése | C5: Eredeti előirányzat | D5: Módosított előirányzat | E5: =CONCATENATE('Z_6.5.2.sz.mell'!E5) -> Teljesítés 2021. XII. 31.
A6: A | B6: B | C6: C | D6: D | E6: E
A7: Bevételek
A8: 1. | B8: Működési bevételek (1.1.+…+1.11.) | C8: =SUM(C9:C19) -> 0 | D8: =SUM(D9:D19) -> 0 | E8: =SUM(E9:E19) -> 0
A9: 1.1. | B9: Készletértékesítés ellenértéke
A10: 1.2. | B10: Szolgáltatások ellenértéke
A11: 1.3. | B11: Közvetített szolgáltatások értéke
A12: 1.4. | B12: Tulajdonosi bevételek
A13: 1.5. | B13: Ellátási díjak
A14: 1.6. | B14: Kiszámlázott általános forgalmi adó
A15: 1.7. | B15: Általános forgalmi adó visszatérülése
A16: 1.8. | B16: Kamatbevételek
A17: 1.9. | B17: Egyéb pénzügyi műveletek bevételei
A18: 1.10. | B18: Biztosító által fizetett kártérítés
A19: 1.11. | B19: Egyéb működési bevételek
A20: 2. | B20: Működési célú támogatások államháztartáson belülről (2.1.+…+2.3.) | C20: =SUM(C21:C23) -> 0 | D20: =SUM(D21:D23) -> 0 | E20: =SUM(E21:E23) -> 0
A21: 2.1. | B21: Elvonások és befizetések bevételei
A22: 2.2. | B22: Visszatérítendő támogatások, kölcsönök visszatérülése ÁH-n belülről
A23: 2.3. | B23: Egyéb működési célú támogatások bevételei államháztartáson belülről
A24: 2.4. | B24: 2.3.-ból EU támogatás
A25: 3. | B25: Közhatalmi bevételek
A26: 4. | B26: Felhalmozási célú támogatások államháztartáson belülről (4.1.+4.2.) | C26: =+C27+C28 -> 0 | D26: =+D27+D28 -> 0 | E26: =+E27+E28 -> 0
A27: 4.1. | B27: Visszatérítendő támogatások, kölcsönök visszatérülése ÁH-n belülről
A28: 4.2. | B28: Egyéb felhalmozási célú támogatások bevételei államháztartáson belülről
A29: 4.3. | B29: 4.2.-ből EU-s támogatás
A30: 5. | B30: Felhalmozási bevételek (5.1.+…+5.3.) | C30: =+C31+C32+C33 -> 0 | D30: =+D31+D32+D33 -> 0 | E30: =+E31+E32+E33 -> 0
A31: 5.1. | B31: Immateriális javak értékesítése
A32: 5.2. | B32: Ingatlanok értékesítése
A33: 5.3. | B33: Egyéb tárgyi eszközök értékesítése
A34: 6. | B34: Működési célú átvett pénzeszközök
A35: 7. | B35: Felhalmozási célú átvett pénzeszközök
A36: 8. | B36: KÖLTSÉGVETÉSI BEVÉTELEK ÖSSZESEN (1.+…+7.) | C36: =+C8+C20+C25+C26+C30+C34+C35 -> 0 | D36: =+D8+D20+D25+D26+D30+D34+D35 -> 0 | E36: =+E8+E20+E25+E26+E30+E34+E35 -> 0
A37: 9. | B37: Finanszírozási bevételek (9.1.+…+9.3.) | C37: =+C38+C39+C40 -> 0 | D37: =+D38+D39+D40 -> 0 | E37: =+E38+E39+E40 -> 0
A38: 9.1. | B38: Költségvetési maradvány igénybevétele
A39: 9.2. | B39: Vállalkozási maradvány igénybevétele
A40: 9.3. | B40: Irányító szervi (önkormányzati) támogatás (intézményfinanszírozás)
A41: 10. | B41: BEVÉTELEK ÖSSZESEN: (8.+9.) | C41: =+C36+C37 -> 0 | D41: =+D36+D37 -> 0 | E41: =+E36+E37 -> 0
A44: Kiadások
A45: 1. | B45: Működési költségvetés kiadásai (1.1+…+1.5.) | C45: =SUM(C46:C50) -> 0 | D45: =SUM(D46:D50) -> 0 | E45: =SUM(E46:E50) -> 0
A46: 1.1. | B46: Személyi juttatások
A47: 1.2. | B47: Munkaadókat terhelő járulékok és szociális hozzájárulási adó
A48: 1.3. | B48: Dologi kiadások
A49: 1.4. | B49: Ellátottak pénzbeli juttatásai
A50: 1.5. | B50: Egyéb működési célú kiadások
A51: 2. | B51: Felhalmozási költségvetés kiadásai (2.1.+…+2.3.) | C51: =SUM(C52:C54) -> 0 | D51: =SUM(D52:D54) -> 0 | E51: =SUM(E52:E54) -> 0
A52: 2.1. | B52: Beruházások
A53: 2.2. | B53: Felújítások
A54: 2.3. | B54: Egyéb fejlesztési célú kiadások
A55: 2.4. | B55: 2.3.-ból EU-s támogatásból megvalósuló programok, projektek kiadása
A56: 3. | B56: Finanszírozási kiadások
A57: 4. | B57: KIADÁSOK ÖSSZESEN: (1.+2.+3.) | C57: =+C45+C51+C56 -> 0 | D57: =+D45+D51+D56 -> 0 | E57: =+E45+E51+E56 -> 0
C58: =C41-C57 -> 0 | D58: =D41-D57 -> 0
A59: Tényleges állományi létszám előirányzat (fő)
A60: Közfoglalkoztatottak tényleges állományi létszáma (fő)

Sheet Z_6.6.sz.mell
B1: =CONCATENATE(Z_ALAPADATOK!M19," melléklet ",Z_ALAPADATOK!A7," ",Z_ALAPADATOK!B7," ",Z_ALAPADATOK!C7," ",Z_ALAPADATOK!D7," ",Z_ALAPADATOK!E7," ",Z_ALAPADATOK!F7," ",Z_ALAPADATOK!G7," ",Z_ALAPADATOK!H7) -> 6.6. melléklet a … / 2022. ( … ) önkormányzati rendelethez
A2: Költségvetési szerv | B2: =CONCATENATE(Z_ALAPADATOK!B19) -> 4 kvi név | E2: 06
A3: Feladat megnevezése | B3: Összes bevétel, kiadás | E3: 01
E4: ='Z_6.2.3.sz.mell'!E4 -> Forintban!
A5: Száma | B5: Kiemelt előirányzat, előirányzat megnevezése | C5: Eredeti előirányzat | D5: Módosított előirányzat | E5: =CONCATENATE('Z_6.5.3.sz.mell'!E5) -> Teljesítés 2021. XII. 31.
A6: A | B6: B | C6: C | D6: D | E6: E
A7: Bevételek
A8: 1. | B8: Működési bevételek (1.1.+…+1.11.) | C8: =SUM(C9:C19) -> 0 | D8: =SUM(D9:D19) -> 0 | E8: =SUM(E9:E19) -> 0
A9: 1.1. | B9: Készletértékesítés ellenértéke
A10: 1.2. | B10: Szolgáltatások ellenértéke
A11: 1.3. | B11: Közvetített szolgáltatások értéke
A12: 1.4. | B12: Tulajdonosi bevételek
A13: 1.5. | B13: Ellátási díjak
A14: 1.6. | B14: Kiszámlázott általános forgalmi adó
A15: 1.7. | B15: Általános forgalmi adó visszatérülése
A16: 1.8. | B16: Kamatbevételek
A17: 1.9. | B17: Egyéb pénzügyi műveletek bevételei
A18: 1.10. | B18: Biztosító által fizetett kártérítés
A19: 1.11. | B19: Egyéb működési bevételek
A20: 2. | B20: Működési célú támogatások államháztartáson belülről (2.1.+…+2.3.) | C20: =SUM(C21:C23) -> 0 | D20: =SUM(D21:D23) -> 0 | E20: =SUM(E21:E23) -> 0
A21: 2.1. | B21: Elvonások és befizetések bevételei
A22: 2.2. | B22: Visszatérítendő támogatások, kölcsönök visszatérülése ÁH-n belülről
A23: 2.3. | B23: Egyéb működési célú támogatások bevételei államháztartáson belülről
A24: 2.4. | B24: 2.3.-ból EU támogatás
A25: 3. | B25: Közhatalmi bevételek
A26: 4. | B26: Felhalmozási célú támogatások államháztartáson belülről (4.1.+4.2.) | C26: =+C27+C28 -> 0 | D26: =+D27+D28 -> 0 | E26: =+E27+E28 -> 0
A27: 4.1. | B27: Visszatérítendő támogatások, kölcsönök visszatérülése ÁH-n belülről
A28: 4.2. | B28: Egyéb felhalmozási célú támogatások bevételei államháztartáson belülről
A29: 4.3. | B29: 4.2.-ből EU-s támogatás
A30: 5. | B30: Felhalmozási bevételek (5.1.+…+5.3.) | C30: =+C31+C32+C33 -> 0 | D30: =+D31+D32+D33 -> 0 | E30: =+E31+E32+E33 -> 0
A31: 5.1. | B31: Immateriális javak értékesítése
A32: 5.2. | B32: Ingatlanok értékesítése
A33: 5.3. | B33: Egyéb tárgyi eszközök értékesítése
A34: 6. | B34: Működési célú átvett pénzeszközök
A35: 7. | B35: Felhalmozási célú átvett pénzeszközök
A36: 8. | B36: KÖLTSÉGVETÉSI BEVÉTELEK ÖSSZESEN (1.+…+7.) | C36: =+C8+C20+C25+C26+C30+C34+C35 -> 0 | D36: =+D8+D20+D25+D26+D30+D34+D35 -> 0 | E36: =+E8+E20+E25+E26+E30+E34+E35 -> 0
A37: 9. | B37: Finanszírozási bevételek (9.1.+…+9.3.) | C37: =+C38+C39+C40 -> 0 | D37: =+D38+D39+D40 -> 0 | E37: =+E38+E39+E40 -> 0
A38: 9.1. | B38: Költségvetési maradvány igénybevétele
A39: 9.2. | B39: Vállalkozási maradvány igénybevétele
A40: 9.3. | B40: Irányító szervi (önkormányzati) támogatás (intézményfinanszírozás)
A41: 10. | B41: BEVÉTELEK ÖSSZESEN: (8.+9.) | C41: =+C36+C37 -> 0 | D41: =+D36+D37 -> 0 | E41: =+E36+E37 -> 0
A44: Kiadások
A45: 1. | B45: Működési költségvetés kiadásai (1.1+…+1.5.) | C45: =SUM(C46:C50) -> 0 | D45: =SUM(D46:D50) -> 0 | E45: =SUM(E46:E50) -> 0
A46: 1.1. | B46: Személyi juttatások
A47: 1.2. | B47: Munkaadókat terhelő járulékok és szociális hozzájárulási adó
A48: 1.3. | B48: Dologi kiadások
A49: 1.4. | B49: Ellátottak pénzbeli juttatásai
A50: 1.5. | B50: Egyéb működési célú kiadások
A51: 2. | B51: Felhalmozási költségvetés kiadásai (2.1.+…+2.3.) | C51: =SUM(C52:C54) -> 0 | D51: =SUM(D52:D54) -> 0 | E51: =SUM(E52:E54) -> 0
A52: 2.1. | B52: Beruházások
A53: 2.2. | B53: Felújítások
A54: 2.3. | B54: Egyéb fejlesztési célú kiadások
A55: 2.4. | B55: 2.3.-ból EU-s támogatásból megvalósuló programok, projektek kiadása
A56: 3. | B56: Finanszírozási kiadások
A57: 4. | B57: KIADÁSOK ÖSSZESEN: (1.+2.+3.) | C57: =+C45+C51+C56 -> 0 | D57: =+D45+D51+D56 -> 0 | E57: =+E45+E51+E56 -> 0
C58: =C41-C57 -> 0 | D58: =D41-D57 -> 0
A59: Tényleges állományi létszám előirányzat (fő)
A60: Közfoglalkoztatottak tényleges állományi létszáma (fő)

Sheet Z_6.6.1.sz.mell
B1: =CONCATENATE(Z_ALAPADATOK!M19,"1. melléklet ",Z_ALAPADATOK!A7," ",Z_ALAPADATOK!B7," ",Z_ALAPADATOK!C7," ",Z_ALAPADATOK!D7," ",Z_ALAPADATOK!E7," ",Z_ALAPADATOK!F7," ",Z_ALAPADATOK!G7," ",Z_ALAPADATOK!H7) -> 6.6.1. melléklet a … / 2022. ( … ) önkormányzati rendelethez
A2: Költségvetési szerv | B2: =CONCATENATE('Z_6.6.sz.mell'!B2:D2) -> 4 kvi név | E2: 06
A3: Feladat megnevezése | B3: Kötelező feladatok bevételei, kiadásai | E3: 02
E4: ='Z_6.6.sz.mell'!E4 -> Forintban!
A5: Száma | B5: Kiemelt előirányzat, előirányzat megnevezése | C5: Eredeti előirányzat | D5: Módosított előirányzat | E5: =CONCATENATE('Z_6.6.sz.mell'!E5) -> Teljesítés 2021. XII. 31.
A6: A | B6: B | C6: C | D6: D | E6: E
A7: Bevételek
A8: 1. | B8: Működési bevételek (1.1.+…+1.11.) | C8: =SUM(C9:C19) -> 0 | D8: =SUM(D9:D19) -> 0 | E8: =SUM(E9:E19) -> 0
A9: 1.1. | B9: Készletértékesítés ellenértéke
A10: 1.2. | B10: Szolgáltatások ellenértéke
A11: 1.3. | B11: Közvetített szolgáltatások értéke
A12: 1.4. | B12: Tulajdonosi bevételek
A13: 1.5. | B13: Ellátási díjak
A14: 1.6. | B14: Kiszámlázott általános forgalmi adó
A15: 1.7. | B15: Általános forgalmi adó visszatérülése
A16: 1.8. | B16: Kamatbevételek
A17: 1.9. | B17: Egyéb pénzügyi műveletek bevételei
A18: 1.10. | B18: Biztosító által fizetett kártérítés
A19: 1.11. | B19: Egyéb működési bevételek
A20: 2. | B20: Működési célú támogatások államháztartáson belülről (2.1.+…+2.3.) | C20: =SUM(C21:C23) -> 0 | D20: =SUM(D21:D23) -> 0 | E20: =SUM(E21:E23) -> 0
A21: 2.1. | B21: Elvonások és befizetések bevételei
A22: 2.2. | B22: Visszatérítendő támogatások, kölcsönök visszatérülése ÁH-n belülről
A23: 2.3. | B23: Egyéb működési célú támogatások bevételei államháztartáson belülről
A24: 2.4. | B24: 2.3.-ból EU támogatás
A25: 3. | B25: Közhatalmi bevételek
A26: 4. | B26: Felhalmozási célú támogatások államháztartáson belülről (4.1.+4.2.) | C26: =+C27+C28 -> 0 | D26: =+D27+D28 -> 0 | E26: =+E27+E28 -> 0
A27: 4.1. | B27: Visszatérítendő támogatások, kölcsönök visszatérülése ÁH-n belülről
A28: 4.2. | B28: Egyéb felhalmozási célú támogatások bevételei államháztartáson belülről
A29: 4.3. | B29: 4.2.-ből EU-s támogatás
A30: 5. | B30: Felhalmozási bevételek (5.1.+…+5.3.) | C30: =+C31+C32+C33 -> 0 | D30: =+D31+D32+D33 -> 0 | E30: =+E31+E32+E33 -> 0
A31: 5.1. | B31: Immateriális javak értékesítése
A32: 5.2. | B32: Ingatlanok értékesítése
A33: 5.3. | B33: Egyéb tárgyi eszközök értékesítése
A34: 6. | B34: Működési célú átvett pénzeszközök
A35: 7. | B35: Felhalmozási célú átvett pénzeszközök
A36: 8. | B36: KÖLTSÉGVETÉSI BEVÉTELEK ÖSSZESEN (1.+…+7.) | C36: =+C8+C20+C25+C26+C30+C34+C35 -> 0 | D36: =+D8+D20+D25+D26+D30+D34+D35 -> 0 | E36: =+E8+E20+E25+E26+E30+E34+E35 -> 0
A37: 9. | B37: Finanszírozási bevételek (9.1.+…+9.3.) | C37: =+C38+C39+C40 -> 0 | D37: =+D38+D39+D40 -> 0 | E37: =+E38+E39+E40 -> 0
A38: 9.1. | B38: Költségvetési maradvány igénybevétele
A39: 9.2. | B39: Vállalkozási maradvány igénybevétele
A40: 9.3. | B40: Irányító szervi (önkormányzati) támogatás (intézményfinanszírozás)
A41: 10. | B41: BEVÉTELEK ÖSSZESEN: (8.+9.) | C41: =+C36+C37 -> 0 | D41: =+D36+D37 -> 0 | E41: =+E36+E37 -> 0
A44: Kiadások
A45: 1. | B45: Működési költségvetés kiadásai (1.1+…+1.5.) | C45: =SUM(C46:C50) -> 0 | D45: =SUM(D46:D50) -> 0 | E45: =SUM(E46:E50) -> 0
A46: 1.1. | B46: Személyi juttatások
A47: 1.2. | B47: Munkaadókat terhelő járulékok és szociális hozzájárulási adó
A48: 1.3. | B48: Dologi kiadások
A49: 1.4. | B49: Ellátottak pénzbeli juttatásai
A50: 1.5. | B50: Egyéb működési célú kiadások
A51: 2. | B51: Felhalmozási költségvetés kiadásai (2.1.+…+2.3.) | C51: =SUM(C52:C54) -> 0 | D51: =SUM(D52:D54) -> 0 | E51: =SUM(E52:E54) -> 0
A52: 2.1. | B52: Beruházások
A53: 2.2. | B53: Felújítások
A54: 2.3. | B54: Egyéb fejlesztési célú kiadások
A55: 2.4. | B55: 2.3.-ból EU-s támogatásból megvalósuló programok, projektek kiadása
A56: 3. | B56: Finanszírozási kiadások
A57: 4. | B57: KIADÁSOK ÖSSZESEN: (1.+2.+3.) | C57: =+C45+C51+C56 -> 0 | D57: =+D45+D51+D56 -> 0 | E57: =+E45+E51+E56 -> 0
C58: =C41-C57 -> 0 | D58: =D41-D57 -> 0
A59: Tényleges állományi létszám előirányzat (fő)
A60: Közfoglalkoztatottak tényleges állományi létszáma (fő)

Sheet Z_6.6.2.sz.mell
B1: =CONCATENATE(Z_ALAPADATOK!M19,"2. melléklet ",Z_ALAPADATOK!A7," ",Z_ALAPADATOK!B7," ",Z_ALAPADATOK!C7," ",Z_ALAPADATOK!D7," ",Z_ALAPADATOK!E7," ",Z_ALAPADATOK!F7," ",Z_ALAPADATOK!G7," ",Z_ALAPADATOK!H7) -> 6.6.2. melléklet a … / 2022. ( … ) önkormányzati rendelethez
A2: Költségvetési szerv | B2: =CONCATENATE('Z_6.6.1.sz.mell'!B2:D2) -> 4 kvi név | E2: 06
A3: Feladat megnevezése | B3: Önként vállalt feladatok bevételei, kiadásai | E3: 03
E4: ='Z_6.6.1.sz.mell'!E4 -> Forintban!
A5: Száma | B5: Kiemelt előirányzat, előirányzat megnevezése | C5: Eredeti előirányzat | D5: Módosított előirányzat | E5: =CONCATENATE('Z_6.6.1.sz.mell'!E5) -> Teljesítés 2021. XII. 31.
A6: A | B6: B | C6: C | D6: D | E6: E
A7: Bevételek
A8: 1. | B8: Működési bevételek (1.1.+…+1.11.) | C8: =SUM(C9:C19) -> 0 | D8: =SUM(D9:D19) -> 0 | E8: =SUM(E9:E19) -> 0
A9: 1.1. | B9: Készletértékesítés ellenértéke
A10: 1.2. | B10: Szolgáltatások ellenértéke
A11: 1.3. | B11: Közvetített szolgáltatások értéke
A12: 1.4. | B12: Tulajdonosi bevételek
