Workbook
Name _ftn1: 'Z_7.3.tájékoztató_t.'!$A$31
Name _ftnref1: 'Z_7.3.tájékoztató_t.'!$A$22

Sheet Z_TARTALOMJEGYZÉK
A1: 2021
A2: Tartalomjegyzék
A4: Dokumentum neve | B4: A dokumentációs rendszerben található táblázatok listája | C4: Ugrás
A6: ZÁRSZÁMADÁSI RENDLET
A7: Alapadatok | B7: Adatok megadása | C7: =HYPERLINK(SUBSTITUTE(CELL("address",Z_ALAPADATOK!A1),"'",""),SUBSTITUTE(MID(CELL("address",Z_ALAPADATOK!A1),SEARCH("]",CELL("address",Z_ALAPADATOK!A1),1)+1,LEN(CELL("address",Z_ALAPADATOK!A1))-SEARCH("]",CELL("address",Z_ALAPADATOK!A1),1)),"'","")) -> Z_ALAPADATOK!$A$1
A8: Összefüggések | B8: Táblázatok adatainak összefüggései | C8: =HYPERLINK(SUBSTITUTE(CELL("address",Z_ÖSSZEFÜGGÉSEK!A1),"'",""),SUBSTITUTE(MID(CELL("address",Z_ÖSSZEFÜGGÉSEK!A1),SEARCH("]",CELL("address",Z_ÖSSZEFÜGGÉSEK!A1),1)+1,LEN(CELL("address",Z_ÖSSZEFÜGGÉSEK!A1))-SEARCH("]",CELL("address",Z_ÖSSZEFÜGGÉSEK!A1),1)),"'","")) -> Z_ÖSSZEFÜGGÉSEK!$A$1
A9: 1.1. melléklet | B9: =CONCATENATE(LOWER('Z_1.1.sz.mell.'!A3)) -> 2021. évi zárszámadásának pénzügyi mérlege | C9: =HYPERLINK(SUBSTITUTE(CELL("address",'Z_1.1.sz.mell.'!A1),"'",""),SUBSTITUTE(MID(CELL("address",'Z_1.1.sz.mell.'!A1),SEARCH("]",CELL("address",'Z_1.1.sz.mell.'!A1),1)+1,LEN(CELL("address",'Z_1.1.sz.mell.'!A1))-SEARCH("]",CELL("address",'Z_1.1.sz.mell.'!A1),1)),"'","")) -> Z_1.1.sz.mell.!$A$1
A10: 1.2. melléklet | B10: ='Z_1.2.sz.mell.'!A3 -> 2021. ÉVI ZÁRSZÁMADÁS | C10: =HYPERLINK(SUBSTITUTE(CELL("address",'Z_1.2.sz.mell.'!A1),"'",""),SUBSTITUTE(MID(CELL("address",'Z_1.2.sz.mell.'!A1),SEARCH("]",CELL("address",'Z_1.2.sz.mell.'!A1),1)+1,LEN(CELL("address",'Z_1.2.sz.mell.'!A1))-SEARCH("]",CELL("address",'Z_1.2.sz.mell.'!A1),1)),"'","")) -> Z_1.2.sz.mell.!$A$1
A11: 1.3. melléklet | B11: ='Z_1.3.sz.mell.'!A3 -> 2021. ÉVI ZÁRSZÁMADÁS | C11: =HYPERLINK(SUBSTITUTE(CELL("address",'Z_1.3.sz.mell.'!A1),"'",""),SUBSTITUTE(MID(CELL("address",'Z_1.3.sz.mell.'!A1),SEARCH("]",CELL("address",'Z_1.3.sz.mell.'!A1),1)+1,LEN(CELL("address",'Z_1.3.sz.mell.'!A1))-SEARCH("]",CELL("address",'Z_1.3.sz.mell.'!A1),1)),"'","")) -> Z_1.3.sz.mell.!$A$1
A12: 1.4. melléklet | B12: ='Z_1.4.sz.mell.'!A3 -> 2021. ÉVI ZÁRSZÁMADÁS | C12: =HYPERLINK(SUBSTITUTE(CELL("address",'Z_1.4.sz.mell.'!A1),"'",""),SUBSTITUTE(MID(CELL("address",'Z_1.4.sz.mell.'!A1),SEARCH("]",CELL("address",'Z_1.4.sz.mell.'!A1),1)+1,LEN(CELL("address",'Z_1.4.sz.mell.'!A1))-SEARCH("]",CELL("address",'Z_1.4.sz.mell.'!A1),1)),"'","")) -> Z_1.4.sz.mell.!$A$1
A13: 2.1. melléklet | B13: Működési célú bevételek, kiadások mérlege | C13: =HYPERLINK(SUBSTITUTE(CELL("address",'Z_2.1.sz.mell'!A1),"'",""),SUBSTITUTE(MID(CELL("address",'Z_2.1.sz.mell'!A1),SEARCH("]",CELL("address",'Z_2.1.sz.mell'!A1),1)+1,LEN(CELL("address",'Z_2.1.sz.mell'!A1))-SEARCH("]",CELL("address",'Z_2.1.sz.mell'!A1),1)),"'","")) -> Z_2.1.sz.mell!$A$1
A14: 2.2. melléklet | B14: Felhalmozási célú bevételek, kiadások mérlege | C14: =HYPERLINK(SUBSTITUTE(CELL("address",'Z_2.2.sz.mell'!A1),"'",""),SUBSTITUTE(MID(CELL("address",'Z_2.2.sz.mell'!A1),SEARCH("]",CELL("address",'Z_2.2.sz.mell'!A1),1)+1,LEN(CELL("address",'Z_2.2.sz.mell'!A1))-SEARCH("]",CELL("address",'Z_2.2.sz.mell'!A1),1)),"'","")) -> Z_2.2.sz.mell!$A$1
A15: Ellenőrző lista | B15: Ellenőrzés az 1-es és 2.1., 2.2. mellékletek adati esetében | C15: =HYPERLINK(SUBSTITUTE(CELL("address",Z_ELLENŐRZÉS!A1),"'",""),SUBSTITUTE(MID(CELL("address",Z_ELLENŐRZÉS!A1),SEARCH("]",CELL("address",Z_ELLENŐRZÉS!A1),1)+1,LEN(CELL("address",Z_ELLENŐRZÉS!A1))-SEARCH("]",CELL("address",Z_ELLENŐRZÉS!A1),1)),"'","")) -> Z_ELLENŐRZÉS!$A$1
A16: 3. melléklet | B16: Beruházási (felhalmozási) kiadások előirányzata beruházásonként | C16: =HYPERLINK(SUBSTITUTE(CELL("address",'Z_3.sz.mell.'!#REF!),"'",""),SUBSTITUTE(MID(CELL("address",'Z_3.sz.mell.'!#REF!),SEARCH("]",CELL("address",'Z_3.sz.mell.'!#REF!),1)+1,LEN(CELL("address",'Z_3.sz.mell.'!#REF!))-SEARCH("]",CELL("address",'Z_3.sz.mell.'!#REF!),1)),"'","")) -> #REF!
A17: 4. melléklet | B17: Felújítási kiadások előirányzata felújításonként | C17: =HYPERLINK(SUBSTITUTE(CELL("address",'Z_4.sz.mell.'!#REF!),"'",""),SUBSTITUTE(MID(CELL("address",'Z_4.sz.mell.'!#REF!),SEARCH("]",CELL("address",'Z_4.sz.mell.'!#REF!),1)+1,LEN(CELL("address",'Z_4.sz.mell.'!#REF!))-SEARCH("]",CELL("address",'Z_4.sz.mell.'!#REF!),1)),"'","")) -> #REF!
A18: 5. melléklet | B18: ='Z_5.sz.mell.'!A3 -> Európai uniós támogatással megvalósuló projektek | C18: =HYPERLINK(SUBSTITUTE(CELL("address",'Z_5.sz.mell.'!A1),"'",""),SUBSTITUTE(MID(CELL("address",'Z_5.sz.mell.'!A1),SEARCH("]",CELL("address",'Z_5.sz.mell.'!A1),1)+1,LEN(CELL("address",'Z_5.sz.mell.'!A1))-SEARCH("]",CELL("address",'Z_5.sz.mell.'!A1),1)),"'","")) -> Z_5.sz.mell.!$A$1
A19: 6.1. melléklet | B19: Összes bevétel, kiadás | C19: =HYPERLINK(SUBSTITUTE(CELL("address",'Z_6.1.sz.mell'!A1),"'",""),SUBSTITUTE(MID(CELL("address",'Z_6.1.sz.mell'!A1),SEARCH("]",CELL("address",'Z_6.1.sz.mell'!A1),1)+1,LEN(CELL("address",'Z_6.1.sz.mell'!A1))-SEARCH("]",CELL("address",'Z_6.1.sz.mell'!A1),1)),"'","")) -> Z_6.1.sz.mell!$A$1
A20: 6.1.1. melléklet | B20: Kötelező feladtok bevételei, kiadásai | C20: =HYPERLINK(SUBSTITUTE(CELL("address",'Z_6.1.1.sz.mell'!A1),"'",""),SUBSTITUTE(MID(CELL("address",'Z_6.1.1.sz.mell'!A1),SEARCH("]",CELL("address",'Z_6.1.1.sz.mell'!A1),1)+1,LEN(CELL("address",'Z_6.1.1.sz.mell'!A1))-SEARCH("]",CELL("address",'Z_6.1.1.sz.mell'!A1),1)),"'","")) -> Z_6.1.1.sz.mell!$A$1
A21: 6.1.2. melléklet | B21: Önként vállalt feladatok bevételei, kiadásai | C21: =HYPERLINK(SUBSTITUTE(CELL("address",'Z_6.1.2.sz.mell'!A1),"'",""),SUBSTITUTE(MID(CELL("address",'Z_6.1.2.sz.mell'!A1),SEARCH("]",CELL("address",'Z_6.1.2.sz.mell'!A1),1)+1,LEN(CELL("address",'Z_6.1.2.sz.mell'!A1))-SEARCH("]",CELL("address",'Z_6.1.2.sz.mell'!A1),1)),"'","")) -> Z_6.1.2.sz.mell!$A$1
A22: 6.1.3. melléklet | B22: Államigazgatási feladatok bevételei, kiadásai | C22: =HYPERLINK(SUBSTITUTE(CELL("address",'Z_6.1.3.sz.mell'!A1),"'",""),SUBSTITUTE(MID(CELL("address",'Z_6.1.3.sz.mell'!A1),SEARCH("]",CELL("address",'Z_6.1.3.sz.mell'!A1),1)+1,LEN(CELL("address",'Z_6.1.3.sz.mell'!A1))-SEARCH("]",CELL("address",'Z_6.1.3.sz.mell'!A1),1)),"'","")) -> Z_6.1.3.sz.mell!$A$1
A23: 6.2. melléklet | B23: =Z_ALAPADATOK!A11 -> Sajószögedi Polgármesteri Hivatal | C23: =HYPERLINK(SUBSTITUTE(CELL("address",'Z_6.2.sz.mell'!A1),"'",""),SUBSTITUTE(MID(CELL("address",'Z_6.2.sz.mell'!A1),SEARCH("]",CELL("address",'Z_6.2.sz.mell'!A1),1)+1,LEN(CELL("address",'Z_6.2.sz.mell'!A1))-SEARCH("]",CELL("address",'Z_6.2.sz.mell'!A1),1)),"'","")) -> Z_6.2.sz.mell!$A$1
A24: 6.3. melléklet | B24: =Z_ALAPADATOK!B13 -> Sajószögedi Általános Művelődési Központ - Család és Gyermekjóléti Szolgálat - Konyha - Művelődési Ház és Könyvtár | C24: =HYPERLINK(SUBSTITUTE(CELL("address",'Z_6.3.sz.mell'!A1),"'",""),SUBSTITUTE(MID(CELL("address",'Z_6.3.sz.mell'!A1),SEARCH("]",CELL("address",'Z_6.3.sz.mell'!A1),1)+1,LEN(CELL("address",'Z_6.3.sz.mell'!A1))-SEARCH("]",CELL("address",'Z_6.3.sz.mell'!A1),1)),"'","")) -> Z_6.3.sz.mell!$A$1
A25: 6.4. melléklet | B25: =Z_ALAPADATOK!B15 -> Sajószögedi Zöld Sziget Bölcsőde | C25: =HYPERLINK(SUBSTITUTE(CELL("address",'Z_6.4.sz.mell'!A1),"'",""),SUBSTITUTE(MID(CELL("address",'Z_6.4.sz.mell'!A1),SEARCH("]",CELL("address",'Z_6.4.sz.mell'!A1),1)+1,LEN(CELL("address",'Z_6.4.sz.mell'!A1))-SEARCH("]",CELL("address",'Z_6.4.sz.mell'!A1),1)),"'","")) -> Z_6.4.sz.mell!$A$1
A26: 6.5. melléklet | B26: =Z_ALAPADATOK!B17 -> 3 kvi név | C26: =HYPERLINK(SUBSTITUTE(CELL("address",'Z_6.5.sz.mell'!A1),"'",""),SUBSTITUTE(MID(CELL("address",'Z_6.5.sz.mell'!A1),SEARCH("]",CELL("address",'Z_6.5.sz.mell'!A1),1)+1,LEN(CELL("address",'Z_6.5.sz.mell'!A1))-SEARCH("]",CELL("address",'Z_6.5.sz.mell'!A1),1)),"'","")) -> Z_6.5.sz.mell!$A$1
A27: 6.6. melléklet | B27: =Z_ALAPADATOK!B19 -> 4 kvi név | C27: =HYPERLINK(SUBSTITUTE(CELL("address",'Z_6.6.sz.mell'!A1),"'",""),SUBSTITUTE(MID(CELL("address",'Z_6.6.sz.mell'!A1),SEARCH("]",CELL("address",'Z_6.6.sz.mell'!A1),1)+1,LEN(CELL("address",'Z_6.6.sz.mell'!A1))-SEARCH("]",CELL("address",'Z_6.6.sz.mell'!A1),1)),"'","")) -> Z_6.6.sz.mell!$A$1
A28: 6.7. melléklet | B28: =Z_ALAPADATOK!B21 -> 5 kvi név | C28: =HYPERLINK(SUBSTITUTE(CELL("address",'Z_6.7.sz.mell'!A1),"'",""),SUBSTITUTE(MID(CELL("address",'Z_6.7.sz.mell'!A1),SEARCH("]",CELL("address",'Z_6.7.sz.mell'!A1),1)+1,LEN(CELL("address",'Z_6.7.sz.mell'!A1))-SEARCH("]",CELL("address",'Z_6.7.sz.mell'!A1),1)),"'","")) -> Z_6.7.sz.mell!$A$1
A29: 6.8. melléklet | B29: =Z_ALAPADATOK!B23 -> 6 kvi név | C29: =HYPERLINK(SUBSTITUTE(CELL("address",'Z_6.8.sz.mell'!A1),"'",""),SUBSTITUTE(MID(CELL("address",'Z_6.8.sz.mell'!A1),SEARCH("]",CELL("address",'Z_6.8.sz.mell'!A1),1)+1,LEN(CELL("address",'Z_6.8.sz.mell'!A1))-SEARCH("]",CELL("address",'Z_6.8.sz.mell'!A1),1)),"'","")) -> Z_6.8.sz.mell!$A$1
A30: 6.9. melléklet | B30: =Z_ALAPADATOK!B25 -> 7 kvi név | C30: =HYPERLINK(SUBSTITUTE(CELL("address",'Z_6.9.sz.mell'!A1),"'",""),SUBSTITUTE(MID(CELL("address",'Z_6.9.sz.mell'!A1),SEARCH("]",CELL("address",'Z_6.9.sz.mell'!A1),1)+1,LEN(CELL("address",'Z_6.9.sz.mell'!A1))-SEARCH("]",CELL("address",'Z_6.9.sz.mell'!A1),1)),"'","")) -> Z_6.9.sz.mell!$A$1
A31: 6.10. melléklet | B31: =Z_ALAPADATOK!B27 -> 8 kvi név | C31: =HYPERLINK(SUBSTITUTE(CELL("address",'Z_6.10.sz.mell'!A1),"'",""),SUBSTITUTE(MID(CELL("address",'Z_6.10.sz.mell'!A1),SEARCH("]",CELL("address",'Z_6.10.sz.mell'!A1),1)+1,LEN(CELL("address",'Z_6.10.sz.mell'!A1))-SEARCH("]",CELL("address",'Z_6.10.sz.mell'!A1),1)),"'","")) -> Z_6.10.sz.mell!$A$1
A32: 6.11. melléklet | B32: =Z_ALAPADATOK!B29 -> 9 kvi név | C32: =HYPERLINK(SUBSTITUTE(CELL("address",'Z_6.11.sz.mell'!A1),"'",""),SUBSTITUTE(MID(CELL("address",'Z_6.11.sz.mell'!A1),SEARCH("]",CELL("address",'Z_6.11.sz.mell'!A1),1)+1,LEN(CELL("address",'Z_6.11.sz.mell'!A1))-SEARCH("]",CELL("address",'Z_6.11.sz.mell'!A1),1)),"'","")) -> Z_6.11.sz.mell!$A$1
A33: 6.12. melléklet | B33: =Z_ALAPADATOK!B31 -> 10 kvi név | C33: =HYPERLINK(SUBSTITUTE(CELL("address",'Z_6.12.sz.mell'!A1),"'",""),SUBSTITUTE(MID(CELL("address",'Z_6.12.sz.mell'!A1),SEARCH("]",CELL("address",'Z_6.12.sz.mell'!A1),1)+1,LEN(CELL("address",'Z_6.12.sz.mell'!A1))-SEARCH("]",CELL("address",'Z_6.12.sz.mell'!A1),1)),"'","")) -> Z_6.12.sz.mell!$A$1
A34: 7. melléklet | B34: =PROPER('Z_7.sz.mell'!A3) -> Költségvetési Szervek Maradványának Alakulása | C34: =HYPERLINK(SUBSTITUTE(CELL("address",'Z_7.sz.mell'!A1),"'",""),SUBSTITUTE(MID(CELL("address",'Z_7.sz.mell'!A1),SEARCH("]",CELL("address",'Z_7.sz.mell'!A1),1)+1,LEN(CELL("address",'Z_7.sz.mell'!A1))-SEARCH("]",CELL("address",'Z_7.sz.mell'!A1),1)),"'","")) -> Z_7.sz.mell!$A$1
A35: 8. melléklet | B35: ='Z_8.sz.mell'!B1 -> 2021. évi általános működés és ágazati feladatok támogatásának alakulása jogcímenként | C35: =HYPERLINK(SUBSTITUTE(CELL("address",'Z_8.sz.mell'!A1),"'",""),SUBSTITUTE(MID(CELL("address",'Z_8.sz.mell'!A1),SEARCH("]",CELL("address",'Z_8.sz.mell'!A1),1)+1,LEN(CELL("address",'Z_8.sz.mell'!A1))-SEARCH("]",CELL("address",'Z_8.sz.mell'!A1),1)),"'","")) -> Z_8.sz.mell!$A$1
A36: 1. tájékoztató tábla | B36: =CONCATENATE(PROPER('Z_1.tájékoztató_t.'!A2)," ",LOWER('Z_1.tájékoztató_t.'!A3)) -> Sajószöged Községi Önkormányzat 2021. évi zárszámadásának pénzügyi mérlege | C36: =HYPERLINK(SUBSTITUTE(CELL("address",'Z_1.tájékoztató_t.'!A1),"'",""),SUBSTITUTE(MID(CELL("address",'Z_1.tájékoztató_t.'!A1),SEARCH("]",CELL("address",'Z_1.tájékoztató_t.'!A1),1)+1,LEN(CELL("address",'Z_1.tájékoztató_t.'!A1))-SEARCH("]",CELL("address",'Z_1.tájékoztató_t.'!A1),1)),"'","")) -> Z_1.tájékoztató_t.!$A$1
A37: 2. tájékoztató tábla | B37: ='Z_2.tájékoztató_t.'!A1 -> Többéves kihatással járó döntésekből származó kötzelezettségek célok szerinti, évenkénti bontásban | C37: =HYPERLINK(SUBSTITUTE(CELL("address",'Z_2.tájékoztató_t.'!A2),"'",""),SUBSTITUTE(MID(CELL("address",'Z_2.tájékoztató_t.'!A2),SEARCH("]",CELL("address",'Z_2.tájékoztató_t.'!A2),1)+1,LEN(CELL("address",'Z_2.tájékoztató_t.'!A2))-SEARCH("]",CELL("address",'Z_2.tájékoztató_t.'!A2),1)),"'","")) -> Z_2.tájékoztató_t.!$A$2
A38: 3. tájékoztató tábla | B38: ='Z_3.tájékoztató_t.'!A1 -> Az önkormányzat által nyújtott hitel és kölcsön alakulása lejárat és eszközök szerinti bontásban | C38: =HYPERLINK(SUBSTITUTE(CELL("address",'Z_3.tájékoztató_t.'!A1),"'",""),SUBSTITUTE(MID(CELL("address",'Z_3.tájékoztató_t.'!A1),SEARCH("]",CELL("address",'Z_3.tájékoztató_t.'!A1),1)+1,LEN(CELL("address",'Z_3.tájékoztató_t.'!A1))-SEARCH("]",CELL("address",'Z_3.tájékoztató_t.'!A1),1)),"'","")) -> Z_3.tájékoztató_t.!$A$1
A39: 4. tájékoztató tábla | B39: ='Z_4.tájékoztató_t.'!A1 -> Adósság állomány alakulása lejárat, eszközök, bel- és külföldi hitelezők szerinti bontásban 2021. december 31-én | C39: =HYPERLINK(SUBSTITUTE(CELL("address",'Z_4.tájékoztató_t.'!A1),"'",""),SUBSTITUTE(MID(CELL("address",'Z_4.tájékoztató_t.'!A1),SEARCH("]",CELL("address",'Z_4.tájékoztató_t.'!A1),1)+1,LEN(CELL("address",'Z_4.tájékoztató_t.'!A1))-SEARCH("]",CELL("address",'Z_4.tájékoztató_t.'!A1),1)),"'","")) -> Z_4.tájékoztató_t.!$A$1
A40: 5. tájékoztató tábla | B40: ='Z_5.tájékoztató_t.'!A3 -> Az önkormányzat által adott közvetett támogatások | C40: =HYPERLINK(SUBSTITUTE(CELL("address",'Z_5.tájékoztató_t.'!A1),"'",""),SUBSTITUTE(MID(CELL("address",'Z_5.tájékoztató_t.'!A1),SEARCH("]",CELL("address",'Z_5.tájékoztató_t.'!A1),1)+1,LEN(CELL("address",'Z_5.tájékoztató_t.'!A1))-SEARCH("]",CELL("address",'Z_5.tájékoztató_t.'!A1),1)),"'","")) -> Z_5.tájékoztató_t.!$A$1
A41: 6. tájékoztató tábla | B41: =CONCATENATE(PROPER('Z_6.tájékoztató_t.'!A3)," ",LOWER('Z_6.tájékoztató_t.'!A4)) -> K I M U T A T Á S a 2021. évi céljelleggel juttatott támogatások felhasználásáról | C41: =HYPERLINK(SUBSTITUTE(CELL("address",'Z_6.tájékoztató_t.'!A1),"'",""),SUBSTITUTE(MID(CELL("address",'Z_6.tájékoztató_t.'!A1),SEARCH("]",CELL("address",'Z_6.tájékoztató_t.'!A1),1)+1,LEN(CELL("address",'Z_6.tájékoztató_t.'!A1))-SEARCH("]",CELL("address",'Z_6.tájékoztató_t.'!A1),1)),"'","")) -> Z_6.tájékoztató_t.!$A$1
A42: 7.1. tájékoztató tábla | B42: =CONCATENATE(PROPER('Z_7.1.tájékoztató_t.'!A2)," ",'Z_7.1.tájékoztató_t.'!A3) -> Vagyonkimutatás a könyvviteli mérlegben értékkel szerplő eszközökről | C42: =HYPERLINK(SUBSTITUTE(CELL("address",'Z_7.1.tájékoztató_t.'!A1),"'",""),SUBSTITUTE(MID(CELL("address",'Z_7.1.tájékoztató_t.'!A1),SEARCH("]",CELL("address",'Z_7.1.tájékoztató_t.'!A1),1)+1,LEN(CELL("address",'Z_7.1.tájékoztató_t.'!A1))-SEARCH("]",CELL("address",'Z_7.1.tájékoztató_t.'!A1),1)),"'","")) -> Z_7.1.tájékoztató_t.!$A$1
...

Sheet Z_ALAPADATOK
B1: =Z_TARTALOMJEGYZÉK!A1 -> 2021 | C1: . évi
A2: ALAPADATOK
A3: Sajószöged Községi Önkormányzat
A6: Előterjesztéskor
A7: a | B7: … | C7: / | D7: =CONCATENATE(Z_TARTALOMJEGYZÉK!A1+1,".") -> 2022. | E7: ( | F7: … | G7: ) | H7: önkormányzati rendelethez
H10: Mellékletben külön?
A11: Sajószögedi Polgármesteri Hivatal | H11: Igen | J11: 6. | K11: =IF($H$11="Nem","",2) -> 2 | L11: . | M11: =CONCATENATE(J11,K11,L11) -> 6.2.
A13: 1. költségvetési szerv neve | B13: Sajószögedi Általános Művelődési Központ - Család és Gyermekjóléti Szolgálat - Konyha - Művelődési Ház és Könyvtár | J13: 6. | K13: =IF(H11="Nem",2,3) -> 3 | L13: . | M13: =CONCATENATE(J13,K13,L13) -> 6.3.
A15: 2. költségvetési szerv neve | B15: Sajószögedi Zöld Sziget Bölcsőde | J15: 6. | K15: =K13+1 -> 4 | L15: . | M15: =CONCATENATE(J15,K15,L15) -> 6.4.
A17: 3. költségvetési szerv neve | B17: 3 kvi név | J17: 6. | K17: =K15+1 -> 5 | L17: . | M17: =CONCATENATE(J17,K17,L17) -> 6.5.
A19: 4. költségvetési szerv neve | B19: 4 kvi név | J19: 6. | K19: =K17+1 -> 6 | L19: . | M19: =CONCATENATE(J19,K19,L19) -> 6.6.
A21: 5. költségvetési szerv neve | B21: 5 kvi név | J21: 6. | K21: =K19+1 -> 7 | L21: . | M21: =CONCATENATE(J21,K21,L21) -> 6.7.
A23: 6. költségvetési szerv neve | B23: 6 kvi név | J23: 6. | K23: =K21+1 -> 8 | L23: . | M23: =CONCATENATE(J23,K23,L23) -> 6.8.
A25: 7. költségvetési szerv neve | B25: 7 kvi név | J25: 6. | K25: =K23+1 -> 9 | L25: . | M25: =CONCATENATE(J25,K25,L25) -> 6.9.
A27: 8. költségvetési szerv neve | B27: 8 kvi név | J27: 6. | K27: =K25+1 -> 10 | L27: . | M27: =CONCATENATE(J27,K27,L27) -> 6.10.
A29: 8. költségvetési szerv neve | B29: 9 kvi név | J29: 6. | K29: =K27+1 -> 11 | L29: . | M29: =CONCATENATE(J29,K29,L29) -> 6.11.
A31: 10. költségvetési szerv neve | B31: 10 kvi név | J31: 6. | K31: =K29+1 -> 12 | L31: . | M31: =CONCATENATE(J31,K31,L31) -> 6.12.

Sheet Z_ÖSSZEFÜGGÉSEK
A1: Zárszámadási rendelet űrlapjainak összefüggései:
A6: =CONCATENATE(Z_ALAPADATOK!B1,". évi eredeti előirányzat BEVÉTELEK") -> 2021. évi eredeti előirányzat BEVÉTELEK
A9: 1.1. sz. melléklet Bevételek táblázat C. oszlop 9 sora = | B9: 2.1. számú melléklet C. oszlop 13. sor + 2.2. számú melléklet C. oszlop 12. sor
A10: 1.1 sz. melléklet Bevételek táblázat C. oszlop 17 sora = | B10: 2.1. számú melléklet C. oszlop 24. sor + 2.2. számú melléklet C. oszlop 25. sor
A11: 1.1 sz. melléklet Bevételek táblázat C. oszlop 18 sora = | B11: 2.1. számú melléklet C. oszlop 25. sor + 2.2. számú melléklet C. oszlop 26. sor
A13: =+CONCATENATE(LEFT(A6,4),". évi módosított előirányzat BEVÉTELEK") -> 2021. évi módosított előirányzat BEVÉTELEK
A15: 1.1. sz. melléklet Bevételek táblázat D. oszlop 9 sora = | B15: 2.1. számú melléklet D. oszlop 13. sor + 2.2. számú melléklet D. oszlop 12. sor
A16: 1.1. sz. melléklet Bevételek táblázat D. oszlop 17 sora = | B16: 2.1. számú melléklet D. oszlop 24. sor + 2.2. számú melléklet D. oszlop 25. sor
A17: 1.1. sz. melléklet Bevételek táblázat D. oszlop 18 sora = | B17: 2.1. számú melléklet D. oszlop 25. sor + 2.2. számú melléklet D. oszlop 26. sor
A19: =+CONCATENATE(LEFT(A6,4),".évi teljesített BEVÉTELEK") -> 2021.évi teljesített BEVÉTELEK
A21: 1.1. sz. melléklet Bevételek táblázat E. oszlop 9 sora = | B21: 2.1. számú melléklet E. oszlop 13. sor + 2.2. számú melléklet E. oszlop 12. sor
A22: 1.1. sz. melléklet Bevételek táblázat E. oszlop 17 sora = | B22: 2.1. számú melléklet E. oszlop 24. sor + 2.2. számú melléklet E. oszlop 25. sor
A23: 1.1. sz. melléklet Bevételek táblázat E. oszlop 18 sora = | B23: 2.1. számú melléklet E. oszlop 25. sor + 2.2. számú melléklet E. oszlop 26. sor
A25: =+CONCATENATE(LEFT(A6,4),". évi eredeti előirányzat KIADÁSOK") -> 2021. évi eredeti előirányzat KIADÁSOK
A27: 1.1.sz. melléklet Kiadások táblázat C. oszlop 3 sora = | B27: 2.1. számú melléklet G. oszlop 13. sor + 2.2. számú melléklet G. oszlop 12. sor
A28: 1.1. sz. melléklet Kiadások táblázat C. oszlop 10 sora = | B28: 2.1. számú melléklet G. oszlop 24. sor + 2.2. számú melléklet G. oszlop 25. sor
A29: 1.1. sz. melléklet Kiadások táblázat C. oszlop 11 sora = | B29: 2.1. számú melléklet G. oszlop 25. sor + 2.2. számú melléklet G. oszlop 26. sor
A31: =+CONCATENATE(LEFT(A6,4),". évi módosított előirányzat KIADÁSOK") -> 2021. évi módosított előirányzat KIADÁSOK
A33: 1.1. sz. melléklet Kiadások táblázat D. oszlop 3 sora = | B33: 2.1. számú melléklet H. oszlop 13. sor + 2.2. számú melléklet H. oszlop 12. sor
A34: 1.1. sz. melléklet Kiadások táblázat D. oszlop 10 sora = | B34: 2.1. számú melléklet H. oszlop 24. sor + 2.2. számú melléklet H. oszlop 25. sor
A35: 1.1. sz. melléklet Kiadások táblázat D. oszlop 11 sora = | B35: 2.1. számú melléklet H. oszlop 25. sor + 2.2. számú melléklet H. oszlop 26. sor
A37: =+CONCATENATE(LEFT(A6,4),".évi teljesített KIADÁSOK") -> 2021.évi teljesített KIADÁSOK
A39: 1.1. sz. melléklet Kiadások táblázat E. oszlop 3 sora = | B39: 2.1. számú melléklet I. oszlop 13. sor + 2.2. számú melléklet I. oszlop 12. sor
A40: 1.1. sz. melléklet Kiadások táblázat E. oszlop 10 sora = | B40: 2.1. számú melléklet I. oszlop 24. sor + 2.2. számú melléklet I. oszlop 25. sor
A41: 1.1.sz. melléklet Kiadások táblázat E. oszlop 11 sora = | B41: 2.1. számú melléklet I. oszlop 25. sor + 2.2. számú melléklet I. oszlop 26. sor

Sheet Z_1.1.sz.mell.
B1: =CONCATENATE("1.1. melléklet ",Z_ALAPADATOK!A7," ",Z_ALAPADATOK!B7," ",Z_ALAPADATOK!C7," ",Z_ALAPADATOK!D7," ",Z_ALAPADATOK!E7," ",Z_ALAPADATOK!F7," ",Z_ALAPADATOK!G7," ",Z_ALAPADATOK!H7) -> 1.1. melléklet a … / 2022. ( … ) önkormányzati rendelethez
A2: =CONCATENATE(Z_ALAPADATOK!A3) -> Sajószöged Községi Önkormányzat
A3: =CONCATENATE(Z_ALAPADATOK!B1,". évi ZÁRSZÁMADÁSÁNAK PÉNZÜGYI MÉRLEGE") -> 2021. évi ZÁRSZÁMADÁSÁNAK PÉNZÜGYI MÉRLEGE
A6: B E V É T E L E K
A7: 1. sz. táblázat | E7: Forintban!
A8: Sor- szám | B8: Bevételi jogcím | C8: =+CONCATENATE(LEFT(Z_ÖSSZEFÜGGÉSEK!A6,4),". évi") -> 2021. évi
C9: Eredeti előirányzat | D9: Módosított előirányzat | E9: =+CONCATENATE(LEFT(Z_ÖSSZEFÜGGÉSEK!A6,4),". XII. 31.",CHAR(10),"teljesítés") -> 2021. XII. 31. teljesítés
A10: A | B10: B | C10: C | D10: D | E10: E
A11: 1. | B11: Önkormányzat működési támogatásai (1.1.+…+.1.6.) | C11: =+C12+C13+C14+C15+C16+C17 -> 168879689 | D11: =+D12+D13+D14+D15+D16+D17 -> 192219846 | E11: =+E12+E13+E14+E15+E16+E17 -> 192219846
A12: 1.1. | B12: Helyi önkormányzatok működésének általános támogatása | C12: 57626844 | D12: 57872570 | E12: 57872570
A13: 1.2. | B13: Önkormányzatok egyes köznevelési feladatainak támogatása | C13: 51930050 | D13: 54207000 | E13: 54207000
A14: 1.3. | B14: Önkormányzatok szociális és gyermekjóléti feladatainak támogatása | C14: 54251505 | D14: 57091483 | E14: 57091483
A15: 1.4. | B15: Önkormányzatok kulturális feladatainak támogatása | C15: 5071290 | D15: 5155422 | E15: 5155422
A16: 1.5. | B16: Működési célú kvi támogatások és kiegészítő támogatások | D16: 17711650 | E16: 17711650
A17: 1.6. | B17: Elszámolásból származó bevételek | D17: 181721 | E17: 181721
A18: 2. | B18: Működési célú támogatások államháztartáson belülről (2.1.+…+.2.5.) | C18: =+C19+C20+C21+C22+C23 -> 8356200 | D18: =+D19+D20+D21+D22+D23 -> 11374380 | E18: =+E19+E20+E21+E22+E23 -> 12365299
A19: 2.1. | B19: Elvonások és befizetések bevételei
A20: 2.2. | B20: Működési célú garancia- és kezességvállalásból megtérülések
A21: 2.3. | B21: Működési célú visszatérítendő támogatások, kölcsönök visszatérülése
A22: 2.4. | B22: Működési célú visszatérítendő támogatások, kölcsönök igénybevétele
A23: 2.5. | B23: Egyéb működési célú támogatások bevételei | C23: 8356200 | D23: 11374380 | E23: 12365299
A24: 2.6. | B24: 2.5.-ből EU-s támogatás
A25: 3. | B25: Felhalmozási célú támogatások államháztartáson belülről (3.1.+…+3.5.) | C25: =+C26+C27+C28+C29+C30 -> 30000000 | D25: =+D26+D27+D28+D29+D30 -> 119719194 | E25: =+E26+E27+E28+E29+E30 -> 89719194
A26: 3.1. | B26: Felhalmozási célú önkormányzati támogatások
A27: 3.2. | B27: Felhalmozási célú garancia- és kezességvállalásból megtérülések
A28: 3.3. | B28: Felhalmozási célú visszatérítendő támogatások, kölcsönök visszatérülése
A29: 3.4. | B29: Felhalmozási célú visszatérítendő támogatások, kölcsönök igénybevétele
A30: 3.5. | B30: Egyéb felhalmozási célú támogatások bevételei | C30: 30000000 | D30: 119719194 | E30: 89719194
A31: 3.6. | B31: 3.5.-ből EU-s támogatás | C31: 30000000 | D31: 119719194 | E31: 89719194
A32: 4. | B32: Közhatalmi bevételek (4.1.+…+4.7.) | C32: =SUM(C33:C39) -> 212960000 | D32: =SUM(D33:D39) -> 213060000 | E32: =SUM(E33:E39) -> 223901819
A33: 4.1. | B33: Építményadó | C33: 3100000 | D33: 3100000 | E33: 3008321
A34: 4.2. | B34: Idegenforgalmi adó | C34: 0 | D34: 0
A35: 4.3. | B35: Iparűzési adó | C35: 110000000 | D35: 110000000 | E35: 119557187
A36: 4.4. | B36: Talajterhelési díj | C36: 350000 | D36: 350000 | E36: 1067520
A37: 4.5. | B37: Gépjárműadó | C37: 0 | D37: 0
A38: 4.6. | B38: Telekadó | C38: 99000000 | D38: 99000000 | E38: 99759980
A39: 4.7. | B39: Egyéb közhatalmi bevételek | C39: 510000 | D39: 610000 | E39: =1576331-E36 -> 508811
A40: 5. | B40: Működési bevételek (5.1.+…+ 5.11.) | C40: =SUM(C41:C51) -> 56427933 | D40: =SUM(D41:D51) -> 93760420 | E40: =SUM(E41:E51) -> 84402367
A41: 5.1. | B41: Készletértékesítés ellenértéke
A42: 5.2. | B42: Szolgáltatások ellenértéke | C42: 15895271 | D42: 14157234 | E42: 13260118
...

Sheet Z_1.2.sz.mell.
B1: =CONCATENATE("1.2. melléklet ",Z_ALAPADATOK!A7," ",Z_ALAPADATOK!B7," ",Z_ALAPADATOK!C7," ",Z_ALAPADATOK!D7," ",Z_ALAPADATOK!E7," ",Z_ALAPADATOK!F7," ",Z_ALAPADATOK!G7," ",Z_ALAPADATOK!H7) -> 1.2. melléklet a … / 2022. ( … ) önkormányzati rendelethez
A2: =CONCATENATE(Z_ALAPADATOK!A3) -> Sajószöged Községi Önkormányzat
A3: =CONCATENATE(Z_ALAPADATOK!B1,". ÉVI ZÁRSZÁMADÁS") -> 2021. ÉVI ZÁRSZÁMADÁS
A4: KÖTELEZŐ FELADATOK PÉNZÜGYI MÉRLEGE
A6: B E V É T E L E K
A7: 1. sz. táblázat | E7: =CONCATENATE('Z_1.1.sz.mell.'!E7) -> Forintban!
A8: Sor- szám | B8: Bevételi jogcím | C8: =+CONCATENATE(LEFT(Z_ÖSSZEFÜGGÉSEK!A6,4),". évi") -> 2021. évi
C9: Eredeti előirányzat | D9: Módosított előirányzat | E9: =CONCATENATE('Z_1.1.sz.mell.'!E9) -> 2021. XII. 31. teljesítés
A10: A | B10: B | C10: C | D10: D | E10: E
A11: 1. | B11: Önkormányzat működési támogatásai (1.1.+…+.1.6.) | C11: ='Z_1.1.sz.mell.'!C11 -> 168879689 | D11: ='Z_1.1.sz.mell.'!D11 -> 192219846 | E11: ='Z_1.1.sz.mell.'!E11 -> 192219846
A12: 1.1. | B12: Helyi önkormányzatok működésének általános támogatása | C12: ='Z_1.1.sz.mell.'!C12 -> 57626844 | D12: ='Z_1.1.sz.mell.'!D12 -> 57872570 | E12: ='Z_1.1.sz.mell.'!E12 -> 57872570
A13: 1.2. | B13: Önkormányzatok egyes köznevelési feladatainak támogatása | C13: ='Z_1.1.sz.mell.'!C13 -> 51930050 | D13: ='Z_1.1.sz.mell.'!D13 -> 54207000 | E13: ='Z_1.1.sz.mell.'!E13 -> 54207000
A14: 1.3. | B14: Önkormányzatok szociális és gyermekjóléti feladatainak támogatása | C14: ='Z_1.1.sz.mell.'!C14 -> 54251505 | D14: ='Z_1.1.sz.mell.'!D14 -> 57091483 | E14: ='Z_1.1.sz.mell.'!E14 -> 57091483
A15: 1.4. | B15: Önkormányzatok kulturális feladatainak támogatása | C15: ='Z_1.1.sz.mell.'!C15 -> 5071290 | D15: ='Z_1.1.sz.mell.'!D15 -> 5155422 | E15: ='Z_1.1.sz.mell.'!E15 -> 5155422
A16: 1.5. | B16: Működési célú kvi támogatások és kiegészítő támogatások | C16: ='Z_1.1.sz.mell.'!C16 -> 0 | D16: ='Z_1.1.sz.mell.'!D16 -> 17711650 | E16: ='Z_1.1.sz.mell.'!E16 -> 17711650
A17: 1.6. | B17: Elszámolásból származó bevételek | C17: ='Z_1.1.sz.mell.'!C17 -> 0 | D17: ='Z_1.1.sz.mell.'!D17 -> 181721 | E17: ='Z_1.1.sz.mell.'!E17 -> 181721
A18: 2. | B18: Működési célú támogatások államháztartáson belülről (2.1.+…+.2.5.) | C18: ='Z_1.1.sz.mell.'!C18 -> 8356200 | D18: ='Z_1.1.sz.mell.'!D18 -> 11374380 | E18: ='Z_1.1.sz.mell.'!E18 -> 12365299
A19: 2.1. | B19: Elvonások és befizetések bevételei | C19: ='Z_1.1.sz.mell.'!C19 -> 0 | D19: ='Z_1.1.sz.mell.'!D19 -> 0 | E19: ='Z_1.1.sz.mell.'!E19 -> 0
A20: 2.2. | B20: Működési célú garancia- és kezességvállalásból megtérülések | C20: ='Z_1.1.sz.mell.'!C20 -> 0 | D20: ='Z_1.1.sz.mell.'!D20 -> 0 | E20: ='Z_1.1.sz.mell.'!E20 -> 0
A21: 2.3. | B21: Működési célú visszatérítendő támogatások, kölcsönök visszatérülése | C21: ='Z_1.1.sz.mell.'!C21 -> 0 | D21: ='Z_1.1.sz.mell.'!D21 -> 0 | E21: ='Z_1.1.sz.mell.'!E21 -> 0
A22: 2.4. | B22: Működési célú visszatérítendő támogatások, kölcsönök igénybevétele | C22: ='Z_1.1.sz.mell.'!C22 -> 0 | D22: ='Z_1.1.sz.mell.'!D22 -> 0 | E22: ='Z_1.1.sz.mell.'!E22 -> 0
... A32: 4. | B32: Közhatalmi bevételek (4.1.+…+4.7.) | C32: ='Z_1.1.sz.mell.'!C32 -> 212960000 | D32: ='Z_1.1.sz.mell.'!D32 -> 213060000 | E32: ='Z_1.1.sz.mell.'!E32 -> 223901819
A33: 4.1. | B33: ='Z_1.1.sz.mell.'!B33 -> Építményadó | C33: ='Z_1.1.sz.mell.'!C33 -> 3100000 | D33: ='Z_1.1.sz.mell.'!D33 -> 3100000 | E33: ='Z_1.1.sz.mell.'!E33 -> 3008321
A34: 4.2. | B34: ='Z_1.1.sz.mell.'!B34 -> Idegenforgalmi adó | C34: ='Z_1.1.sz.mell.'!C34 -> 0 | D34: ='Z_1.1.sz.mell.'!D34 -> 0 | E34: ='Z_1.1.sz.mell.'!E34 -> 0
A35: 4.3. | B35: ='Z_1.1.sz.mell.'!B35 -> Iparűzési adó | C35: ='Z_1.1.sz.mell.'!C35 -> 110000000 | D35: ='Z_1.1.sz.mell.'!D35 -> 110000000 | E35: ='Z_1.1.sz.mell.'!E35 -> 119557187
A36: 4.4. | B36: ='Z_1.1.sz.mell.'!B36 -> Talajterhelési díj | C36: ='Z_1.1.sz.mell.'!C36 -> 350000 | D36: ='Z_1.1.sz.mell.'!D36 -> 350000 | E36: ='Z_1.1.sz.mell.'!E36 -> 1067520
A37: 4.5. | B37: ='Z_1.1.sz.mell.'!B37 -> Gépjárműadó | C37: ='Z_1.1.sz.mell.'!C37 -> 0 | D37: ='Z_1.1.sz.mell.'!D37 -> 0 | E37: ='Z_1.1.sz.mell.'!E37 -> 0
A38: 4.6. | B38: ='Z_1.1.sz.mell.'!B38 -> Telekadó | C38: ='Z_1.1.sz.mell.'!C38 -> 99000000 | D38: ='Z_1.1.sz.mell.'!D38 -> 99000000 | E38: ='Z_1.1.sz.mell.'!E38 -> 99759980
A39: 4.7. | B39: ='Z_1.1.sz.mell.'!B39 -> Egyéb közhatalmi bevételek | C39: ='Z_1.1.sz.mell.'!C39 -> 510000 | D39: ='Z_1.1.sz.mell.'!D39 -> 610000 | E39: ='Z_1.1.sz.mell.'!E39 -> 508811
A40: 5. | B40: Működési bevételek (5.1.+…+ 5.11.) | C40: ='Z_1.1.sz.mell.'!C40 -> 56427933 | D40: ='Z_1.1.sz.mell.'!D40 -> 93760420 | E40: ='Z_1.1.sz.mell.'!E40 -> 84402367
A41: 5.1. | B41: Készletértékesítés ellenértéke | C41: ='Z_1.1.sz.mell.'!C41 -> 0 | D41: ='Z_1.1.sz.mell.'!D41 -> 0 | E41: ='Z_1.1.sz.mell.'!E41 -> 0
A42: 5.2. | B42: Szolgáltatások ellenértéke | C42: ='Z_1.1.sz.mell.'!C42 -> 15895271 | D42: ='Z_1.1.sz.mell.'!D42 -> 14157234 | E42: ='Z_1.1.sz.mell.'!E42 -> 13260118
A43: 5.3. | B43: Közvetített szolgáltatások értéke | C43: ='Z_1.1.sz.mell.'!C43 -> 1500000 | D43: ='Z_1.1.sz.mell.'!D43 -> 2854860 | E43: ='Z_1.1.sz.mell.'!E43 -> 2801657
A44: 5.4. | B44: Tulajdonosi bevételek | C44: ='Z_1.1.sz.mell.'!C44 -> 14000000 | D44: ='Z_1.1.sz.mell.'!D44 -> 36874754 | E44: ='Z_1.1.sz.mell.'!E44 -> 33074197
A45: 5.5. | B45: Ellátási díjak | C45: ='Z_1.1.sz.mell.'!C45 -> 13323666 | D45: ='Z_1.1.sz.mell.'!D45 -> 18332185 | E45: ='Z_1.1.sz.mell.'!E45 -> 15440348
A46: 5.6. | B46: Kiszámlázott általános forgalmi adó | C46: ='Z_1.1.sz.mell.'!C46 -> 11708996 | D46: ='Z_1.1.sz.mell.'!D46 -> 18549614 | E46: ='Z_1.1.sz.mell.'!E46 -> 16982009
A47: 5.7. | B47: Általános forgalmi adó visszatérítése | C47: ='Z_1.1.sz.mell.'!C47 -> 0 | D47: ='Z_1.1.sz.mell.'!D47 -> 2401000 | E47: ='Z_1.1.sz.mell.'!E47 -> 2401000
A48: 5.8. | B48: Kamatbevételek és más nyereségjellegű bevételek | C48: ='Z_1.1.sz.mell.'!C48 -> 0 | D48: ='Z_1.1.sz.mell.'!D48 -> 0 | E48: ='Z_1.1.sz.mell.'!E48 -> 0
A49: 5.9. | B49: Egyéb pénzügyi műveletek bevételei | C49: ='Z_1.1.sz.mell.'!C49 -> 0 | D49: ='Z_1.1.sz.mell.'!D49 -> 42 | E49: ='Z_1.1.sz.mell.'!E49 -> 62
A50: 5.10. | B50: Biztosító által fizetett kártérítés | C50: ='Z_1.1.sz.mell.'!C50 -> 0 | D50: ='Z_1.1.sz.mell.'!D50 -> 350000 | E50: ='Z_1.1.sz.mell.'!E50 -> 350000
...

Sheet Z_1.3.sz.mell.
B1: =CONCATENATE("1.3. melléklet ",Z_ALAPADATOK!A7," ",Z_ALAPADATOK!B7," ",Z_ALAPADATOK!C7," ",Z_ALAPADATOK!D7," ",Z_ALAPADATOK!E7," ",Z_ALAPADATOK!F7," ",Z_ALAPADATOK!G7," ",Z_ALAPADATOK!H7) -> 1.3. melléklet a … / 2022. ( … ) önkormányzati rendelethez
A2: =CONCATENATE(Z_ALAPADATOK!A3) -> Sajószöged Községi Önkormányzat
A3: =CONCATENATE(Z_ALAPADATOK!B1,". ÉVI ZÁRSZÁMADÁS") -> 2021. ÉVI ZÁRSZÁMADÁS
A4: ÖNKÉNT VÁLLALT FELADATOK PÉNZÜGYI MÉRLEGE
A6: B E V É T E L E K
A7: 1. sz. táblázat | E7: =CONCATENATE('Z_1.2.sz.mell.'!E7) -> Forintban!
A8: Sor- szám | B8: Bevételi jogcím | C8: =+CONCATENATE(LEFT(Z_ÖSSZEFÜGGÉSEK!A6,4),". évi") -> 2021. évi
C9: Eredeti előirányzat | D9: Módosított előirányzat | E9: =CONCATENATE('Z_1.2.sz.mell.'!E9) -> 2021. XII. 31. teljesítés
A10: A | B10: B | C10: C | D10: D | E10: E
A11: 1. | B11: Önkormányzat működési támogatásai (1.1.+…+.1.6.) | C11: =+C12+C13+C14+C15+C16+C17 -> 0 | D11: =+D12+D13+D14+D15+D16+D17 -> 0 | E11: =+E12+E13+E14+E15+E16+E17 -> 0
A12: 1.1. | B12: Helyi önkormányzatok működésének általános támogatása
A13: 1.2. | B13: Önkormányzatok egyes köznevelési feladatainak támogatása
A14: 1.3. | B14: Önkormányzatok szociális és gyermekjóléti feladatainak támogatása
A15: 1.4. | B15: Önkormányzatok kulturális feladatainak támogatása
A16: 1.5. | B16: Működési célú kvi támogatások és kiegészítő támogatások
A17: 1.6. | B17: Elszámolásból származó bevételek
A18: 2. | B18: Működési célú támogatások államháztartáson belülről (2.1.+…+.2.5.) | C18: =+C19+C20+C21+C22+C23 -> 0 | D18: =+D19+D20+D21+D22+D23 -> 0 | E18: =+E19+E20+E21+E22+E23 -> 0
A19: 2.1. | B19: Elvonások és befizetések bevételei
A20: 2.2. | B20: Működési célú garancia- és kezességvállalásból megtérülések
A21: 2.3. | B21: Működési célú visszatérítendő támogatások, kölcsönök visszatérülése
A22: 2.4. | B22: Működési célú visszatérítendő támogatások, kölcsönök igénybevétele
A23: 2.5. | B23: Egyéb működési célú támogatások bevételei
A24: 2.6. | B24: 2.5.-ből EU-s támogatás
A25: 3. | B25: Felhalmozási célú támogatások államháztartáson belülről (3.1.+…+3.5.) | C25: =+C26+C27+C28+C29+C30 -> 0 | D25: =+D26+D27+D28+D29+D30 -> 0 | E25: =+E26+E27+E28+E29+E30 -> 0
A26: 3.1. | B26: Felhalmozási célú önkormányzati támogatások
A27: 3.2. | B27: Felhalmozási célú garancia- és kezességvállalásból megtérülések
A28: 3.3. | B28: Felhalmozási célú visszatérítendő támogatások, kölcsönök visszatérülése
A29: 3.4. | B29: Felhalmozási célú visszatérítendő támogatások, kölcsönök igénybevétele
A30: 3.5. | B30: Egyéb felhalmozási célú támogatások bevételei
A31: 3.6. | B31: 3.5.-ből EU-s támogatás
A32: 4. | B32: Közhatalmi bevételek (4.1.+…+4.7.) | C32: =SUM(C33:C39) -> 0 | D32: =SUM(D33:D39) -> 0 | E32: =SUM(E33:E39) -> 0
A33: 4.1. | B33: ='Z_1.1.sz.mell.'!B33 -> Építményadó
A34: 4.2. | B34: ='Z_1.1.sz.mell.'!B34 -> Idegenforgalmi adó
A35: 4.3. | B35: ='Z_1.1.sz.mell.'!B35 -> Iparűzési adó
A36: 4.4. | B36: ='Z_1.1.sz.mell.'!B36 -> Talajterhelési díj
A37: 4.5. | B37: ='Z_1.1.sz.mell.'!B37 -> Gépjárműadó
A38: 4.6. | B38: ='Z_1.1.sz.mell.'!B38 -> Telekadó
A39: 4.7. | B39: ='Z_1.1.sz.mell.'!B39 -> Egyéb közhatalmi bevételek
A40: 5. | B40: Működési bevételek (5.1.+…+ 5.11.) | C40: =SUM(C41:C51) -> 0 | D40: =SUM(D41:D51) -> 0 | E40: =SUM(E41:E51) -> 0
A41: 5.1. | B41: Készletértékesítés ellenértéke
...

Sheet Z_1.4.sz.mell.
B1: =CONCATENATE("1.4. melléklet ",Z_ALAPADATOK!A7," ",Z_ALAPADATOK!B7," ",Z_ALAPADATOK!C7," ",Z_ALAPADATOK!D7," ",Z_ALAPADATOK!E7," ",Z_ALAPADATOK!F7," ",Z_ALAPADATOK!G7," ",Z_ALAPADATOK!H7) -> 1.4. melléklet a … / 2022. ( … ) önkormányzati rendelethez
A2: =CONCATENATE(Z_ALAPADATOK!A3) -> Sajószöged Községi Önkormányzat
A3: =CONCATENATE(Z_ALAPADATOK!B1,". ÉVI ZÁRSZÁMADÁS") -> 2021. ÉVI ZÁRSZÁMADÁS
A4: ÁLLAMIGAZGATÁSI FELADATOK PÉNZÜGYI MÉRLEGE
A6: B E V É T E L E K
A7: 1. sz. táblázat | E7: =CONCATENATE('Z_1.3.sz.mell.'!E7) -> Forintban!
A8: Sor- szám | B8: Bevételi jogcím | C8: =+CONCATENATE(LEFT(Z_ÖSSZEFÜGGÉSEK!A6,4),". évi") -> 2021. évi
C9: Eredeti előirányzat | D9: Módosított előirányzat | E9: =CONCATENATE('Z_1.3.sz.mell.'!E9) -> 2021. XII. 31. teljesítés
A10: A | B10: B | C10: C | D10: D | E10: E
A11: 1. | B11: Önkormányzat működési támogatásai (1.1.+…+.1.6.) | C11: =+C12+C13+C14+C15+C16+C17 -> 0 | D11: =+D12+D13+D14+D15+D16+D17 -> 0 | E11: =+E12+E13+E14+E15+E16+E17 -> 0
A12: 1.1. | B12: Helyi önkormányzatok működésének általános támogatása
A13: 1.2. | B13: Önkormányzatok egyes köznevelési feladatainak támogatása
A14: 1.3. | B14: Önkormányzatok szociális és gyermekjóléti feladatainak támogatása
A15: 1.4. | B15: Önkormányzatok kulturális feladatainak támogatása
A16: 1.5. | B16: Működési célú kvi támogatások és kiegészítő támogatások
A17: 1.6. | B17: Elszámolásból származó bevételek
A18: 2. | B18: Működési célú támogatások államháztartáson belülről (2.1.+…+.2.5.) | C18: =+C19+C20+C21+C22+C23 -> 0 | D18: =+D19+D20+D21+D22+D23 -> 0 | E18: =+E19+E20+E21+E22+E23 -> 0
A19: 2.1. | B19: Elvonások és befizetések bevételei
A20: 2.2. | B20: Működési célú garancia- és kezességvállalásból megtérülések
A21: 2.3. | B21: Működési célú visszatérítendő támogatások, kölcsönök visszatérülése
A22: 2.4. | B22: Működési célú visszatérítendő támogatások, kölcsönök igénybevétele
A23: 2.5. | B23: Egyéb működési célú támogatások bevételei
A24: 2.6. | B24: 2.5.-ből EU-s támogatás
A25: 3. | B25: Felhalmozási célú támogatások államháztartáson belülről (3.1.+…+3.5.) | C25: =+C26+C27+C28+C29+C30 -> 0 | D25: =+D26+D27+D28+D29+D30 -> 0 | E25: =+E26+E27+E28+E29+E30 -> 0
A26: 3.1. | B26: Felhalmozási célú önkormányzati támogatások
A27: 3.2. | B27: Felhalmozási célú garancia- és kezességvállalásból megtérülések
A28: 3.3. | B28: Felhalmozási célú visszatérítendő támogatások, kölcsönök visszatérülése
A29: 3.4. | B29: Felhalmozási célú visszatérítendő támogatások, kölcsönök igénybevétele
A30: 3.5. | B30: Egyéb felhalmozási célú támogatások bevételei
A31: 3.6. | B31: 3.5.-ből EU-s támogatás
A32: 4. | B32: Közhatalmi bevételek (4.1.+…+4.7.) | C32: =SUM(C33:C39) -> 0 | D32: =SUM(D33:D39) -> 0 | E32: =SUM(E33:E39) -> 0
A33: 4.1. | B33: ='Z_1.1.sz.mell.'!B33 -> Építményadó
A34: 4.2. | B34: ='Z_1.1.sz.mell.'!B34 -> Idegenforgalmi adó
A35: 4.3. | B35: ='Z_1.1.sz.mell.'!B35 -> Iparűzési adó
A36: 4.4. | B36: ='Z_1.1.sz.mell.'!B36 -> Talajterhelési díj
A37: 4.5. | B37: ='Z_1.1.sz.mell.'!B37 -> Gépjárműadó
A38: 4.6. | B38: ='Z_1.1.sz.mell.'!B38 -> Telekadó
A39: 4.7. | B39: ='Z_1.1.sz.mell.'!B39 -> Egyéb közhatalmi bevételek
A40: 5. | B40: Működési bevételek (5.1.+…+ 5.11.) | C40: =SUM(C41:C51) -> 0 | D40: =SUM(D41:D51) -> 0 | E40: =SUM(E41:E51) -> 0
A41: 5.1. | B41: Készletértékesítés ellenértéke
...

Sheet Z_2.1.sz.mell
B1: I. Működési célú bevételek és kiadások mérlege (Önkormányzati szinten) | J1: =CONCATENATE("2.1. melléklet ",Z_ALAPADATOK!A7," ",Z_ALAPADATOK!B7," ",Z_ALAPADATOK!C7," ",Z_ALAPADATOK!D7," ",Z_ALAPADATOK!E7," ",Z_ALAPADATOK!F7," ",Z_ALAPADATOK!G7," ",Z_ALAPADATOK!H7) -> 2.1. melléklet a … / 2022. ( … ) önkormányzati rendelethez
I2: =CONCATENATE('Z_1.4.sz.mell.'!E7) -> Forintban!
A3: Sor- szám | B3: Bevételek | F3: Kiadások
B4: Megnevezés | C4: =+CONCATENATE('Z_1.1.sz.mell.'!C8," eredeti előirányzat") -> 2021. évi eredeti előirányzat | D4: =+CONCATENATE('Z_1.1.sz.mell.'!C8," módosított előirányzat") -> 2021. évi módosított előirányzat | E4: =CONCATENATE('Z_1.4.sz.mell.'!E9) -> 2021. XII. 31. teljesítés | F4: Megnevezés | G4: =+C4 -> 2021. évi eredeti előirányzat | H4: =+D4 -> 2021. évi módosított előirányzat | I4: =+E4 -> 2021. XII. 31. teljesítés
A5: A | B5: B | C5: C | D5: D | E5: E | F5: F | G5: G | H5: H | I5: I
A6: 1. | B6: Önkormányzatok működési támogatásai | C6: 168879689 | D6: 192219846 | E6: 192219846 | F6: Személyi juttatások | G6: 190005619 | H6: 209070783 | I6: ='Z_1.1.sz.mell.'!E101 -> 197439245
A7: 2. | B7: Működési célú támogatások államháztartáson belülről | C7: 8356200 | D7: 11374380 | E7: 12365299 | F7: Munkaadókat terhelő járulékok és szociális hozzájárulási adó | G7: 32318032 | H7: 34633394 | I7: ='Z_1.1.sz.mell.'!E102 -> 30009650
A8: 3. | B8: 2.-ból EU-s támogatás | D8: 0 | F8: Dologi kiadások | G8: 197853933 | H8: 215705711 | I8: ='Z_1.1.sz.mell.'!E103 -> 191010825
A9: 4. | B9: Közhatalmi bevételek | C9: 212960000 | D9: 213060000 | E9: 223901819 | F9: Ellátottak pénzbeli juttatásai | G9: 12550000 | H9: 12550000 | I9: ='Z_1.1.sz.mell.'!E104 -> 10715288
A10: 5. | B10: Működési bevételek | C10: 56427933 | D10: 93760420 | E10: 84402367 | F10: Egyéb működési célú kiadások | G10: 84311058 | H10: 91431807 | I10: ='Z_1.1.sz.mell.'!E105 -> 87425170
A11: 6. | B11: Működési célú átvett pénzeszközök | E11: 370000 | F11: Tartalékok | G11: 10000000 | H11: 7222963
A12: 7. | B12: 6.-ból EU-s támogatás (közvetlen)
A13: 8.
A14: 9.
A15: 10.
A16: 11.
A17: 12.
A18: 13. | B18: Költségvetési bevételek összesen (1.+2.+4.+5.+6.+8.+…+12.) | C18: =C6+C7+C9+C10+C11+C13+C14+C15+C16+C17 -> 446623822 | D18: =D6+D7+D9+D10+D11+D13+D14+D15+D16+D17 -> 510414646 | E18: =E6+E7+E9+E10+E11+E13+E14+E15+E16+E17 -> 513259331 | F18: Költségvetési kiadások összesen (1.+...+12.) | G18: =SUM(G6:G17) -> 527038642 | H18: =SUM(H6:H17) -> 570614658 | I18: =SUM(I6:I17) -> 516600178
A19: 14. | B19: Hiány belső finanszírozásának bevételei (15.+…+19. ) | C19: =+C20+C21+C22+C23 -> 87170009 | D19: =+D20+D21+D22+D23 -> 66955201 | E19: =+E20+E21+E22+E23 -> 66955201 | F19: Értékpapír vásárlása, visszavásárlása
A20: 15. | B20: Költségvetési maradvány igénybevétele | C20: 67170009 | D20: 66955201 | E20: 61955201 | F20: Likviditási célú hitelek törlesztése
A21: 16. | B21: Vállalkozási maradvány igénybevétele | F21: Rövid lejáratú hitelek törlesztése
A22: 17. | B22: Betét visszavonásából származó bevétel | F22: Hosszú lejáratú hitelek törlesztése
A23: 18. | B23: Egyéb belső finanszírozási bevételek | C23: 20000000 | D23: 0 | E23: 5000000 | F23: Kölcsön törlesztése
A24: 19. | B24: Értékpapírok bevételei | F24: Forgatási célú belföldi, külföldi értékpapírok vásárlása
A25: 20. | B25: Hiány külső finanszírozásának bevételei (21.+…+23.) | C25: =C26+C27 -> 0 | D25: =D26+D27 -> 0 | E25: =E26+E27 -> 0 | F25: Pénzeszközök lekötött betétként elhelyezése
A26: 21. | B26: Likviditási célú hitelek, kölcsönök felvétele | F26: Adóssághoz nem kapcsolódó származékos ügyletek
A27: 22. | B27: Váltóbevételek | F27: Váltókiadások
A28: 23. | B28: Államháztartáson belüli megelőlegezés | D28: 554674 | E28: 7640915 | F28: Államháztartáson belüli megelőlegezések visszafizetése | G28: 6755189 | H28: 7309863 | I28: 7309863
A29: 24. | B29: Működési célú finanszírozási bevételek összesen (14.+20.) | C29: =+C19+C25+C28 -> 87170009 | D29: =+D19+D25+D28 -> 67509875 | E29: =+E19+E25+E28 -> 74596116 | F29: Működési célú finanszírozási kiadások összesen (13.+...+23.) | G29: =SUM(G19:G28) -> 6755189 | H29: =SUM(H19:H28) -> 7309863 | I29: =SUM(I19:I28) -> 7309863
A30: 25. | B30: BEVÉTEL ÖSSZESEN (13.+24.) | C30: =+C18+C29 -> 533793831 | D30: =+D18+D29 -> 577924521 | E30: =+E18+E29 -> 587855447 | G30: =+G18+G29 -> 533793831 | H30: =+H18+H29 -> 577924521 | I30: =+I18+I29 -> 523910041
A31: 26. | B31: Költségvetési hiány: | C31: =IF(C18-G18<0,G18-C18,"-") -> 80414820 | D31: =IF(D18-H18<0,H18-D18,"-") -> 60200012 | E31: =IF(E18-I18<0,I18-E18,"-") -> 3340847 | F31: Költségvetési többlet: | G31: =IF(C18-G18>0,C18-G18,"-") -> - | H31: =IF(D18-H18>0,D18-H18,"-") -> - | I31: =IF(E18-I18>0,E18-I18,"-") -> -
A32: 27. | B32: Bruttó hiány: | C32: =IF(C30-G30<0,G30-C30,"-") -> - | D32: =IF(D30-H30<0,H30-D30,"-") -> - | E32: =IF(E30-I30<0,I30-E30,"-") -> - | F32: Bruttó többlet: | G32: =IF(C30-G30>0,C30-G30,"-") -> - | H32: =IF(D30-H30>0,D30-H30,"-") -> - | I32: =IF(E30-I30>0,E30-I30,"-") -> 63945406

Sheet Z_2.2.sz.mell
B1: II. Felhalmozási célú bevételek és kiadások mérlege (Önkormányzati szinten) | J1: =CONCATENATE("2.2. melléklet ",Z_ALAPADATOK!A7," ",Z_ALAPADATOK!B7," ",Z_ALAPADATOK!C7," ",Z_ALAPADATOK!D7," ",Z_ALAPADATOK!E7," ",Z_ALAPADATOK!F7," ",Z_ALAPADATOK!G7," ",Z_ALAPADATOK!H7) -> 2.2. melléklet a … / 2022. ( … ) önkormányzati rendelethez
I2: ='Z_2.1.sz.mell'!I2 -> Forintban!
A3: Sor- szám | B3: Bevételek | F3: Kiadások
B4: Megnevezés | C4: =+CONCATENATE('Z_1.1.sz.mell.'!C8," eredeti előirányzat") -> 2021. évi eredeti előirányzat | D4: =+CONCATENATE('Z_1.1.sz.mell.'!C8," módosított előirányzat") -> 2021. évi módosított előirányzat | E4: =CONCATENATE('Z_2.1.sz.mell'!E4) -> 2021. XII. 31. teljesítés | F4: Megnevezés | G4: =+C4 -> 2021. évi eredeti előirányzat | H4: =+D4 -> 2021. évi módosított előirányzat | I4: =+E4 -> 2021. XII. 31. teljesítés
A5: A | B5: B | C5: C | D5: D | E5: E | F5: F | G5: G | H5: H | I5: I
A6: 1. | B6: Felhalmozási célú támogatások államháztartáson belülről | C6: 30000000 | D6: 119719194 | E6: 89719194 | F6: Beruházások | G6: 33380818 | H6: ='Z_1.1.sz.mell.'!D122 -> 25784466 | I6: ='Z_1.1.sz.mell.'!E122 -> 23574143
A7: 2. | B7: 1.-ből EU-s támogatás | C7: 30000000 | D7: 30000000 | E7: 89719194 | F7: 1.-ből EU-s forrásból megvalósuló beruházás | H7: ='Z_1.1.sz.mell.'!D123 -> 8509200 | I7: ='Z_1.1.sz.mell.'!E123 -> 8509200
A8: 3. | B8: Felhalmozási bevételek | C8: 1267716 | D8: 26385826 | E8: 11385826 | F8: Felújítások | G8: 95110097 | H8: ='Z_1.1.sz.mell.'!D124 -> 216026421 | I8: ='Z_1.1.sz.mell.'!E124 -> 126065711
A9: 4. | B9: Felhalmozási célú átvett pénzeszközök átvétele | C9: 1649641 | D9: 1923842 | E9: 2042980 | F9: 3.-ból EU-s forrásból megvalósuló felújítás | G9: ='Z_1.1.sz.mell.'!C125 -> 87833480 | H9: ='Z_1.1.sz.mell.'!D125 -> 184833480 | I9: ='Z_1.1.sz.mell.'!E125 -> 121637168
A10: 5. | B10: 4.-ből EU-s támogatás (közvetlen) | F10: Egyéb felhalmozási kiadások | H10: 4343418 | I10: 4343418
A11: 6. | B11: Egyéb felhalmozási célú bevételek
A12: 7.
A13: 8.
A14: 9.
A15: 10.
A16: 11. | F16: Tartalékok
A17: 12. | B17: Költségvetési bevételek összesen: (1.+3.+4.+6.+…+11.) | C17: =+C6+C8+C9+C11+C12+C13+C14+C15+C16 -> 32917357 | D17: =+D6+D8+D9+D11+D12+D13+D14+D15+D16 -> 148028862 | E17: =+E6+E8+E9+E11+E12+E13+E14+E15+E16 -> 103148000 | F17: Költségvetési kiadások összesen: (1.+3.+5.+...+11.) | G17: =+G6+G8+G10+G11+G12+G13+G14+G15+G16 -> 128490915 | H17: =+H6+H8+H10+H11+H12+H13+H14+H15+H16 -> 246154305 | I17: =+I6+I8+I10+I11+I12+I13+I14+I15+I16 -> 153983272
A18: 13. | B18: Hiány belső finanszírozás bevételei ( 14+…+18) | C18: =+C19+C20+C21+C22+C23 -> 95573558 | D18: =+D19+D20+D21+D22+D23 -> 98125443 | E18: =+E19+E20+E21+E22+E23 -> 98125443 | F18: Értékpapír vásárlása, visszavásárlása
A19: 14. | B19: Költségvetési maradvány igénybevétele | C19: 95573558 | D19: 98125443 | E19: 98125443 | F19: Hitelek törlesztése
A20: 15. | B20: Vállalkozási maradvány igénybevétele | F20: Rövid lejáratú hitelek törlesztése
A21: 16. | B21: Betét visszavonásából származó bevétel | F21: Hosszú lejáratú hitelek törlesztése
A22: 17. | B22: Értékpapír értékesítése | F22: Kölcsön törlesztése
A23: 18. | B23: Egyéb belső finanszírozási bevételek | F23: Befektetési célú belföldi, külföldi értékpapírok vásárlása
A24: 19. | B24: Hiány külső finanszírozásának bevételei (20+…+24 ) | C24: =+C25+C26+C27+C28+C29 -> 0 | D24: =+D25+D26+D27+D28+D29 -> 0 | E24: =+E25+E26+E27+E28+E29 -> 0 | F24: Betét elhelyezése
A25: 20. | B25: Hosszú lejáratú hitelek, kölcsönök felvétele | F25: Pénzügyi lízing kiadásai
A26: 21. | B26: Likviditási célú hitelek, kölcsönök felvétele
A27: 22. | B27: Rövid lejáratú hitelek, kölcsönök felvétele
A28: 23. | B28: Értékpapírok kibocsátása
A29: 24. | B29: Egyéb külső finanszírozási bevételek
A30: 25. | B30: Felhalmozási célú finanszírozási bevételek összesen (13.+19.) | C30: =+C18+C24 -> 95573558 | D30: =+D18+D24 -> 98125443 | E30: =+E18+E24 -> 98125443 | F30: Felhalmozási célú finanszírozási kiadások összesen (13.+...+24.) | G30: =SUM(G18:G29) -> 0 | H30: =SUM(H18:H29) -> 0 | I30: =SUM(I18:I29) -> 0
A31: 26. | B31: BEVÉTEL ÖSSZESEN (12+25) | C31: =+C17+C30 -> 128490915 | D31: =+D17+D30 -> 246154305 | E31: =+E17+E30 -> 201273443 | F31: KIADÁSOK ÖSSZESEN (12+25) | G31: =+G17+G30 -> 128490915 | H31: =+H17+H30 -> 246154305 | I31: =+I17+I30 -> 153983272
A32: 27. | B32: Költségvetési hiány: | C32: =IF(C17-G17<0,G17-C17,"-") -> 95573558 | D32: =IF(D17-H17<0,H17-D17,"-") -> 98125443 | E32: =IF(E17-I17<0,I17-E17,"-") -> 50835272 | F32: Költségvetési többlet: | G32: =IF(C17-G17>0,C17-G17,"-") -> - | H32: =IF(D17-H17>0,D17-H17,"-") -> - | I32: =IF(E17-I17>0,E17-I17,"-") -> -
A33: 28. | B33: Bruttó hiány: | C33: =IF(C31-G31<0,G31-C31,"-") -> - | D33: =IF(D31-H31<0,H31-D31,"-") -> - | E33: =IF(E31-I31<0,I31-E31,"-") -> - | F33: Bruttó többlet: | G33: =IF(C31-G31>0,C31-G31,"-") -> - | H33: =IF(D31-H31>0,D31-H31,"-") -> - | I33: =IF(E31-I31>0,E31-I31,"-") -> 47290171

Sheet Z_ELLENŐRZÉS
A1: Zárszámadási rendelet űrlapjainak összefüggései: | E1: ELTÉRÉS
A4: =+Z_ÖSSZEFÜGGÉSEK!A6 -> 2021. évi eredeti előirányzat BEVÉTELEK
A6: 1.1. sz. melléklet Bevételek táblázat C. oszlop 9 sora = | B6: =+'Z_1.1.sz.mell.'!C68 -> 479541179 | C6: 2.1. számú melléklet C. oszlop 13. sor + 2.2. számú melléklet C. oszlop 12. sor | D6: =+'Z_2.1.sz.mell'!C18+'Z_2.2.sz.mell'!C17 -> 479541179 | E6: =+B6-D6 -> 0
A7: 1.1. sz. melléklet Bevételek táblázat C. oszlop 17 sora = | B7: =+'Z_1.1.sz.mell.'!C92 -> 182743567 | C7: 2.1. számú melléklet C. oszlop 24. sor + 2.2. számú melléklet C. oszlop 25. sor | D7: =+'Z_2.1.sz.mell'!C29+'Z_2.2.sz.mell'!C30 -> 182743567 | E7: =+B7-D7 -> 0
A8: 1.1. sz. melléklet Bevételek táblázat C. oszlop 18 sora = | B8: =+'Z_1.1.sz.mell.'!C93 -> 662284746 | C8: 2.1. számú melléklet C. oszlop 25. sor + 2.2. számú melléklet C. oszlop 26. sor | D8: =+'Z_2.1.sz.mell'!C30+'Z_2.2.sz.mell'!C31 -> 662284746 | E8: =+B8-D8 -> 0
A10: =+Z_ÖSSZEFÜGGÉSEK!A13 -> 2021. évi módosított előirányzat BEVÉTELEK
A12: 1.1. sz. melléklet Bevételek táblázat D. oszlop 9 sora = | B12: =+'Z_1.1.sz.mell.'!D68 -> 658443508 | C12: 2.1. számú melléklet D. oszlop 13. sor + 2.2. számú melléklet D. oszlop 12. sor | D12: =+'Z_2.1.sz.mell'!D18+'Z_2.2.sz.mell'!D17 -> 658443508 | E12: =+B12-D12 -> 0
A13: 1.1. sz. melléklet Bevételek táblázat D. oszlop 17 sora = | B13: =+'Z_1.1.sz.mell.'!D92 -> 165635318 | C13: 2.1. számú melléklet D. oszlop 24. sor + 2.2. számú melléklet D. oszlop 25. sor | D13: =+'Z_2.1.sz.mell'!D29+'Z_2.2.sz.mell'!D30 -> 165635318 | E13: =+B13-D13 -> 0
A14: 1.1. sz. melléklet Bevételek táblázat D. oszlop 18 sora = | B14: =+'Z_1.1.sz.mell.'!D93 -> 824078826 | C14: 2.1. számú melléklet D. oszlop 25. sor + 2.2. számú melléklet D. oszlop 26. sor | D14: =+'Z_2.1.sz.mell'!D30+'Z_2.2.sz.mell'!D31 -> 824078826 | E14: =+B14-D14 -> 0
A16: =+Z_ÖSSZEFÜGGÉSEK!A19 -> 2021.évi teljesített BEVÉTELEK
A18: 1.1. sz. melléklet Bevételek táblázat E. oszlop 9 sora = | B18: =+'Z_1.1.sz.mell.'!E68 -> 616407331 | C18: 2.1. számú melléklet E. oszlop 13. sor + 2.2. számú melléklet E. oszlop 12. sor | D18: =+'Z_2.1.sz.mell'!E18+'Z_2.2.sz.mell'!E17 -> 616407331 | E18: =+B18-D18 -> 0
A19: 1.1. sz. melléklet Bevételek táblázat E. oszlop 17 sora = | B19: =+'Z_1.1.sz.mell.'!E92 -> 172721559 | C19: 2.1. számú melléklet E. oszlop 24. sor + 2.2. számú melléklet E. oszlop 25. sor | D19: =+'Z_2.1.sz.mell'!E29+'Z_2.2.sz.mell'!E30 -> 172721559 | E19: =+B19-D19 -> 0
A20: 1.1. sz. melléklet Bevételek táblázat E. oszlop 18 sora = | B20: =+'Z_1.1.sz.mell.'!E93 -> 789128890 | C20: 2.1. számú melléklet E. oszlop 25. sor + 2.2. számú melléklet E. oszlop 26. sor | D20: =+'Z_2.1.sz.mell'!E30+'Z_2.2.sz.mell'!E31 -> 789128890 | E20: =+B20-D20 -> 0
A22: =+Z_ÖSSZEFÜGGÉSEK!A25 -> 2021. évi eredeti előirányzat KIADÁSOK
A24: 1.1. sz. melléklet Kiadások táblázat C. oszlop 3 sora = | B24: =+'Z_1.1.sz.mell.'!C135 -> 655529557 | C24: 2.1. számú melléklet G. oszlop 13. sor + 2.2. számú melléklet G. oszlop 12. sor | D24: =+'Z_2.1.sz.mell'!G18+'Z_2.2.sz.mell'!G17 -> 655529557 | E24: =+B24-D24 -> 0
A25: 1.1. sz. melléklet Kiadások táblázat C. oszlop 10 sora = | B25: =+'Z_1.1.sz.mell.'!C160 -> 6755189 | C25: 2.1. számú melléklet G. oszlop 24. sor + 2.2. számú melléklet G. oszlop 25. sor | D25: =+'Z_2.1.sz.mell'!G29+'Z_2.2.sz.mell'!G30 -> 6755189 | E25: =+B25-D25 -> 0
A26: 1.1. sz. melléklet Kiadások táblázat C. oszlop 11 sora = | B26: =+'Z_1.1.sz.mell.'!C161 -> 662284746 | C26: 2.1. számú melléklet G. oszlop 25. sor + 2.2. számú melléklet G. oszlop 26. sor | D26: =+'Z_2.1.sz.mell'!G30+'Z_2.2.sz.mell'!G31 -> 662284746 | E26: =+B26-D26 -> 0
A28: =+Z_ÖSSZEFÜGGÉSEK!A31 -> 2021. évi módosított előirányzat KIADÁSOK
A30: 1.1. sz. melléklet Kiadások táblázat D. oszlop 3 sora = | B30: =+'Z_1.1.sz.mell.'!D135 -> 816768963 | C30: 2.1. számú melléklet H. oszlop 13. sor + 2.2. számú melléklet H. oszlop 12. sor | D30: =+'Z_2.1.sz.mell'!H18+'Z_2.2.sz.mell'!H17 -> 816768963 | E30: =+B30-D30 -> 0
A31: 1.1. sz. melléklet Kiadások táblázat D. oszlop 10 sora = | B31: =+'Z_1.1.sz.mell.'!D160 -> 7309863 | C31: 2.1. számú melléklet H. oszlop 24. sor + 2.2. számú melléklet H. oszlop 25. sor | D31: =+'Z_2.1.sz.mell'!H29+'Z_2.2.sz.mell'!H30 -> 7309863 | E31: =+B31-D31 -> 0
A32: 1.1. sz. melléklet Kiadások táblázat D. oszlop 11 sora = | B32: =+'Z_1.1.sz.mell.'!D161 -> 824078826 | C32: 2.1. számú melléklet H. oszlop 25. sor + 2.2. számú melléklet H. oszlop 26. sor | D32: =+'Z_2.1.sz.mell'!H30+'Z_2.2.sz.mell'!H31 -> 824078826 | E32: =+B32-D32 -> 0
A34: =+Z_ÖSSZEFÜGGÉSEK!A37 -> 2021.évi teljesített KIADÁSOK
A36: 1.1. sz. melléklet Kiadások táblázat E. oszlop 3 sora = | B36: =+'Z_1.1.sz.mell.'!E135 -> 670583450 | C36: 2.1. számú melléklet I. oszlop 13. sor + 2.2. számú melléklet I. oszlop 12. sor | D36: =+'Z_2.1.sz.mell'!I18+'Z_2.2.sz.mell'!I17 -> 670583450 | E36: =+B36-D36 -> 0
A37: 1.1. sz. melléklet Kiadások táblázat E. oszlop 10 sora = | B37: =+'Z_1.1.sz.mell.'!E160 -> 7309863 | C37: 2.1. számú melléklet I. oszlop 24. sor + 2.2. számú melléklet I. oszlop 25. sor | D37: =+'Z_2.1.sz.mell'!I29+'Z_2.2.sz.mell'!I30 -> 7309863 | E37: =+B37-D37 -> 0
A38: 1.1. sz. melléklet Kiadások táblázat E. oszlop 11 sora = | B38: =+'Z_1.1.sz.mell.'!E161 -> 677893313 | C38: 2.1. számú melléklet I. oszlop 25. sor + 2.2. számú melléklet I. oszlop 26. sor | D38: =+'Z_2.1.sz.mell'!I30+'Z_2.2.sz.mell'!I31 -> 677893313 | E38: =+B38-D38 -> 0

Sheet Z_3.sz.mell.
A1: Beruházási (felhalmozási) kiadások előirányzata és teljesítése beruházásonként | H1: =CONCATENATE("3. melléklet ",Z_ALAPADATOK!$A$7," ",Z_ALAPADATOK!$B$7," ",Z_ALAPADATOK!$C$7," ",Z_ALAPADATOK!$D$7," ",Z_ALAPADATOK!$E$7," ",Z_ALAPADATOK!$F$7," ",Z_ALAPADATOK!$G$7," ",Z_ALAPADATOK!$H$7) -> 3. melléklet a … / 2022. ( … ) önkormányzati rendelethez
G2: ='Z_2.2.sz.mell'!I2 -> Forintban!
A3: Beruházás megnevezése | B3: Teljes költség | C3: Kivitelezés kezdési és befejezési éve | D3: =+CONCATENATE("Felhasználás ",LEFT(Z_ÖSSZEFÜGGÉSEK!A6,4)-1,". XII. 31-ig") -> Felhasználás 2020. XII. 31-ig | E3: =+CONCATENATE(LEFT(Z_ÖSSZEFÜGGÉSEK!A6,4),". évi",CHAR(10),"módosított előirányzat") -> 2021. évi módosított előirányzat | F3: =+CONCATENATE("Teljesítés",CHAR(10),LEFT(Z_ÖSSZEFÜGGÉSEK!A6,4),". I. 1-től XII.31-ig") -> Teljesítés 2021. I. 1-től XII.31-ig | G3: =+CONCATENATE("Összes teljesítés",CHAR(10),LEFT(Z_ÖSSZEFÜGGÉSEK!A6,4),". XII. 31-ig") -> Összes teljesítés 2021. XII. 31-ig
A4: A | B4: B | C4: C | D4: D | E4: E | F4: F | G4: G=(D+F)
A5: Egyéb immateriális eszközök beszerzése | B5: 94869 | C5: 2021 | F5: 94869 | G5: =D5+F5 -> 94869
A6: Sajószögedi Zöld Sziget Bölcsőde épületüveg fóliázás | B6: 1188720 | C6: 2021 | F6: 1188720 | G6: =D6+F6 -> 1188720
A7: Térfigyelő kamerarendszer beüzemelése | B7: 3942212 | C7: 2014-2022 | D7: 2635463 | E7: 1306749 | G7: =D7+F7 -> 2635463
A8: Okos zebra (Vasút út/Bem út) | B8: 3421180 | C8: 2021 | F8: 3421180 | G8: =D8+F8 -> 3421180
A9: Művelődési ház űj mérőhely kialakítása | B9: 2840480 | C9: 2021 | F9: 2840480 | G9: =D9+F9 -> 2840480
A10: Fekvőrendőr kiépítése (Széchenyi és Táncsics út) | B10: 457200 | C10: 2021 | F10: 457200 | G10: =D10+F10 -> 457200
A11: TOP 1.4.1-15-BO1-2016-00080 Óvoda és konyha fejlesztése | B11: 8509200 | C11: 2021 | F11: 8509200 | G11: =D11+F11 -> 8509200
A12: Konyhatechnológiai eszközök (napközi) | B12: 1834896 | C12: 2021 | F12: 1834896 | G12: =D12+F12 -> 1834896
A13: Egyéb tárgyi eszközök beszerzése | B13: 2034956 | C13: 2021 | F13: 2034956 | G13: =D13+F13 -> 2034956
G14: =D14+F14 -> 0
G15: =D15+F15 -> 0
A16: Egyéb tárgyi eszközök beszerzése PH | B16: 150107 | C16: 2021 | F16: 150107 | G16: =D16+F16 -> 150107
A17: Egyéb tárgyi eszközök beszerzése ÁMK | B17: 2202669 | C17: 2021 | F17: 2202669 | G17: =D17+F17 -> 2202669
A18: Egyéb immateriális eszközök beszerzése ÁMK | B18: 109855 | C18: 2021 | F18: 109855 | G18: =D18+F18 -> 109855
A19: Egyéb tárgyi eszközök beszerzése Bölcsőde | B19: 730011 | C19: 2021 | F19: 730011 | G19: =D19+F19 -> 730011
G20: =D20+F20 -> 0
G21: =D21+F21 -> 0
G22: =D22+F22 -> 0
A23: ÖSSZESEN: | B23: =SUM(B5:B22) -> 27516355 | D23: =SUM(D5:D22) -> 2635463 | F23: =SUM(F5:F22) -> 23574143 | G23: =SUM(G5:G22) -> 26209606
G25: =SUM(F11) -> 8509200

Sheet Z_4.sz.mell.
A1: Felújítási kiadások előirányzata és teljesítése felújításonként | H1: =CONCATENATE("4. melléklet ",Z_ALAPADATOK!$A$7," ",Z_ALAPADATOK!$B$7," ",Z_ALAPADATOK!$C$7," ",Z_ALAPADATOK!$D$7," ",Z_ALAPADATOK!$E$7," ",Z_ALAPADATOK!$F$7," ",Z_ALAPADATOK!$G$7," ",Z_ALAPADATOK!$H$7) -> 4. melléklet a … / 2022. ( … ) önkormányzati rendelethez
G2: ='Z_3.sz.mell.'!G2 -> Forintban!
A3: Felújítás megnevezése | B3: Teljes költség | C3: Kivitelezés kezdési és befejezési éve | D3: =+'Z_3.sz.mell.'!D3 -> Felhasználás 2020. XII. 31-ig | E3: =+CONCATENATE(LEFT(Z_ÖSSZEFÜGGÉSEK!A6,4),". évi",CHAR(10),"módosított előirányzat") -> 2021. évi módosított előirányzat | F3: =+CONCATENATE("Teljesítés",CHAR(10),LEFT(Z_ÖSSZEFÜGGÉSEK!A6,4),". I. 1-től XII. 31-ig") -> Teljesítés 2021. I. 1-től XII. 31-ig | G3: =+CONCATENATE("Összes teljesítés",CHAR(10),LEFT(Z_ÖSSZEFÜGGÉSEK!A6,4),". XII. 31-ig") -> Összes teljesítés 2021. XII. 31-ig
A4: A | B4: B | C4: C | D4: D | E4: E | F4: F | G4: G=(D+F)
A5: TOP 3.2.1-16-BO1-2017-00055 Iskola energetikai korszerűsítése | B5: 169976625 | C5: 2020-2022 | D5: 2978150 | F5: 121065668 | G5: =D5+F5 -> 124043818
A6: Napkközi felújítás | B6: 3738785 | C6: 2021 | D6: 1647042 | F6: 2091743 | G6: =D6+F6 -> 3738785
A7: TOP 3.2.1-16-BO1-2020-00163 Önkormányzati épületek energetikai korszerűsítése | B7: 30000000 | C7: 2021-2022 | F7: 571500 | G7: =D7+F7 -> 571500
A8: "Községháza energetikai felújítása Sajószögeden" c. projekt | B8: 2336800 | C8: 2021 | F8: 2336800 | G8: =D8+F8 -> 2336800
G9: =D9+F9 -> 0
G10: =D10+F10 -> 0
G11: =D11+F11 -> 0
G12: =D12+F12 -> 0
G13: =D13+F13 -> 0
G14: =D14+F14 -> 0
G15: =D15+F15 -> 0
G16: =D16+F16 -> 0
G17: =D17+F17 -> 0
G18: =D18+F18 -> 0
G19: =D19+F19 -> 0
G20: =D20+F20 -> 0
... G23: =D23+F23 -> 0
A24: ÖSSZESEN: | B24: =SUM(B5:B23) -> 206052210 | D24: =SUM(D5:D23) -> 4625192 | F24: =SUM(F5:F23) -> 126065711 | G24: =SUM(G5:G23) -> 130690903
G26: =SUM(F5,F7) -> 121637168

Sheet Z_5.sz.mell.
A1: 5. melléklet a … / 2022. ( … ) önkormányzati rendelethez
A3: Európai uniós támogatással megvalósuló projektek
A4: bevételei, kiadásai, hozzájárulások
A6: EU-s projekt neve, azonosítója: | C6: TOP 1.4.1-15-BO1-2016-00080 Óvoda és Konyha fejlesztése Sajószögeden
H7: Forintban!
A8: Források | B8: Támogatási szerződés szerinti bevételek, kiadások
B9: Módosítás utáni összes forrás, kiadás | C9: Évenkénti ütemezés
C10: =CONCATENATE(Z_TARTALOMJEGYZÉK!$A$1,". előtti forrás, kiadás") -> 2021. előtti forrás, kiadás | D10: Eredeti | E10: Módosított | F10: =CONCATENATE("Összes teljesítés ",Z_TARTALOMJEGYZÉK!$A$1,". XII.31 -ig") -> Összes teljesítés 2021. XII.31 -ig | G10: Eredeti | H10: Módosított | I10: =CONCATENATE("Összes teljesítés ",Z_TARTALOMJEGYZÉK!$A$1,". XII.31 -ig") -> Összes teljesítés 2021. XII.31 -ig
D11: =CONCATENATE(Z_TARTALOMJEGYZÉK!$A$1,". évi") -> 2021. évi | G11: =CONCATENATE(Z_TARTALOMJEGYZÉK!$A$1,". után") -> 2021. után
A12: A | B12: B=C+E+H | C12: C | D12: D | E12: E | F12: F | G12: G | H12: H | I12: I=C+F
A13: Saját erő | B13: =C13+E13+H13 -> 10124323 | C13: 10124323 | I13: =C13+F13 -> 10124323
A14: - saját erőből központi támogatás | B14: =C14+E14+H14 -> 0 | I14: =C14+F14 -> 0
A15: EU-s forrás | B15: =C15+E15+H15 -> 173389594 | C15: 165714104 | E15: 7675490 | F15: 7675490 | I15: =C15+F15 -> 173389594
A16: Társfinanszírozás | B16: =C16+E16+H16 -> 0 | I16: =C16+F16 -> 0
A17: Hitel | B17: =C17+E17+H17 -> 0 | I17: =C17+F17 -> 0
A18: Egyéb forrás | B18: =C18+E18+H18 -> 0 | I18: =C18+F18 -> 0
A19: Források összesen: | B19: =B13+SUM(B15:B18) -> 183513917 | C19: =C13+SUM(C15:C18) -> 175838427 | D19: =D13+SUM(D15:D18) -> 0 | E19: =E13+SUM(E15:E18) -> 7675490 | F19: =F13+SUM(F15:F18) -> 7675490 | G19: =G13+SUM(G15:G18) -> 0 | H19: =H13+SUM(H15:H18) -> 0 | I19: =I13+SUM(I15:I18) -> 183513917
A20: Személyi jellegű | B20: =C20+E20+H20 -> 0 | I20: =C20+F20 -> 0
A21: Beruházások, beszerzések | B21: =C21+E21+H21 -> 144248566 | C21: 135739366 | E21: 8509200 | F21: 8509200 | I21: =C21+F21 -> 144248566
A22: Szolgáltatások igénybe vétele | B22: =C22+E22+H22 -> 1751000 | C22: 1751000 | I22: =C22+F22 -> 1751000
A23: Adminisztratív költségek | B23: =C23+E23+H23 -> 0 | C23: 0 | I23: =C23+F23 -> 0
A24: Fordított ÁFA | B24: =C24+E24+H24 -> 31994841 | C24: 31994841 | I24: =C24+F24 -> 31994841
A25: Kiadások összesen: | B25: =SUM(B20:B24) -> 177994407 | C25: =SUM(C20:C24) -> 169485207 | D25: =SUM(D20:D24) -> 0 | E25: =SUM(E20:E24) -> 8509200 | F25: =SUM(F20:F24) -> 8509200 | G25: =SUM(G20:G24) -> 0 | H25: =SUM(H20:H24) -> 0 | I25: =SUM(I20:I24) -> 177994407
A30: EU-s projekt neve, azonosítója: | C30: TOP 3.2.1-16-BO1-2017-00055 Iskola energetikai korszerűsítése
H31: Forintban!
A32: Források | B32: Támogatási szerződés szerinti bevételek, kiadások
B33: =B9 -> Módosítás utáni összes forrás, kiadás | C33: Évenkénti ütemezés
