Workbook

Sheet KVI_MOD_TARTALOMJEGYZÉK
A1: 2020
A2: Tartalomjegyzék
A4: Dokumentum neve | B4: A dokumentációs rendszerben található táblázatok listája | C4: Ugrás
A6: =CONCATENATE("IDŐKÖZI (",UPPER(KVI_MOD_ALAPADATOK!C9)," BESZÁMOLÓ) TÁJÉKOZTATÓ") -> IDŐKÖZI (III. NEGYEDÉVES BESZÁMOLÓ) TÁJÉKOZTATÓ
A7: Alapadatok | B7: Adatok megadása | C7: =HYPERLINK(SUBSTITUTE(CELL("address",KVI_MOD_ALAPADATOK!A1),"'",""),SUBSTITUTE(MID(CELL("address",KVI_MOD_ALAPADATOK!A1),SEARCH("]",CELL("address",KVI_MOD_ALAPADATOK!A1),1)+1,LEN(CELL("address",KVI_MOD_ALAPADATOK!A1))-SEARCH("]",CELL("address",KVI_MOD_ALAPADATOK!A1),1)),"'","")) -> KVI_MOD_ALAPADATOK!$A$1
A8: Összefüggések | B8: Táblázatok adatainak összefüggései | C8: =HYPERLINK(SUBSTITUTE(CELL("address",#REF!),"'",""),SUBSTITUTE(MID(CELL("address",#REF!),SEARCH("]",CELL("address",#REF!),1)+1,LEN(CELL("address",#REF!))-SEARCH("]",CELL("address",#REF!),1)),"'","")) -> #REF!
A9: 1.1. melléklet | B9: ='KVI_MOD_1.1.sz.mell.'!#REF! -> #REF! | C9: =HYPERLINK(SUBSTITUTE(CELL("address",'KVI_MOD_1.1.sz.mell.'!A1),"'",""),SUBSTITUTE(MID(CELL("address",'KVI_MOD_1.1.sz.mell.'!A1),SEARCH("]",CELL("address",'KVI_MOD_1.1.sz.mell.'!A1),1)+1,LEN(CELL("address",'KVI_MOD_1.1.sz.mell.'!A1))-SEARCH("]",CELL("address",'KVI_MOD_1.1.sz.mell.'!A1),1)),"'","")) -> KVI_MOD_1.1.sz.mell.!$A$1
A10: 1.2. melléklet | B10: ='KVI_MOD_1.2.sz.mell.'!A5 -> KÖTELEZŐ FELADATOK MÉRLEGE | C10: =HYPERLINK(SUBSTITUTE(CELL("address",'KVI_MOD_1.2.sz.mell.'!A2),"'",""),SUBSTITUTE(MID(CELL("address",'KVI_MOD_1.2.sz.mell.'!A2),SEARCH("]",CELL("address",'KVI_MOD_1.2.sz.mell.'!A2),1)+1,LEN(CELL("address",'KVI_MOD_1.2.sz.mell.'!A2))-SEARCH("]",CELL("address",'KVI_MOD_1.2.sz.mell.'!A2),1)),"'","")) -> KVI_MOD_1.2.sz.mell.!$A$2
A11: 1.3. melléklet | B11: =#REF! -> #REF! | C11: =HYPERLINK(SUBSTITUTE(CELL("address",#REF!),"'",""),SUBSTITUTE(MID(CELL("address",#REF!),SEARCH("]",CELL("address",#REF!),1)+1,LEN(CELL("address",#REF!))-SEARCH("]",CELL("address",#REF!),1)),"'","")) -> #REF!
A12: 1.4. melléklet | B12: =#REF! -> #REF! | C12: =HYPERLINK(SUBSTITUTE(CELL("address",#REF!),"'",""),SUBSTITUTE(MID(CELL("address",#REF!),SEARCH("]",CELL("address",#REF!),1)+1,LEN(CELL("address",#REF!))-SEARCH("]",CELL("address",#REF!),1)),"'","")) -> #REF!
A13: 2.1. melléklet | B13: Működési célú bevételek, kiadások mérlege | C13: =HYPERLINK(SUBSTITUTE(CELL("address",'KVI_MOD_2.1.sz.mell'!A3),"'",""),SUBSTITUTE(MID(CELL("address",'KVI_MOD_2.1.sz.mell'!A3),SEARCH("]",CELL("address",'KVI_MOD_2.1.sz.mell'!A3),1)+1,LEN(CELL("address",'KVI_MOD_2.1.sz.mell'!A3))-SEARCH("]",CELL("address",'KVI_MOD_2.1.sz.mell'!A3),1)),"'","")) -> KVI_MOD_2.1.sz.mell!$A$3
A14: 2.2. melléklet | B14: Felhalmozási célú bevételek, kiadások mérlege | C14: =HYPERLINK(SUBSTITUTE(CELL("address",'KVI_MOD_2.2.sz.mell'!A3),"'",""),SUBSTITUTE(MID(CELL("address",'KVI_MOD_2.2.sz.mell'!A3),SEARCH("]",CELL("address",'KVI_MOD_2.2.sz.mell'!A3),1)+1,LEN(CELL("address",'KVI_MOD_2.2.sz.mell'!A3))-SEARCH("]",CELL("address",'KVI_MOD_2.2.sz.mell'!A3),1)),"'","")) -> KVI_MOD_2.2.sz.mell!$A$3
A15: Ellenőrző lista | B15: Ellenőrzés az 1-es és 2.1., 2.2. mellékletek adati esetében | C15: =HYPERLINK(SUBSTITUTE(CELL("address",#REF!),"'",""),SUBSTITUTE(MID(CELL("address",#REF!),SEARCH("]",CELL("address",#REF!),1)+1,LEN(CELL("address",#REF!))-SEARCH("]",CELL("address",#REF!),1)),"'","")) -> #REF!
A16: 3. melléklet | B16: =#REF! -> #REF! | C16: =HYPERLINK(SUBSTITUTE(CELL("address",#REF!),"'",""),SUBSTITUTE(MID(CELL("address",#REF!),SEARCH("]",CELL("address",#REF!),1)+1,LEN(CELL("address",#REF!))-SEARCH("]",CELL("address",#REF!),1)),"'","")) -> #REF!
A17: 4. melléklet | B17: =#REF! -> #REF! | C17: =HYPERLINK(SUBSTITUTE(CELL("address",#REF!),"'",""),SUBSTITUTE(MID(CELL("address",#REF!),SEARCH("]",CELL("address",#REF!),1)+1,LEN(CELL("address",#REF!))-SEARCH("]",CELL("address",#REF!),1)),"'","")) -> #REF!
A18: 5. melléklet | B18: =#REF! -> #REF! | C18: =HYPERLINK(SUBSTITUTE(CELL("address",#REF!),"'",""),SUBSTITUTE(MID(CELL("address",#REF!),SEARCH("]",CELL("address",#REF!),1)+1,LEN(CELL("address",#REF!))-SEARCH("]",CELL("address",#REF!),1)),"'","")) -> #REF!
A19: 6. melléklet | B19: Beruházási (felhalmozási) kiadások előirányzata beruházásonként | C19: =HYPERLINK(SUBSTITUTE(CELL("address",'KVI_MOD_3.sz.mell..'!A2),"'",""),SUBSTITUTE(MID(CELL("address",'KVI_MOD_3.sz.mell..'!A2),SEARCH("]",CELL("address",'KVI_MOD_3.sz.mell..'!A2),1)+1,LEN(CELL("address",'KVI_MOD_3.sz.mell..'!A2))-SEARCH("]",CELL("address",'KVI_MOD_3.sz.mell..'!A2),1)),"'","")) -> KVI_MOD_3.sz.mell..!$A$2
A20: 7. melléklet | B20: Felújítási kiadások előirányzata felújításonként | C20: =HYPERLINK(SUBSTITUTE(CELL("address",'KVI_MOD_4.sz.mell.'!A2),"'",""),SUBSTITUTE(MID(CELL("address",'KVI_MOD_4.sz.mell.'!A2),SEARCH("]",CELL("address",'KVI_MOD_4.sz.mell.'!A2),1)+1,LEN(CELL("address",'KVI_MOD_4.sz.mell.'!A2))-SEARCH("]",CELL("address",'KVI_MOD_4.sz.mell.'!A2),1)),"'","")) -> KVI_MOD_4.sz.mell.!$A$2
A21: 8. melléklet | B21: =#REF! -> #REF! | C21: =HYPERLINK(SUBSTITUTE(CELL("address",#REF!),"'",""),SUBSTITUTE(MID(CELL("address",#REF!),SEARCH("]",CELL("address",#REF!),1)+1,LEN(CELL("address",#REF!))-SEARCH("]",CELL("address",#REF!),1)),"'","")) -> #REF!
A22: 9.1. melléklet | B22: Összes bevétel, kiadás | C22: =HYPERLINK(SUBSTITUTE(CELL("address",'KVI_MOD_5.1.sz.mell'!A2),"'",""),SUBSTITUTE(MID(CELL("address",'KVI_MOD_5.1.sz.mell'!A2),SEARCH("]",CELL("address",'KVI_MOD_5.1.sz.mell'!A2),1)+1,LEN(CELL("address",'KVI_MOD_5.1.sz.mell'!A2))-SEARCH("]",CELL("address",'KVI_MOD_5.1.sz.mell'!A2),1)),"'","")) -> KVI_MOD_5.1.sz.mell!$A$2
A23: 9.1.1. melléklet | B23: Kötelező feladtok bevételei, kiadásai | C23: =HYPERLINK(SUBSTITUTE(CELL("address",'KVI_MOD_5.1.1.sz.mell'!A2),"'",""),SUBSTITUTE(MID(CELL("address",'KVI_MOD_5.1.1.sz.mell'!A2),SEARCH("]",CELL("address",'KVI_MOD_5.1.1.sz.mell'!A2),1)+1,LEN(CELL("address",'KVI_MOD_5.1.1.sz.mell'!A2))-SEARCH("]",CELL("address",'KVI_MOD_5.1.1.sz.mell'!A2),1)),"'","")) -> KVI_MOD_5.1.1.sz.mell!$A$2
A24: 9.1.2. melléklet | B24: Önként vállalt feladatok bevételei, kiadásai | C24: =HYPERLINK(SUBSTITUTE(CELL("address",#REF!),"'",""),SUBSTITUTE(MID(CELL("address",#REF!),SEARCH("]",CELL("address",#REF!),1)+1,LEN(CELL("address",#REF!))-SEARCH("]",CELL("address",#REF!),1)),"'","")) -> #REF!
A25: 9.1.3. melléklet | B25: Államigazgatási feladatok bevételei, kiadásai | C25: =HYPERLINK(SUBSTITUTE(CELL("address",#REF!),"'",""),SUBSTITUTE(MID(CELL("address",#REF!),SEARCH("]",CELL("address",#REF!),1)+1,LEN(CELL("address",#REF!))-SEARCH("]",CELL("address",#REF!),1)),"'","")) -> #REF!
A26: 9.2. melléklet | B26: =KVI_MOD_ALAPADATOK!A12 -> Sajószögedi Polgármesteri Hivatal | C26: =HYPERLINK(SUBSTITUTE(CELL("address",'KVI_MOD_5.2.sz.mell'!A2),"'",""),SUBSTITUTE(MID(CELL("address",'KVI_MOD_5.2.sz.mell'!A2),SEARCH("]",CELL("address",'KVI_MOD_5.2.sz.mell'!A2),1)+1,LEN(CELL("address",'KVI_MOD_5.2.sz.mell'!A2))-SEARCH("]",CELL("address",'KVI_MOD_5.2.sz.mell'!A2),1)),"'","")) -> KVI_MOD_5.2.sz.mell!$A$2
A27: 9.3. melléklet | B27: =KVI_MOD_ALAPADATOK!B14 -> Sajószögedi Általános Művelődési Központ - Család és Gyermekjóléti Szolgálat - Konyha - Művelődési Ház és Könyvtár | C27: =HYPERLINK(SUBSTITUTE(CELL("address",'KVI_MOD_5.3.sz.mell'!A2),"'",""),SUBSTITUTE(MID(CELL("address",'KVI_MOD_5.3.sz.mell'!A2),SEARCH("]",CELL("address",'KVI_MOD_5.3.sz.mell'!A2),1)+1,LEN(CELL("address",'KVI_MOD_5.3.sz.mell'!A2))-SEARCH("]",CELL("address",'KVI_MOD_5.3.sz.mell'!A2),1)),"'","")) -> KVI_MOD_5.3.sz.mell!$A$2
A28: 9.4. melléklet | B28: =KVI_MOD_ALAPADATOK!B16 -> Sajószögedi Zöld Sziget Bölcsöde | C28: =HYPERLINK(SUBSTITUTE(CELL("address",'KVI_MOD_5.4.sz.mell'!A2),"'",""),SUBSTITUTE(MID(CELL("address",'KVI_MOD_5.4.sz.mell'!A2),SEARCH("]",CELL("address",'KVI_MOD_5.4.sz.mell'!A2),1)+1,LEN(CELL("address",'KVI_MOD_5.4.sz.mell'!A2))-SEARCH("]",CELL("address",'KVI_MOD_5.4.sz.mell'!A2),1)),"'","")) -> KVI_MOD_5.4.sz.mell!$A$2
A29: 9.5. melléklet | B29: =KVI_MOD_ALAPADATOK!B18 -> 3 kvi név | C29: =HYPERLINK(SUBSTITUTE(CELL("address",#REF!),"'",""),SUBSTITUTE(MID(CELL("address",#REF!),SEARCH("]",CELL("address",#REF!),1)+1,LEN(CELL("address",#REF!))-SEARCH("]",CELL("address",#REF!),1)),"'","")) -> #REF!
A30: 9.6. melléklet | B30: =KVI_MOD_ALAPADATOK!B20 -> 4 kvi név | C30: =HYPERLINK(SUBSTITUTE(CELL("address",#REF!),"'",""),SUBSTITUTE(MID(CELL("address",#REF!),SEARCH("]",CELL("address",#REF!),1)+1,LEN(CELL("address",#REF!))-SEARCH("]",CELL("address",#REF!),1)),"'","")) -> #REF!
A31: 9.7. melléklet | B31: =KVI_MOD_ALAPADATOK!B22 -> 5 kvi név | C31: =HYPERLINK(SUBSTITUTE(CELL("address",#REF!),"'",""),SUBSTITUTE(MID(CELL("address",#REF!),SEARCH("]",CELL("address",#REF!),1)+1,LEN(CELL("address",#REF!))-SEARCH("]",CELL("address",#REF!),1)),"'","")) -> #REF!
A32: 9.8. melléklet | B32: =KVI_MOD_ALAPADATOK!B24 -> 6 kvi név | C32: =HYPERLINK(SUBSTITUTE(CELL("address",#REF!),"'",""),SUBSTITUTE(MID(CELL("address",#REF!),SEARCH("]",CELL("address",#REF!),1)+1,LEN(CELL("address",#REF!))-SEARCH("]",CELL("address",#REF!),1)),"'","")) -> #REF!
A33: 9.9. melléklet | B33: =KVI_MOD_ALAPADATOK!B26 -> 7 kvi név | C33: =HYPERLINK(SUBSTITUTE(CELL("address",#REF!),"'",""),SUBSTITUTE(MID(CELL("address",#REF!),SEARCH("]",CELL("address",#REF!),1)+1,LEN(CELL("address",#REF!))-SEARCH("]",CELL("address",#REF!),1)),"'","")) -> #REF!
A34: 9.10. melléklet | B34: =KVI_MOD_ALAPADATOK!B28 -> 8 kvi név | C34: =HYPERLINK(SUBSTITUTE(CELL("address",#REF!),"'",""),SUBSTITUTE(MID(CELL("address",#REF!),SEARCH("]",CELL("address",#REF!),1)+1,LEN(CELL("address",#REF!))-SEARCH("]",CELL("address",#REF!),1)),"'","")) -> #REF!
A35: 9.11. melléklet | B35: =KVI_MOD_ALAPADATOK!B30 -> 9 kvi név | C35: =HYPERLINK(SUBSTITUTE(CELL("address",#REF!),"'",""),SUBSTITUTE(MID(CELL("address",#REF!),SEARCH("]",CELL("address",#REF!),1)+1,LEN(CELL("address",#REF!))-SEARCH("]",CELL("address",#REF!),1)),"'","")) -> #REF!
A36: 9.12. melléklet | B36: =KVI_MOD_ALAPADATOK!B32 -> 10 kvi név | C36: =HYPERLINK(SUBSTITUTE(CELL("address",#REF!),"'",""),SUBSTITUTE(MID(CELL("address",#REF!),SEARCH("]",CELL("address",#REF!),1)+1,LEN(CELL("address",#REF!))-SEARCH("]",CELL("address",#REF!),1)),"'","")) -> #REF!
A37: 10. melléklet | B37: =#REF! -> #REF! | C37: =HYPERLINK(SUBSTITUTE(CELL("address",#REF!),"'",""),SUBSTITUTE(MID(CELL("address",#REF!),SEARCH("]",CELL("address",#REF!),1)+1,LEN(CELL("address",#REF!))-SEARCH("]",CELL("address",#REF!),1)),"'","")) -> #REF!

Sheet KVI_MOD_ALAPADATOK
B1: év: | D1: =KVI_MOD_TARTALOMJEGYZÉK!A1 -> 2020
A2: ALAPADATOK
A3: Sajószöged Községi Önkormányzat
A7: a | C7: / | D7: =D1 -> 2020 | E7: ( | F7: … | G7: ) | H7: önkormányzati rendelethez
A9: 1 | B9: sz. módosítás utáni | C9: =IF(C7="I. negyedévi","I. negyedéves",IF(C7="I. félévi","I. féléves","III. negyedéves")) -> III. negyedéves
H11: Mellékletben külön?
A12: Sajószögedi Polgármesteri Hivatal | H12: Igen | J12: 9. | K12: =IF($H$12="Nem","",2) -> 2 | L12: . | M12: =CONCATENATE(J12,K12,L12) -> 9.2.
A14: 1. költségvetési szerv neve | B14: Sajószögedi Általános Művelődési Központ - Család és Gyermekjóléti Szolgálat - Konyha - Művelődési Ház és Könyvtár | J14: 9. | K14: =IF(H12="Nem",2,3) -> 3 | L14: . | M14: =CONCATENATE(J14,K14,L14) -> 9.3.
A16: 2. költségvetési szerv neve | B16: Sajószögedi Zöld Sziget Bölcsöde | J16: 9. | K16: =K14+1 -> 4 | L16: . | M16: =CONCATENATE(J16,K16,L16) -> 9.4.
A18: 3. költségvetési szerv neve | B18: 3 kvi név | J18: 9. | K18: =K16+1 -> 5 | L18: . | M18: =CONCATENATE(J18,K18,L18) -> 9.5.
A20: 4. költségvetési szerv neve | B20: 4 kvi név | J20: 9. | K20: =K18+1 -> 6 | L20: . | M20: =CONCATENATE(J20,K20,L20) -> 9.6.
A22: 5. költségvetési szerv neve | B22: 5 kvi név | J22: 9. | K22: =K20+1 -> 7 | L22: . | M22: =CONCATENATE(J22,K22,L22) -> 9.7.
A24: 6. költségvetési szerv neve | B24: 6 kvi név | J24: 9. | K24: =K22+1 -> 8 | L24: . | M24: =CONCATENATE(J24,K24,L24) -> 9.8.
A26: 7. költségvetési szerv neve | B26: 7 kvi név | J26: 9. | K26: =K24+1 -> 9 | L26: . | M26: =CONCATENATE(J26,K26,L26) -> 9.9.
A28: 8. költségvetési szerv neve | B28: 8 kvi név | J28: 9. | K28: =K26+1 -> 10 | L28: . | M28: =CONCATENATE(J28,K28,L28) -> 9.10.
A30: 8. költségvetési szerv neve | B30: 9 kvi név | J30: 9. | K30: =K28+1 -> 11 | L30: . | M30: =CONCATENATE(J30,K30,L30) -> 9.11.
A32: 10. költségvetési szerv neve | B32: 10 kvi név | J32: 9. | K32: =K30+1 -> 12 | L32: . | M32: =CONCATENATE(J32,K32,L32) -> 9.12.

Sheet KVI_MOD_1.1.sz.mell.
B1: 1.1. melléklet a .../2020 (....) önkormányzati rendelethez
B2: "1.1. melléklet a 2/2020 (II.17.) önkormányzati rendelethez
A3: =CONCATENATE(KVI_MOD_ALAPADATOK!A3) -> Sajószöged Községi Önkormányzat
A4: 2020. ÉVI KÖLTSÉGVETÉS
A5: ÖSSZEVONT MÉRLEGE
A7: B E V É T E L E K
A8: 1. sz. táblázat | E8: Forintban!
A9: Sor- szám | B9: Bevételi jogcím | C9: =+CONCATENATE(KVI_MOD_ALAPADATOK!D1,". évi") -> 2020. évi
C10: Eredeti előirányzat | D10: Összes módosítás | E10: Módosított előirányzat
A11: A | B11: B | C11: C | D11: D | E11: E
A12: 1. | B12: Önkormányzat működési támogatásai (1.1.+…+.1.6.) | C12: =+C13+C14+C15+C16+C17+C18 -> 98604818 | D12: =+D13+D14+D15+D16+D17+D18 -> 9686361 | E12: =+E13+E14+E15+E16+E17+E18 -> 108291179
A13: 1.1. | B13: Helyi önkormányzatok működésének általános támogatása | C13: 23631621 | D13: =E13-C13 -> 6009672 | E13: 29641293
A14: 1.2. | B14: Önkormányzatok egyes köznevelési feladatainak támogatása | C14: 48695600 | D14: =E14-C14 -> 0 | E14: 48695600
A15: 1.3. | B15: Önkormányzatok szociális és gyermekjóléti feladatainak támogatása | C15: 23410305 | D15: =E15-C15 -> 1524913 | E15: 24935218
A16: 1.4. | B16: Önkormányzatok kulturális feladatainak támogatása | C16: 2867292 | D16: =E16-C16 -> 483151 | E16: 3350443
A17: 1.5. | B17: Működési célú kvi támogatások és kiegészítő támogatások | D17: =E17-C17 -> 0
A18: 1.6. | B18: Elszámolásból származó bevételek | D18: =E18-C18 -> 1668625 | E18: 1668625
A19: 2. | B19: Működési célú támogatások államháztartáson belülről (2.1.+…+.2.5.) | C19: =+C20+C21+C22+C23+C24 -> 11262720 | D19: =+D20+D21+D22+D23+D24 -> 2096799 | E19: =+E20+E21+E22+E23+E24 -> 13359519
A20: 2.1. | B20: Elvonások és befizetések bevételei
A21: 2.2. | B21: Működési célú garancia- és kezességvállalásból megtérülések
A22: 2.3. | B22: Működési célú visszatérítendő támogatások, kölcsönök visszatérülése
A23: 2.4. | B23: Működési célú visszatérítendő támogatások, kölcsönök igénybevétele
A24: 2.5. | B24: Egyéb működési célú támogatások bevételei | C24: 11262720 | D24: =E24-C24 -> 2096799 | E24: 13359519
A25: 2.6. | B25: 2.5.-ből EU-s támogatás
A26: 3. | B26: Felhalmozási célú támogatások államháztartáson belülről (3.1.+…+3.5.) | C26: =+C27+C28+C29+C30+C31 -> 117478820 | D26: =+D27+D28+D29+D30+D31 -> 0 | E26: =+E27+E28+E29+E30+E31 -> 117478820
A27: 3.1. | B27: Felhalmozási célú önkormányzati támogatások
A28: 3.2. | B28: Felhalmozási célú garancia- és kezességvállalásból megtérülések
A29: 3.3. | B29: Felhalmozási célú visszatérítendő támogatások, kölcsönök visszatérülése
A30: 3.4. | B30: Felhalmozási célú visszatérítendő támogatások, kölcsönök igénybevétele
A31: 3.5. | B31: Egyéb felhalmozási célú támogatások bevételei | C31: 117478820 | E31: 117478820
A32: 3.6. | B32: 3.5.-ből EU-s támogatás | C32: 117478820 | E32: 117478820
A33: 4. | B33: Közhatalmi bevételek (4.1.+…+4.7.) | C33: =SUM(C34:C40) -> 221400000 | D33: =SUM(D34:D40) -> -8450000 | E33: =SUM(E34:E40) -> 212950000
A34: 4.1. | B34: Építményadó | C34: 3100000 | D34: =E34-C34 -> 0 | E34: 3100000
A35: 4.2. | B35: Idegenforgalmi adó | D35: =E35-C35 -> 0
A36: 4.3. | B36: Iparűzési adó | C36: 110000000 | D36: =E36-C36 -> 0 | E36: 110000000
A37: 4.4. | B37: Talajterhelési díj | C37: 200000 | D37: =E37-C37 -> 150000 | E37: 350000
A38: 4.5. | B38: Gépjárműadó | C38: 8800000 | D38: =E38-C38 -> -8800000 | E38: 0
A39: 4.6. | B39: Telekadó | C39: 99000000 | D39: =E39-C39 -> 0 | E39: 99000000
A40: 4.7. | B40: Egyéb közhatalmi bevételek | C40: 300000 | D40: =E40-C40 -> 200000 | E40: 500000
A41: 5. | B41: Működési bevételek (5.1.+…+ 5.11.) | C41: =SUM(C42:C52) -> 54016468 | D41: =SUM(D42:D52) -> -3735364 | E41: =SUM(E42:E52) -> 50281104
A42: 5.1. | B42: Készletértékesítés ellenértéke | D42: =E42-C42 -> 0
A43: 5.2. | B43: Szolgáltatások ellenértéke | C43: 12268000 | D43: =E43-C43 -> 0 | E43: 12268000
A44: 5.3. | B44: Közvetített szolgáltatások értéke | C44: 1850000 | D44: =E44-C44 -> 0 | E44: 1850000
A45: 5.4. | B45: Tulajdonosi bevételek | C45: 13693455 | D45: =E45-C45 -> 0 | E45: 13693455
A46: 5.5. | B46: Ellátási díjak | C46: 15279908 | D46: =E46-C46 -> -2537297 | E46: 12742611
A47: 5.6. | B47: Kiszámlázott általános forgalmi adó | C47: 10925105 | D47: =E47-C47 -> -1198067 | E47: 9727038
A48: 5.7. | B48: Általános forgalmi adó visszatérítése
A49: 5.8. | B49: Kamatbevételek és más nyereségjellegű bevételek
A50: 5.9. | B50: Egyéb pénzügyi műveletek bevételei
A51: 5.10. | B51: Biztosító által fizetett kártérítés
A52: 5.11. | B52: Egyéb működési bevételek
A53: 6. | B53: Felhalmozási bevételek (6.1.+…+6.5.) | C53: =SUM(C54:C58) -> 11000000 | D53: =SUM(D54:D58) -> 0 | E53: =SUM(E54:E58) -> 11000000
A54: 6.1. | B54: Immateriális javak értékesítése
A55: 6.2. | B55: Ingatlanok értékesítése | C55: 11000000 | E55: 11000000
A56: 6.3. | B56: Egyéb tárgyi eszközök értékesítése
A57: 6.4. | B57: Részesedések értékesítése
A58: 6.5. | B58: Részesedések megszűnéséhez kapcsolódó bevételek
A59: 7. | B59: Működési célú átvett pénzeszközök (7.1. + … + 7.3.) | C59: =SUM(C60:C62) -> 0 | D59: =SUM(D60:D62) -> 0 | E59: =SUM(E60:E62) -> 0
A60: 7.1. | B60: Működési célú garancia- és kezességvállalásból megtérülések ÁH-n kívülről
A61: 7.2. | B61: Működési célú visszatérítendő támogatások, kölcsönök visszatér. ÁH-n kívülről
A62: 7.3. | B62: Egyéb működési célú átvett pénzeszköz
A63: 7.4. | B63: 7.3.-ból EU-s támogatás (közvetlen)
A64: 8. | B64: Felhalmozási célú átvett pénzeszközök (8.1.+8.2.+8.3.) | C64: =SUM(C65:C67) -> 2580040 | D64: =SUM(D65:D67) -> 0 | E64: =SUM(E65:E67) -> 2580040
A65: 8.1. | B65: Felhalm. célú garancia- és kezességvállalásból megtérülések ÁH-n kívülről
A66: 8.2. | B66: Felhalm. célú visszatérítendő támogatások, kölcsönök visszatér. ÁH-n kívülről | C66: 2580040 | E66: 2580040
A67: 8.3. | B67: Egyéb felhalmozási célú átvett pénzeszköz
A68: 8.4. | B68: 8.3.-ból EU-s támogatás (közvetlen)
A69: 9. | B69: KÖLTSÉGVETÉSI BEVÉTELEK ÖSSZESEN: (1+…+8) | C69: =+C12+C19+C26+C33+C41+C53+C59+C64 -> 516342866 | D69: =+D12+D19+D26+D33+D41+D53+D59+D64 -> -402204 | E69: =+E12+E19+E26+E33+E41+E53+E59+E64 -> 515940662
A70: 10. | B70: Hitel-, kölcsönfelvétel államháztartáson kívülről (10.1.+10.3.) | C70: =SUM(C71:C73) -> 0 | D70: =SUM(D71:D73) -> 0 | E70: =SUM(E71:E73) -> 0
A71: 10.1. | B71: Hosszú lejáratú hitelek, kölcsönök felvétele
A72: 10.2. | B72: Likviditási célú hitelek, kölcsönök felvétele pénzügyi vállalkozástól
A73: 10.3. | B73: Rövid lejáratú hitelek, kölcsönök felvétele
A74: 11. | B74: Belföldi értékpapírok bevételei (11.1. +…+ 11.4.) | C74: =SUM(C75:C78) -> 69406265 | D74: =SUM(D75:D78) -> 0 | E74: =SUM(E75:E78) -> 69406265
A75: 11.1. | B75: Forgatási célú belföldi értékpapírok beváltása, értékesítése | C75: 69406265 | E75: 69406265
A76: 11.2. | B76: Éven belüli lejáratú belföldi értékpapírok kibocsátása
A77: 11.3. | B77: Befektetési célú belföldi értékpapírok beváltása, értékesítése
A78: 11.4. | B78: Éven túli lejáratú belföldi értékpapírok kibocsátása
A79: 12. | B79: Maradvány igénybevétele (12.1. + 12.2.) | C79: =SUM(C80:C81) -> 71042340 | D79: =SUM(D80:D81) -> 1819808 | E79: =SUM(E80:E81) -> 72862148
A80: 12.1. | B80: Előző év költségvetési maradványának igénybevétele | C80: 71042340 | D80: =E80-C80 -> 1819808 | E80: 72862148
A81: 12.2. | B81: Előző év vállalkozási maradványának igénybevétele
A82: 13. | B82: Belföldi finanszírozás bevételei (13.1. + … + 13.3.) | C82: =SUM(C83:C85) -> 0 | D82: =SUM(D83:D85) -> 0 | E82: =SUM(E83:E85) -> 0
A83: 13.1. | B83: Államháztartáson belüli megelőlegezések
A84: 13.2. | B84: Államháztartáson belüli megelőlegezések törlesztése
A85: 13.3. | B85: Lekötött betétek megszüntetése
A86: 14. | B86: Külföldi finanszírozás bevételei (14.1.+…14.4.) | C86: =SUM(C87:C90) -> 0 | D86: =SUM(D87:D90) -> 0 | E86: =SUM(E87:E90) -> 0
A87: 14.1. | B87: Forgatási célú külföldi értékpapírok beváltása, értékesítése
A88: 14.2. | B88: Befektetési célú külföldi értékpapírok beváltása, értékesítése
A89: 14.3. | B89: Külföldi értékpapírok kibocsátása
A90: 14.4. | B90: Külföldi hitelek, kölcsönök felvétele
A91: 15. | B91: Váltóbevételek
A92: 16. | B92: Adóssághoz nem kapcsolódó származékos ügyletek bevételei
A93: 17. | B93: FINANSZÍROZÁSI BEVÉTELEK ÖSSZESEN: (10. + … +16.) | C93: =+C70+C74+C79+C82+C86+C92+C91 -> 140448605 | D93: =+D70+D74+D79+D82+D86+D92+D91 -> 1819808 | E93: =+E70+E74+E79+E82+E86+E92+E91 -> 142268413
A94: 18. | B94: KÖLTSÉGVETÉSI ÉS FINANSZÍROZÁSI BEVÉTELEK ÖSSZESEN: (9+17) | C94: =+C69+C93 -> 656791471 | D94: =+D69+D93 -> 1417604 | E94: =+E69+E93 -> 658209075
A96: K I A D Á S O K
A97: 2. sz. táblázat | E97: =E8 -> Forintban!
A98: Sor- szám | B98: Kiadási jogcím | C98: =C9 -> 2020. évi
C99: =C10 -> Eredeti előirányzat | D99: =D10 -> Összes módosítás | E99: =E10 -> Módosított előirányzat
A100: A | B100: B | C100: C | D100: D | E100: E
A101: 1. | B101: Működési költségvetés kiadásai (1.1+…+1.5.+1.18.) | C101: =C102+C103+C104+C105+C106+C119 -> 461122455 | D101: =D102+D103+D104+D105+D106+D119 -> -5796590 | E101: =E102+E103+E104+E105+E106+E119 -> 455325865
A102: 1.1. | B102: Személyi juttatások | C102: 162344941 | D102: =E102-C102 -> 14282850 | E102: 176627791
...

Sheet KVI_MOD_1.2.sz.mell.
B1: 1.2. melléklet a / 2020 ( … ) önkormányzati rendelethez
B2: "1.2. melléklet a 2/2020 (II.17.) önkormányzati rendelethez
A3: =CONCATENATE(KVI_MOD_ALAPADATOK!A3) -> Sajószöged Községi Önkormányzat
A4: 2020. ÉVI KÖLTSÉGVETÉS
A5: KÖTELEZŐ FELADATOK MÉRLEGE
A7: B E V É T E L E K
A8: 1. sz. táblázat | E8: =CONCATENATE('KVI_MOD_1.1.sz.mell.'!E8) -> Forintban!
A9: Sor- szám | B9: Bevételi jogcím | C9: =CONCATENATE(KVI_MOD_ALAPADATOK!D1,". évi") -> 2020. évi
C10: Eredeti előirányzat | D10: Összes módosítás | E10: Módosított előirányzat
A11: A | B11: B | C11: C | D11: D | E11: E
A12: 1. | B12: Önkormányzat működési támogatásai (1.1.+…+.1.6.) | C12: =+C13+C14+C15+C16+C17+C18 -> 98604818 | D12: =+D13+D14+D15+D16+D17+D18 -> 9686361 | E12: =+E13+E14+E15+E16+E17+E18 -> 108291179
A13: 1.1. | B13: Helyi önkormányzatok működésének általános támogatása | C13: 23631621 | D13: =E13-C13 -> 6009672 | E13: 29641293
A14: 1.2. | B14: Önkormányzatok egyes köznevelési feladatainak támogatása | C14: 48695600 | D14: =E14-C14 -> 0 | E14: 48695600
A15: 1.3. | B15: Önkormányzatok szociális és gyermekjóléti feladatainak támogatása | C15: 23410305 | D15: =E15-C15 -> 1524913 | E15: 24935218
A16: 1.4. | B16: Önkormányzatok kulturális feladatainak támogatása | C16: 2867292 | D16: =E16-C16 -> 483151 | E16: 3350443
A17: 1.5. | B17: Működési célú kvi támogatások és kiegészítő támogatások | D17: =E17-C17 -> 0
A18: 1.6. | B18: Elszámolásból származó bevételek | D18: =E18-C18 -> 1668625 | E18: 1668625
A19: 2. | B19: Működési célú támogatások államháztartáson belülről (2.1.+…+.2.5.) | C19: =+C20+C21+C22+C23+C24 -> 11262720 | D19: =+D20+D21+D22+D23+D24 -> 2096799 | E19: =+E20+E21+E22+E23+E24 -> 13359519
A20: 2.1. | B20: Elvonások és befizetések bevételei
A21: 2.2. | B21: Működési célú garancia- és kezességvállalásból megtérülések
A22: 2.3. | B22: Működési célú visszatérítendő támogatások, kölcsönök visszatérülése
A23: 2.4. | B23: Működési célú visszatérítendő támogatások, kölcsönök igénybevétele
A24: 2.5. | B24: Egyéb működési célú támogatások bevételei | C24: 11262720 | D24: =E24-C24 -> 2096799 | E24: 13359519
A25: 2.6. | B25: 2.5.-ből EU-s támogatás
A26: 3. | B26: Felhalmozási célú támogatások államháztartáson belülről (3.1.+…+3.5.) | C26: =+C27+C28+C29+C30+C31 -> 117478820 | D26: =+D27+D28+D29+D30+D31 -> 0 | E26: =+E27+E28+E29+E30+E31 -> 117478820
A27: 3.1. | B27: Felhalmozási célú önkormányzati támogatások
A28: 3.2. | B28: Felhalmozási célú garancia- és kezességvállalásból megtérülések
A29: 3.3. | B29: Felhalmozási célú visszatérítendő támogatások, kölcsönök visszatérülése
A30: 3.4. | B30: Felhalmozási célú visszatérítendő támogatások, kölcsönök igénybevétele
A31: 3.5. | B31: Egyéb felhalmozási célú támogatások bevételei | C31: 117478820 | E31: 117478820
A32: 3.6. | B32: 3.5.-ből EU-s támogatás | C32: 117478820 | E32: 117478820
A33: 4. | B33: Közhatalmi bevételek (4.1.+…+4.7.) | C33: =SUM(C34:C40) -> 221400000 | D33: =SUM(D34:D40) -> -8450000 | E33: =SUM(E34:E40) -> 212950000
A34: 4.1. | B34: Építményadó | C34: 3100000 | D34: =E34-C34 -> 0 | E34: 3100000
A35: 4.2. | B35: Idegenforgalmi adó | D35: =E35-C35 -> 0
A36: 4.3. | B36: Iparűzési adó | C36: 110000000 | D36: =E36-C36 -> 0 | E36: 110000000
A37: 4.4. | B37: Talajterhelési díj | C37: 200000 | D37: =E37-C37 -> 150000 | E37: 350000
A38: 4.5. | B38: Gépjárműadó | C38: 8800000 | D38: =E38-C38 -> -8800000 | E38: 0
A39: 4.6. | B39: Telekadó | C39: 99000000 | D39: =E39-C39 -> 0 | E39: 99000000
A40: 4.7. | B40: Egyéb közhatalmi bevételek | C40: 300000 | D40: =E40-C40 -> 200000 | E40: 500000
A41: 5. | B41: Működési bevételek (5.1.+…+ 5.11.) | C41: =SUM(C42:C52) -> 54016468 | D41: =SUM(D42:D52) -> -3735364 | E41: =SUM(E42:E52) -> 50281104
A42: 5.1. | B42: Készletértékesítés ellenértéke | D42: =E42-C42 -> 0
A43: 5.2. | B43: Szolgáltatások ellenértéke | C43: 12268000 | D43: =E43-C43 -> 0 | E43: 12268000
A44: 5.3. | B44: Közvetített szolgáltatások értéke | C44: 1850000 | D44: =E44-C44 -> 0 | E44: 1850000
A45: 5.4. | B45: Tulajdonosi bevételek | C45: 13693455 | D45: =E45-C45 -> 0 | E45: 13693455
A46: 5.5. | B46: Ellátási díjak | C46: 15279908 | D46: =E46-C46 -> -2537297 | E46: 12742611
A47: 5.6. | B47: Kiszámlázott általános forgalmi adó | C47: 10925105 | D47: =E47-C47 -> -1198067 | E47: 9727038
A48: 5.7. | B48: Általános forgalmi adó visszatérítése
A49: 5.8. | B49: Kamatbevételek és más nyereségjellegű bevételek
A50: 5.9. | B50: Egyéb pénzügyi műveletek bevételei
A51: 5.10. | B51: Biztosító által fizetett kártérítés
A52: 5.11. | B52: Egyéb működési bevételek
A53: 6. | B53: Felhalmozási bevételek (6.1.+…+6.5.) | C53: =SUM(C54:C58) -> 11000000 | D53: =SUM(D54:D58) -> 0 | E53: =SUM(E54:E58) -> 11000000
A54: 6.1. | B54: Immateriális javak értékesítése
A55: 6.2. | B55: Ingatlanok értékesítése | C55: 11000000 | E55: 11000000
A56: 6.3. | B56: Egyéb tárgyi eszközök értékesítése
A57: 6.4. | B57: Részesedések értékesítése
A58: 6.5. | B58: Részesedések megszűnéséhez kapcsolódó bevételek
A59: 7. | B59: Működési célú átvett pénzeszközök (7.1. + … + 7.3.) | C59: =SUM(C60:C62) -> 0 | D59: =SUM(D60:D62) -> 0 | E59: =SUM(E60:E62) -> 0
A60: 7.1. | B60: Működési célú garancia- és kezességvállalásból megtérülések ÁH-n kívülről
A61: 7.2. | B61: Működési célú visszatérítendő támogatások, kölcsönök visszatér. ÁH-n kívülről
A62: 7.3. | B62: Egyéb működési célú átvett pénzeszköz
A63: 7.4. | B63: 7.3.-ból EU-s támogatás (közvetlen)
A64: 8. | B64: Felhalmozási célú átvett pénzeszközök (8.1.+8.2.+8.3.) | C64: =SUM(C65:C67) -> 2580040 | D64: =SUM(D65:D67) -> 0 | E64: =SUM(E65:E67) -> 2580040
A65: 8.1. | B65: Felhalm. célú garancia- és kezességvállalásból megtérülések ÁH-n kívülről
A66: 8.2. | B66: Felhalm. célú visszatérítendő támogatások, kölcsönök visszatér. ÁH-n kívülről | C66: 2580040 | E66: 2580040
A67: 8.3. | B67: Egyéb felhalmozási célú átvett pénzeszköz
A68: 8.4. | B68: 8.3.-ból EU-s támogatás (közvetlen)
A69: 9. | B69: KÖLTSÉGVETÉSI BEVÉTELEK ÖSSZESEN: (1+…+8) | C69: =+C12+C19+C26+C33+C41+C53+C59+C64 -> 516342866 | D69: =+D12+D19+D26+D33+D41+D53+D59+D64 -> -402204 | E69: =+E12+E19+E26+E33+E41+E53+E59+E64 -> 515940662
A70: 10. | B70: Hitel-, kölcsönfelvétel államháztartáson kívülről (10.1.+10.3.) | C70: =SUM(C71:C73) -> 0 | D70: =SUM(D71:D73) -> 0 | E70: =SUM(E71:E73) -> 0
A71: 10.1. | B71: Hosszú lejáratú hitelek, kölcsönök felvétele
A72: 10.2. | B72: Likviditási célú hitelek, kölcsönök felvétele pénzügyi vállalkozástól
A73: 10.3. | B73: Rövid lejáratú hitelek, kölcsönök felvétele
A74: 11. | B74: Belföldi értékpapírok bevételei (11.1. +…+ 11.4.) | C74: =SUM(C75:C78) -> 69406265 | D74: =SUM(D75:D78) -> 0 | E74: =SUM(E75:E78) -> 69406265
A75: 11.1. | B75: Forgatási célú belföldi értékpapírok beváltása, értékesítése | C75: 69406265 | E75: 69406265
A76: 11.2. | B76: Éven belüli lejáratú belföldi értékpapírok kibocsátása
A77: 11.3. | B77: Befektetési célú belföldi értékpapírok beváltása, értékesítése
A78: 11.4. | B78: Éven túli lejáratú belföldi értékpapírok kibocsátása
A79: 12. | B79: Maradvány igénybevétele (12.1. + 12.2.) | C79: =SUM(C80:C81) -> 71042340 | D79: =SUM(D80:D81) -> 1819808 | E79: =SUM(E80:E81) -> 72862148
A80: 12.1. | B80: Előző év költségvetési maradványának igénybevétele | C80: 71042340 | D80: =E80-C80 -> 1819808 | E80: 72862148
A81: 12.2. | B81: Előző év vállalkozási maradványának igénybevétele
A82: 13. | B82: Belföldi finanszírozás bevételei (13.1. + … + 13.3.) | C82: =SUM(C83:C85) -> 0 | D82: =SUM(D83:D85) -> 0 | E82: =SUM(E83:E85) -> 0
A83: 13.1. | B83: Államháztartáson belüli megelőlegezések
A84: 13.2. | B84: Államháztartáson belüli megelőlegezések törlesztése
A85: 13.3. | B85: Lekötött betétek megszüntetése
A86: 14. | B86: Külföldi finanszírozás bevételei (14.1.+…14.4.) | C86: =SUM(C87:C90) -> 0 | D86: =SUM(D87:D90) -> 0 | E86: =SUM(E87:E90) -> 0
A87: 14.1. | B87: Forgatási célú külföldi értékpapírok beváltása, értékesítése
A88: 14.2. | B88: Befektetési célú külföldi értékpapírok beváltása, értékesítése
A89: 14.3. | B89: Külföldi értékpapírok kibocsátása
A90: 14.4. | B90: Külföldi hitelek, kölcsönök felvétele
A91: 15. | B91: Váltóbevételek
A92: 16. | B92: Adóssághoz nem kapcsolódó származékos ügyletek bevételei
A93: 17. | B93: FINANSZÍROZÁSI BEVÉTELEK ÖSSZESEN: (10. + … +16.) | C93: =+C70+C74+C79+C82+C86+C92+C91 -> 140448605 | D93: =+D70+D74+D79+D82+D86+D92+D91 -> 1819808 | E93: =+E70+E74+E79+E82+E86+E92+E91 -> 142268413
A94: 18. | B94: KÖLTSÉGVETÉSI ÉS FINANSZÍROZÁSI BEVÉTELEK ÖSSZESEN: (9+17) | C94: =+C69+C93 -> 656791471 | D94: =+D69+D93 -> 1417604 | E94: =+E69+E93 -> 658209075
A96: K I A D Á S O K
A97: 2. sz. táblázat | E97: =E8 -> Forintban!
A98: Sor- szám | B98: Kiadási jogcím | C98: =C9 -> 2020. évi
C99: =C10 -> Eredeti előirányzat | D99: =D10 -> Összes módosítás | E99: =E10 -> Módosított előirányzat
A100: A | B100: B | C100: C | D100: D | E100: E
A101: 1. | B101: Működési költségvetés kiadásai (1.1+…+1.5.+1.18.) | C101: =C102+C103+C104+C105+C106+C119 -> 461122455 | D101: =D102+D103+D104+D105+D106+D119 -> -5796590 | E101: =E102+E103+E104+E105+E106+E119 -> 455325865
A102: 1.1. | B102: Személyi juttatások | C102: 162344941 | D102: =E102-C102 -> 14282850 | E102: 176627791
...

Sheet KVI_MOD_2.1.sz.mell
F1: 2.1. melléklet a / 2020 ( … ) önkormányzati rendelethez
F2: "2.1. melléklet a 2/2020 (II.17.) önkormányzati rendelethez
B3: I. Működési célú bevételek és kiadások mérlege (Önkormányzati szinten)
A5: Sor- szám | B5: Bevételek | F5: Kiadások
B6: Megnevezés | C6: =+CONCATENATE('KVI_MOD_1.1.sz.mell.'!C9," eredeti előirányzat") -> 2020. évi eredeti előirányzat | D6: Összes módosítás | E6: Módosított előirányzat | F6: Megnevezés | G6: =+C6 -> 2020. évi eredeti előirányzat | H6: =+D6 -> Összes módosítás | I6: =+E6 -> Módosított előirányzat
A7: A | B7: B | C7: C | D7: D | E7: E | F7: F | G7: G | H7: H | I7: I
A8: 1. | B8: Önkormányzatok működési támogatásai | C8: 98604818 | D8: =E8-C8 -> 9686361 | E8: 108291179 | F8: Személyi juttatások | G8: 162344941 | H8: =I8-G8 -> 14282850 | I8: 176627791
A9: 2. | B9: Működési célú támogatások államháztartáson belülről | C9: 11262720 | D9: =E9-C9 -> 2096799 | E9: 13359519 | F9: Munkaadókat terhelő járulékok és szociális hozzájárulási adó | G9: 30620220 | H9: =I9-G9 -> 2805186 | I9: 33425406
A10: 3. | B10: 2.-ból EU-s támogatás | F10: Dologi kiadások | G10: 190873654 | H10: =I10-G10 -> -13525475 | I10: 177348179
A11: 4. | B11: Közhatalmi bevételek | C11: 221400000 | D11: =E11-C11 -> -8450000 | E11: 212950000 | F11: Ellátottak pénzbeli juttatásai | G11: 13040000 | H11: =I11-G11 -> 0 | I11: 13040000
A12: 5. | B12: Működési bevételek | C12: 54016468 | D12: =E12-C12 -> -3735364 | E12: 50281104 | F12: Egyéb működési célú kiadások | G12: 54243640 | H12: =I12-G12 -> 0 | I12: 54243640
A13: 6. | B13: Működési célú átvett pénzeszközök | F13: Tartalékok | G13: 10000000 | H13: =I13-G13 -> -9359151 | I13: 640849
A14: 7. | B14: 6.-ból EU-s támogatás (közvetlen)
A15: 8.
A16: 9.
A17: 10.
A18: 11.
A19: 12.
A20: 13. | B20: Költségvetési bevételek összesen (1.+2.+4.+5.+6.+8.+…+12.) | C20: =C8+C9+C11+C12+C13+C15+C16+C17+C18+C19 -> 385284006 | D20: =D8+D9+D11+D12+D13+D15+D16+D17+D18+D19 -> -402204 | E20: =E8+E9+E11+E12+E13+E15+E16+E17+E18+E19 -> 384881802 | F20: Költségvetési kiadások összesen (1.+...+12.) | G20: =SUM(G8:G19) -> 461122455 | H20: =SUM(H8:H19) -> -5796590 | I20: =SUM(I8:I19) -> 455325865
A21: 14. | B21: Hiány belső finanszírozásának bevételei (15.+…+18. ) | C21: =+C22+C23+C24+C25 -> 75838449 | D21: =+D22+D23+D24+D25 -> -1450193 | E21: =+E22+E23+E24+E25 -> 74388256 | F21: Értékpapír vásárlása, visszavásárlása
A22: 15. | B22: Költségvetési maradvány igénybevétele | C22: 6432184 | D22: =E22-C22 -> -1450193 | E22: 4981991 | F22: Likviditási célú hitelek törlesztése
A23: 16. | B23: Vállalkozási maradvány igénybevétele | F23: Rövid lejáratú hitelek törlesztése
A24: 17. | B24: Betét visszavonásából származó bevétel | F24: Hosszú lejáratú hitelek törlesztése
A25: 18. | B25: Értékpapír értékesítése | C25: 69406265 | D25: =E25-C25 -> 0 | E25: 69406265 | F25: Kölcsön törlesztése
A26: 19. | B26: Hiány külső finanszírozásának bevételei (20.+…+21.) | C26: =+C27+C28 -> 0 | D26: =+D27+D28 -> 0 | E26: =+E27+E28 -> 0 | F26: Forgatási célú belföldi, külföldi értékpapírok vásárlása
A27: 20. | B27: Likviditási célú hitelek, kölcsönök felvétele | F27: Pénzeszközök lekötött betétként elhelyezése
A28: 21. | B28: Egyéb | F28: Adóssághoz nem kapcsolódó származékos ügyletek
A29: 22. | B29: Váltóbevételek | F29: Váltókiadások
A30: 23. | B30: Adóssághoz nem kapcsolódó származékos ügyletek bevételei | F30: Államháztartáson belüli megelőlegezések visszafizetése | H30: =I30-G30 -> 3944193 | I30: 3944193
A31: 24. | B31: Működési célú finanszírozási bevételek összesen (14.+19.+22.+23.) | C31: =+C21+C26+C29+C30 -> 75838449 | D31: =+D21+D26+D29+D30 -> -1450193 | E31: =+E21+E26+E29+E30 -> 74388256 | F31: Működési célú finanszírozási kiadások összesen (14.+...+23.) | G31: =SUM(G21:G30) -> 0 | H31: =SUM(H21:H30) -> 3944193 | I31: =SUM(I21:I30) -> 3944193
A32: 25. | B32: BEVÉTEL ÖSSZESEN (13.+24.) | C32: =+C20+C31 -> 461122455 | D32: =+D20+D31 -> -1852397 | E32: =+E20+E31 -> 459270058 | F32: KIADÁSOK ÖSSZESEN (13.+24.) | G32: =+G20+G31 -> 461122455 | H32: =+H20+H31 -> -1852397 | I32: =+I20+I31 -> 459270058
A33: 26. | B33: Költségvetési hiány: | C33: =IF(C20-G20<0,G20-C20,"-") -> 75838449 | D33: =IF(D20-H20<0,H20-D20,"-") -> - | E33: =IF(E20-I20<0,I20-E20,"-") -> 70444063 | F33: Költségvetési többlet: | G33: =IF(C20-G20>0,C20-G20,"-") -> - | H33: =IF(D20-H20>0,D20-H20,"-") -> 5394386 | I33: =IF(E20-I20>0,E20-I20,"-") -> -
A34: 27. | B34: Bruttó hiány: | C34: =IF(C32-G32<0,G32-C32,"-") -> - | D34: =IF(D32-H32<0,H32-D32,"-") -> - | E34: =IF(E32-I32<0,I32-E32,"-") -> - | F34: Bruttó többlet: | G34: =IF(C32-G32>0,C32-G32,"-") -> - | H34: =IF(D32-H32>0,D32-H32,"-") -> - | I34: =IF(E32-I32>0,E32-I32,"-") -> -
I35: "

Sheet KVI_MOD_2.2.sz.mell
F1: 2.2. melléklet a / 2020 ( … ) önkormányzati rendelethez
F2: "2.2. melléklet a 2/2020 (II.17.) önkormányzati rendelethez
B3: II. Felhalmozási célú bevételek és kiadások mérlege (Önkormányzati szinten)
A5: Sor- szám | B5: Bevételek | F5: Kiadások
B6: Megnevezés | C6: =+CONCATENATE('KVI_MOD_1.1.sz.mell.'!C9," eredeti előirányzat") -> 2020. évi eredeti előirányzat | D6: Összes módosítás | E6: Módosított előirányzat | F6: Megnevezés | G6: =+C6 -> 2020. évi eredeti előirányzat | H6: =+D6 -> Összes módosítás | I6: =+E6 -> Módosított előirányzat
A7: A | B7: B | C7: C | D7: D | E7: E | F7: F | G7: G | H7: H | I7: I
A8: 1. | B8: Felhalmozási célú támogatások államháztartáson belülről | C8: 117478820 | D8: =E8-C8 -> 0 | E8: 117478820 | F8: Beruházások | G8: 174297550 | H8: =I8-G8 -> -127747466 | I8: 46550084
A9: 2. | B9: 1.-ből EU-s támogatás | C9: 117478820 | D9: =E9-C9 -> 0 | E9: 117478820 | F9: 1.-ből EU-s forrásból megvalósuló beruházás | G9: 101435180 | H9: =I9-G9 -> -87833480 | I9: 13601700
A10: 3. | B10: Felhalmozási bevételek | C10: 11000000 | D10: =E10-C10 -> 0 | E10: 11000000 | F10: Felújítások | G10: 17390675 | H10: =I10-G10 -> 131017467 | I10: 148408142
A11: 4. | B11: Felhalmozási célú átvett pénzeszközök átvétele | C11: 2580040 | D11: =E11-C11 -> 0 | E11: 2580040 | F11: 3.-ból EU-s forrásból megvalósuló felújítás | H11: =I11-G11 -> 87833480 | I11: 87833480
A12: 5. | B12: 4.-ből EU-s támogatás (közvetlen) | F12: Egyéb felhalmozási kiadások | G12: 3980791 | H12: =I12-G12 -> 0 | I12: 3980791
A13: 6. | B13: Egyéb felhalmozási célú bevételek
A14: 7.
A15: 8.
A16: 9.
A17: 10.
A18: 11. | F18: Tartalékok
A19: 12. | B19: Költségvetési bevételek összesen: (1.+3.+4.+6.+…+11.) | C19: =+C8+C10+C11+C13+C14+C15+C16+C17+C18 -> 131058860 | D19: =+D8+D10+D11+D13+D14+D15+D16+D17+D18 -> 0 | E19: =+E8+E10+E11+E13+E14+E15+E16+E17+E18 -> 131058860 | F19: Költségvetési kiadások összesen: (1.+3.+5.+...+11.) | G19: =+G8+G10+G12+G13+G14+G15+G16+G17+G18 -> 195669016 | H19: =+H8+H10+H12+H13+H14+H15+H16+H17+H18 -> 3270001 | I19: =+I8+I10+I12+I13+I14+I15+I16+I17+I18 -> 198939017
A20: 13. | B20: Hiány belső finanszírozás bevételei ( 14+…+18) | C20: =+C21+C22+C23+C24+C25 -> 64610156 | D20: =+D21+D22+D23+D24+D25 -> 3270001 | E20: =+E21+E22+E23+E24+E25 -> 67880157 | F20: Értékpapír vásárlása, visszavásárlása
A21: 14. | B21: Költségvetési maradvány igénybevétele | C21: 64610156 | D21: =E21-C21 -> 3270001 | E21: 67880157 | F21: Hitelek törlesztése
A22: 15. | B22: Vállalkozási maradvány igénybevétele | F22: Rövid lejáratú hitelek törlesztése
A23: 16. | B23: Betét visszavonásából származó bevétel | F23: Hosszú lejáratú hitelek törlesztése
A24: 17. | B24: Értékpapír értékesítése | F24: Kölcsön törlesztése
A25: 18. | B25: Egyéb belső finanszírozási bevételek | F25: Befektetési célú belföldi, külföldi értékpapírok vásárlása
A26: 19. | B26: Hiány külső finanszírozásának bevételei (20+…+24 ) | C26: =+C27+C28+C29+C30+C31 -> 0 | D26: =+D27+D28+D29+D30+D31 -> 0 | E26: =+E27+E28+E29+E30+E31 -> 0 | F26: Betét elhelyezése
A27: 20. | B27: Hosszú lejáratú hitelek, kölcsönök felvétele | F27: Pénzügyi lízing kiadásai
A28: 21. | B28: Likviditási célú hitelek, kölcsönök felvétele
A29: 22. | B29: Rövid lejáratú hitelek, kölcsönök felvétele
A30: 23. | B30: Értékpapírok kibocsátása
A31: 24. | B31: Egyéb külső finanszírozási bevételek
A32: 25. | B32: Felhalmozási célú finanszírozási bevételek összesen (13.+19.) | C32: =+C20+C26 -> 64610156 | D32: =+D20+D26 -> 3270001 | E32: =+E20+E26 -> 67880157 | F32: Felhalmozási célú finanszírozási kiadások összesen (13.+...+24.) | G32: =SUM(G20:G31) -> 0 | H32: =SUM(H20:H31) -> 0 | I32: =SUM(I20:I31) -> 0
A33: 26. | B33: BEVÉTEL ÖSSZESEN (12+25) | C33: =+C19+C32 -> 195669016 | D33: =+D19+D32 -> 3270001 | E33: =+E19+E32 -> 198939017 | F33: KIADÁSOK ÖSSZESEN (12+25) | G33: =+G19+G32 -> 195669016 | H33: =+H19+H32 -> 3270001 | I33: =+I19+I32 -> 198939017
A34: 27. | B34: Költségvetési hiány: | C34: =IF(C19-G19<0,G19-C19,"-") -> 64610156 | D34: =IF(D19-H19<0,H19-D19,"-") -> 3270001 | E34: =IF(E19-I19<0,I19-E19,"-") -> 67880157 | F34: Költségvetési többlet: | G34: =IF(C19-G19>0,C19-G19,"-") -> - | H34: =IF(D19-H19>0,D19-H19,"-") -> - | I34: =IF(E19-I19>0,E19-I19,"-") -> -
A35: 28. | B35: Bruttó hiány: | C35: =IF(C33-G33<0,G33-C33,"-") -> - | D35: =IF(D33-H33<0,H33-D33,"-") -> - | E35: =IF(E33-I33<0,I33-E33,"-") -> - | F35: Bruttó többlet: | G35: =IF(C33-G33>0,C33-G33,"-") -> - | H35: =IF(D33-H33>0,D33-H33,"-") -> - | I35: =IF(E33-I33>0,E33-I33,"-") -> -
I36: "

Sheet KVI_MOD_3.sz.mell..
D1: 3. melléklet a / 2020 ( … ) önkormányzati rendelethez
D2: "6. melléklet a 2/2020 (II.17.) önkormányzati rendelethez
A4: Beruházási (felhalmozási) kiadások előirányzata beruházásonként
G5: ='KVI_MOD_2.2.sz.mell'!I4 -> 0
A6: Beruházás megnevezése | B6: Teljes költség | C6: Kivitelezés kezdési és befejezési éve | D6: =+CONCATENATE("Felhasználás ",LEFT(KVI_MOD_ALAPADATOK!D1,4)-1,". XII. 31-ig") -> Felhasználás 2019. XII. 31-ig | E6: =CONCATENATE(KVI_MOD_ALAPADATOK!D1,". évi eredeti előirányzat") -> 2020. évi eredeti előirányzat | F6: Összes módosítás 2020. …..ig | G6: Módosított előirányzat 2020. ….-án
A7: A | B7: B | C7: C | D7: D | E7: E | F7: F | G7: G=(E+F)
A8: TOP 1.4.1-15-BO1-2016-00080. Óvoda és Konyha korszer | B8: 111971908 | C8: 2017-2020 | D8: 103462708 | E8: 8509200 | F8: =B8-D8-E8 -> 0 | G8: =E8+F8 -> 8509200
A9: TOP 1.4.1-16 BO1-2017-00018. Sajószögedi Zöld Sziget B | B9: 104613317 | C9: 2019-2020 | D9: 90914259 | E9: 13699058 | F9: =B9-D9-E9 -> 0 | G9: =E9+F9 -> 13699058
A10: TOP 3.2.1-16-BO1-2017-00055 Iskola energetikai korszerűsítése | B10: 87833480 | C10: 2020-2020 | E10: 87833480 | F10: =-E10 -> -87833480 | G10: =E10+F10 -> 0
A11: térfigyelő kamerarendszer beüzemelése | B11: 3942212 | C11: 2014-2020 | D11: 2635463 | E11: 1306749 | F11: -300 | G11: =E11+F11 -> 1306449
A12: Okos zebra | B12: 2433981 | C12: 2020-2020 | E12: 2433981 | F12: 1 | G12: =E12+F12 -> 2433982
A13: Bölcsőde kerítés | B13: 2000250 | C13: 2020-2020 | E13: 2000250 | F13: =B13-D13-E13 -> 0 | G13: =E13+F13 -> 2000250
A14: Bölcsőde udvar | B14: 654050 | C14: 2020-2020 | E14: 654050 | F14: =B14-D14-E14 -> 0 | G14: =E14+F14 -> 654050
A15: Vasút út felújítása | B15: 35907370 | C15: 2020-2020 | E15: 35907370 | F15: =-E15 -> -35907370 | G15: =E15+F15 -> 0
A16: Óvoda udvar | B16: 4999997 | C16: 2020-2020 | E16: 4999997 | F16: =B16-D16-E16 -> 0 | G16: =E16+F16 -> 4999997
A17: Iskola előtti út felújítása | B17: 6826617 | C17: 2020-2020 | E17: 6826617 | F17: =-E17 -> -6826617 | G17: =E17+F17 -> 0
A18: ÁMK -eszközbeszerzések | B18: 2970149 | C18: 2020-2020 | E18: 2970149 | F18: =B18-D18-E18 -> 0 | G18: =E18+F18 -> 2970149
A19: ÖNK-eszközbeszerzések | B19: 1867550 | C19: 2020-2020 | E19: 1867550 | F19: -449700 | G19: =E19+F19 -> 1417850
A20: PH - eszközbeszerzések | B20: 5289099 | C20: 2020-2020 | E20: 5289099 | F20: =B20-D20-E20 -> 0 | G20: =E20+F20 -> 5289099
A21: Bölcsőde - eszközbeszerzés | B21: 1270000 | C21: 2020-2020 | F21: =B21-D21-E21 -> 1270000 | G21: =E21+F21 -> 1270000
A22: Új játszótéri elemek | B22: 2000000 | C22: 2020-2020 | F22: 2000000 | G22: =E22+F22 -> 2000000
G23: =E23+F23 -> 0
G24: =E24+F24 -> 0
G25: =E25+F25 -> 0
A26: ÖSSZESEN: | B26: =SUM(B8:B25) -> 374579980 | D26: =SUM(D8:D25) -> 197012430 | F26: =SUM(F8:F25) -> -127747466 | G26: =SUM(G8:G25) -> 46550084
G27: "

Sheet KVI_MOD_4.sz.mell.
D1: 4. melléklet a / 2020 ( … ) önkormányzati rendelethez
D2: "7. melléklet a 2/2020 (II.17.) önkormányzati rendelethez
A4: Felújítási kiadások előirányzata felújításonként
G5: ='KVI_MOD_3.sz.mell..'!G5 -> 0
A6: Felújítás megnevezése | B6: Teljes költség | C6: Kivitelezés kezdési és befejezési éve | D6: =+'KVI_MOD_3.sz.mell..'!D6 -> Felhasználás 2019. XII. 31-ig | E6: ='KVI_MOD_3.sz.mell..'!E6 -> 2020. évi eredeti előirányzat | F6: ='KVI_MOD_3.sz.mell..'!F6 -> Összes módosítás 2020. …..ig | G6: ='KVI_MOD_3.sz.mell..'!G6 -> Módosított előirányzat 2020. ….-án
A7: A | B7: B | C7: C | D7: D | E7: E | F7: F | G7: G=(E+F)
A8: ÉRV szennyvíz, ívóvíz rendszer felújítása | B8: 17390675 | C8: 2020-2020 | E8: 17390675 | G8: =E8+F8 -> 17390675
A9: TOP 3.2.1-16-BO1-2017-00055 Iskola energetikai korszerűsítése | B9: 87833480 | C9: 2020-2020 | E9: 0 | F9: 87833480 | G9: =E9+F9 -> 87833480
A10: Vasút út felújítása | B10: 35907370 | C10: 2020-2020 | F10: 35907370 | G10: =E10+F10 -> 35907370
A11: Iskola előtti út felújítása | B11: 7276618 | C11: 2020-2020 | E11: -1 | F11: 7276618 | G11: =E11+F11 -> 7276617
G12: =E12+F12 -> 0
G13: =E13+F13 -> 0
G14: =E14+F14 -> 0
G15: =E15+F15 -> 0
G16: =E16+F16 -> 0
G17: =E17+F17 -> 0
G18: =E18+F18 -> 0
G19: =E19+F19 -> 0
G20: =E20+F20 -> 0
G21: =E21+F21 -> 0
A22: ÖSSZESEN: | B22: =SUM(B8:B21) -> 148408143 | D22: =SUM(D8:D21) -> 0 | F22: =SUM(F8:F21) -> 131017468 | G22: =SUM(G8:G21) -> 148408142
G23: "

Sheet KVI_MOD_5.1.sz.mell
B1: 5.1. melléklet a .../2020 (....) önkormányzati rendelethez
B2: "9.1. melléklet a 2/2020 (II.17.) önkormányzati rendelethez
A3: Megnevezés | B3: =CONCATENATE(KVI_MOD_ALAPADATOK!A3) -> Sajószöged Községi Önkormányzat | E3: 01
A4: Feladat megnevezése | B4: Összes bevétel, kiadás | E4: 01
A6: Száma | B6: Kiemelt előirányzat, előirányzat megnevezése | C6: Eredeti előirányzat | D6: Összes módosítás | E6: Módosított előirányzat
A7: A | B7: B | C7: C | D7: D | E7: E
A8: Bevételek
A9: 1. | B9: Önkormányzat működési támogatásai (1.1.+…+.1.6.) | C9: =+C10+C11+C12+C13+C14+C15 -> 98604818 | D9: =+D10+D11+D12+D13+D14+D15 -> 9686361 | E9: =+E10+E11+E12+E13+E14+E15 -> 108291179
A10: 1.1. | B10: Helyi önkormányzatok működésének általános támogatása | C10: 23631621 | D10: =E10-C10 -> 6009672 | E10: 29641293
A11: 1.2. | B11: Önkormányzatok egyes köznevelési feladatainak támogatása | C11: 48695600 | D11: =E11-C11 -> 0 | E11: 48695600
A12: 1.3. | B12: Önkormányzatok szociális és gyermekjóléti feladatainak támogatása | C12: 23410305 | D12: =E12-C12 -> 1524913 | E12: 24935218
A13: 1.4. | B13: Önkormányzatok kulturális feladatainak támogatása | C13: 2867292 | D13: =E13-C13 -> 483151 | E13: 3350443
A14: 1.5. | B14: Működési célú kvi támogatások és kiegészítő támogatások | D14: =E14-C14 -> 0
A15: 1.6. | B15: Elszámolásból származó bevételek | D15: =E15-C15 -> 1668625 | E15: 1668625
A16: 2. | B16: Működési célú támogatások államháztartáson belülről (2.1.+…+.2.5.) | C16: =+C17+C18+C19+C20+C21 -> 11262720 | D16: =+D17+D18+D19+D20+D21 -> 2096799 | E16: =+E17+E18+E19+E20+E21 -> 13359519
A17: 2.1. | B17: Elvonások és befizetések bevételei
A18: 2.2. | B18: Működési célú garancia- és kezességvállalásból megtérülések
A19: 2.3. | B19: Működési célú visszatérítendő támogatások, kölcsönök visszatérülése
A20: 2.4. | B20: Működési célú visszatérítendő támogatások, kölcsönök igénybevétele
A21: 2.5. | B21: Egyéb működési célú támogatások bevételei | C21: 11262720 | D21: =E21-C21 -> 2096799 | E21: 13359519
A22: 2.6. | B22: 2.5.-ből EU-s támogatás | D22: =E22-C22 -> 0
A23: 3. | B23: Felhalmozási célú támogatások államháztartáson belülről (3.1.+…+3.5.) | C23: =+C24+C25+C26+C27+C28 -> 117478820 | D23: =+D24+D25+D26+D27+D28 -> 0 | E23: =+E24+E25+E26+E27+E28 -> 117478820
A24: 3.1. | B24: Felhalmozási célú önkormányzati támogatások
A25: 3.2. | B25: Felhalmozási célú garancia- és kezességvállalásból megtérülések
A26: 3.3. | B26: Felhalmozási célú visszatérítendő támogatások, kölcsönök visszatérülése
A27: 3.4. | B27: Felhalmozási célú visszatérítendő támogatások, kölcsönök igénybevétele
A28: 3.5. | B28: Egyéb felhalmozási célú támogatások bevételei | C28: 117478820 | D28: =E28-C28 -> 0 | E28: 117478820
A29: 3.6. | B29: 3.5.-ből EU-s támogatás | C29: 117478820 | D29: =E29-C29 -> 0 | E29: 117478820
A30: 4. | B30: Közhatalmi bevételek (4.1.+…+4.7.) | C30: =SUM(C31:C37) -> 221350000 | D30: =SUM(D31:D37) -> -8450000 | E30: =SUM(E31:E37) -> 212900000
A31: 4.1. | B31: ='KVI_MOD_1.1.sz.mell.'!B34 -> Építményadó | C31: 3100000 | D31: =E31-C31 -> 0 | E31: 3100000
A32: 4.2. | B32: ='KVI_MOD_1.1.sz.mell.'!B35 -> Idegenforgalmi adó | D32: =E32-C32 -> 0
A33: 4.3. | B33: ='KVI_MOD_1.1.sz.mell.'!B36 -> Iparűzési adó | C33: 110000000 | D33: =E33-C33 -> 0 | E33: 110000000
A34: 4.4. | B34: ='KVI_MOD_1.1.sz.mell.'!B37 -> Talajterhelési díj | C34: 200000 | D34: =E34-C34 -> 150000 | E34: 350000
A35: 4.5. | B35: ='KVI_MOD_1.1.sz.mell.'!B38 -> Gépjárműadó | C35: 8800000 | D35: =E35-C35 -> -8800000 | E35: 0
A36: 4.6. | B36: ='KVI_MOD_1.1.sz.mell.'!B39 -> Telekadó | C36: 99000000 | D36: =E36-C36 -> 0 | E36: 99000000
A37: 4.7. | B37: Egyéb közhatalmi bevételek | C37: 250000 | D37: =E37-C37 -> 200000 | E37: 450000
A38: 5. | B38: Működési bevételek (5.1.+…+ 5.11.) | C38: =SUM(C39:C49) -> 39976090 | D38: =SUM(D39:D49) -> -4182404 | E38: =SUM(E39:E49) -> 35793686
A39: 5.1. | B39: Készletértékesítés ellenértéke | D39: =E39-C39 -> 0
A40: 5.2. | B40: Szolgáltatások ellenértéke | C40: 2028000 | D40: =E40-C40 -> 0 | E40: 2028000
A41: 5.3. | B41: Közvetített szolgáltatások értéke | C41: 1850000 | D41: =E41-C41 -> 0 | E41: 1850000
A42: 5.4. | B42: Tulajdonosi bevételek | C42: 13693455 | D42: =E42-C42 -> 0 | E42: 13693455
A43: 5.5. | B43: Ellátási díjak | C43: 14336933 | D43: =E43-C43 -> -2889297 | E43: 11447636
A44: 5.6. | B44: Kiszámlázott általános forgalmi adó | C44: 8067702 | D44: =E44-C44 -> -1293107 | E44: 6774595
A45: 5.7. | B45: Általános forgalmi adó visszatérítése
A46: 5.8. | B46: Kamatbevételek és más nyereségjellegű bevételek
A47: 5.9. | B47: Egyéb pénzügyi műveletek bevételei
A48: 5.10. | B48: Biztosító által fizetett kártérítés
A49: 5.11. | B49: Egyéb működési bevételek
A50: 6. | B50: Felhalmozási bevételek (6.1.+…+6.5.) | C50: =SUM(C51:C55) -> 11000000 | D50: =SUM(D51:D55) -> 0 | E50: =SUM(E51:E55) -> 11000000
A51: 6.1. | B51: Immateriális javak értékesítése | D51: =E51-C51 -> 0
A52: 6.2. | B52: Ingatlanok értékesítése | C52: 11000000 | D52: =E52-C52 -> 0 | E52: 11000000
A53: 6.3. | B53: Egyéb tárgyi eszközök értékesítése
A54: 6.4. | B54: Részesedések értékesítése
A55: 6.5. | B55: Részesedések megszűnéséhez kapcsolódó bevételek
A56: 7. | B56: Működési célú átvett pénzeszközök (7.1. + … + 7.3.) | C56: =SUM(C57:C59) -> 0 | D56: =SUM(D57:D59) -> 0 | E56: =SUM(E57:E59) -> 0
A57: 7.1. | B57: Működési célú garancia- és kezességvállalásból megtérülések ÁH-n kívülről
A58: 7.2. | B58: Működési célú visszatérítendő támogatások, kölcsönök visszatér. ÁH-n kívülről
A59: 7.3. | B59: Egyéb működési célú átvett pénzeszköz
A60: 7.4. | B60: 7.3.-ból EU-s támogatás (közvetlen)
A61: 8. | B61: Felhalmozási célú átvett pénzeszközök (8.1.+8.2.+8.3.) | C61: =SUM(C62:C64) -> 2580040 | D61: =SUM(D62:D64) -> 0 | E61: =SUM(E62:E64) -> 2580040
A62: 8.1. | B62: Felhalm. célú garancia- és kezességvállalásból megtérülések ÁH-n kívülről | D62: =E62-C62 -> 0
A63: 8.2. | B63: Felhalm. célú visszatérítendő támogatások, kölcsönök visszatér. ÁH-n kívülről | C63: 2580040 | D63: =E63-C63 -> 0 | E63: 2580040
A64: 8.3. | B64: Egyéb felhalmozási célú átvett pénzeszköz
A65: 8.4. | B65: 8.3.-ból EU-s támogatás (közvetlen)
A66: 9. | B66: KÖLTSÉGVETÉSI BEVÉTELEK ÖSSZESEN: (1+…+8) | C66: =+C9+C16+C23+C30+C38+C50+C56+C61 -> 502252488 | D66: =+D9+D16+D23+D30+D38+D50+D56+D61 -> -849244 | E66: =+E9+E16+E23+E30+E38+E50+E56+E61 -> 501403244
A67: 10. | B67: Hitel-, kölcsönfelvétel államháztartáson kívülről (10.1.+10.3.) | C67: =SUM(C68:C70) -> 0 | D67: =SUM(D68:D70) -> 0 | E67: =SUM(E68:E70) -> 0
A68: 10.1. | B68: Hosszú lejáratú hitelek, kölcsönök felvétele
A69: 10.2. | B69: Likviditási célú hitelek, kölcsönök felvétele pénzügyi vállalkozástól
A70: 10.3. | B70: Rövid lejáratú hitelek, kölcsönök felvétele
A71: 11. | B71: Belföldi értékpapírok bevételei (11.1. +…+ 11.4.) | C71: =SUM(C72:C75) -> 69406265 | D71: =SUM(D72:D75) -> 0 | E71: =SUM(E72:E75) -> 69406265
A72: 11.1. | B72: Forgatási célú belföldi értékpapírok beváltása, értékesítése | C72: 69406265 | D72: =E72-C72 -> 0 | E72: 69406265
A73: 11.2. | B73: Éven belüli lejáratú belföldi értékpapírok kibocsátása | D73: =E73-C73 -> 0
A74: 11.3. | B74: Befektetési célú belföldi értékpapírok beváltása, értékesítése
A75: 11.4. | B75: Éven túli lejáratú belföldi értékpapírok kibocsátása
A76: 12. | B76: Maradvány igénybevétele (12.1. + 12.2.) | C76: =SUM(C77:C78) -> 69266826 | D76: =SUM(D77:D78) -> 1765395 | E76: =SUM(E77:E78) -> 71032221
A77: 12.1. | B77: Előző év költségvetési maradványának igénybevétele | C77: 69266826 | D77: =E77-C77 -> 1765395 | E77: 71032221
A78: 12.2. | B78: Előző év vállalkozási maradványának igénybevétele | D78: =E78-C78 -> 0
A79: 13. | B79: Belföldi finanszírozás bevételei (13.1. + … + 13.3.) | C79: =SUM(C80:C82) -> 0 | D79: =SUM(D80:D82) -> 0 | E79: =SUM(E80:E82) -> 0
A80: 13.1. | B80: Államháztartáson belüli megelőlegezések
A81: 13.2. | B81: Államháztartáson belüli megelőlegezések törlesztése
A82: 13.3. | B82: Lekötött betétek megszüntetése
A83: 14. | B83: Külföldi finanszírozás bevételei (14.1.+…14.4.) | C83: =SUM(C84:C87) -> 0 | D83: =SUM(D84:D87) -> 0 | E83: =SUM(E84:E87) -> 0
A84: 14.1. | B84: Forgatási célú külföldi értékpapírok beváltása, értékesítése
A85: 14.2. | B85: Befektetési célú külföldi értékpapírok beváltása, értékesítése
A86: 14.3. | B86: Külföldi értékpapírok kibocsátása
A87: 14.4. | B87: Külföldi hitelek, kölcsönök felvétele
A88: 15. | B88: Váltóbevételek
A89: 16. | B89: Adóssághoz nem kapcsolódó származékos ügyletek bevételei
A90: 17. | B90: FINANSZÍROZÁSI BEVÉTELEK ÖSSZESEN: (10. + … +16.) | C90: =+C67+C71+C76+C79+C83+C89+C88 -> 138673091 | D90: =+D67+D71+D76+D79+D83+D89+D88 -> 1765395 | E90: =+E67+E71+E76+E79+E83+E89+E88 -> 140438486
A91: 18. | B91: BEVÉTELEK ÖSSZESEN: (9+17) | C91: =+C66+C90 -> 640925579 | D91: =+D66+D90 -> 916151 | E91: =+E66+E90 -> 641841730
A93: Kiadások
A94: 1. | B94: Működési költségvetés kiadásai (1.1+…+1.5+1.18.) | C94: =+C95+C96+C97+C98+C99+C112 -> 241427914 | D94: =+D95+D96+D97+D98+D99+D112 -> -14071343 | E94: =+E95+E96+E97+E98+E99+E112 -> 227356571
A95: 1.1. | B95: Személyi juttatások | C95: 41127723 | D95: =E95-C95 -> 3451355 | E95: 44579078
A96: 1.2. | B96: Munkaadókat terhelő járulékok és szociális hozzájárulási adó | C96: 7742822 | D96: =E96-C96 -> 686600 | E96: 8429422
A97: 1.3. | B97: Dologi kiadások | C97: 115273729 | D97: =E97-C97 -> -8850147 | E97: 106423582
A98: 1.4. | B98: Ellátottak pénzbeli juttatásai | C98: 13040000 | D98: =E98-C98 -> 0 | E98: 13040000
A99: 1.5 | B99: Egyéb működési célú kiadások | C99: 54243640 | D99: =E99-C99 -> 0 | E99: 54243640
A100: 1.6. | B100: az 1.5-ből: - Előző évi elszámolásból származó befizetések
A101: 1.7. | B101: - Törvényi előíráson alapuló befizetések
A102: 1.8. | B102: - Elvonások és befizetések
...

Sheet KVI_MOD_5.1.1.sz.mell
B1: 5.1.1. melléklet a .../2020 (....) önkormányzati rendelethez
B2: "9.1.1. melléklet a 2/2020 (II.17.) önkormányzati rendelethez
A3: Megnevezés | B3: =CONCATENATE(KVI_MOD_ALAPADATOK!A3) -> Sajószöged Községi Önkormányzat | E3: 01
A4: Feladat megnevezése | B4: Kötelező feladatok bevételei, kiadásai | E4: 02
A6: Száma | B6: Kiemelt előirányzat, előirányzat megnevezése | C6: Eredeti előirányzat | D6: Összes módosítás | E6: Módosított előirányzat
A7: A | B7: B | C7: C | D7: D | E7: E
A8: Bevételek
A9: 1. | B9: Önkormányzat működési támogatásai (1.1.+…+.1.6.) | C9: =+C10+C11+C12+C13+C14+C15 -> 98604818 | D9: =+D10+D11+D12+D13+D14+D15 -> 9686361 | E9: =+E10+E11+E12+E13+E14+E15 -> 108291179
A10: 1.1. | B10: Helyi önkormányzatok működésének általános támogatása | C10: 23631621 | D10: =E10-C10 -> 6009672 | E10: 29641293
A11: 1.2. | B11: Önkormányzatok egyes köznevelési feladatainak támogatása | C11: 48695600 | D11: =E11-C11 -> 0 | E11: 48695600
A12: 1.3. | B12: Önkormányzatok szociális és gyermekjóléti feladatainak támogatása | C12: 23410305 | D12: =E12-C12 -> 1524913 | E12: 24935218
A13: 1.4. | B13: Önkormányzatok kulturális feladatainak támogatása | C13: 2867292 | D13: =E13-C13 -> 483151 | E13: 3350443
A14: 1.5. | B14: Működési célú kvi támogatások és kiegészítő támogatások | D14: =E14-C14 -> 0
A15: 1.6. | B15: Elszámolásból származó bevételek | D15: =E15-C15 -> 1668625 | E15: 1668625
A16: 2. | B16: Működési célú támogatások államháztartáson belülről (2.1.+…+.2.5.) | C16: =+C17+C18+C19+C20+C21 -> 11262720 | D16: =+D17+D18+D19+D20+D21 -> 2096799 | E16: =+E17+E18+E19+E20+E21 -> 13359519
A17: 2.1. | B17: Elvonások és befizetések bevételei
A18: 2.2. | B18: Működési célú garancia- és kezességvállalásból megtérülések
A19: 2.3. | B19: Működési célú visszatérítendő támogatások, kölcsönök visszatérülése
A20: 2.4. | B20: Működési célú visszatérítendő támogatások, kölcsönök igénybevétele
A21: 2.5. | B21: Egyéb működési célú támogatások bevételei | C21: 11262720 | D21: =E21-C21 -> 2096799 | E21: 13359519
A22: 2.6. | B22: 2.5.-ből EU-s támogatás | D22: =E22-C22 -> 0
A23: 3. | B23: Felhalmozási célú támogatások államháztartáson belülről (3.1.+…+3.5.) | C23: =+C24+C25+C26+C27+C28 -> 117478820 | D23: =+D24+D25+D26+D27+D28 -> 0 | E23: =+E24+E25+E26+E27+E28 -> 117478820
A24: 3.1. | B24: Felhalmozási célú önkormányzati támogatások
A25: 3.2. | B25: Felhalmozási célú garancia- és kezességvállalásból megtérülések
A26: 3.3. | B26: Felhalmozási célú visszatérítendő támogatások, kölcsönök visszatérülése
A27: 3.4. | B27: Felhalmozási célú visszatérítendő támogatások, kölcsönök igénybevétele
A28: 3.5. | B28: Egyéb felhalmozási célú támogatások bevételei | C28: 117478820 | D28: =E28-C28 -> 0 | E28: 117478820
A29: 3.6. | B29: 3.5.-ből EU-s támogatás | C29: 117478820 | D29: =E29-C29 -> 0 | E29: 117478820
A30: 4. | B30: Közhatalmi bevételek (4.1.+…+4.7.) | C30: =SUM(C31:C37) -> 221350000 | D30: =SUM(D31:D37) -> -8450000 | E30: =SUM(E31:E37) -> 212900000
A31: 4.1. | B31: ='KVI_MOD_1.1.sz.mell.'!B34 -> Építményadó | C31: 3100000 | D31: =E31-C31 -> 0 | E31: 3100000
A32: 4.2. | B32: ='KVI_MOD_1.1.sz.mell.'!B35 -> Idegenforgalmi adó | D32: =E32-C32 -> 0
A33: 4.3. | B33: ='KVI_MOD_1.1.sz.mell.'!B36 -> Iparűzési adó | C33: 110000000 | D33: =E33-C33 -> 0 | E33: 110000000
A34: 4.4. | B34: ='KVI_MOD_1.1.sz.mell.'!B37 -> Talajterhelési díj | C34: 200000 | D34: =E34-C34 -> 150000 | E34: 350000
A35: 4.5. | B35: ='KVI_MOD_1.1.sz.mell.'!B38 -> Gépjárműadó | C35: 8800000 | D35: =E35-C35 -> -8800000 | E35: 0
A36: 4.6. | B36: ='KVI_MOD_1.1.sz.mell.'!B39 -> Telekadó | C36: 99000000 | D36: =E36-C36 -> 0 | E36: 99000000
A37: 4.7. | B37: Egyéb közhatalmi bevételek | C37: 250000 | D37: =E37-C37 -> 200000 | E37: 450000
A38: 5. | B38: Működési bevételek (5.1.+…+ 5.11.) | C38: =SUM(C39:C49) -> 39976090 | D38: =SUM(D39:D49) -> -4182404 | E38: =SUM(E39:E49) -> 35793686
A39: 5.1. | B39: Készletértékesítés ellenértéke | D39: =E39-C39 -> 0
A40: 5.2. | B40: Szolgáltatások ellenértéke | C40: 2028000 | D40: =E40-C40 -> 0 | E40: 2028000
A41: 5.3. | B41: Közvetített szolgáltatások értéke | C41: 1850000 | D41: =E41-C41 -> 0 | E41: 1850000
A42: 5.4. | B42: Tulajdonosi bevételek | C42: 13693455 | D42: =E42-C42 -> 0 | E42: 13693455
A43: 5.5. | B43: Ellátási díjak | C43: 14336933 | D43: =E43-C43 -> -2889297 | E43: 11447636
A44: 5.6. | B44: Kiszámlázott általános forgalmi adó | C44: 8067702 | D44: =E44-C44 -> -1293107 | E44: 6774595
A45: 5.7. | B45: Általános forgalmi adó visszatérítése
A46: 5.8. | B46: Kamatbevételek és más nyereségjellegű bevételek
A47: 5.9. | B47: Egyéb pénzügyi műveletek bevételei
A48: 5.10. | B48: Biztosító által fizetett kártérítés
A49: 5.11. | B49: Egyéb működési bevételek
A50: 6. | B50: Felhalmozási bevételek (6.1.+…+6.5.) | C50: =SUM(C51:C55) -> 11000000 | D50: =SUM(D51:D55) -> 0 | E50: =SUM(E51:E55) -> 11000000
A51: 6.1. | B51: Immateriális javak értékesítése | D51: =E51-C51 -> 0
A52: 6.2. | B52: Ingatlanok értékesítése | C52: 11000000 | D52: =E52-C52 -> 0 | E52: 11000000
A53: 6.3. | B53: Egyéb tárgyi eszközök értékesítése
A54: 6.4. | B54: Részesedések értékesítése
A55: 6.5. | B55: Részesedések megszűnéséhez kapcsolódó bevételek
A56: 7. | B56: Működési célú átvett pénzeszközök (7.1. + … + 7.3.) | C56: =SUM(C57:C59) -> 0 | D56: =SUM(D57:D59) -> 0 | E56: =SUM(E57:E59) -> 0
A57: 7.1. | B57: Működési célú garancia- és kezességvállalásból megtérülések ÁH-n kívülről
A58: 7.2. | B58: Működési célú visszatérítendő támogatások, kölcsönök visszatér. ÁH-n kívülről
A59: 7.3. | B59: Egyéb működési célú átvett pénzeszköz
A60: 7.4. | B60: 7.3.-ból EU-s támogatás (közvetlen)
A61: 8. | B61: Felhalmozási célú átvett pénzeszközök (8.1.+8.2.+8.3.) | C61: =SUM(C62:C64) -> 2580040 | D61: =SUM(D62:D64) -> 0 | E61: =SUM(E62:E64) -> 2580040
A62: 8.1. | B62: Felhalm. célú garancia- és kezességvállalásból megtérülések ÁH-n kívülről | D62: =E62-C62 -> 0
A63: 8.2. | B63: Felhalm. célú visszatérítendő támogatások, kölcsönök visszatér. ÁH-n kívülről | C63: 2580040 | D63: =E63-C63 -> 0 | E63: 2580040
A64: 8.3. | B64: Egyéb felhalmozási célú átvett pénzeszköz
A65: 8.4. | B65: 8.3.-ból EU-s támogatás (közvetlen)
A66: 9. | B66: KÖLTSÉGVETÉSI BEVÉTELEK ÖSSZESEN: (1+…+8) | C66: =+C9+C16+C23+C30+C38+C50+C56+C61 -> 502252488 | D66: =+D9+D16+D23+D30+D38+D50+D56+D61 -> -849244 | E66: =+E9+E16+E23+E30+E38+E50+E56+E61 -> 501403244
A67: 10. | B67: Hitel-, kölcsönfelvétel államháztartáson kívülről (10.1.+10.3.) | C67: =SUM(C68:C70) -> 0 | D67: =SUM(D68:D70) -> 0 | E67: =SUM(E68:E70) -> 0
A68: 10.1. | B68: Hosszú lejáratú hitelek, kölcsönök felvétele
A69: 10.2. | B69: Likviditási célú hitelek, kölcsönök felvétele pénzügyi vállalkozástól
A70: 10.3. | B70: Rövid lejáratú hitelek, kölcsönök felvétele
A71: 11. | B71: Belföldi értékpapírok bevételei (11.1. +…+ 11.4.) | C71: =SUM(C72:C75) -> 69406265 | D71: =SUM(D72:D75) -> 0 | E71: =SUM(E72:E75) -> 69406265
A72: 11.1. | B72: Forgatási célú belföldi értékpapírok beváltása, értékesítése | C72: 69406265 | D72: =E72-C72 -> 0 | E72: 69406265
A73: 11.2. | B73: Éven belüli lejáratú belföldi értékpapírok kibocsátása | D73: =E73-C73 -> 0
A74: 11.3. | B74: Befektetési célú belföldi értékpapírok beváltása, értékesítése
A75: 11.4. | B75: Éven túli lejáratú belföldi értékpapírok kibocsátása
A76: 12. | B76: Maradvány igénybevétele (12.1. + 12.2.) | C76: =SUM(C77:C78) -> 69266826 | D76: =SUM(D77:D78) -> 1765395 | E76: =SUM(E77:E78) -> 71032221
A77: 12.1. | B77: Előző év költségvetési maradványának igénybevétele | C77: 69266826 | D77: =E77-C77 -> 1765395 | E77: 71032221
A78: 12.2. | B78: Előző év vállalkozási maradványának igénybevétele | D78: =E78-C78 -> 0
A79: 13. | B79: Belföldi finanszírozás bevételei (13.1. + … + 13.3.) | C79: =SUM(C80:C82) -> 0 | D79: =SUM(D80:D82) -> 0 | E79: =SUM(E80:E82) -> 0
A80: 13.1. | B80: Államháztartáson belüli megelőlegezések
A81: 13.2. | B81: Államháztartáson belüli megelőlegezések törlesztése
A82: 13.3. | B82: Lekötött betétek megszüntetése
A83: 14. | B83: Külföldi finanszírozás bevételei (14.1.+…14.4.) | C83: =SUM(C84:C87) -> 0 | D83: =SUM(D84:D87) -> 0 | E83: =SUM(E84:E87) -> 0
A84: 14.1. | B84: Forgatási célú külföldi értékpapírok beváltása, értékesítése
A85: 14.2. | B85: Befektetési célú külföldi értékpapírok beváltása, értékesítése
A86: 14.3. | B86: Külföldi értékpapírok kibocsátása
A87: 14.4. | B87: Külföldi hitelek, kölcsönök felvétele
A88: 15. | B88: Váltóbevételek
A89: 16. | B89: Adóssághoz nem kapcsolódó származékos ügyletek bevételei
A90: 17. | B90: FINANSZÍROZÁSI BEVÉTELEK ÖSSZESEN: (10. + … +16.) | C90: =+C67+C71+C76+C79+C83+C89+C88 -> 138673091 | D90: =+D67+D71+D76+D79+D83+D89+D88 -> 1765395 | E90: =+E67+E71+E76+E79+E83+E89+E88 -> 140438486
A91: 18. | B91: BEVÉTELEK ÖSSZESEN: (9+17) | C91: =+C66+C90 -> 640925579 | D91: =+D66+D90 -> 916151 | E91: =+E66+E90 -> 641841730
A93: Kiadások
A94: 1. | B94: Működési költségvetés kiadásai (1.1+…+1.5+1.18.) | C94: =+C95+C96+C97+C98+C99+C112 -> 241427914 | D94: =+D95+D96+D97+D98+D99+D112 -> -14071343 | E94: =+E95+E96+E97+E98+E99+E112 -> 227356571
A95: 1.1. | B95: Személyi juttatások | C95: 41127723 | D95: =E95-C95 -> 3451355 | E95: 44579078
A96: 1.2. | B96: Munkaadókat terhelő járulékok és szociális hozzájárulási adó | C96: 7742822 | D96: =E96-C96 -> 686600 | E96: 8429422
A97: 1.3. | B97: Dologi kiadások | C97: 115273729 | D97: =E97-C97 -> -8850147 | E97: 106423582
A98: 1.4. | B98: Ellátottak pénzbeli juttatásai | C98: 13040000 | D98: =E98-C98 -> 0 | E98: 13040000
A99: 1.5 | B99: Egyéb működési célú kiadások | C99: 54243640 | D99: =E99-C99 -> 0 | E99: 54243640
A100: 1.6. | B100: az 1.5-ből: - Előző évi elszámolásból származó befizetések
A101: 1.7. | B101: - Törvényi előíráson alapuló befizetések
A102: 1.8. | B102: - Elvonások és befizetések
...

Sheet KVI_MOD_5.2.sz.mell
B1: 5.2. melléklet a .../2020 (....) önkormányzati rendelethez
B2: "9.2. melléklet a 2/2020 (II.17.) önkormányzati rendelethez
A3: Költségvetési szerv | B3: =KVI_MOD_ALAPADATOK!A12 -> Sajószögedi Polgármesteri Hivatal | E3: 02
A4: Feladat megnevezése | B4: Összes bevétel, kiadás | E4: 01
A6: Száma | B6: Kiemelt előirányzat, előirányzat megnevezése | C6: Eredeti előirányzat | D6: Összes módosítás | E6: Módosított előirányzat
A7: A | B7: B | C7: C | D7: D | E7: E
A8: Bevételek
A9: 1. | B9: Működési bevételek (1.1.+…+1.11.) | C9: =SUM(C10:C20) -> 0 | D9: =SUM(D10:D20) -> 0 | E9: =SUM(E10:E20) -> 0
A10: 1.1. | B10: Készletértékesítés ellenértéke
A11: 1.2. | B11: Szolgáltatások ellenértéke
A12: 1.3. | B12: Közvetített szolgáltatások értéke
A13: 1.4. | B13: Tulajdonosi bevételek
A14: 1.5. | B14: Ellátási díjak
A15: 1.6. | B15: Kiszámlázott általános forgalmi adó
A16: 1.7. | B16: Általános forgalmi adó visszatérülése
A17: 1.8. | B17: Kamatbevételek
A18: 1.9. | B18: Egyéb pénzügyi műveletek bevételei
A19: 1.10. | B19: Biztosító által fizetett kártérítés
A20: 1.11. | B20: Egyéb működési bevételek
A21: 2. | B21: Működési célú támogatások államháztartáson belülről (2.1.+…+2.3.) | C21: =SUM(C22:C24) -> 0 | D21: =SUM(D22:D24) -> 0 | E21: =SUM(E22:E24) -> 0
A22: 2.1. | B22: Elvonások és befizetések bevételei
A23: 2.2. | B23: Visszatérítendő támogatások, kölcsönök visszatérülése ÁH-n belülről
A24: 2.3. | B24: Egyéb működési célú támogatások bevételei államháztartáson belülről
A25: 2.4. | B25: 2.3-ból EU támogatás
A26: 3. | B26: Közhatalmi bevételek | C26: 50000 | E26: 50000
A27: 4. | B27: Felhalmozási célú támogatások államháztartáson belülről (4.1.+…+4.3.) | C27: =+C28+C29+C30 -> 0 | D27: =+D28+D29+D30 -> 0 | E27: =+E28+E29+E30 -> 0
A28: 4.1. | B28: Felhalmozási célú önkormányzati támogatások
A29: 4.2. | B29: Visszatérítendő támogatások, kölcsönök visszatérülése ÁH-n belülről
A30: 4.3. | B30: Egyéb felhalmozási célú támogatások bevételei államháztartáson belülről
A31: 4.4. | B31: 4.3.-ból EU-s támogatás
A32: 5. | B32: Felhalmozási bevételek (5.1.+…+5.3.) | C32: =+C33+C34+C35 -> 0 | D32: =+D33+D34+D35 -> 0 | E32: =+E33+E34+E35 -> 0
A33: 5.1. | B33: Immateriális javak értékesítése
A34: 5.2. | B34: Ingatlanok értékesítése
A35: 5.3. | B35: Egyéb tárgyi eszközök értékesítése
A36: 6. | B36: Működési célú átvett pénzeszközök
A37: 7. | B37: Felhalmozási célú átvett pénzeszközök
A38: 8. | B38: Költségvetési bevételek összesen (1.+…+7.) | C38: =+C9+C21+C26+C27+C32+C36+C37 -> 50000 | D38: =+D9+D21+D26+D27+D32+D36+D37 -> 0 | E38: =+E9+E21+E26+E27+E32+E36+E37 -> 50000
A39: 9. | B39: Finanszírozási bevételek (9.1.+…+9.3.) | C39: =+C40+C41+C42 -> 83879325 | D39: =+D40+D41+D42 -> 0 | E39: =+E40+E41+E42 -> 83879325
A40: 9.1. | B40: Költségvetési maradvány igénybevétele | C40: 454814 | D40: =E40-C40 -> 71290 | E40: 526104
A41: 9.2. | B41: Vállalkozási maradvány igénybevétele
A42: 9.3. | B42: Irányító szervi (önkormányzati) támogatás (intézményfinanszírozás) | C42: 83424511 | D42: =E42-C42 -> -71290 | E42: 83353221
A43: 10. | B43: BEVÉTELEK ÖSSZESEN: (8.+9.) | C43: =+C38+C39 -> 83929325 | D43: =+D38+D39 -> 0 | E43: =+E38+E39 -> 83929325
A46: Kiadások
A47: 1. | B47: Működési költségvetés kiadásai (1.1+…+1.5.) | C47: =SUM(C48:C52) -> 78640226 | D47: =SUM(D48:D52) -> 0 | E47: =SUM(E48:E52) -> 78640226
A48: 1.1. | B48: Személyi juttatások | C48: 50683984 | E48: 50683984
A49: 1.2. | B49: Munkaadókat terhelő járulékok és szociális hozzájárulási adó | C49: 9363442 | E49: 9363442
A50: 1.3. | B50: Dologi kiadások | C50: 18592800 | E50: 18592800
A51: 1.4. | B51: Ellátottak pénzbeli juttatásai
A52: 1.5. | B52: Egyéb működési célú kiadások
A53: 2. | B53: Felhalmozási költségvetés kiadásai (2.1.+…+2.3.) | C53: =SUM(C54:C56) -> 5289099 | D53: =SUM(D54:D56) -> 0 | E53: =SUM(E54:E56) -> 5289099
A54: 2.1. | B54: Beruházások | C54: 5289099 | E54: 5289099
A55: 2.2. | B55: Felújítások
A56: 2.3. | B56: Egyéb fejlesztési célú kiadások
A57: 2.4. | B57: 2.3.-ból EU-s támogatásból megvalósuló programok, projektek kiadása
A58: 3. | B58: Finanszírozási kiadások
A59: 4. | B59: KIADÁSOK ÖSSZESEN: (1.+2.+3.) | C59: =+C47+C53+C58 -> 83929325 | D59: =+D47+D53+D58 -> 0 | E59: =+E47+E53+E58 -> 83929325
C60: =C43-C59 -> 0 | D60: =D43-D59 -> 0
A61: Tényleges állományi létszám előirányzat (fő) | C61: 8 | D61: 0 | E61: 8
A62: Közfoglalkoztatottak tényleges állományi létszáma (fő) | C62: 0 | D62: 0 | E62: 0
E63: "

Sheet KVI_MOD_5.2.1.sz.mell
B1: 5.2.1. melléklet a .../2020 (....) önkormányzati rendelethez
B2: "9.2.1. melléklet a 2/2020 (II.17.) önkormányzati rendelethez
A3: Költségvetési szerv | B3: =CONCATENATE('KVI_MOD_5.2.sz.mell'!B3:D3) -> Sajószögedi Polgármesteri Hivatal | E3: 02
A4: Feladat megnevezése | B4: Kötelező feladatok bevételei, kiadásai | E4: 02
E5: ='KVI_MOD_5.2.sz.mell'!E5 -> 0
A6: Száma | B6: Kiemelt előirányzat, előirányzat megnevezése | C6: Eredeti előirányzat | D6: Összes módosítás | E6: Módosított előirányzat
A7: A | B7: B | C7: C | D7: D | E7: E
A8: Bevételek
A9: 1. | B9: Működési bevételek (1.1.+…+1.11.) | C9: =SUM(C10:C20) -> 0 | D9: =SUM(D10:D20) -> 0 | E9: =SUM(E10:E20) -> 0
A10: 1.1. | B10: Készletértékesítés ellenértéke
A11: 1.2. | B11: Szolgáltatások ellenértéke
A12: 1.3. | B12: Közvetített szolgáltatások értéke
A13: 1.4. | B13: Tulajdonosi bevételek
A14: 1.5. | B14: Ellátási díjak
A15: 1.6. | B15: Kiszámlázott általános forgalmi adó
A16: 1.7. | B16: Általános forgalmi adó visszatérülése
A17: 1.8. | B17: Kamatbevételek
A18: 1.9. | B18: Egyéb pénzügyi műveletek bevételei
A19: 1.10. | B19: Biztosító által fizetett kártérítés
A20: 1.11. | B20: Egyéb működési bevételek
A21: 2. | B21: Működési célú támogatások államháztartáson belülről (2.1.+…+2.3.) | C21: =SUM(C22:C24) -> 0 | D21: =SUM(D22:D24) -> 0 | E21: =SUM(E22:E24) -> 0
A22: 2.1. | B22: Elvonások és befizetések bevételei
A23: 2.2. | B23: Visszatérítendő támogatások, kölcsönök visszatérülése ÁH-n belülről
A24: 2.3. | B24: Egyéb működési célú támogatások bevételei államháztartáson belülről
A25: 2.4. | B25: 2.3-ból EU támogatás
A26: 3. | B26: Közhatalmi bevételek | C26: 50000 | E26: 50000
A27: 4. | B27: Felhalmozási célú támogatások államháztartáson belülről (4.1.+…+4.3.) | C27: =+C28+C29+C30 -> 0 | D27: =+D28+D29+D30 -> 0 | E27: =+E28+E29+E30 -> 0
A28: 4.1. | B28: Felhalmozási célú önkormányzati támogatások
A29: 4.2. | B29: Visszatérítendő támogatások, kölcsönök visszatérülése ÁH-n belülről
A30: 4.3. | B30: Egyéb felhalmozási célú támogatások bevételei államháztartáson belülről
A31: 4.4. | B31: 4.3.-ból EU-s támogatás
A32: 5. | B32: Felhalmozási bevételek (5.1.+…+5.3.) | C32: =+C33+C34+C35 -> 0 | D32: =+D33+D34+D35 -> 0 | E32: =+E33+E34+E35 -> 0
A33: 5.1. | B33: Immateriális javak értékesítése
A34: 5.2. | B34: Ingatlanok értékesítése
A35: 5.3. | B35: Egyéb tárgyi eszközök értékesítése
A36: 6. | B36: Működési célú átvett pénzeszközök
A37: 7. | B37: Felhalmozási célú átvett pénzeszközök
A38: 8. | B38: Költségvetési bevételek összesen (1.+…+7.) | C38: =+C9+C21+C26+C27+C32+C36+C37 -> 50000 | D38: =+D9+D21+D26+D27+D32+D36+D37 -> 0 | E38: =+E9+E21+E26+E27+E32+E36+E37 -> 50000
A39: 9. | B39: Finanszírozási bevételek (9.1.+…+9.3.) | C39: =+C40+C41+C42 -> 83879325 | D39: =+D40+D41+D42 -> 0 | E39: =+E40+E41+E42 -> 83879325
A40: 9.1. | B40: Költségvetési maradvány igénybevétele | C40: 454814 | D40: =E40-C40 -> 71290 | E40: 526104
A41: 9.2. | B41: Vállalkozási maradvány igénybevétele
A42: 9.3. | B42: Irányító szervi (önkormányzati) támogatás (intézményfinanszírozás) | C42: 83424511 | D42: =E42-C42 -> -71290 | E42: 83353221
A43: 10. | B43: BEVÉTELEK ÖSSZESEN: (8.+9.) | C43: =+C38+C39 -> 83929325 | D43: =+D38+D39 -> 0 | E43: =+E38+E39 -> 83929325
A46: Kiadások
A47: 1. | B47: Működési költségvetés kiadásai (1.1+…+1.5.) | C47: =SUM(C48:C52) -> 78640226 | D47: =SUM(D48:D52) -> 0 | E47: =SUM(E48:E52) -> 78640226
A48: 1.1. | B48: Személyi juttatások | C48: 50683984 | E48: 50683984
A49: 1.2. | B49: Munkaadókat terhelő járulékok és szociális hozzájárulási adó | C49: 9363442 | E49: 9363442
A50: 1.3. | B50: Dologi kiadások | C50: 18592800 | E50: 18592800
A51: 1.4. | B51: Ellátottak pénzbeli juttatásai
A52: 1.5. | B52: Egyéb működési célú kiadások
A53: 2. | B53: Felhalmozási költségvetés kiadásai (2.1.+…+2.3.) | C53: =SUM(C54:C56) -> 5289099 | D53: =SUM(D54:D56) -> 0 | E53: =SUM(E54:E56) -> 5289099
A54: 2.1. | B54: Beruházások | C54: 5289099 | E54: 5289099
A55: 2.2. | B55: Felújítások
A56: 2.3. | B56: Egyéb fejlesztési célú kiadások
A57: 2.4. | B57: 2.3.-ból EU-s támogatásból megvalósuló programok, projektek kiadása
A58: 3. | B58: Finanszírozási kiadások
A59: 4. | B59: KIADÁSOK ÖSSZESEN: (1.+2.+3.) | C59: =+C47+C53+C58 -> 83929325 | D59: =+D47+D53+D58 -> 0 | E59: =+E47+E53+E58 -> 83929325
C60: =C43-C59 -> 0 | D60: =D43-D59 -> 0
A61: Tényleges állományi létszám előirányzat (fő) | C61: 8 | D61: 0 | E61: 8
A62: Közfoglalkoztatottak tényleges állományi létszáma (fő) | C62: 0 | D62: 0 | E62: 0
E63: "

Sheet KVI_MOD_5.3.sz.mell
B1: 5.3. melléklet a .../2020 (....) önkormányzati rendelethez
B2: "9.3. melléklet a 2/2020 (II.17.) önkormányzati rendelethez
A3: Költségvetési szerv | B3: =CONCATENATE(KVI_MOD_ALAPADATOK!B14) -> Sajószögedi Általános Művelődési Központ - Család és Gyermekjóléti Szolgálat - Konyha - Művelődési Ház és Könyvtár | E3: 03
A4: Feladat megnevezése | B4: Összes bevétel, kiadás | E4: 01
A6: Száma | B6: Kiemelt előirányzat, előirányzat megnevezése | C6: Eredeti előirányzat | D6: Összes módosítás | E6: Módosított előirányzat
A7: A | B7: B | C7: C | D7: D | E7: E
A8: Bevételek
A9: 1. | B9: Működési bevételek (1.1.+…+1.11.) | C9: =SUM(C10:C20) -> 14040378 | D9: =SUM(D10:D20) -> 447040 | E9: =SUM(E10:E20) -> 14487418
A10: 1.1. | B10: Készletértékesítés ellenértéke
A11: 1.2. | B11: Szolgáltatások ellenértéke | C11: 10240000 | D11: =E11-C11 -> 0 | E11: 10240000
A12: 1.3. | B12: Közvetített szolgáltatások értéke
A13: 1.4. | B13: Tulajdonosi bevételek
A14: 1.5. | B14: Ellátási díjak | C14: 942975 | D14: =E14-C14 -> 352000 | E14: 1294975
A15: 1.6. | B15: Kiszámlázott általános forgalmi adó | C15: 2857403 | D15: =E15-C15 -> 95040 | E15: 2952443
A16: 1.7. | B16: Általános forgalmi adó visszatérülése
A17: 1.8. | B17: Kamatbevételek
A18: 1.9. | B18: Egyéb pénzügyi műveletek bevételei
A19: 1.10. | B19: Biztosító által fizetett kártérítés
A20: 1.11. | B20: Egyéb működési bevételek
A21: 2. | B21: Működési célú támogatások államháztartáson belülről (2.1.+…+2.3.) | C21: =SUM(C22:C24) -> 0 | D21: =SUM(D22:D24) -> 0 | E21: =SUM(E22:E24) -> 0
A22: 2.1. | B22: Elvonások és befizetések bevételei
A23: 2.2. | B23: Visszatérítendő támogatások, kölcsönök visszatérülése ÁH-n belülről
A24: 2.3. | B24: Egyéb működési célú támogatások bevételei államháztartáson belülről
A25: 2.4. | B25: 2.3.-ból EU támogatás
A26: 3. | B26: Közhatalmi bevételek
A27: 4. | B27: Felhalmozási célú támogatások államháztartáson belülről (4.1.+4.2.) | C27: =+C28+C29 -> 0 | D27: =+D28+D29 -> 0 | E27: =+E28+E29 -> 0
A28: 4.1. | B28: Visszatérítendő támogatások, kölcsönök visszatérülése ÁH-n belülről
A29: 4.2. | B29: Egyéb felhalmozási célú támogatások bevételei államháztartáson belülről
A30: 4.3. | B30: 4.2.-ből EU-s támogatás
A31: 5. | B31: Felhalmozási bevételek (5.1.+…+5.3.) | C31: =+C32+C33+C34 -> 0 | D31: =+D32+D33+D34 -> 0 | E31: =+E32+E33+E34 -> 0
A32: 5.1. | B32: Immateriális javak értékesítése
A33: 5.2. | B33: Ingatlanok értékesítése
A34: 5.3. | B34: Egyéb tárgyi eszközök értékesítése
A35: 6. | B35: Működési célú átvett pénzeszközök
A36: 7. | B36: Felhalmozási célú átvett pénzeszközök
A37: 8. | B37: KÖLTSÉGVETÉSI BEVÉTELEK ÖSSZESEN (1.+…+7.) | C37: =+C9+C21+C26+C27+C31+C35+C36 -> 14040378 | D37: =+D9+D21+D26+D27+D31+D35+D36 -> 447040 | E37: =+E9+E21+E26+E27+E31+E35+E36 -> 14487418
A38: 9. | B38: Finanszírozási bevételek (9.1.+…+9.3.) | C38: =+C39+C40+C41 -> 129984086 | D38: =+D39+D40+D41 -> -5007260 | E38: =+E39+E40+E41 -> 124976826
A39: 9.1. | B39: Költségvetési maradvány igénybevétele | C39: 1320700 | D39: =E39-C39 -> -16877 | E39: 1303823
A40: 9.2. | B40: Vállalkozási maradvány igénybevétele | D40: =E40-C40 -> 0
A41: 9.3. | B41: Irányító szervi (önkormányzati) támogatás (intézményfinanszírozás) | C41: 128663386 | D41: =E41-C41 -> -4990383 | E41: 123673003
A42: 10. | B42: BEVÉTELEK ÖSSZESEN: (8.+9.) | C42: =+C37+C38 -> 144024464 | D42: =+D37+D38 -> -4560220 | E42: =+E37+E38 -> 139464244
A45: Kiadások
A46: 1. | B46: Működési költségvetés kiadásai (1.1+…+1.5.) | C46: =SUM(C47:C51) -> 141054315 | D46: =SUM(D47:D51) -> -4560220 | E46: =SUM(E47:E51) -> 136494095
A47: 1.1. | B47: Személyi juttatások | C47: 70533234 | D47: =E47-C47 -> 1835893 | E47: 72369127
A48: 1.2. | B48: Munkaadókat terhelő járulékok és szociális hozzájárulási adó | C48: 13513956 | D48: =E48-C48 -> 419215 | E48: 13933171
A49: 1.3. | B49: Dologi kiadások | C49: 57007125 | D49: =E49-C49 -> -6815328 | E49: 50191797
A50: 1.4. | B50: Ellátottak pénzbeli juttatásai
A51: 1.5. | B51: Egyéb működési célú kiadások
A52: 2. | B52: Felhalmozási költségvetés kiadásai (2.1.+…+2.3.) | C52: =SUM(C53:C55) -> 2970149 | D52: =SUM(D53:D55) -> 0 | E52: =SUM(E53:E55) -> 2970149
A53: 2.1. | B53: Beruházások | C53: 2970149 | D53: =E53-C53 -> 0 | E53: 2970149
A54: 2.2. | B54: Felújítások
A55: 2.3. | B55: Egyéb fejlesztési célú kiadások
A56: 2.4. | B56: 2.3.-ból EU-s támogatásból megvalósuló programok, projektek kiadása
A57: 3. | B57: Finanszírozási kiadások
A58: 4. | B58: KIADÁSOK ÖSSZESEN: (1.+2.+3.) | C58: =+C46+C52+C57 -> 144024464 | D58: =+D46+D52+D57 -> -4560220 | E58: =+E46+E52+E57 -> 139464244
C59: =C42-C58 -> 0 | D59: =D42-D58 -> 0
A60: Tényleges állományi létszám előirányzat (fő) | C60: 17 | D60: 1 | E60: 18
A61: Közfoglalkoztatottak tényleges állományi létszáma (fő) | C61: 0 | D61: 0 | E61: 0
E62: "

Sheet KVI_MOD_5.3.1.sz.mell
B1: 5.3.1. melléklet a .../2020 (....) önkormányzati rendelethez
B2: "9.3.1. melléklet a 2/2020 (II.17.) önkormányzati rendelethez
A3: Költségvetési szerv | B3: =CONCATENATE('KVI_MOD_5.3.sz.mell'!B3:D3) -> Sajószögedi Általános Művelődési Központ - Család és Gyermekjóléti Szolgálat - Konyha - Művelődési Ház és Könyvtár | E3: 03
A4: Feladat megnevezése | B4: Kötelező feladatok bevételei, kiadásai | E4: 02
A6: Száma | B6: Kiemelt előirányzat, előirányzat megnevezése | C6: Eredeti előirányzat | D6: Összes módosítás | E6: Módosított előirányzat
A7: A | B7: B | C7: C | D7: D | E7: E
A8: Bevételek
A9: 1. | B9: Működési bevételek (1.1.+…+1.11.) | C9: =SUM(C10:C20) -> 14040378 | D9: =SUM(D10:D20) -> 447040 | E9: =SUM(E10:E20) -> 14487418
A10: 1.1. | B10: Készletértékesítés ellenértéke
A11: 1.2. | B11: Szolgáltatások ellenértéke | C11: 10240000 | D11: 0 | E11: 10240000
A12: 1.3. | B12: Közvetített szolgáltatások értéke
A13: 1.4. | B13: Tulajdonosi bevételek
A14: 1.5. | B14: Ellátási díjak | C14: 942975 | D14: 352000 | E14: 1294975
A15: 1.6. | B15: Kiszámlázott általános forgalmi adó | C15: 2857403 | D15: 95040 | E15: 2952443
A16: 1.7. | B16: Általános forgalmi adó visszatérülése
A17: 1.8. | B17: Kamatbevételek
A18: 1.9. | B18: Egyéb pénzügyi műveletek bevételei
A19: 1.10. | B19: Biztosító által fizetett kártérítés
A20: 1.11. | B20: Egyéb működési bevételek
A21: 2. | B21: Működési célú támogatások államháztartáson belülről (2.1.+…+2.3.) | C21: =SUM(C22:C24) -> 0 | D21: =SUM(D22:D24) -> 0 | E21: =SUM(E22:E24) -> 0
A22: 2.1. | B22: Elvonások és befizetések bevételei
A23: 2.2. | B23: Visszatérítendő támogatások, kölcsönök visszatérülése ÁH-n belülről
A24: 2.3. | B24: Egyéb működési célú támogatások bevételei államháztartáson belülről
A25: 2.4. | B25: 2.3.-ból EU támogatás
A26: 3. | B26: Közhatalmi bevételek
A27: 4. | B27: Felhalmozási célú támogatások államháztartáson belülről (4.1.+4.2.) | C27: =+C28+C29 -> 0 | D27: =+D28+D29 -> 0 | E27: =+E28+E29 -> 0
A28: 4.1. | B28: Visszatérítendő támogatások, kölcsönök visszatérülése ÁH-n belülről
A29: 4.2. | B29: Egyéb felhalmozási célú támogatások bevételei államháztartáson belülről
A30: 4.3. | B30: 4.2.-ből EU-s támogatás
A31: 5. | B31: Felhalmozási bevételek (5.1.+…+5.3.) | C31: =+C32+C33+C34 -> 0 | D31: =+D32+D33+D34 -> 0 | E31: =+E32+E33+E34 -> 0
A32: 5.1. | B32: Immateriális javak értékesítése
A33: 5.2. | B33: Ingatlanok értékesítése
A34: 5.3. | B34: Egyéb tárgyi eszközök értékesítése
A35: 6. | B35: Működési célú átvett pénzeszközök
A36: 7. | B36: Felhalmozási célú átvett pénzeszközök
A37: 8. | B37: KÖLTSÉGVETÉSI BEVÉTELEK ÖSSZESEN (1.+…+7.) | C37: =+C9+C21+C26+C27+C31+C35+C36 -> 14040378 | D37: =+D9+D21+D26+D27+D31+D35+D36 -> 447040 | E37: =+E9+E21+E26+E27+E31+E35+E36 -> 14487418
A38: 9. | B38: Finanszírozási bevételek (9.1.+…+9.3.) | C38: =+C39+C40+C41 -> 129984086 | D38: =+D39+D40+D41 -> -5007260 | E38: =+E39+E40+E41 -> 124976826
A39: 9.1. | B39: Költségvetési maradvány igénybevétele | C39: 1320700 | D39: =E39-C39 -> -16877 | E39: 1303823
A40: 9.2. | B40: Vállalkozási maradvány igénybevétele | D40: =E40-C40 -> 0
A41: 9.3. | B41: Irányító szervi (önkormányzati) támogatás (intézményfinanszírozás) | C41: 128663386 | D41: =E41-C41 -> -4990383 | E41: 123673003
A42: 10. | B42: BEVÉTELEK ÖSSZESEN: (8.+9.) | C42: =+C37+C38 -> 144024464 | D42: =+D37+D38 -> -4560220 | E42: =+E37+E38 -> 139464244
A45: Kiadások
A46: 1. | B46: Működési költségvetés kiadásai (1.1+…+1.5.) | C46: =SUM(C47:C51) -> 141054315 | D46: =SUM(D47:D51) -> -4560220 | E46: =SUM(E47:E51) -> 136494095
A47: 1.1. | B47: Személyi juttatások | C47: 70533234 | D47: =E47-C47 -> 1835893 | E47: 72369127
A48: 1.2. | B48: Munkaadókat terhelő járulékok és szociális hozzájárulási adó | C48: 13513956 | D48: =E48-C48 -> 419215 | E48: 13933171
A49: 1.3. | B49: Dologi kiadások | C49: 57007125 | D49: =E49-C49 -> -6815328 | E49: 50191797
A50: 1.4. | B50: Ellátottak pénzbeli juttatásai
A51: 1.5. | B51: Egyéb működési célú kiadások
A52: 2. | B52: Felhalmozási költségvetés kiadásai (2.1.+…+2.3.) | C52: =SUM(C53:C55) -> 2970149 | D52: =SUM(D53:D55) -> 0 | E52: =SUM(E53:E55) -> 2970149
A53: 2.1. | B53: Beruházások | C53: 2970149 | E53: 2970149
A54: 2.2. | B54: Felújítások
A55: 2.3. | B55: Egyéb fejlesztési célú kiadások
A56: 2.4. | B56: 2.3.-ból EU-s támogatásból megvalósuló programok, projektek kiadása
A57: 3. | B57: Finanszírozási kiadások
A58: 4. | B58: KIADÁSOK ÖSSZESEN: (1.+2.+3.) | C58: =+C46+C52+C57 -> 144024464 | D58: =+D46+D52+D57 -> -4560220 | E58: =+E46+E52+E57 -> 139464244
C59: =C42-C58 -> 0 | D59: =D42-D58 -> 0
A60: Tényleges állományi létszám előirányzat (fő) | C60: 17 | D60: 1 | E60: 18
A61: Közfoglalkoztatottak tényleges állományi létszáma (fő) | C61: 0 | D61: 0 | E61: 0
E62: "

Sheet KVI_MOD_5.4.sz.mell
B1: 5.4. melléklet a .../2020 (....) önkormányzati rendelethez
B2: "9.4. melléklet a 2/2020 (II.17.) önkormányzati rendelethez
A3: Költségvetési szerv | B3: =CONCATENATE(KVI_MOD_ALAPADATOK!B16) -> Sajószögedi Zöld Sziget Bölcsöde | E3: 04
A4: Feladat megnevezése | B4: Összes bevétel, kiadás | E4: 01
A6: Száma | B6: Kiemelt előirányzat, előirányzat megnevezése | C6: Eredeti előirányzat | D6: Összes módosítás | E6: Módosított előirányzat
A7: A | B7: B | C7: C | D7: D | E7: E
A8: Bevételek
A9: 1. | B9: Működési bevételek (1.1.+…+1.11.) | C9: =SUM(C10:C20) -> 0 | D9: =SUM(D10:D20) -> 0 | E9: =SUM(E10:E20) -> 0
A10: 1.1. | B10: Készletértékesítés ellenértéke
A11: 1.2. | B11: Szolgáltatások ellenértéke
A12: 1.3. | B12: Közvetített szolgáltatások értéke
A13: 1.4. | B13: Tulajdonosi bevételek
A14: 1.5. | B14: Ellátási díjak
A15: 1.6. | B15: Kiszámlázott általános forgalmi adó
A16: 1.7. | B16: Általános forgalmi adó visszatérülése
A17: 1.8. | B17: Kamatbevételek
A18: 1.9. | B18: Egyéb pénzügyi műveletek bevételei
A19: 1.10. | B19: Biztosító által fizetett kártérítés
A20: 1.11. | B20: Egyéb működési bevételek
A21: 2. | B21: Működési célú támogatások államháztartáson belülről (2.1.+…+2.3.) | C21: =SUM(C22:C24) -> 0 | D21: =SUM(D22:D24) -> 0 | E21: =SUM(E22:E24) -> 0
A22: 2.1. | B22: Elvonások és befizetések bevételei
A23: 2.2. | B23: Visszatérítendő támogatások, kölcsönök visszatérülése ÁH-n belülről
A24: 2.3. | B24: Egyéb működési célú támogatások bevételei államháztartáson belülről
A25: 2.4. | B25: 2.3.-ból EU támogatás
A26: 3. | B26: Közhatalmi bevételek
A27: 4. | B27: Felhalmozási célú támogatások államháztartáson belülről (4.1.+4.2.) | C27: =+C28+C29 -> 0 | D27: =+D28+D29 -> 0 | E27: =+E28+E29 -> 0
A28: 4.1. | B28: Visszatérítendő támogatások, kölcsönök visszatérülése ÁH-n belülről
A29: 4.2. | B29: Egyéb felhalmozási célú támogatások bevételei államháztartáson belülről
A30: 4.3. | B30: 4.2.-ből EU-s támogatás
A31: 5. | B31: Felhalmozási bevételek (5.1.+…+5.3.) | C31: =+C32+C33+C34 -> 0 | D31: =+D32+D33+D34 -> 0 | E31: =+E32+E33+E34 -> 0
A32: 5.1. | B32: Immateriális javak értékesítése
A33: 5.2. | B33: Ingatlanok értékesítése
A34: 5.3. | B34: Egyéb tárgyi eszközök értékesítése
A35: 6. | B35: Működési célú átvett pénzeszközök
A36: 7. | B36: Felhalmozási célú átvett pénzeszközök
A37: 8. | B37: KÖLTSÉGVETÉSI BEVÉTELEK ÖSSZESEN (1.+…+7.) | C37: =+C9+C21+C26+C27+C31+C35+C36 -> 0 | D37: =+D9+D21+D26+D27+D31+D35+D36 -> 0 | E37: =+E9+E21+E26+E27+E31+E35+E36 -> 0
A38: 9. | B38: Finanszírozási bevételek (9.1.+…+9.3.) | C38: =+C39+C40+C41 -> 0 | D38: =+D39+D40+D41 -> 14104973 | E38: =+E39+E40+E41 -> 14104973
A39: 9.1. | B39: Költségvetési maradvány igénybevétele
A40: 9.2. | B40: Vállalkozási maradvány igénybevétele
A41: 9.3. | B41: Irányító szervi (önkormányzati) támogatás (intézményfinanszírozás) | D41: 14104973 | E41: 14104973
A42: 10. | B42: BEVÉTELEK ÖSSZESEN: (8.+9.) | C42: =+C37+C38 -> 0 | D42: =+D37+D38 -> 14104973 | E42: =+E37+E38 -> 14104973
A45: Kiadások
A46: 1. | B46: Működési költségvetés kiadásai (1.1+…+1.5.) | C46: =SUM(C47:C51) -> 0 | D46: =SUM(D47:D51) -> 12834973 | E46: =SUM(E47:E51) -> 12834973
A47: 1.1. | B47: Személyi juttatások | D47: 8995602 | E47: 8995602
A48: 1.2. | B48: Munkaadókat terhelő járulékok és szociális hozzájárulási adó | D48: 1699371 | E48: 1699371
A49: 1.3. | B49: Dologi kiadások | D49: 2140000 | E49: 2140000
A50: 1.4. | B50: Ellátottak pénzbeli juttatásai
A51: 1.5. | B51: Egyéb működési célú kiadások
A52: 2. | B52: Felhalmozási költségvetés kiadásai (2.1.+…+2.3.) | C52: =SUM(C53:C55) -> 0 | D52: =SUM(D53:D55) -> 1270000 | E52: =SUM(E53:E55) -> 1270000
A53: 2.1. | B53: Beruházások | D53: 1270000 | E53: 1270000
A54: 2.2. | B54: Felújítások
A55: 2.3. | B55: Egyéb fejlesztési célú kiadások
A56: 2.4. | B56: 2.3.-ból EU-s támogatásból megvalósuló programok, projektek kiadása
A57: 3. | B57: Finanszírozási kiadások
A58: 4. | B58: KIADÁSOK ÖSSZESEN: (1.+2.+3.) | C58: =+C46+C52+C57 -> 0 | D58: =+D46+D52+D57 -> 14104973 | E58: =+E46+E52+E57 -> 14104973
C59: =C42-C58 -> 0 | D59: =D42-D58 -> 0
A60: Tényleges állományi létszám előirányzat (fő) | C60: 0 | D60: 7 | E60: 7
A61: Közfoglalkoztatottak tényleges állományi létszáma (fő) | C61: 0 | D61: 7 | E61: 7
E62: "

Sheet KVI_MOD_5.4.1.sz.mell
B1: 5.4.1. melléklet a .../2020 (....) önkormányzati rendelethez
B2: "9.4.1. melléklet a 2/2020 (II.17.) önkormányzati rendelethez
A3: Költségvetési szerv | B3: =CONCATENATE('KVI_MOD_5.4.sz.mell'!B3:D3) -> Sajószögedi Zöld Sziget Bölcsöde | E3: 04
A4: Feladat megnevezése | B4: Kötelező feladatok bevételei, kiadásai | E4: 02
A6: Száma | B6: Kiemelt előirányzat, előirányzat megnevezése | C6: Eredeti előirányzat | D6: Összes módosítás | E6: Módosított előirányzat
A7: A | B7: B | C7: C | D7: D | E7: E
A8: Bevételek
A9: 1. | B9: Működési bevételek (1.1.+…+1.11.) | C9: =SUM(C10:C20) -> 0 | D9: =SUM(D10:D20) -> 0 | E9: =SUM(E10:E20) -> 0
A10: 1.1. | B10: Készletértékesítés ellenértéke
A11: 1.2. | B11: Szolgáltatások ellenértéke
A12: 1.3. | B12: Közvetített szolgáltatások értéke
A13: 1.4. | B13: Tulajdonosi bevételek
A14: 1.5. | B14: Ellátási díjak
A15: 1.6. | B15: Kiszámlázott általános forgalmi adó
A16: 1.7. | B16: Általános forgalmi adó visszatérülése
A17: 1.8. | B17: Kamatbevételek
A18: 1.9. | B18: Egyéb pénzügyi műveletek bevételei
A19: 1.10. | B19: Biztosító által fizetett kártérítés
A20: 1.11. | B20: Egyéb működési bevételek
A21: 2. | B21: Működési célú támogatások államháztartáson belülről (2.1.+…+2.3.) | C21: =SUM(C22:C24) -> 0 | D21: =SUM(D22:D24) -> 0 | E21: =SUM(E22:E24) -> 0
A22: 2.1. | B22: Elvonások és befizetések bevételei
A23: 2.2. | B23: Visszatérítendő támogatások, kölcsönök visszatérülése ÁH-n belülről
A24: 2.3. | B24: Egyéb működési célú támogatások bevételei államháztartáson belülről
A25: 2.4. | B25: 2.3.-ból EU támogatás
A26: 3. | B26: Közhatalmi bevételek
A27: 4. | B27: Felhalmozási célú támogatások államháztartáson belülről (4.1.+4.2.) | C27: =+C28+C29 -> 0 | D27: =+D28+D29 -> 0 | E27: =+E28+E29 -> 0
A28: 4.1. | B28: Visszatérítendő támogatások, kölcsönök visszatérülése ÁH-n belülről
A29: 4.2. | B29: Egyéb felhalmozási célú támogatások bevételei államháztartáson belülről
A30: 4.3. | B30: 4.2.-ből EU-s támogatás
A31: 5. | B31: Felhalmozási bevételek (5.1.+…+5.3.) | C31: =+C32+C33+C34 -> 0 | D31: =+D32+D33+D34 -> 0 | E31: =+E32+E33+E34 -> 0
A32: 5.1. | B32: Immateriális javak értékesítése
A33: 5.2. | B33: Ingatlanok értékesítése
A34: 5.3. | B34: Egyéb tárgyi eszközök értékesítése
A35: 6. | B35: Működési célú átvett pénzeszközök
A36: 7. | B36: Felhalmozási célú átvett pénzeszközök
A37: 8. | B37: KÖLTSÉGVETÉSI BEVÉTELEK ÖSSZESEN (1.+…+7.) | C37: =+C9+C21+C26+C27+C31+C35+C36 -> 0 | D37: =+D9+D21+D26+D27+D31+D35+D36 -> 0 | E37: =+E9+E21+E26+E27+E31+E35+E36 -> 0
A38: 9. | B38: Finanszírozási bevételek (9.1.+…+9.3.) | C38: =+C39+C40+C41 -> 0 | D38: =+D39+D40+D41 -> 14104973 | E38: =+E39+E40+E41 -> 14104973
A39: 9.1. | B39: Költségvetési maradvány igénybevétele
A40: 9.2. | B40: Vállalkozási maradvány igénybevétele
A41: 9.3. | B41: Irányító szervi (önkormányzati) támogatás (intézményfinanszírozás) | D41: 14104973 | E41: 14104973
A42: 10. | B42: BEVÉTELEK ÖSSZESEN: (8.+9.) | C42: =+C37+C38 -> 0 | D42: =+D37+D38 -> 14104973 | E42: =+E37+E38 -> 14104973
A45: Kiadások
A46: 1. | B46: Működési költségvetés kiadásai (1.1+…+1.5.) | C46: =SUM(C47:C51) -> 0 | D46: =SUM(D47:D51) -> 12834973 | E46: =SUM(E47:E51) -> 12834973
A47: 1.1. | B47: Személyi juttatások | D47: 8995602 | E47: 8995602
A48: 1.2. | B48: Munkaadókat terhelő járulékok és szociális hozzájárulási adó | D48: 1699371 | E48: 1699371
A49: 1.3. | B49: Dologi kiadások | D49: 2140000 | E49: 2140000
A50: 1.4. | B50: Ellátottak pénzbeli juttatásai
A51: 1.5. | B51: Egyéb működési célú kiadások
A52: 2. | B52: Felhalmozási költségvetés kiadásai (2.1.+…+2.3.) | C52: =SUM(C53:C55) -> 0 | D52: =SUM(D53:D55) -> 1270000 | E52: =SUM(E53:E55) -> 1270000
A53: 2.1. | B53: Beruházások | D53: 1270000 | E53: 1270000
A54: 2.2. | B54: Felújítások
A55: 2.3. | B55: Egyéb fejlesztési célú kiadások
A56: 2.4. | B56: 2.3.-ból EU-s támogatásból megvalósuló programok, projektek kiadása
A57: 3. | B57: Finanszírozási kiadások
A58: 4. | B58: KIADÁSOK ÖSSZESEN: (1.+2.+3.) | C58: =+C46+C52+C57 -> 0 | D58: =+D46+D52+D57 -> 14104973 | E58: =+E46+E52+E57 -> 14104973
C59: =C42-C58 -> 0 | D59: =D42-D58 -> 0
A60: Tényleges állományi létszám előirányzat (fő) | C60: 0 | D60: 7 | E60: 7
A61: Közfoglalkoztatottak tényleges állományi létszáma (fő) | C61: 0 | D61: 7 | E61: 7
E62: "
