Workbook

Sheet KVI_MOD_TARTALOMJEGYZÉK
A1: 2020
A2: Tartalomjegyzék
A4: Dokumentum neve | B4: A dokumentációs rendszerben található táblázatok listája | C4: Ugrás
A6: =CONCATENATE("IDŐKÖZI (",UPPER(KVI_MOD_ALAPADATOK!C9)," BESZÁMOLÓ) TÁJÉKOZTATÓ") -> IDŐKÖZI (III. NEGYEDÉVES BESZÁMOLÓ) TÁJÉKOZTATÓ
A7: Alapadatok | B7: Adatok megadása | C7: =HYPERLINK(SUBSTITUTE(CELL("address",KVI_MOD_ALAPADATOK!A1),"'",""),SUBSTITUTE(MID(CELL("address",KVI_MOD_ALAPADATOK!A1),SEARCH("]",CELL("address",KVI_MOD_ALAPADATOK!A1),1)+1,LEN(CELL("address",KVI_MOD_ALAPADATOK!A1))-SEARCH("]",CELL("address",KVI_MOD_ALAPADATOK!A1),1)),"'","")) -> KVI_MOD_ALAPADATOK!$A$1
A8: Összefüggések | B8: Táblázatok adatainak összefüggései | C8: =HYPERLINK(SUBSTITUTE(CELL("address",#REF!),"'",""),SUBSTITUTE(MID(CELL("address",#REF!),SEARCH("]",CELL("address",#REF!),1)+1,LEN(CELL("address",#REF!))-SEARCH("]",CELL("address",#REF!),1)),"'","")) -> #REF!
A9: 1.1. melléklet | B9: ='KVI_MOD_1.1.sz.mell.'!#REF! -> #REF! | C9: =HYPERLINK(SUBSTITUTE(CELL("address",'KVI_MOD_1.1.sz.mell.'!A1),"'",""),SUBSTITUTE(MID(CELL("address",'KVI_MOD_1.1.sz.mell.'!A1),SEARCH("]",CELL("address",'KVI_MOD_1.1.sz.mell.'!A1),1)+1,LEN(CELL("address",'KVI_MOD_1.1.sz.mell.'!A1))-SEARCH("]",CELL("address",'KVI_MOD_1.1.sz.mell.'!A1),1)),"'","")) -> KVI_MOD_1.1.sz.mell.!$A$1
A10: 1.2. melléklet | B10: ='KVI_MOD_1.2.sz.mell.'!A5 -> KÖTELEZŐ FELADATOK MÉRLEGE | C10: =HYPERLINK(SUBSTITUTE(CELL("address",'KVI_MOD_1.2.sz.mell.'!A2),"'",""),SUBSTITUTE(MID(CELL("address",'KVI_MOD_1.2.sz.mell.'!A2),SEARCH("]",CELL("address",'KVI_MOD_1.2.sz.mell.'!A2),1)+1,LEN(CELL("address",'KVI_MOD_1.2.sz.mell.'!A2))-SEARCH("]",CELL("address",'KVI_MOD_1.2.sz.mell.'!A2),1)),"'","")) -> KVI_MOD_1.2.sz.mell.!$A$2
A11: 1.3. melléklet | B11: =#REF! -> #REF! | C11: =HYPERLINK(SUBSTITUTE(CELL("address",#REF!),"'",""),SUBSTITUTE(MID(CELL("address",#REF!),SEARCH("]",CELL("address",#REF!),1)+1,LEN(CELL("address",#REF!))-SEARCH("]",CELL("address",#REF!),1)),"'","")) -> #REF!
A12: 1.4. melléklet | B12: =#REF! -> #REF! | C12: =HYPERLINK(SUBSTITUTE(CELL("address",#REF!),"'",""),SUBSTITUTE(MID(CELL("address",#REF!),SEARCH("]",CELL("address",#REF!),1)+1,LEN(CELL("address",#REF!))-SEARCH("]",CELL("address",#REF!),1)),"'","")) -> #REF!
A13: 2.1. melléklet | B13: Működési célú bevételek, kiadások mérlege | C13: =HYPERLINK(SUBSTITUTE(CELL("address",'KVI_MOD_2.1.sz.mell'!A3),"'",""),SUBSTITUTE(MID(CELL("address",'KVI_MOD_2.1.sz.mell'!A3),SEARCH("]",CELL("address",'KVI_MOD_2.1.sz.mell'!A3),1)+1,LEN(CELL("address",'KVI_MOD_2.1.sz.mell'!A3))-SEARCH("]",CELL("address",'KVI_MOD_2.1.sz.mell'!A3),1)),"'","")) -> KVI_MOD_2.1.sz.mell!$A$3
A14: 2.2. melléklet | B14: Felhalmozási célú bevételek, kiadások mérlege | C14: =HYPERLINK(SUBSTITUTE(CELL("address",'KVI_MOD_2.2.sz.mell'!A3),"'",""),SUBSTITUTE(MID(CELL("address",'KVI_MOD_2.2.sz.mell'!A3),SEARCH("]",CELL("address",'KVI_MOD_2.2.sz.mell'!A3),1)+1,LEN(CELL("address",'KVI_MOD_2.2.sz.mell'!A3))-SEARCH("]",CELL("address",'KVI_MOD_2.2.sz.mell'!A3),1)),"'","")) -> KVI_MOD_2.2.sz.mell!$A$3
A15: Ellenőrző lista | B15: Ellenőrzés az 1-es és 2.1., 2.2. mellékletek adati esetében | C15: =HYPERLINK(SUBSTITUTE(CELL("address",#REF!),"'",""),SUBSTITUTE(MID(CELL("address",#REF!),SEARCH("]",CELL("address",#REF!),1)+1,LEN(CELL("address",#REF!))-SEARCH("]",CELL("address",#REF!),1)),"'","")) -> #REF!
A16: 3. melléklet | B16: =#REF! -> #REF! | C16: =HYPERLINK(SUBSTITUTE(CELL("address",#REF!),"'",""),SUBSTITUTE(MID(CELL("address",#REF!),SEARCH("]",CELL("address",#REF!),1)+1,LEN(CELL("address",#REF!))-SEARCH("]",CELL("address",#REF!),1)),"'","")) -> #REF!
A17: 4. melléklet | B17: =#REF! -> #REF! | C17: =HYPERLINK(SUBSTITUTE(CELL("address",#REF!),"'",""),SUBSTITUTE(MID(CELL("address",#REF!),SEARCH("]",CELL("address",#REF!),1)+1,LEN(CELL("address",#REF!))-SEARCH("]",CELL("address",#REF!),1)),"'","")) -> #REF!
A18: 5. melléklet | B18: =#REF! -> #REF! | C18: =HYPERLINK(SUBSTITUTE(CELL("address",#REF!),"'",""),SUBSTITUTE(MID(CELL("address",#REF!),SEARCH("]",CELL("address",#REF!),1)+1,LEN(CELL("address",#REF!))-SEARCH("]",CELL("address",#REF!),1)),"'","")) -> #REF!
A19: 6. melléklet | B19: Beruházási (felhalmozási) kiadások előirányzata beruházásonként | C19: =HYPERLINK(SUBSTITUTE(CELL("address",'KVI_MOD_3.sz.mell..'!A2),"'",""),SUBSTITUTE(MID(CELL("address",'KVI_MOD_3.sz.mell..'!A2),SEARCH("]",CELL("address",'KVI_MOD_3.sz.mell..'!A2),1)+1,LEN(CELL("address",'KVI_MOD_3.sz.mell..'!A2))-SEARCH("]",CELL("address",'KVI_MOD_3.sz.mell..'!A2),1)),"'","")) -> KVI_MOD_3.sz.mell..!$A$2
A20: 7. melléklet | B20: Felújítási kiadások előirányzata felújításonként | C20: =HYPERLINK(SUBSTITUTE(CELL("address",'KVI_MOD_4.sz.mell.'!A2),"'",""),SUBSTITUTE(MID(CELL("address",'KVI_MOD_4.sz.mell.'!A2),SEARCH("]",CELL("address",'KVI_MOD_4.sz.mell.'!A2),1)+1,LEN(CELL("address",'KVI_MOD_4.sz.mell.'!A2))-SEARCH("]",CELL("address",'KVI_MOD_4.sz.mell.'!A2),1)),"'","")) -> KVI_MOD_4.sz.mell.!$A$2
A21: 8. melléklet | B21: =#REF! -> #REF! | C21: =HYPERLINK(SUBSTITUTE(CELL("address",#REF!),"'",""),SUBSTITUTE(MID(CELL("address",#REF!),SEARCH("]",CELL("address",#REF!),1)+1,LEN(CELL("address",#REF!))-SEARCH("]",CELL("address",#REF!),1)),"'","")) -> #REF!
A22: 9.1. melléklet | B22: Összes bevétel, kiadás | C22: =HYPERLINK(SUBSTITUTE(CELL("address",'KVI_MOD_5.1.sz.mell'!A2),"'",""),SUBSTITUTE(MID(CELL("address",'KVI_MOD_5.1.sz.mell'!A2),SEARCH("]",CELL("address",'KVI_MOD_5.1.sz.mell'!A2),1)+1,LEN(CELL("address",'KVI_MOD_5.1.sz.mell'!A2))-SEARCH("]",CELL("address",'KVI_MOD_5.1.sz.mell'!A2),1)),"'","")) -> KVI_MOD_5.1.sz.mell!$A$2
A23: 9.1.1. melléklet | B23: Kötelező feladtok bevételei, kiadásai | C23: =HYPERLINK(SUBSTITUTE(CELL("address",'KVI_MOD_5.1.1.sz.mell'!A2),"'",""),SUBSTITUTE(MID(CELL("address",'KVI_MOD_5.1.1.sz.mell'!A2),SEARCH("]",CELL("address",'KVI_MOD_5.1.1.sz.mell'!A2),1)+1,LEN(CELL("address",'KVI_MOD_5.1.1.sz.mell'!A2))-SEARCH("]",CELL("address",'KVI_MOD_5.1.1.sz.mell'!A2),1)),"'","")) -> KVI_MOD_5.1.1.sz.mell!$A$2
A24: 9.1.2. melléklet | B24: Önként vállalt feladatok bevételei, kiadásai | C24: =HYPERLINK(SUBSTITUTE(CELL("address",#REF!),"'",""),SUBSTITUTE(MID(CELL("address",#REF!),SEARCH("]",CELL("address",#REF!),1)+1,LEN(CELL("address",#REF!))-SEARCH("]",CELL("address",#REF!),1)),"'","")) -> #REF!
A25: 9.1.3. melléklet | B25: Államigazgatási feladatok bevételei, kiadásai | C25: =HYPERLINK(SUBSTITUTE(CELL("address",#REF!),"'",""),SUBSTITUTE(MID(CELL("address",#REF!),SEARCH("]",CELL("address",#REF!),1)+1,LEN(CELL("address",#REF!))-SEARCH("]",CELL("address",#REF!),1)),"'","")) -> #REF!
A26: 9.2. melléklet | B26: =KVI_MOD_ALAPADATOK!A12 -> Sajószögedi Polgármesteri Hivatal | C26: =HYPERLINK(SUBSTITUTE(CELL("address",'KVI_MOD_5.2.sz.mell'!A2),"'",""),SUBSTITUTE(MID(CELL("address",'KVI_MOD_5.2.sz.mell'!A2),SEARCH("]",CELL("address",'KVI_MOD_5.2.sz.mell'!A2),1)+1,LEN(CELL("address",'KVI_MOD_5.2.sz.mell'!A2))-SEARCH("]",CELL("address",'KVI_MOD_5.2.sz.mell'!A2),1)),"'","")) -> KVI_MOD_5.2.sz.mell!$A$2
A27: 9.3. melléklet | B27: =KVI_MOD_ALAPADATOK!B14 -> Sajószögedi Általános Művelődési Központ - Család és Gyermekjóléti Szolgálat - Konyha - Művelődési Ház és Könyvtár | C27: =HYPERLINK(SUBSTITUTE(CELL("address",'KVI_MOD_5.3.sz.mell'!A2),"'",""),SUBSTITUTE(MID(CELL("address",'KVI_MOD_5.3.sz.mell'!A2),SEARCH("]",CELL("address",'KVI_MOD_5.3.sz.mell'!A2),1)+1,LEN(CELL("address",'KVI_MOD_5.3.sz.mell'!A2))-SEARCH("]",CELL("address",'KVI_MOD_5.3.sz.mell'!A2),1)),"'","")) -> KVI_MOD_5.3.sz.mell!$A$2
A28: 9.4. melléklet | B28: =KVI_MOD_ALAPADATOK!B16 -> Sajószögedi Zöld Sziget Bölcsöde | C28: =HYPERLINK(SUBSTITUTE(CELL("address",'KVI_MOD_5.4.sz.mell'!A2),"'",""),SUBSTITUTE(MID(CELL("address",'KVI_MOD_5.4.sz.mell'!A2),SEARCH("]",CELL("address",'KVI_MOD_5.4.sz.mell'!A2),1)+1,LEN(CELL("address",'KVI_MOD_5.4.sz.mell'!A2))-SEARCH("]",CELL("address",'KVI_MOD_5.4.sz.mell'!A2),1)),"'","")) -> KVI_MOD_5.4.sz.mell!$A$2
A29: 9.5. melléklet | B29: =KVI_MOD_ALAPADATOK!B18 -> 3 kvi név | C29: =HYPERLINK(SUBSTITUTE(CELL("address",#REF!),"'",""),SUBSTITUTE(MID(CELL("address",#REF!),SEARCH("]",CELL("address",#REF!),1)+1,LEN(CELL("address",#REF!))-SEARCH("]",CELL("address",#REF!),1)),"'","")) -> #REF!
A30: 9.6. melléklet | B30: =KVI_MOD_ALAPADATOK!B20 -> 4 kvi név | C30: =HYPERLINK(SUBSTITUTE(CELL("address",#REF!),"'",""),SUBSTITUTE(MID(CELL("address",#REF!),SEARCH("]",CELL("address",#REF!),1)+1,LEN(CELL("address",#REF!))-SEARCH("]",CELL("address",#REF!),1)),"'","")) -> #REF!
A31: 9.7. melléklet | B31: =KVI_MOD_ALAPADATOK!B22 -> 5 kvi név | C31: =HYPERLINK(SUBSTITUTE(CELL("address",#REF!),"'",""),SUBSTITUTE(MID(CELL("address",#REF!),SEARCH("]",CELL("address",#REF!),1)+1,LEN(CELL("address",#REF!))-SEARCH("]",CELL("address",#REF!),1)),"'","")) -> #REF!
A32: 9.8. melléklet | B32: =KVI_MOD_ALAPADATOK!B24 -> 6 kvi név | C32: =HYPERLINK(SUBSTITUTE(CELL("address",#REF!),"'",""),SUBSTITUTE(MID(CELL("address",#REF!),SEARCH("]",CELL("address",#REF!),1)+1,LEN(CELL("address",#REF!))-SEARCH("]",CELL("address",#REF!),1)),"'","")) -> #REF!
A33: 9.9. melléklet | B33: =KVI_MOD_ALAPADATOK!B26 -> 7 kvi név | C33: =HYPERLINK(SUBSTITUTE(CELL("address",#REF!),"'",""),SUBSTITUTE(MID(CELL("address",#REF!),SEARCH("]",CELL("address",#REF!),1)+1,LEN(CELL("address",#REF!))-SEARCH("]",CELL("address",#REF!),1)),"'","")) -> #REF!
A34: 9.10. melléklet | B34: =KVI_MOD_ALAPADATOK!B28 -> 8 kvi név | C34: =HYPERLINK(SUBSTITUTE(CELL("address",#REF!),"'",""),SUBSTITUTE(MID(CELL("address",#REF!),SEARCH("]",CELL("address",#REF!),1)+1,LEN(CELL("address",#REF!))-SEARCH("]",CELL("address",#REF!),1)),"'","")) -> #REF!
A35: 9.11. melléklet | B35: =KVI_MOD_ALAPADATOK!B30 -> 9 kvi név | C35: =HYPERLINK(SUBSTITUTE(CELL("address",#REF!),"'",""),SUBSTITUTE(MID(CELL("address",#REF!),SEARCH("]",CELL("address",#REF!),1)+1,LEN(CELL("address",#REF!))-SEARCH("]",CELL("address",#REF!),1)),"'","")) -> #REF!
A36: 9.12. melléklet | B36: =KVI_MOD_ALAPADATOK!B32 -> 10 kvi név | C36: =HYPERLINK(SUBSTITUTE(CELL("address",#REF!),"'",""),SUBSTITUTE(MID(CELL("address",#REF!),SEARCH("]",CELL("address",#REF!),1)+1,LEN(CELL("address",#REF!))-SEARCH("]",CELL("address",#REF!),1)),"'","")) -> #REF!
A37: 10. melléklet | B37: =#REF! -> #REF! | C37: =HYPERLINK(SUBSTITUTE(CELL("address",#REF!),"'",""),SUBSTITUTE(MID(CELL("address",#REF!),SEARCH("]",CELL("address",#REF!),1)+1,LEN(CELL("address",#REF!))-SEARCH("]",CELL("address",#REF!),1)),"'","")) -> #REF!

Sheet KVI_MOD_ALAPADATOK
B1: év: | D1: =KVI_MOD_TARTALOMJEGYZÉK!A1 -> 2020
A2: ALAPADATOK
A3: Sajószöged Községi Önkormányzat
A7: a | C7: / | D7: =D1 -> 2020 | E7: ( | F7: … | G7: ) | H7: önkormányzati rendelethez
A9: 1 | B9: sz. módosítás utáni | C9: =IF(C7="I. negyedévi","I. negyedéves",IF(C7="I. félévi","I. féléves","III. negyedéves")) -> III. negyedéves
H11: Mellékletben külön?
A12: Sajószögedi Polgármesteri Hivatal | H12: Igen | J12: 9. | K12: =IF($H$12="Nem","",2) -> 2 | L12: . | M12: =CONCATENATE(J12,K12,L12) -> 9.2.
A14: 1. költségvetési szerv neve | B14: Sajószögedi Általános Művelődési Központ - Család és Gyermekjóléti Szolgálat - Konyha - Művelődési Ház és Könyvtár | J14: 9. | K14: =IF(H12="Nem",2,3) -> 3 | L14: . | M14: =CONCATENATE(J14,K14,L14) -> 9.3.
A16: 2. költségvetési szerv neve | B16: Sajószögedi Zöld Sziget Bölcsöde | J16: 9. | K16: =K14+1 -> 4 | L16: . | M16: =CONCATENATE(J16,K16,L16) -> 9.4.
A18: 3. költségvetési szerv neve | B18: 3 kvi név | J18: 9. | K18: =K16+1 -> 5 | L18: . | M18: =CONCATENATE(J18,K18,L18) -> 9.5.
A20: 4. költségvetési szerv neve | B20: 4 kvi név | J20: 9. | K20: =K18+1 -> 6 | L20: . | M20: =CONCATENATE(J20,K20,L20) -> 9.6.
A22: 5. költségvetési szerv neve | B22: 5 kvi név | J22: 9. | K22: =K20+1 -> 7 | L22: . | M22: =CONCATENATE(J22,K22,L22) -> 9.7.
A24: 6. költségvetési szerv neve | B24: 6 kvi név | J24: 9. | K24: =K22+1 -> 8 | L24: . | M24: =CONCATENATE(J24,K24,L24) -> 9.8.
A26: 7. költségvetési szerv neve | B26: 7 kvi név | J26: 9. | K26: =K24+1 -> 9 | L26: . | M26: =CONCATENATE(J26,K26,L26) -> 9.9.
A28: 8. költségvetési szerv neve | B28: 8 kvi név | J28: 9. | K28: =K26+1 -> 10 | L28: . | M28: =CONCATENATE(J28,K28,L28) -> 9.10.
A30: 8. költségvetési szerv neve | B30: 9 kvi név | J30: 9. | K30: =K28+1 -> 11 | L30: . | M30: =CONCATENATE(J30,K30,L30) -> 9.11.
A32: 10. költségvetési szerv neve | B32: 10 kvi név | J32: 9. | K32: =K30+1 -> 12 | L32: . | M32: =CONCATENATE(J32,K32,L32) -> 9.12.

Sheet KVI_MOD_1.1.sz.mell.
B1: 1.1. melléklet a .../2020 (....) önkormányzati rendelethez
B2: "1.1. melléklet a 2/2020 (II.17.) önkormányzati rendelethez
A3: =CONCATENATE(KVI_MOD_ALAPADATOK!A3) -> Sajószöged Községi Önkormányzat
A4: 2020. ÉVI KÖLTSÉGVETÉS
A5: ÖSSZEVONT MÉRLEGE
A7: B E V É T E L E K
A8: 1. sz. táblázat | E8: Forintban!
A9: Sor- szám | B9: Bevételi jogcím | C9: =+CONCATENATE(KVI_MOD_ALAPADATOK!D1,". évi") -> 2020. évi
C10: Eredeti előirányzat | D10: Összes módosítás | E10: Módosított előirányzat
A11: A | B11: B | C11: C | D11: D | E11: E
A12: 1. | B12: Önkormányzat működési támogatásai (1.1.+…+.1.6.) | C12: =+C13+C14+C15+C16+C17+C18 -> 98604818 | D12: =+D13+D14+D15+D16+D17+D18 -> 9686361 | E12: =+E13+E14+E15+E16+E17+E18 -> 108291179
A13: 1.1. | B13: Helyi önkormányzatok működésének általános támogatása | C13: 23631621 | D13: =E13-C13 -> 6009672 | E13: 29641293
A14: 1.2. | B14: Önkormányzatok egyes köznevelési feladatainak támogatása | C14: 48695600 | D14: =E14-C14 -> 0 | E14: 48695600
A15: 1.3. | B15: Önkormányzatok szociális és gyermekjóléti feladatainak támogatása | C15: 23410305 | D15: =E15-C15 -> 1524913 | E15: 24935218
A16: 1.4. | B16: Önkormányzatok kulturális feladatainak támogatása | C16: 2867292 | D16: =E16-C16 -> 483151 | E16: 3350443
A17: 1.5. | B17: Működési célú kvi támogatások és kiegészítő támogatások | D17: =E17-C17 -> 0
A18: 1.6. | B18: Elszámolásból származó bevételek | D18: =E18-C18 -> 1668625 | E18: 1668625
A19: 2. | B19: Működési célú támogatások államháztartáson belülről (2.1.+…+.2.5.) | C19: =+C20+C21+C22+C23+C24 -> 11262720 | D19: =+D20+D21+D22+D23+D24 -> 2096799 | E19: =+E20+E21+E22+E23+E24 -> 13359519
A20: 2.1. | B20: Elvonások és befizetések bevételei
A21: 2.2. | B21: Működési célú garancia- és kezességvállalásból megtérülések
A22: 2.3. | B22: Működési célú visszatérítendő támogatások, kölcsönök visszatérülése
A23: 2.4. | B23: Működési célú visszatérítendő támogatások, kölcsönök igénybevétele
A24: 2.5. | B24: Egyéb működési célú támogatások bevételei | C24: 11262720 | D24: =E24-C24 -> 2096799 | E24: 13359519
A25: 2.6. | B25: 2.5.-ből EU-s támogatás
A26: 3. | B26: Felhalmozási célú támogatások államháztartáson belülről (3.1.+…+3.5.) | C26: =+C27+C28+C29+C30+C31 -> 117478820 | D26: =+D27+D28+D29+D30+D31 -> 0 | E26: =+E27+E28+E29+E30+E31 -> 117478820
A27: 3.1. | B27: Felhalmozási célú önkormányzati támogatások
A28: 3.2. | B28: Felhalmozási célú garancia- és kezességvállalásból megtérülések
A29: 3.3. | B29: Felhalmozási célú visszatérítendő támogatások, kölcsönök visszatérülése
A30: 3.4. | B30: Felhalmozási célú visszatérítendő támogatások, kölcsönök igénybevétele
A31: 3.5. | B31: Egyéb felhalmozási célú támogatások bevételei | C31: 117478820 | E31: 117478820
A32: 3.6. | B32: 3.5.-ből EU-s támogatás | C32: 117478820 | E32: 117478820
A33: 4. | B33: Közhatalmi bevételek (4.1.+…+4.7.) | C33: =SUM(C34:C40) -> 221400000 | D33: =SUM(D34:D40) -> -8450000 | E33: =SUM(E34:E40) -> 212950000
A34: 4.1. | B34: Építményadó | C34: 3100000 | D34: =E34-C34 -> 0 | E34: 3100000
A35: 4.2. | B35: Idegenforgalmi adó | D35: =E35-C35 -> 0
A36: 4.3. | B36: Iparűzési adó | C36: 110000000 | D36: =E36-C36 -> 0 | E36: 110000000
A37: 4.4. | B37: Talajterhelési díj | C37: 200000 | D37: =E37-C37 -> 150000 | E37: 350000
A38: 4.5. | B38: Gépjárműadó | C38: 8800000 | D38: =E38-C38 -> -8800000 | E38: 0
A39: 4.6. | B39: Telekadó | C39: 99000000 | D39: =E39-C39 -> 0 | E39: 99000000
A40: 4.7. | B40: Egyéb közhatalmi bevételek | C40: 300000 | D40: =E40-C40 -> 200000 | E40: 500000
A41: 5. | B41: Működési bevételek (5.1.+…+ 5.11.) | C41: =SUM(C42:C52) -> 54016468 | D41: =SUM(D42:D52) -> -3735364 | E41: =SUM(E42:E52) -> 50281104
...

Sheet KVI_MOD_1.2.sz.mell.
B1: 1.2. melléklet a / 2020 ( … ) önkormányzati rendelethez
B2: "1.2. melléklet a 2/2020 (II.17.) önkormányzati rendelethez
A3: =CONCATENATE(KVI_MOD_ALAPADATOK!A3) -> Sajószöged Községi Önkormányzat
A4: 2020. ÉVI KÖLTSÉGVETÉS
A5: KÖTELEZŐ FELADATOK MÉRLEGE
A7: B E V É T E L E K
A8: 1. sz. táblázat | E8: =CONCATENATE('KVI_MOD_1.1.sz.mell.'!E8) -> Forintban!
A9: Sor- szám | B9: Bevételi jogcím | C9: =CONCATENATE(KVI_MOD_ALAPADATOK!D1,". évi") -> 2020. évi
C10: Eredeti előirányzat | D10: Összes módosítás | E10: Módosított előirányzat
A11: A | B11: B | C11: C | D11: D | E11: E
A12: 1. | B12: Önkormányzat működési támogatásai (1.1.+…+.1.6.) | C12: =+C13+C14+C15+C16+C17+C18 -> 98604818 | D12: =+D13+D14+D15+D16+D17+D18 -> 9686361 | E12: =+E13+E14+E15+E16+E17+E18 -> 108291179
A13: 1.1. | B13: Helyi önkormányzatok működésének általános támogatása | C13: 23631621 | D13: =E13-C13 -> 6009672 | E13: 29641293
A14: 1.2. | B14: Önkormányzatok egyes köznevelési feladatainak támogatása | C14: 48695600 | D14: =E14-C14 -> 0 | E14: 48695600
A15: 1.3. | B15: Önkormányzatok szociális és gyermekjóléti feladatainak támogatása | C15: 23410305 | D15: =E15-C15 -> 1524913 | E15: 24935218
A16: 1.4. | B16: Önkormányzatok kulturális feladatainak támogatása | C16: 2867292 | D16: =E16-C16 -> 483151 | E16: 3350443
A17: 1.5. | B17: Működési célú kvi támogatások és kiegészítő támogatások | D17: =E17-C17 -> 0
A18: 1.6. | B18: Elszámolásból származó bevételek | D18: =E18-C18 -> 1668625 | E18: 1668625
A19: 2. | B19: Működési célú támogatások államháztartáson belülről (2.1.+…+.2.5.) | C19: =+C20+C21+C22+C23+C24 -> 11262720 | D19: =+D20+D21+D22+D23+D24 -> 2096799 | E19: =+E20+E21+E22+E23+E24 -> 13359519
A20: 2.1. | B20: Elvonások és befizetések bevételei
A21: 2.2. | B21: Működési célú garancia- és kezességvállalásból megtérülések
A22: 2.3. | B22: Működési célú visszatérítendő támogatások, kölcsönök visszatérülése
A23: 2.4. | B23: Működési célú visszatérítendő támogatások, kölcsönök igénybevétele
A24: 2.5. | B24: Egyéb működési célú támogatások bevételei | C24: 11262720 | D24: =E24-C24 -> 2096799 | E24: 13359519
A25: 2.6. | B25: 2.5.-ből EU-s támogatás
A26: 3. | B26: Felhalmozási célú támogatások államháztartáson belülről (3.1.+…+3.5.) | C26: =+C27+C28+C29+C30+C31 -> 117478820 | D26: =+D27+D28+D29+D30+D31 -> 0 | E26: =+E27+E28+E29+E30+E31 -> 117478820
A27: 3.1. | B27: Felhalmozási célú önkormányzati támogatások
A28: 3.2. | B28: Felhalmozási célú garancia- és kezességvállalásból megtérülések
A29: 3.3. | B29: Felhalmozási célú visszatérítendő támogatások, kölcsönök visszatérülése
A30: 3.4. | B30: Felhalmozási célú visszatérítendő támogatások, kölcsönök igénybevétele
A31: 3.5. | B31: Egyéb felhalmozási célú támogatások bevételei | C31: 117478820 | E31: 117478820
A32: 3.6. | B32: 3.5.-ből EU-s támogatás | C32: 117478820 | E32: 117478820
A33: 4. | B33: Közhatalmi bevételek (4.1.+…+4.7.) | C33: =SUM(C34:C40) -> 221400000 | D33: =SUM(D34:D40) -> -8450000 | E33: =SUM(E34:E40) -> 212950000
A34: 4.1. | B34: Építményadó | C34: 3100000 | D34: =E34-C34 -> 0 | E34: 3100000
A35: 4.2. | B35: Idegenforgalmi adó | D35: =E35-C35 -> 0
A36: 4.3. | B36: Iparűzési adó | C36: 110000000 | D36: =E36-C36 -> 0 | E36: 110000000
A37: 4.4. | B37: Talajterhelési díj | C37: 200000 | D37: =E37-C37 -> 150000 | E37: 350000
A38: 4.5. | B38: Gépjárműadó | C38: 8800000 | D38: =E38-C38 -> -8800000 | E38: 0
A39: 4.6. | B39: Telekadó | C39: 99000000 | D39: =E39-C39 -> 0 | E39: 99000000
A40: 4.7. | B40: Egyéb közhatalmi bevételek | C40: 300000 | D40: =E40-C40 -> 200000 | E40: 500000
A41: 5. | B41: Működési bevételek (5.1.+…+ 5.11.) | C41: =SUM(C42:C52) -> 54016468 | D41: =SUM(D42:D52) -> -3735364 | E41: =SUM(E42:E52) -> 50281104
...

Sheet KVI_MOD_2.1.sz.mell
F1: 2.1. melléklet a / 2020 ( … ) önkormányzati rendelethez
F2: "2.1. melléklet a 2/2020 (II.17.) önkormányzati rendelethez
B3: I. Működési célú bevételek és kiadások mérlege (Önkormányzati szinten)
A5: Sor- szám | B5: Bevételek | F5: Kiadások
B6: Megnevezés | C6: =+CONCATENATE('KVI_MOD_1.1.sz.mell.'!C9," eredeti előirányzat") -> 2020. évi eredeti előirányzat | D6: Összes módosítás | E6: Módosított előirányzat | F6: Megnevezés | G6: =+C6 -> 2020. évi eredeti előirányzat | H6: =+D6 -> Összes módosítás | I6: =+E6 -> Módosított előirányzat
A7: A | B7: B | C7: C | D7: D | E7: E | F7: F | G7: G | H7: H | I7: I
A8: 1. | B8: Önkormányzatok működési támogatásai | C8: 98604818 | D8: =E8-C8 -> 9686361 | E8: 108291179 | F8: Személyi juttatások | G8: 162344941 | H8: =I8-G8 -> 14282850 | I8: 176627791
A9: 2. | B9: Működési célú támogatások államháztartáson belülről | C9: 11262720 | D9: =E9-C9 -> 2096799 | E9: 13359519 | F9: Munkaadókat terhelő járulékok és szociális hozzájárulási adó | G9: 30620220 | H9: =I9-G9 -> 2805186 | I9: 33425406
A10: 3. | B10: 2.-ból EU-s támogatás | F10: Dologi kiadások | G10: 190873654 | H10: =I10-G10 -> -13525475 | I10: 177348179
A11: 4. | B11: Közhatalmi bevételek | C11: 221400000 | D11: =E11-C11 -> -8450000 | E11: 212950000 | F11: Ellátottak pénzbeli juttatásai | G11: 13040000 | H11: =I11-G11 -> 0 | I11: 13040000
A12: 5. | B12: Működési bevételek | C12: 54016468 | D12: =E12-C12 -> -3735364 | E12: 50281104 | F12: Egyéb működési célú kiadások | G12: 54243640 | H12: =I12-G12 -> 0 | I12: 54243640
A13: 6. | B13: Működési célú átvett pénzeszközök | F13: Tartalékok | G13: 10000000 | H13: =I13-G13 -> -9359151 | I13: 640849
A14: 7. | B14: 6.-ból EU-s támogatás (közvetlen)
A15: 8.
A16: 9.
A17: 10.
A18: 11.
A19: 12.
A20: 13. | B20: Költségvetési bevételek összesen (1.+2.+4.+5.+6.+8.+…+12.) | C20: =C8+C9+C11+C12+C13+C15+C16+C17+C18+C19 -> 385284006 | D20: =D8+D9+D11+D12+D13+D15+D16+D17+D18+D19 -> -402204 | E20: =E8+E9+E11+E12+E13+E15+E16+E17+E18+E19 -> 384881802 | F20: Költségvetési kiadások összesen (1.+...+12.) | G20: =SUM(G8:G19) -> 461122455 | H20: =SUM(H8:H19) -> -5796590 | I20: =SUM(I8:I19) -> 455325865
A21: 14. | B21: Hiány belső finanszírozásának bevételei (15.+…+18. ) | C21: =+C22+C23+C24+C25 -> 75838449 | D21: =+D22+D23+D24+D25 -> -1450193 | E21: =+E22+E23+E24+E25 -> 74388256 | F21: Értékpapír vásárlása, visszavásárlása
A22: 15. | B22: Költségvetési maradvány igénybevétele | C22: 6432184 | D22: =E22-C22 -> -1450193 | E22: 4981991 | F22: Likviditási célú hitelek törlesztése
A23: 16. | B23: Vállalkozási maradvány igénybevétele | F23: Rövid lejáratú hitelek törlesztése
A24: 17. | B24: Betét visszavonásából származó bevétel | F24: Hosszú lejáratú hitelek törlesztése
A25: 18. | B25: Értékpapír értékesítése | C25: 69406265 | D25: =E25-C25 -> 0 | E25: 69406265 | F25: Kölcsön törlesztése
A26: 19. | B26: Hiány külső finanszírozásának bevételei (20.+…+21.) | C26: =+C27+C28 -> 0 | D26: =+D27+D28 -> 0 | E26: =+E27+E28 -> 0 | F26: Forgatási célú belföldi, külföldi értékpapírok vásárlása
A27: 20. | B27: Likviditási célú hitelek, kölcsönök felvétele | F27: Pénzeszközök lekötött betétként elhelyezése
A28: 21. | B28: Egyéb | F28: Adóssághoz nem kapcsolódó származékos ügyletek
A29: 22. | B29: Váltóbevételek | F29: Váltókiadások
A30: 23. | B30: Adóssághoz nem kapcsolódó származékos ügyletek bevételei | F30: Államháztartáson belüli megelőlegezések visszafizetése | H30: =I30-G30 -> 3944193 | I30: 3944193
A31: 24. | B31: Működési célú finanszírozási bevételek összesen (14.+19.+22.+23.) | C31: =+C21+C26+C29+C30 -> 75838449 | D31: =+D21+D26+D29+D30 -> -1450193 | E31: =+E21+E26+E29+E30 -> 74388256 | F31: Működési célú finanszírozási kiadások összesen (14.+...+23.) | G31: =SUM(G21:G30) -> 0 | H31: =SUM(H21:H30) -> 3944193 | I31: =SUM(I21:I30) -> 3944193
A32: 25. | B32: BEVÉTEL ÖSSZESEN (13.+24.) | C32: =+C20+C31 -> 461122455 | D32: =+D20+D31 -> -1852397 | E32: =+E20+E31 -> 459270058 | F32: KIADÁSOK ÖSSZESEN (13.+24.) | G32: =+G20+G31 -> 461122455 | H32: =+H20+H31 -> -1852397 | I32: =+I20+I31 -> 459270058
A33: 26. | B33: Költségvetési hiány: | C33: =IF(C20-G20<0,G20-C20,"-") -> 75838449 | D33: =IF(D20-H20<0,H20-D20,"-") -> - | E33: =IF(E20-I20<0,I20-E20,"-") -> 70444063 | F33: Költségvetési többlet: | G33: =IF(C20-G20>0,C20-G20,"-") -> - | H33: =IF(D20-H20>0,D20-H20,"-") -> 5394386 | I33: =IF(E20-I20>0,E20-I20,"-") -> -
A34: 27. | B34: Bruttó hiány: | C34: =IF(C32-G32<0,G32-C32,"-") -> - | D34: =IF(D32-H32<0,H32-D32,"-") -> - | E34: =IF(E32-I32<0,I32-E32,"-") -> - | F34: Bruttó többlet: | G34: =IF(C32-G32>0,C32-G32,"-") -> - | H34: =IF(D32-H32>0,D32-H32,"-") -> - | I34: =IF(E32-I32>0,E32-I32,"-") -> -
I35: "

Sheet KVI_MOD_2.2.sz.mell
F1: 2.2. melléklet a / 2020 ( … ) önkormányzati rendelethez
F2: "2.2. melléklet a 2/2020 (II.17.) önkormányzati rendelethez
B3: II. Felhalmozási célú bevételek és kiadások mérlege (Önkormányzati szinten)
A5: Sor- szám | B5: Bevételek | F5: Kiadások
B6: Megnevezés | C6: =+CONCATENATE('KVI_MOD_1.1.sz.mell.'!C9," eredeti előirányzat") -> 2020. évi eredeti előirányzat | D6: Összes módosítás | E6: Módosított előirányzat | F6: Megnevezés | G6: =+C6 -> 2020. évi eredeti előirányzat | H6: =+D6 -> Összes módosítás | I6: =+E6 -> Módosított előirányzat
A7: A | B7: B | C7: C | D7: D | E7: E | F7: F | G7: G | H7: H | I7: I
A8: 1. | B8: Felhalmozási célú támogatások államháztartáson belülről | C8: 117478820 | D8: =E8-C8 -> 0 | E8: 117478820 | F8: Beruházások | G8: 174297550 | H8: =I8-G8 -> -127747466 | I8: 46550084
A9: 2. | B9: 1.-ből EU-s támogatás | C9: 117478820 | D9: =E9-C9 -> 0 | E9: 117478820 | F9: 1.-ből EU-s forrásból megvalósuló beruházás | G9: 101435180 | H9: =I9-G9 -> -87833480 | I9: 13601700
A10: 3. | B10: Felhalmozási bevételek | C10: 11000000 | D10: =E10-C10 -> 0 | E10: 11000000 | F10: Felújítások | G10: 17390675 | H10: =I10-G10 -> 131017467 | I10: 148408142
A11: 4. | B11: Felhalmozási célú átvett pénzeszközök átvétele | C11: 2580040 | D11: =E11-C11 -> 0 | E11: 2580040 | F11: 3.-ból EU-s forrásból megvalósuló felújítás | H11: =I11-G11 -> 87833480 | I11: 87833480
A12: 5. | B12: 4.-ből EU-s támogatás (közvetlen) | F12: Egyéb felhalmozási kiadások | G12: 3980791 | H12: =I12-G12 -> 0 | I12: 3980791
A13: 6. | B13: Egyéb felhalmozási célú bevételek
A14: 7.
A15: 8.
A16: 9.
A17: 10.
A18: 11. | F18: Tartalékok
A19: 12. | B19: Költségvetési bevételek összesen: (1.+3.+4.+6.+…+11.) | C19: =+C8+C10+C11+C13+C14+C15+C16+C17+C18 -> 131058860 | D19: =+D8+D10+D11+D13+D14+D15+D16+D17+D18 -> 0 | E19: =+E8+E10+E11+E13+E14+E15+E16+E17+E18 -> 131058860 | F19: Költségvetési kiadások összesen: (1.+3.+5.+...+11.) | G19: =+G8+G10+G12+G13+G14+G15+G16+G17+G18 -> 195669016 | H19: =+H8+H10+H12+H13+H14+H15+H16+H17+H18 -> 3270001 | I19: =+I8+I10+I12+I13+I14+I15+I16+I17+I18 -> 198939017
A20: 13. | B20: Hiány belső finanszírozás bevételei ( 14+…+18) | C20: =+C21+C22+C23+C24+C25 -> 64610156 | D20: =+D21+D22+D23+D24+D25 -> 3270001 | E20: =+E21+E22+E23+E24+E25 -> 67880157 | F20: Értékpapír vásárlása, visszavásárlása
A21: 14. | B21: Költségvetési maradvány igénybevétele | C21: 64610156 | D21: =E21-C21 -> 3270001 | E21: 67880157 | F21: Hitelek törlesztése
A22: 15. | B22: Vállalkozási maradvány igénybevétele | F22: Rövid lejáratú hitelek törlesztése
A23: 16. | B23: Betét visszavonásából származó bevétel | F23: Hosszú lejáratú hitelek törlesztése
A24: 17. | B24: Értékpapír értékesítése | F24: Kölcsön törlesztése
A25: 18. | B25: Egyéb belső finanszírozási bevételek | F25: Befektetési célú belföldi, külföldi értékpapírok vásárlása
A26: 19. | B26: Hiány külső finanszírozásának bevételei (20+…+24 ) | C26: =+C27+C28+C29+C30+C31 -> 0 | D26: =+D27+D28+D29+D30+D31 -> 0 | E26: =+E27+E28+E29+E30+E31 -> 0 | F26: Betét elhelyezése
A27: 20. | B27: Hosszú lejáratú hitelek, kölcsönök felvétele | F27: Pénzügyi lízing kiadásai
A28: 21. | B28: Likviditási célú hitelek, kölcsönök felvétele
A29: 22. | B29: Rövid lejáratú hitelek, kölcsönök felvétele
A30: 23. | B30: Értékpapírok kibocsátása
A31: 24. | B31: Egyéb külső finanszírozási bevételek
A32: 25. | B32: Felhalmozási célú finanszírozási bevételek összesen (13.+19.) | C32: =+C20+C26 -> 64610156 | D32: =+D20+D26 -> 3270001 | E32: =+E20+E26 -> 67880157 | F32: Felhalmozási célú finanszírozási kiadások összesen (13.+...+24.) | G32: =SUM(G20:G31) -> 0 | H32: =SUM(H20:H31) -> 0 | I32: =SUM(I20:I31) -> 0
A33: 26. | B33: BEVÉTEL ÖSSZESEN (12+25) | C33: =+C19+C32 -> 195669016 | D33: =+D19+D32 -> 3270001 | E33: =+E19+E32 -> 198939017 | F33: KIADÁSOK ÖSSZESEN (12+25) | G33: =+G19+G32 -> 195669016 | H33: =+H19+H32 -> 3270001 | I33: =+I19+I32 -> 198939017
A34: 27. | B34: Költségvetési hiány: | C34: =IF(C19-G19<0,G19-C19,"-") -> 64610156 | D34: =IF(D19-H19<0,H19-D19,"-") -> 3270001 | E34: =IF(E19-I19<0,I19-E19,"-") -> 67880157 | F34: Költségvetési többlet: | G34: =IF(C19-G19>0,C19-G19,"-") -> - | H34: =IF(D19-H19>0,D19-H19,"-") -> - | I34: =IF(E19-I19>0,E19-I19,"-") -> -
A35: 28. | B35: Bruttó hiány: | C35: =IF(C33-G33<0,G33-C33,"-") -> - | D35: =IF(D33-H33<0,H33-D33,"-") -> - | E35: =IF(E33-I33<0,I33-E33,"-") -> - | F35: Bruttó többlet: | G35: =IF(C33-G33>0,C33-G33,"-") -> - | H35: =IF(D33-H33>0,D33-H33,"-") -> - | I35: =IF(E33-I33>0,E33-I33,"-") -> -
I36: "

Sheet KVI_MOD_3.sz.mell..
D1: 3. melléklet a / 2020 ( … ) önkormányzati rendelethez
D2: "6. melléklet a 2/2020 (II.17.) önkormányzati rendelethez
A4: Beruházási (felhalmozási) kiadások előirányzata beruházásonként
G5: ='KVI_MOD_2.2.sz.mell'!I4 -> 0
A6: Beruházás megnevezése | B6: Teljes költség | C6: Kivitelezés kezdési és befejezési éve | D6: =+CONCATENATE("Felhasználás ",LEFT(KVI_MOD_ALAPADATOK!D1,4)-1,". XII. 31-ig") -> Felhasználás 2019. XII. 31-ig | E6: =CONCATENATE(KVI_MOD_ALAPADATOK!D1,". évi eredeti előirányzat") -> 2020. évi eredeti előirányzat | F6: Összes módosítás 2020. …..ig | G6: Módosított előirányzat 2020. ….-án
A7: A | B7: B | C7: C | D7: D | E7: E | F7: F | G7: G=(E+F)
A8: TOP 1.4.1-15-BO1-2016-00080. Óvoda és Konyha korszer | B8: 111971908 | C8: 2017-2020 | D8: 103462708 | E8: 8509200 | F8: =B8-D8-E8 -> 0 | G8: =E8+F8 -> 8509200
A9: TOP 1.4.1-16 BO1-2017-00018. Sajószögedi Zöld Sziget B | B9: 104613317 | C9: 2019-2020 | D9: 90914259 | E9: 13699058 | F9: =B9-D9-E9 -> 0 | G9: =E9+F9 -> 13699058
A10: TOP 3.2.1-16-BO1-2017-00055 Iskola energetikai korszerűsítése | B10: 87833480 | C10: 2020-2020 | E10: 87833480 | F10: =-E10 -> -87833480 | G10: =E10+F10 -> 0
A11: térfigyelő kamerarendszer beüzemelése | B11: 3942212 | C11: 2014-2020 | D11: 2635463 | E11: 1306749 | F11: -300 | G11: =E11+F11 -> 1306449
A12: Okos zebra | B12: 2433981 | C12: 2020-2020 | E12: 2433981 | F12: 1 | G12: =E12+F12 -> 2433982
A13: Bölcsőde kerítés | B13: 2000250 | C13: 2020-2020 | E13: 2000250 | F13: =B13-D13-E13 -> 0 | G13: =E13+F13 -> 2000250
A14: Bölcsőde udvar | B14: 654050 | C14: 2020-2020 | E14: 654050 | F14: =B14-D14-E14 -> 0 | G14: =E14+F14 -> 654050
A15: Vasút út felújítása | B15: 35907370 | C15: 2020-2020 | E15: 35907370 | F15: =-E15 -> -35907370 | G15: =E15+F15 -> 0
A16: Óvoda udvar | B16: 4999997 | C16: 2020-2020 | E16: 4999997 | F16: =B16-D16-E16 -> 0 | G16: =E16+F16 -> 4999997
A17: Iskola előtti út felújítása | B17: 6826617 | C17: 2020-2020 | E17: 6826617 | F17: =-E17 -> -6826617 | G17: =E17+F17 -> 0
A18: ÁMK -eszközbeszerzések | B18: 2970149 | C18: 2020-2020 | E18: 2970149 | F18: =B18-D18-E18 -> 0 | G18: =E18+F18 -> 2970149
A19: ÖNK-eszközbeszerzések | B19: 1867550 | C19: 2020-2020 | E19: 1867550 | F19: -449700 | G19: =E19+F19 -> 1417850
A20: PH - eszközbeszerzések | B20: 5289099 | C20: 2020-2020 | E20: 5289099 | F20: =B20-D20-E20 -> 0 | G20: =E20+F20 -> 5289099
A21: Bölcsőde - eszközbeszerzés | B21: 1270000 | C21: 2020-2020 | F21: =B21-D21-E21 -> 1270000 | G21: =E21+F21 -> 1270000
A22: Új játszótéri elemek | B22: 2000000 | C22: 2020-2020 | F22: 2000000 | G22: =E22+F22 -> 2000000
G23: =E23+F23 -> 0
G24: =E24+F24 -> 0
G25: =E25+F25 -> 0
A26: ÖSSZESEN: | B26: =SUM(B8:B25) -> 374579980 | D26: =SUM(D8:D25) -> 197012430 | F26: =SUM(F8:F25) -> -127747466 | G26: =SUM(G8:G25) -> 46550084
G27: "

Sheet KVI_MOD_4.sz.mell.
D1: 4. melléklet a / 2020 ( … ) önkormányzati rendelethez
D2: "7. melléklet a 2/2020 (II.17.) önkormányzati rendelethez
A4: Felújítási kiadások előirányzata felújításonként
G5: ='KVI_MOD_3.sz.mell..'!G5 -> 0
A6: Felújítás megnevezése | B6: Teljes költség | C6: Kivitelezés kezdési és befejezési éve | D6: =+'KVI_MOD_3.sz.mell..'!D6 -> Felhasználás 2019. XII. 31-ig | E6: ='KVI_MOD_3.sz.mell..'!E6 -> 2020. évi eredeti előirányzat | F6: ='KVI_MOD_3.sz.mell..'!F6 -> Összes módosítás 2020. …..ig | G6: ='KVI_MOD_3.sz.mell..'!G6 -> Módosított előirányzat 2020. ….-án
A7: A | B7: B | C7: C | D7: D | E7: E | F7: F | G7: G=(E+F)
A8: ÉRV szennyvíz, ívóvíz rendszer felújítása | B8: 17390675 | C8: 2020-2020 | E8: 17390675 | G8: =E8+F8 -> 17390675
A9: TOP 3.2.1-16-BO1-2017-00055 Iskola energetikai korszerűsítése | B9: 87833480 | C9: 2020-2020 | E9: 0 | F9: 87833480 | G9: =E9+F9 -> 87833480
A10: Vasút út felújítása | B10: 35907370 | C10: 2020-2020 | F10: 35907370 | G10: =E10+F10 -> 35907370
A11: Iskola előtti út felújítása | B11: 7276618 | C11: 2020-2020 | E11: -1 | F11: 7276618 | G11: =E11+F11 -> 7276617
G12: =E12+F12 -> 0
G13: =E13+F13 -> 0
G14: =E14+F14 -> 0
G15: =E15+F15 -> 0
G16: =E16+F16 -> 0
G17: =E17+F17 -> 0
G18: =E18+F18 -> 0
G19: =E19+F19 -> 0
G20: =E20+F20 -> 0
G21: =E21+F21 -> 0
A22: ÖSSZESEN: | B22: =SUM(B8:B21) -> 148408143 | D22: =SUM(D8:D21) -> 0 | F22: =SUM(F8:F21) -> 131017468 | G22: =SUM(G8:G21) -> 148408142
G23: "

Sheet KVI_MOD_5.1.sz.mell
B1: 5.1. melléklet a .../2020 (....) önkormányzati rendelethez
B2: "9.1. melléklet a 2/2020 (II.17.) önkormányzati rendelethez
A3: Megnevezés | B3: =CONCATENATE(KVI_MOD_ALAPADATOK!A3) -> Sajószöged Községi Önkormányzat | E3: 01
A4: Feladat megnevezése | B4: Összes bevétel, kiadás | E4: 01
A6: Száma | B6: Kiemelt előirányzat, előirányzat megnevezése | C6: Eredeti előirányzat | D6: Összes módosítás | E6: Módosított előirányzat
A7: A | B7: B | C7: C | D7: D | E7: E
A8: Bevételek
A9: 1. | B9: Önkormányzat működési támogatásai (1.1.+…+.1.6.) | C9: =+C10+C11+C12+C13+C14+C15 -> 98604818 | D9: =+D10+D11+D12+D13+D14+D15 -> 9686361 | E9: =+E10+E11+E12+E13+E14+E15 -> 108291179
A10: 1.1. | B10: Helyi önkormányzatok működésének általános támogatása | C10: 23631621 | D10: =E10-C10 -> 6009672 | E10: 29641293
A11: 1.2. | B11: Önkormányzatok egyes köznevelési feladatainak támogatása | C11: 48695600 | D11: =E11-C11 -> 0 | E11: 48695600
A12: 1.3. | B12: Önkormányzatok szociális és gyermekjóléti feladatainak támogatása | C12: 23410305 | D12: =E12-C12 -> 1524913 | E12: 24935218
A13: 1.4. | B13: Önkormányzatok kulturális feladatainak támogatása | C13: 2867292 | D13: =E13-C13 -> 483151 | E13: 3350443
A14: 1.5. | B14: Működési célú kvi támogatások és kiegészítő támogatások | D14: =E14-C14 -> 0
A15: 1.6. | B15: Elszámolásból származó bevételek | D15: =E15-C15 -> 1668625 | E15: 1668625
A16: 2. | B16: Működési célú támogatások államháztartáson belülről (2.1.+…+.2.5.) | C16: =+C17+C18+C19+C20+C21 -> 11262720 | D16: =+D17+D18+D19+D20+D21 -> 2096799 | E16: =+E17+E18+E19+E20+E21 -> 13359519
A17: 2.1. | B17: Elvonások és befizetések bevételei
A18: 2.2. | B18: Működési célú garancia- és kezességvállalásból megtérülések
A19: 2.3. | B19: Működési célú visszatérítendő támogatások, kölcsönök visszatérülése
A20: 2.4. | B20: Működési célú visszatérítendő támogatások, kölcsönök igénybevétele
A21: 2.5. | B21: Egyéb működési célú támogatások bevételei | C21: 11262720 | D21: =E21-C21 -> 2096799 | E21: 13359519
A22: 2.6. | B22: 2.5.-ből EU-s támogatás | D22: =E22-C22 -> 0
A23: 3. | B23: Felhalmozási célú támogatások államháztartáson belülről (3.1.+…+3.5.) | C23: =+C24+C25+C26+C27+C28 -> 117478820 | D23: =+D24+D25+D26+D27+D28 -> 0 | E23: =+E24+E25+E26+E27+E28 -> 117478820
A24: 3.1. | B24: Felhalmozási célú önkormányzati támogatások
A25: 3.2. | B25: Felhalmozási célú garancia- és kezességvállalásból megtérülések
A26: 3.3. | B26: Felhalmozási célú visszatérítendő támogatások, kölcsönök visszatérülése
A27: 3.4. | B27: Felhalmozási célú visszatérítendő támogatások, kölcsönök igénybevétele
A28: 3.5. | B28: Egyéb felhalmozási célú támogatások bevételei | C28: 117478820 | D28: =E28-C28 -> 0 | E28: 117478820
A29: 3.6. | B29: 3.5.-ből EU-s támogatás | C29: 117478820 | D29: =E29-C29 -> 0 | E29: 117478820
A30: 4. | B30: Közhatalmi bevételek (4.1.+…+4.7.) | C30: =SUM(C31:C37) -> 221350000 | D30: =SUM(D31:D37) -> -8450000 | E30: =SUM(E31:E37) -> 212900000
A31: 4.1. | B31: ='KVI_MOD_1.1.sz.mell.'!B34 -> Építményadó | C31: 3100000 | D31: =E31-C31 -> 0 | E31: 3100000
A32: 4.2. | B32: ='KVI_MOD_1.1.sz.mell.'!B35 -> Idegenforgalmi adó | D32: =E32-C32 -> 0
A33: 4.3. | B33: ='KVI_MOD_1.1.sz.mell.'!B36 -> Iparűzési adó | C33: 110000000 | D33: =E33-C33 -> 0 | E33: 110000000
A34: 4.4. | B34: ='KVI_MOD_1.1.sz.mell.'!B37 -> Talajterhelési díj | C34: 200000 | D34: =E34-C34 -> 150000 | E34: 350000
A35: 4.5. | B35: ='KVI_MOD_1.1.sz.mell.'!B38 -> Gépjárműadó | C35: 8800000 | D35: =E35-C35 -> -8800000 | E35: 0
A36: 4.6. | B36: ='KVI_MOD_1.1.sz.mell.'!B39 -> Telekadó | C36: 99000000 | D36: =E36-C36 -> 0 | E36: 99000000
A37: 4.7. | B37: Egyéb közhatalmi bevételek | C37: 250000 | D37: =E37-C37 -> 200000 | E37: 450000
A38: 5. | B38: Működési bevételek (5.1.+…+ 5.11.) | C38: =SUM(C39:C49) -> 39976090 | D38: =SUM(D39:D49) -> -4182404 | E38: =SUM(E39:E49) -> 35793686
A39: 5.1. | B39: Készletértékesítés ellenértéke | D39: =E39-C39 -> 0
A40: 5.2. | B40: Szolgáltatások ellenértéke | C40: 2028000 | D40: =E40-C40 -> 0 | E40: 2028000
A41: 5.3. | B41: Közvetített szolgáltatások értéke | C41: 1850000 | D41: =E41-C41 -> 0 | E41: 1850000
...

Sheet KVI_MOD_5.1.1.sz.mell
B1: 5.1.1. melléklet a .../2020 (....) önkormányzati rendelethez
B2: "9.1.1. melléklet a 2/2020 (II.17.) önkormányzati rendelethez
A3: Megnevezés | B3: =CONCATENATE(KVI_MOD_ALAPADATOK!A3) -> Sajószöged Községi Önkormányzat | E3: 01
A4: Feladat megnevezése | B4: Kötelező feladatok bevételei, kiadásai | E4: 02
A6: Száma | B6: Kiemelt előirányzat, előirányzat megnevezése | C6: Eredeti előirányzat | D6: Összes módosítás | E6: Módosított előirányzat
A7: A | B7: B | C7: C | D7: D | E7: E
A8: Bevételek
A9: 1. | B9: Önkormányzat működési támogatásai (1.1.+…+.1.6.) | C9: =+C10+C11+C12+C13+C14+C15 -> 98604818 | D9: =+D10+D11+D12+D13+D14+D15 -> 9686361 | E9: =+E10+E11+E12+E13+E14+E15 -> 108291179
A10: 1.1. | B10: Helyi önkormányzatok működésének általános támogatása | C10: 23631621 | D10: =E10-C10 -> 6009672 | E10: 29641293
A11: 1.2. | B11: Önkormányzatok egyes köznevelési feladatainak támogatása | C11: 48695600 | D11: =E11-C11 -> 0 | E11: 48695600
A12: 1.3. | B12: Önkormányzatok szociális és gyermekjóléti feladatainak támogatása | C12: 23410305 | D12: =E12-C12 -> 1524913 | E12: 24935218
A13: 1.4. | B13: Önkormányzatok kulturális feladatainak támogatása | C13: 2867292 | D13: =E13-C13 -> 483151 | E13: 3350443
A14: 1.5. | B14: Működési célú kvi támogatások és kiegészítő támogatások | D14: =E14-C14 -> 0
A15: 1.6. | B15: Elszámolásból származó bevételek | D15: =E15-C15 -> 1668625 | E15: 1668625
A16: 2. | B16: Működési célú támogatások államháztartáson belülről (2.1.+…+.2.5.) | C16: =+C17+C18+C19+C20+C21 -> 11262720 | D16: =+D17+D18+D19+D20+D21 -> 2096799 | E16: =+E17+E18+E19+E20+E21 -> 13359519
A17: 2.1. | B17: Elvonások és befizetések bevételei
A18: 2.2. | B18: Működési célú garancia- és kezességvállalásból megtérülések
A19: 2.3. | B19: Működési célú visszatérítendő támogatások, kölcsönök visszatérülése
A20: 2.4. | B20: Működési célú visszatérítendő támogatások, kölcsönök igénybevétele
A21: 2.5. | B21: Egyéb működési célú támogatások bevételei | C21: 11262720 | D21: =E21-C21 -> 2096799 | E21: 13359519
A22: 2.6. | B22: 2.5.-ből EU-s támogatás | D22: =E22-C22 -> 0
A23: 3. | B23: Felhalmozási célú támogatások államháztartáson belülről (3.1.+…+3.5.) | C23: =+C24+C25+C26+C27+C28 -> 117478820 | D23: =+D24+D25+D26+D27+D28 -> 0 | E23: =+E24+E25+E26+E27+E28 -> 117478820
A24: 3.1. | B24: Felhalmozási célú önkormányzati támogatások
A25: 3.2. | B25: Felhalmozási célú garancia- és kezességvállalásból megtérülések
A26: 3.3. | B26: Felhalmozási célú visszatérítendő támogatások, kölcsönök visszatérülése
A27: 3.4. | B27: Felhalmozási célú visszatérítendő támogatások, kölcsönök igénybevétele
A28: 3.5. | B28: Egyéb felhalmozási célú támogatások bevételei | C28: 117478820 | D28: =E28-C28 -> 0 | E28: 117478820
A29: 3.6. | B29: 3.5.-ből EU-s támogatás | C29: 117478820 | D29: =E29-C29 -> 0 | E29: 117478820
A30: 4. | B30: Közhatalmi bevételek (4.1.+…+4.7.) | C30: =SUM(C31:C37) -> 221350000 | D30: =SUM(D31:D37) -> -8450000 | E30: =SUM(E31:E37) -> 212900000
A31: 4.1. | B31: ='KVI_MOD_1.1.sz.mell.'!B34 -> Építményadó | C31: 3100000 | D31: =E31-C31 -> 0 | E31: 3100000
A32: 4.2. | B32: ='KVI_MOD_1.1.sz.mell.'!B35 -> Idegenforgalmi adó | D32: =E32-C32 -> 0
A33: 4.3. | B33: ='KVI_MOD_1.1.sz.mell.'!B36 -> Iparűzési adó | C33: 110000000 | D33: =E33-C33 -> 0 | E33: 110000000
A34: 4.4. | B34: ='KVI_MOD_1.1.sz.mell.'!B37 -> Talajterhelési díj | C34: 200000 | D34: =E34-C34 -> 150000 | E34: 350000
A35: 4.5. | B35: ='KVI_MOD_1.1.sz.mell.'!B38 -> Gépjárműadó | C35: 8800000 | D35: =E35-C35 -> -8800000 | E35: 0
A36: 4.6. | B36: ='KVI_MOD_1.1.sz.mell.'!B39 -> Telekadó | C36: 99000000 | D36: =E36-C36 -> 0 | E36: 99000000
A37: 4.7. | B37: Egyéb közhatalmi bevételek | C37: 250000 | D37: =E37-C37 -> 200000 | E37: 450000
A38: 5. | B38: Működési bevételek (5.1.+…+ 5.11.) | C38: =SUM(C39:C49) -> 39976090 | D38: =SUM(D39:D49) -> -4182404 | E38: =SUM(E39:E49) -> 35793686
A39: 5.1. | B39: Készletértékesítés ellenértéke | D39: =E39-C39 -> 0
A40: 5.2. | B40: Szolgáltatások ellenértéke | C40: 2028000 | D40: =E40-C40 -> 0 | E40: 2028000
A41: 5.3. | B41: Közvetített szolgáltatások értéke | C41: 1850000 | D41: =E41-C41 -> 0 | E41: 1850000
...

Sheet KVI_MOD_5.2.sz.mell
B1: 5.2. melléklet a .../2020 (....) önkormányzati rendelethez
B2: "9.2. melléklet a 2/2020 (II.17.) önkormányzati rendelethez
A3: Költségvetési szerv | B3: =KVI_MOD_ALAPADATOK!A12 -> Sajószögedi Polgármesteri Hivatal | E3: 02
A4: Feladat megnevezése | B4: Összes bevétel, kiadás | E4: 01
A6: Száma | B6: Kiemelt előirányzat, előirányzat megnevezése | C6: Eredeti előirányzat | D6: Összes módosítás | E6: Módosított előirányzat
A7: A | B7: B | C7: C | D7: D | E7: E
A8: Bevételek
A9: 1. | B9: Működési bevételek (1.1.+…+1.11.) | C9: =SUM(C10:C20) -> 0 | D9: =SUM(D10:D20) -> 0 | E9: =SUM(E10:E20) -> 0
A10: 1.1. | B10: Készletértékesítés ellenértéke
A11: 1.2. | B11: Szolgáltatások ellenértéke
A12: 1.3. | B12: Közvetített szolgáltatások értéke
A13: 1.4. | B13: Tulajdonosi bevételek
A14: 1.5. | B14: Ellátási díjak
A15: 1.6. | B15: Kiszámlázott általános forgalmi adó
A16: 1.7. | B16: Általános forgalmi adó visszatérülése
A17: 1.8. | B17: Kamatbevételek
A18: 1.9. | B18: Egyéb pénzügyi műveletek bevételei
A19: 1.10. | B19: Biztosító által fizetett kártérítés
A20: 1.11. | B20: Egyéb működési bevételek
A21: 2. | B21: Működési célú támogatások államháztartáson belülről (2.1.+…+2.3.) | C21: =SUM(C22:C24) -> 0 | D21: =SUM(D22:D24) -> 0 | E21: =SUM(E22:E24) -> 0
A22: 2.1. | B22: Elvonások és befizetések bevételei
A23: 2.2. | B23: Visszatérítendő támogatások, kölcsönök visszatérülése ÁH-n belülről
A24: 2.3. | B24: Egyéb működési célú támogatások bevételei államháztartáson belülről
A25: 2.4. | B25: 2.3-ból EU támogatás
A26: 3. | B26: Közhatalmi bevételek | C26: 50000 | E26: 50000
A27: 4. | B27: Felhalmozási célú támogatások államháztartáson belülről (4.1.+…+4.3.) | C27: =+C28+C29+C30 -> 0 | D27: =+D28+D29+D30 -> 0 | E27: =+E28+E29+E30 -> 0
A28: 4.1. | B28: Felhalmozási célú önkormányzati támogatások
A29: 4.2. | B29: Visszatérítendő támogatások, kölcsönök visszatérülése ÁH-n belülről
A30: 4.3. | B30: Egyéb felhalmozási célú támogatások bevételei államháztartáson belülről
A31: 4.4. | B31: 4.3.-ból EU-s támogatás
A32: 5. | B32: Felhalmozási bevételek (5.1.+…+5.3.) | C32: =+C33+C34+C35 -> 0 | D32: =+D33+D34+D35 -> 0 | E32: =+E33+E34+E35 -> 0
A33: 5.1. | B33: Immateriális javak értékesítése
A34: 5.2. | B34: Ingatlanok értékesítése
A35: 5.3. | B35: Egyéb tárgyi eszközök értékesítése
A36: 6. | B36: Működési célú átvett pénzeszközök
A37: 7. | B37: Felhalmozási célú átvett pénzeszközök
A38: 8. | B38: Költségvetési bevételek összesen (1.+…+7.) | C38: =+C9+C21+C26+C27+C32+C36+C37 -> 50000 | D38: =+D9+D21+D26+D27+D32+D36+D37 -> 0 | E38: =+E9+E21+E26+E27+E32+E36+E37 -> 50000
A39: 9. | B39: Finanszírozási bevételek (9.1.+…+9.3.) | C39: =+C40+C41+C42 -> 83879325 | D39: =+D40+D41+D42 -> 0 | E39: =+E40+E41+E42 -> 83879325
A40: 9.1. | B40: Költségvetési maradvány igénybevétele | C40: 454814 | D40: =E40-C40 -> 71290 | E40: 526104
A41: 9.2. | B41: Vállalkozási maradvány igénybevétele
...

Sheet KVI_MOD_5.2.1.sz.mell
B1: 5.2.1. melléklet a .../2020 (....) önkormányzati rendelethez
B2: "9.2.1. melléklet a 2/2020 (II.17.) önkormányzati rendelethez
A3: Költségvetési szerv | B3: =CONCATENATE('KVI_MOD_5.2.sz.mell'!B3:D3) -> Sajószögedi Polgármesteri Hivatal | E3: 02
A4: Feladat megnevezése | B4: Kötelező feladatok bevételei, kiadásai | E4: 02
E5: ='KVI_MOD_5.2.sz.mell'!E5 -> 0
A6: Száma | B6: Kiemelt előirányzat, előirányzat megnevezése | C6: Eredeti előirányzat | D6: Összes módosítás | E6: Módosított előirányzat
A7: A | B7: B | C7: C | D7: D | E7: E
A8: Bevételek
A9: 1. | B9: Működési bevételek (1.1.+…+1.11.) | C9: =SUM(C10:C20) -> 0 | D9: =SUM(D10:D20) -> 0 | E9: =SUM(E10:E20) -> 0
A10: 1.1. | B10: Készletértékesítés ellenértéke
A11: 1.2. | B11: Szolgáltatások ellenértéke
A12: 1.3. | B12: Közvetített szolgáltatások értéke
A13: 1.4. | B13: Tulajdonosi bevételek
A14: 1.5. | B14: Ellátási díjak
A15: 1.6. | B15: Kiszámlázott általános forgalmi adó
A16: 1.7. | B16: Általános forgalmi adó visszatérülése
A17: 1.8. | B17: Kamatbevételek
A18: 1.9. | B18: Egyéb pénzügyi műveletek bevételei
A19: 1.10. | B19: Biztosító által fizetett kártérítés
A20: 1.11. | B20: Egyéb működési bevételek
A21: 2. | B21: Működési célú támogatások államháztartáson belülről (2.1.+…+2.3.) | C21: =SUM(C22:C24) -> 0 | D21: =SUM(D22:D24) -> 0 | E21: =SUM(E22:E24) -> 0
A22: 2.1. | B22: Elvonások és befizetések bevételei
A23: 2.2. | B23: Visszatérítendő támogatások, kölcsönök visszatérülése ÁH-n belülről
A24: 2.3. | B24: Egyéb működési célú támogatások bevételei államháztartáson belülről
A25: 2.4. | B25: 2.3-ból EU támogatás
A26: 3. | B26: Közhatalmi bevételek | C26: 50000 | E26: 50000
A27: 4. | B27: Felhalmozási célú támogatások államháztartáson belülről (4.1.+…+4.3.) | C27: =+C28+C29+C30 -> 0 | D27: =+D28+D29+D30 -> 0 | E27: =+E28+E29+E30 -> 0
A28: 4.1. | B28: Felhalmozási célú önkormányzati támogatások
A29: 4.2. | B29: Visszatérítendő támogatások, kölcsönök visszatérülése ÁH-n belülről
A30: 4.3. | B30: Egyéb felhalmozási célú támogatások bevételei államháztartáson belülről
A31: 4.4. | B31: 4.3.-ból EU-s támogatás
A32: 5. | B32: Felhalmozási bevételek (5.1.+…+5.3.) | C32: =+C33+C34+C35 -> 0 | D32: =+D33+D34+D35 -> 0 | E32: =+E33+E34+E35 -> 0
A33: 5.1. | B33: Immateriális javak értékesítése
A34: 5.2. | B34: Ingatlanok értékesítése
A35: 5.3. | B35: Egyéb tárgyi eszközök értékesítése
A36: 6. | B36: Működési célú átvett pénzeszközök
A37: 7. | B37: Felhalmozási célú átvett pénzeszközök
A38: 8. | B38: Költségvetési bevételek összesen (1.+…+7.) | C38: =+C9+C21+C26+C27+C32+C36+C37 -> 50000 | D38: =+D9+D21+D26+D27+D32+D36+D37 -> 0 | E38: =+E9+E21+E26+E27+E32+E36+E37 -> 50000
A39: 9. | B39: Finanszírozási bevételek (9.1.+…+9.3.) | C39: =+C40+C41+C42 -> 83879325 | D39: =+D40+D41+D42 -> 0 | E39: =+E40+E41+E42 -> 83879325
A40: 9.1. | B40: Költségvetési maradvány igénybevétele | C40: 454814 | D40: =E40-C40 -> 71290 | E40: 526104
...

Sheet KVI_MOD_5.3.sz.mell
B1: 5.3. melléklet a .../2020 (....) önkormányzati rendelethez
B2: "9.3. melléklet a 2/2020 (II.17.) önkormányzati rendelethez
A3: Költségvetési szerv | B3: =CONCATENATE(KVI_MOD_ALAPADATOK!B14) -> Sajószögedi Általános Művelődési Központ - Család és Gyermekjóléti Szolgálat - Konyha - Művelődési Ház és Könyvtár | E3: 03
A4: Feladat megnevezése | B4: Összes bevétel, kiadás | E4: 01
A6: Száma | B6: Kiemelt előirányzat, előirányzat megnevezése | C6: Eredeti előirányzat | D6: Összes módosítás | E6: Módosított előirányzat
A7: A | B7: B | C7: C | D7: D | E7: E
A8: Bevételek
A9: 1. | B9: Működési bevételek (1.1.+…+1.11.) | C9: =SUM(C10:C20) -> 14040378 | D9: =SUM(D10:D20) -> 447040 | E9: =SUM(E10:E20) -> 14487418
A10: 1.1. | B10: Készletértékesítés ellenértéke
A11: 1.2. | B11: Szolgáltatások ellenértéke | C11: 10240000 | D11: =E11-C11 -> 0 | E11: 10240000
A12: 1.3. | B12: Közvetített szolgáltatások értéke
A13: 1.4. | B13: Tulajdonosi bevételek
A14: 1.5. | B14: Ellátási díjak | C14: 942975 | D14: =E14-C14 -> 352000 | E14: 1294975
A15: 1.6. | B15: Kiszámlázott általános forgalmi adó | C15: 2857403 | D15: =E15-C15 -> 95040 | E15: 2952443
A16: 1.7. | B16: Általános forgalmi adó visszatérülése
A17: 1.8. | B17: Kamatbevételek
A18: 1.9. | B18: Egyéb pénzügyi műveletek bevételei
A19: 1.10. | B19: Biztosító által fizetett kártérítés
A20: 1.11. | B20: Egyéb működési bevételek
A21: 2. | B21: Működési célú támogatások államháztartáson belülről (2.1.+…+2.3.) | C21: =SUM(C22:C24) -> 0 | D21: =SUM(D22:D24) -> 0 | E21: =SUM(E22:E24) -> 0
A22: 2.1. | B22: Elvonások és befizetések bevételei
A23: 2.2. | B23: Visszatérítendő támogatások, kölcsönök visszatérülése ÁH-n belülről
A24: 2.3. | B24: Egyéb működési célú támogatások bevételei államháztartáson belülről
A25: 2.4. | B25: 2.3.-ból EU támogatás
A26: 3. | B26: Közhatalmi bevételek
A27: 4. | B27: Felhalmozási célú támogatások államháztartáson belülről (4.1.+4.2.) | C27: =+C28+C29 -> 0 | D27: =+D28+D29 -> 0 | E27: =+E28+E29 -> 0
A28: 4.1. | B28: Visszatérítendő támogatások, kölcsönök visszatérülése ÁH-n belülről
A29: 4.2. | B29: Egyéb felhalmozási célú támogatások bevételei államháztartáson belülről
A30: 4.3. | B30: 4.2.-ből EU-s támogatás
A31: 5. | B31: Felhalmozási bevételek (5.1.+…+5.3.) | C31: =+C32+C33+C34 -> 0 | D31: =+D32+D33+D34 -> 0 | E31: =+E32+E33+E34 -> 0
A32: 5.1. | B32: Immateriális javak értékesítése
A33: 5.2. | B33: Ingatlanok értékesítése
A34: 5.3. | B34: Egyéb tárgyi eszközök értékesítése
A35: 6. | B35: Működési célú átvett pénzeszközök
A36: 7. | B36: Felhalmozási célú átvett pénzeszközök
A37: 8. | B37: KÖLTSÉGVETÉSI BEVÉTELEK ÖSSZESEN (1.+…+7.) | C37: =+C9+C21+C26+C27+C31+C35+C36 -> 14040378 | D37: =+D9+D21+D26+D27+D31+D35+D36 -> 447040 | E37: =+E9+E21+E26+E27+E31+E35+E36 -> 14487418
A38: 9. | B38: Finanszírozási bevételek (9.1.+…+9.3.) | C38: =+C39+C40+C41 -> 129984086 | D38: =+D39+D40+D41 -> -5007260 | E38: =+E39+E40+E41 -> 124976826
A39: 9.1. | B39: Költségvetési maradvány igénybevétele | C39: 1320700 | D39: =E39-C39 -> -16877 | E39: 1303823
A40: 9.2. | B40: Vállalkozási maradvány igénybevétele | D40: =E40-C40 -> 0
A41: 9.3. | B41: Irányító szervi (önkormányzati) támogatás (intézményfinanszírozás) | C41: 128663386 | D41: =E41-C41 -> -4990383 | E41: 123673003
...

Sheet KVI_MOD_5.3.1.sz.mell
B1: 5.3.1. melléklet a .../2020 (....) önkormányzati rendelethez
B2: "9.3.1. melléklet a 2/2020 (II.17.) önkormányzati rendelethez
A3: Költségvetési szerv | B3: =CONCATENATE('KVI_MOD_5.3.sz.mell'!B3:D3) -> Sajószögedi Általános Művelődési Központ - Család és Gyermekjóléti Szolgálat - Konyha - Művelődési Ház és Könyvtár | E3: 03
A4: Feladat megnevezése | B4: Kötelező feladatok bevételei, kiadásai | E4: 02
A6: Száma | B6: Kiemelt előirányzat, előirányzat megnevezése | C6: Eredeti előirányzat | D6: Összes módosítás | E6: Módosított előirányzat
A7: A | B7: B | C7: C | D7: D | E7: E
A8: Bevételek
A9: 1. | B9: Működési bevételek (1.1.+…+1.11.) | C9: =SUM(C10:C20) -> 14040378 | D9: =SUM(D10:D20) -> 447040 | E9: =SUM(E10:E20) -> 14487418
A10: 1.1. | B10: Készletértékesítés ellenértéke
A11: 1.2. | B11: Szolgáltatások ellenértéke | C11: 10240000 | D11: 0 | E11: 10240000
A12: 1.3. | B12: Közvetített szolgáltatások értéke
A13: 1.4. | B13: Tulajdonosi bevételek
A14: 1.5. | B14: Ellátási díjak | C14: 942975 | D14: 352000 | E14: 1294975
A15: 1.6. | B15: Kiszámlázott általános forgalmi adó | C15: 2857403 | D15: 95040 | E15: 2952443
A16: 1.7. | B16: Általános forgalmi adó visszatérülése
A17: 1.8. | B17: Kamatbevételek
A18: 1.9. | B18: Egyéb pénzügyi műveletek bevételei
A19: 1.10. | B19: Biztosító által fizetett kártérítés
A20: 1.11. | B20: Egyéb működési bevételek
A21: 2. | B21: Működési célú támogatások államháztartáson belülről (2.1.+…+2.3.) | C21: =SUM(C22:C24) -> 0 | D21: =SUM(D22:D24) -> 0 | E21: =SUM(E22:E24) -> 0
A22: 2.1. | B22: Elvonások és befizetések bevételei
A23: 2.2. | B23: Visszatérítendő támogatások, kölcsönök visszatérülése ÁH-n belülről
A24: 2.3. | B24: Egyéb működési célú támogatások bevételei államháztartáson belülről
A25: 2.4. | B25: 2.3.-ból EU támogatás
A26: 3. | B26: Közhatalmi bevételek
A27: 4. | B27: Felhalmozási célú támogatások államháztartáson belülről (4.1.+4.2.) | C27: =+C28+C29 -> 0 | D27: =+D28+D29 -> 0 | E27: =+E28+E29 -> 0
A28: 4.1. | B28: Visszatérítendő támogatások, kölcsönök visszatérülése ÁH-n belülről
A29: 4.2. | B29: Egyéb felhalmozási célú támogatások bevételei államháztartáson belülről
A30: 4.3. | B30: 4.2.-ből EU-s támogatás
A31: 5. | B31: Felhalmozási bevételek (5.1.+…+5.3.) | C31: =+C32+C33+C34 -> 0 | D31: =+D32+D33+D34 -> 0 | E31: =+E32+E33+E34 -> 0
A32: 5.1. | B32: Immateriális javak értékesítése
A33: 5.2. | B33: Ingatlanok értékesítése
A34: 5.3. | B34: Egyéb tárgyi eszközök értékesítése
A35: 6. | B35: Működési célú átvett pénzeszközök
A36: 7. | B36: Felhalmozási célú átvett pénzeszközök
A37: 8. | B37: KÖLTSÉGVETÉSI BEVÉTELEK ÖSSZESEN (1.+…+7.) | C37: =+C9+C21+C26+C27+C31+C35+C36 -> 14040378 | D37: =+D9+D21+D26+D27+D31+D35+D36 -> 447040 | E37: =+E9+E21+E26+E27+E31+E35+E36 -> 14487418
A38: 9. | B38: Finanszírozási bevételek (9.1.+…+9.3.) | C38: =+C39+C40+C41 -> 129984086 | D38: =+D39+D40+D41 -> -5007260 | E38: =+E39+E40+E41 -> 124976826
A39: 9.1. | B39: Költségvetési maradvány igénybevétele | C39: 1320700 | D39: =E39-C39 -> -16877 | E39: 1303823
A40: 9.2. | B40: Vállalkozási maradvány igénybevétele | D40: =E40-C40 -> 0
A41: 9.3. | B41: Irányító szervi (önkormányzati) támogatás (intézményfinanszírozás) | C41: 128663386 | D41: =E41-C41 -> -4990383 | E41: 123673003
...

Sheet KVI_MOD_5.4.sz.mell
B1: 5.4. melléklet a .../2020 (....) önkormányzati rendelethez
B2: "9.4. melléklet a 2/2020 (II.17.) önkormányzati rendelethez
A3: Költségvetési szerv | B3: =CONCATENATE(KVI_MOD_ALAPADATOK!B16) -> Sajószögedi Zöld Sziget Bölcsöde | E3: 04
A4: Feladat megnevezése | B4: Összes bevétel, kiadás | E4: 01
A6: Száma | B6: Kiemelt előirányzat, előirányzat megnevezése | C6: Eredeti előirányzat | D6: Összes módosítás | E6: Módosított előirányzat
A7: A | B7: B | C7: C | D7: D | E7: E
A8: Bevételek
A9: 1. | B9: Működési bevételek (1.1.+…+1.11.) | C9: =SUM(C10:C20) -> 0 | D9: =SUM(D10:D20) -> 0 | E9: =SUM(E10:E20) -> 0
A10: 1.1. | B10: Készletértékesítés ellenértéke
A11: 1.2. | B11: Szolgáltatások ellenértéke
A12: 1.3. | B12: Közvetített szolgáltatások értéke
A13: 1.4. | B13: Tulajdonosi bevételek
A14: 1.5. | B14: Ellátási díjak
A15: 1.6. | B15: Kiszámlázott általános forgalmi adó
A16: 1.7. | B16: Általános forgalmi adó visszatérülése
A17: 1.8. | B17: Kamatbevételek
A18: 1.9. | B18: Egyéb pénzügyi műveletek bevételei
A19: 1.10. | B19: Biztosító által fizetett kártérítés
A20: 1.11. | B20: Egyéb működési bevételek
A21: 2. | B21: Működési célú támogatások államháztartáson belülről (2.1.+…+2.3.) | C21: =SUM(C22:C24) -> 0 | D21: =SUM(D22:D24) -> 0 | E21: =SUM(E22:E24) -> 0
A22: 2.1. | B22: Elvonások és befizetések bevételei
A23: 2.2. | B23: Visszatérítendő támogatások, kölcsönök visszatérülése ÁH-n belülről
A24: 2.3. | B24: Egyéb működési célú támogatások bevételei államháztartáson belülről
A25: 2.4. | B25: 2.3.-ból EU támogatás
A26: 3. | B26: Közhatalmi bevételek
A27: 4. | B27: Felhalmozási célú támogatások államháztartáson belülről (4.1.+4.2.) | C27: =+C28+C29 -> 0 | D27: =+D28+D29 -> 0 | E27: =+E28+E29 -> 0
A28: 4.1. | B28: Visszatérítendő támogatások, kölcsönök visszatérülése ÁH-n belülről
A29: 4.2. | B29: Egyéb felhalmozási célú támogatások bevételei államháztartáson belülről
A30: 4.3. | B30: 4.2.-ből EU-s támogatás
A31: 5. | B31: Felhalmozási bevételek (5.1.+…+5.3.) | C31: =+C32+C33+C34 -> 0 | D31: =+D32+D33+D34 -> 0 | E31: =+E32+E33+E34 -> 0
A32: 5.1. | B32: Immateriális javak értékesítése
A33: 5.2. | B33: Ingatlanok értékesítése
A34: 5.3. | B34: Egyéb tárgyi eszközök értékesítése
A35: 6. | B35: Működési célú átvett pénzeszközök
A36: 7. | B36: Felhalmozási célú átvett pénzeszközök
A37: 8. | B37: KÖLTSÉGVETÉSI BEVÉTELEK ÖSSZESEN (1.+…+7.) | C37: =+C9+C21+C26+C27+C31+C35+C36 -> 0 | D37: =+D9+D21+D26+D27+D31+D35+D36 -> 0 | E37: =+E9+E21+E26+E27+E31+E35+E36 -> 0
A38: 9. | B38: Finanszírozási bevételek (9.1.+…+9.3.) | C38: =+C39+C40+C41 -> 0 | D38: =+D39+D40+D41 -> 14104973 | E38: =+E39+E40+E41 -> 14104973
A39: 9.1. | B39: Költségvetési maradvány igénybevétele
A40: 9.2. | B40: Vállalkozási maradvány igénybevétele
A41: 9.3. | B41: Irányító szervi (önkormányzati) támogatás (intézményfinanszírozás) | D41: 14104973 | E41: 14104973
...

Sheet KVI_MOD_5.4.1.sz.mell
B1: 5.4.1. melléklet a .../2020 (....) önkormányzati rendelethez
B2: "9.4.1. melléklet a 2/2020 (II.17.) önkormányzati rendelethez
A3: Költségvetési szerv | B3: =CONCATENATE('KVI_MOD_5.4.sz.mell'!B3:D3) -> Sajószögedi Zöld Sziget Bölcsöde | E3: 04
A4: Feladat megnevezése | B4: Kötelező feladatok bevételei, kiadásai | E4: 02
A6: Száma | B6: Kiemelt előirányzat, előirányzat megnevezése | C6: Eredeti előirányzat | D6: Összes módosítás | E6: Módosított előirányzat
A7: A | B7: B | C7: C | D7: D | E7: E
A8: Bevételek
A9: 1. | B9: Működési bevételek (1.1.+…+1.11.) | C9: =SUM(C10:C20) -> 0 | D9: =SUM(D10:D20) -> 0 | E9: =SUM(E10:E20) -> 0
A10: 1.1. | B10: Készletértékesítés ellenértéke
A11: 1.2. | B11: Szolgáltatások ellenértéke
A12: 1.3. | B12: Közvetített szolgáltatások értéke
A13: 1.4. | B13: Tulajdonosi bevételek
A14: 1.5. | B14: Ellátási díjak
A15: 1.6. | B15: Kiszámlázott általános forgalmi adó
A16: 1.7. | B16: Általános forgalmi adó visszatérülése
A17: 1.8. | B17: Kamatbevételek
A18: 1.9. | B18: Egyéb pénzügyi műveletek bevételei
A19: 1.10. | B19: Biztosító által fizetett kártérítés
A20: 1.11. | B20: Egyéb működési bevételek
A21: 2. | B21: Működési célú támogatások államháztartáson belülről (2.1.+…+2.3.) | C21: =SUM(C22:C24) -> 0 | D21: =SUM(D22:D24) -> 0 | E21: =SUM(E22:E24) -> 0
A22: 2.1. | B22: Elvonások és befizetések bevételei
A23: 2.2. | B23: Visszatérítendő támogatások, kölcsönök visszatérülése ÁH-n belülről
A24: 2.3. | B24: Egyéb működési célú támogatások bevételei államháztartáson belülről
A25: 2.4. | B25: 2.3.-ból EU támogatás
A26: 3. | B26: Közhatalmi bevételek
A27: 4. | B27: Felhalmozási célú támogatások államháztartáson belülről (4.1.+4.2.) | C27: =+C28+C29 -> 0 | D27: =+D28+D29 -> 0 | E27: =+E28+E29 -> 0
A28: 4.1. | B28: Visszatérítendő támogatások, kölcsönök visszatérülése ÁH-n belülről
A29: 4.2. | B29: Egyéb felhalmozási célú támogatások bevételei államháztartáson belülről
A30: 4.3. | B30: 4.2.-ből EU-s támogatás
A31: 5. | B31: Felhalmozási bevételek (5.1.+…+5.3.) | C31: =+C32+C33+C34 -> 0 | D31: =+D32+D33+D34 -> 0 | E31: =+E32+E33+E34 -> 0
A32: 5.1. | B32: Immateriális javak értékesítése
A33: 5.2. | B33: Ingatlanok értékesítése
A34: 5.3. | B34: Egyéb tárgyi eszközök értékesítése
A35: 6. | B35: Működési célú átvett pénzeszközök
A36: 7. | B36: Felhalmozási célú átvett pénzeszközök
A37: 8. | B37: KÖLTSÉGVETÉSI BEVÉTELEK ÖSSZESEN (1.+…+7.) | C37: =+C9+C21+C26+C27+C31+C35+C36 -> 0 | D37: =+D9+D21+D26+D27+D31+D35+D36 -> 0 | E37: =+E9+E21+E26+E27+E31+E35+E36 -> 0
A38: 9. | B38: Finanszírozási bevételek (9.1.+…+9.3.) | C38: =+C39+C40+C41 -> 0 | D38: =+D39+D40+D41 -> 14104973 | E38: =+E39+E40+E41 -> 14104973
A39: 9.1. | B39: Költségvetési maradvány igénybevétele
A40: 9.2. | B40: Vállalkozási maradvány igénybevétele
A41: 9.3. | B41: Irányító szervi (önkormányzati) támogatás (intézményfinanszírozás) | D41: 14104973 | E41: 14104973
...
