Workbook

Sheet TARTALOMJEGYZÉK
A1: 2020
A2: Tartalomjegyzék
A4: Dokumentum neve | B4: A dokumentációs rendszerben található táblázatok listája | C4: Ugrás
A6: KÖLTSÉGVETÉSI RENDLET
A7: Alapadatok | B7: Adatok megadása | C7: =HYPERLINK(SUBSTITUTE(CELL("address",ALAPADATOK!A1),"'",""),SUBSTITUTE(MID(CELL("address",ALAPADATOK!A1),SEARCH("]",CELL("address",ALAPADATOK!A1),1)+1,LEN(CELL("address",ALAPADATOK!A1))-SEARCH("]",CELL("address",ALAPADATOK!A1),1)),"'","")) -> ALAPADATOK!$A$1
A8: Összefüggések | B8: Táblázatok adatainak összefüggései | C8: =HYPERLINK(SUBSTITUTE(CELL("address",KV_ÖSSZEFÜGGÉSEK!A1),"'",""),SUBSTITUTE(MID(CELL("address",KV_ÖSSZEFÜGGÉSEK!A1),SEARCH("]",CELL("address",KV_ÖSSZEFÜGGÉSEK!A1),1)+1,LEN(CELL("address",KV_ÖSSZEFÜGGÉSEK!A1))-SEARCH("]",CELL("address",KV_ÖSSZEFÜGGÉSEK!A1),1)),"'","")) -> KV_ÖSSZEFÜGGÉSEK!$A$1
A9: 1.1. melléklet | B9: Önkormányzat összevont pénzügyi mérlege összesen | C9: =HYPERLINK(SUBSTITUTE(CELL("address",'KV_1.1.sz.mell.'!A1),"'",""),SUBSTITUTE(MID(CELL("address",'KV_1.1.sz.mell.'!A1),SEARCH("]",CELL("address",'KV_1.1.sz.mell.'!A1),1)+1,LEN(CELL("address",'KV_1.1.sz.mell.'!A1))-SEARCH("]",CELL("address",'KV_1.1.sz.mell.'!A1),1)),"'","")) -> KV_1.1.sz.mell.!$A$1
A10: 1.2. melléklet | B10: Önkormányzat kötelező feladatainak összevont pénzügyi mérlege | C10: =HYPERLINK(SUBSTITUTE(CELL("address",'KV_1.2.sz.mell.'!A1),"'",""),SUBSTITUTE(MID(CELL("address",'KV_1.2.sz.mell.'!A1),SEARCH("]",CELL("address",'KV_1.2.sz.mell.'!A1),1)+1,LEN(CELL("address",'KV_1.2.sz.mell.'!A1))-SEARCH("]",CELL("address",'KV_1.2.sz.mell.'!A1),1)),"'","")) -> KV_1.2.sz.mell.!$A$1
A11: 1.3. melléklet | B11: Önkormányzat önként vállalt feladatainak összevont pénzügyi mérlege | C11: =HYPERLINK(SUBSTITUTE(CELL("address",'KV_1.3.sz.mell.'!A1),"'",""),SUBSTITUTE(MID(CELL("address",'KV_1.3.sz.mell.'!A1),SEARCH("]",CELL("address",'KV_1.3.sz.mell.'!A1),1)+1,LEN(CELL("address",'KV_1.3.sz.mell.'!A1))-SEARCH("]",CELL("address",'KV_1.3.sz.mell.'!A1),1)),"'","")) -> KV_1.3.sz.mell.!$A$1
A12: 1.4. melléklet | B12: Önkormányzat államigazgatási feladatainak összevont pénzügyi mérlege | C12: =HYPERLINK(SUBSTITUTE(CELL("address",'KV_1.4.sz.mell.'!A1),"'",""),SUBSTITUTE(MID(CELL("address",'KV_1.4.sz.mell.'!A1),SEARCH("]",CELL("address",'KV_1.4.sz.mell.'!A1),1)+1,LEN(CELL("address",'KV_1.4.sz.mell.'!A1))-SEARCH("]",CELL("address",'KV_1.4.sz.mell.'!A1),1)),"'","")) -> KV_1.4.sz.mell.!$A$1
A13: 2.1. melléklet | B13: Működési célú bevételek, kiadások mérlege | C13: =HYPERLINK(SUBSTITUTE(CELL("address",'KV_2.1.sz.mell.'!A1),"'",""),SUBSTITUTE(MID(CELL("address",'KV_2.1.sz.mell.'!A1),SEARCH("]",CELL("address",'KV_2.1.sz.mell.'!A1),1)+1,LEN(CELL("address",'KV_2.1.sz.mell.'!A1))-SEARCH("]",CELL("address",'KV_2.1.sz.mell.'!A1),1)),"'","")) -> KV_2.1.sz.mell.!$A$1
A14: 2.2. melléklet | B14: Felhalmozási célú bevételek, kiadások mérlege | C14: =HYPERLINK(SUBSTITUTE(CELL("address",'KV_2.2.sz.mell.'!A1),"'",""),SUBSTITUTE(MID(CELL("address",'KV_2.2.sz.mell.'!A1),SEARCH("]",CELL("address",'KV_2.2.sz.mell.'!A1),1)+1,LEN(CELL("address",'KV_2.2.sz.mell.'!A1))-SEARCH("]",CELL("address",'KV_2.2.sz.mell.'!A1),1)),"'","")) -> KV_2.2.sz.mell.!$A$1
A15: Ellenőrző lista | B15: Ellenőrzés az 1-es és 2.1., 2.2. mellékletek adati esetében | C15: =HYPERLINK(SUBSTITUTE(CELL("address",KV_ELLENŐRZÉS!A1),"'",""),SUBSTITUTE(MID(CELL("address",KV_ELLENŐRZÉS!A1),SEARCH("]",CELL("address",KV_ELLENŐRZÉS!A1),1)+1,LEN(CELL("address",KV_ELLENŐRZÉS!A1))-SEARCH("]",CELL("address",KV_ELLENŐRZÉS!A1),1)),"'","")) -> KV_ELLENŐRZÉS!$A$1
A16: 3. melléklet | B16: Adósságot keletkeztető ügyletek táblázata | C16: =HYPERLINK(SUBSTITUTE(CELL("address",'KV_3.sz.mell.'!A1),"'",""),SUBSTITUTE(MID(CELL("address",'KV_3.sz.mell.'!A1),SEARCH("]",CELL("address",'KV_3.sz.mell.'!A1),1)+1,LEN(CELL("address",'KV_3.sz.mell.'!A1))-SEARCH("]",CELL("address",'KV_3.sz.mell.'!A1),1)),"'","")) -> KV_3.sz.mell.!$A$1
A17: 4. melléklet | B17: Önkormányzat saját bevételeinek bemutatása | C17: =HYPERLINK(SUBSTITUTE(CELL("address",'KV_4.sz.mell.'!A1),"'",""),SUBSTITUTE(MID(CELL("address",'KV_4.sz.mell.'!A1),SEARCH("]",CELL("address",'KV_4.sz.mell.'!A1),1)+1,LEN(CELL("address",'KV_4.sz.mell.'!A1))-SEARCH("]",CELL("address",'KV_4.sz.mell.'!A1),1)),"'","")) -> KV_4.sz.mell.!$A$1
A18: 5. melléklet | B18: Az önkormányzat adósságot keletkeztető fejlesztései céljai | C18: =HYPERLINK(SUBSTITUTE(CELL("address",'KV_5.sz.mell.'!A1),"'",""),SUBSTITUTE(MID(CELL("address",'KV_5.sz.mell.'!A1),SEARCH("]",CELL("address",'KV_5.sz.mell.'!A1),1)+1,LEN(CELL("address",'KV_5.sz.mell.'!A1))-SEARCH("]",CELL("address",'KV_5.sz.mell.'!A1),1)),"'","")) -> KV_5.sz.mell.!$A$1
A19: 6. melléklet | B19: Beruházások előirányzatai | C19: =HYPERLINK(SUBSTITUTE(CELL("address",'KV_6.sz.mell.'!A1),"'",""),SUBSTITUTE(MID(CELL("address",'KV_6.sz.mell.'!A1),SEARCH("]",CELL("address",'KV_6.sz.mell.'!A1),1)+1,LEN(CELL("address",'KV_6.sz.mell.'!A1))-SEARCH("]",CELL("address",'KV_6.sz.mell.'!A1),1)),"'","")) -> KV_6.sz.mell.!$A$1
A20: 7. melléklet | B20: Felújítások előirányzatai | C20: =HYPERLINK(SUBSTITUTE(CELL("address",'KV_7.sz.mell.'!A1),"'",""),SUBSTITUTE(MID(CELL("address",'KV_7.sz.mell.'!A1),SEARCH("]",CELL("address",'KV_7.sz.mell.'!A1),1)+1,LEN(CELL("address",'KV_7.sz.mell.'!A1))-SEARCH("]",CELL("address",'KV_7.sz.mell.'!A1),1)),"'","")) -> KV_7.sz.mell.!$A$1
A21: 8. melléklet | B21: EU-s projektek táblázatai | C21: =HYPERLINK(SUBSTITUTE(CELL("address",'KV_8.sz.mell.'!A1),"'",""),SUBSTITUTE(MID(CELL("address",'KV_8.sz.mell.'!A1),SEARCH("]",CELL("address",'KV_8.sz.mell.'!A1),1)+1,LEN(CELL("address",'KV_8.sz.mell.'!A1))-SEARCH("]",CELL("address",'KV_8.sz.mell.'!A1),1)),"'","")) -> KV_8.sz.mell.!$A$1
A22: 9.1. melléklet | B22: Önkormányzat bevételei kiadásai (összesen) | C22: =HYPERLINK(SUBSTITUTE(CELL("address",'KV_9.1.sz.mell'!A1),"'",""),SUBSTITUTE(MID(CELL("address",'KV_9.1.sz.mell'!A1),SEARCH("]",CELL("address",'KV_9.1.sz.mell'!A1),1)+1,LEN(CELL("address",'KV_9.1.sz.mell'!A1))-SEARCH("]",CELL("address",'KV_9.1.sz.mell'!A1),1)),"'","")) -> KV_9.1.sz.mell!$A$1
A23: 9.1.1. melléklet | B23: Önkormányzat kötelező feladatai | C23: =HYPERLINK(SUBSTITUTE(CELL("address",'KV_9.1.1.sz.mell'!A1),"'",""),SUBSTITUTE(MID(CELL("address",'KV_9.1.1.sz.mell'!A1),SEARCH("]",CELL("address",'KV_9.1.1.sz.mell'!A1),1)+1,LEN(CELL("address",'KV_9.1.1.sz.mell'!A1))-SEARCH("]",CELL("address",'KV_9.1.1.sz.mell'!A1),1)),"'","")) -> KV_9.1.1.sz.mell!$A$1
A24: 9.1.2. melléklet | B24: Önkormányzat önként vállalt feladatai | C24: =HYPERLINK(SUBSTITUTE(CELL("address",'KV_9.1.2.sz.mell.'!A1),"'",""),SUBSTITUTE(MID(CELL("address",'KV_9.1.2.sz.mell.'!A1),SEARCH("]",CELL("address",'KV_9.1.2.sz.mell.'!A1),1)+1,LEN(CELL("address",'KV_9.1.2.sz.mell.'!A1))-SEARCH("]",CELL("address",'KV_9.1.2.sz.mell.'!A1),1)),"'","")) -> KV_9.1.2.sz.mell.!$A$1
A25: 9.1.3. melléklet | B25: Önkormányzat államigazgatási feladatai | C25: =HYPERLINK(SUBSTITUTE(CELL("address",'KV_9.1.3.sz.mell'!A1),"'",""),SUBSTITUTE(MID(CELL("address",'KV_9.1.3.sz.mell'!A1),SEARCH("]",CELL("address",'KV_9.1.3.sz.mell'!A1),1)+1,LEN(CELL("address",'KV_9.1.3.sz.mell'!A1))-SEARCH("]",CELL("address",'KV_9.1.3.sz.mell'!A1),1)),"'","")) -> KV_9.1.3.sz.mell!$A$1
A26: 9.2. melléklet | B26: Polgármesteri/Közös hivatal költségvetési táblái (9.2.1., 9.2.2., 9.2.3.) | C26: =HYPERLINK(SUBSTITUTE(CELL("address",'KV_9.2.sz.mell'!A1),"'",""),SUBSTITUTE(MID(CELL("address",'KV_9.2.sz.mell'!A1),SEARCH("]",CELL("address",'KV_9.2.sz.mell'!A1),1)+1,LEN(CELL("address",'KV_9.2.sz.mell'!A1))-SEARCH("]",CELL("address",'KV_9.2.sz.mell'!A1),1)),"'","")) -> KV_9.2.sz.mell!$A$1
A27: 9.3. melléklet | B27: =CONCATENATE(ALAPADATOK!B13) -> Sajószögedi Általános Művelődési Központ - Család és Gyermekjóléti Szolgálat - Konyha - Művelődési Ház és Könyvtár | C27: =HYPERLINK(SUBSTITUTE(CELL("address",'KV_9.3.sz.mell'!A1),"'",""),SUBSTITUTE(MID(CELL("address",'KV_9.3.sz.mell'!A1),SEARCH("]",CELL("address",'KV_9.3.sz.mell'!A1),1)+1,LEN(CELL("address",'KV_9.3.sz.mell'!A1))-SEARCH("]",CELL("address",'KV_9.3.sz.mell'!A1),1)),"'","")) -> KV_9.3.sz.mell!$A$1
A28: 9.4. melléklet | B28: =CONCATENATE(ALAPADATOK!B15) -> 2 kvi név | C28: =HYPERLINK(SUBSTITUTE(CELL("address",#REF!),"'",""),SUBSTITUTE(MID(CELL("address",#REF!),SEARCH("]",CELL("address",#REF!),1)+1,LEN(CELL("address",#REF!))-SEARCH("]",CELL("address",#REF!),1)),"'","")) -> #REF!
A29: 9.5. melléklet | B29: =CONCATENATE(ALAPADATOK!B17) -> 3 kvi név | C29: =HYPERLINK(SUBSTITUTE(CELL("address",#REF!),"'",""),SUBSTITUTE(MID(CELL("address",#REF!),SEARCH("]",CELL("address",#REF!),1)+1,LEN(CELL("address",#REF!))-SEARCH("]",CELL("address",#REF!),1)),"'","")) -> #REF!
A30: 9.6. melléklet | B30: =CONCATENATE(ALAPADATOK!B19) -> 4 kvi név | C30: =HYPERLINK(SUBSTITUTE(CELL("address",#REF!),"'",""),SUBSTITUTE(MID(CELL("address",#REF!),SEARCH("]",CELL("address",#REF!),1)+1,LEN(CELL("address",#REF!))-SEARCH("]",CELL("address",#REF!),1)),"'","")) -> #REF!
A31: 9.7. melléklet | B31: =CONCATENATE(ALAPADATOK!B21) -> 5 kvi név | C31: =HYPERLINK(SUBSTITUTE(CELL("address",#REF!),"'",""),SUBSTITUTE(MID(CELL("address",#REF!),SEARCH("]",CELL("address",#REF!),1)+1,LEN(CELL("address",#REF!))-SEARCH("]",CELL("address",#REF!),1)),"'","")) -> #REF!
A32: 9.8. melléklet | B32: =CONCATENATE(ALAPADATOK!B23) -> 6 kvi név | C32: =HYPERLINK(SUBSTITUTE(CELL("address",#REF!),"'",""),SUBSTITUTE(MID(CELL("address",#REF!),SEARCH("]",CELL("address",#REF!),1)+1,LEN(CELL("address",#REF!))-SEARCH("]",CELL("address",#REF!),1)),"'","")) -> #REF!
A33: 9.9. melléklet | B33: =CONCATENATE(ALAPADATOK!B25) -> 7 kvi név | C33: =HYPERLINK(SUBSTITUTE(CELL("address",#REF!),"'",""),SUBSTITUTE(MID(CELL("address",#REF!),SEARCH("]",CELL("address",#REF!),1)+1,LEN(CELL("address",#REF!))-SEARCH("]",CELL("address",#REF!),1)),"'","")) -> #REF!
A34: 9.10. melléklet | B34: =CONCATENATE(ALAPADATOK!B27) -> 8 kvi név | C34: =HYPERLINK(SUBSTITUTE(CELL("address",#REF!),"'",""),SUBSTITUTE(MID(CELL("address",#REF!),SEARCH("]",CELL("address",#REF!),1)+1,LEN(CELL("address",#REF!))-SEARCH("]",CELL("address",#REF!),1)),"'","")) -> #REF!
A35: 9.11. melléklet | B35: =CONCATENATE(ALAPADATOK!B29) -> 9 kvi név | C35: =HYPERLINK(SUBSTITUTE(CELL("address",#REF!),"'",""),SUBSTITUTE(MID(CELL("address",#REF!),SEARCH("]",CELL("address",#REF!),1)+1,LEN(CELL("address",#REF!))-SEARCH("]",CELL("address",#REF!),1)),"'","")) -> #REF!
A36: 9.12. melléklet | B36: =CONCATENATE(ALAPADATOK!B31) -> 10 kvi név | C36: =HYPERLINK(SUBSTITUTE(CELL("address",#REF!),"'",""),SUBSTITUTE(MID(CELL("address",#REF!),SEARCH("]",CELL("address",#REF!),1)+1,LEN(CELL("address",#REF!))-SEARCH("]",CELL("address",#REF!),1)),"'","")) -> #REF!
A37: 10. melléklet | B37: Adatszolgáltatás az elismert tartozásállományról | C37: =HYPERLINK(SUBSTITUTE(CELL("address",'KV_10.sz.mell'!A1),"'",""),SUBSTITUTE(MID(CELL("address",'KV_10.sz.mell'!A1),SEARCH("]",CELL("address",'KV_10.sz.mell'!A1),1)+1,LEN(CELL("address",'KV_10.sz.mell'!A1))-SEARCH("]",CELL("address",'KV_10.sz.mell'!A1),1)),"'","")) -> KV_10.sz.mell!$A$1
A38: 1. számú tájékoztató tábla | B38: ='KV_1.sz.tájékoztató_t.'!A3 -> Tájékoztató a 2018. évi tény, 2019. évi várható és 2020. évi terv adatokról | C38: =HYPERLINK(SUBSTITUTE(CELL("address",'KV_1.sz.tájékoztató_t.'!A1),"'",""),SUBSTITUTE(MID(CELL("address",'KV_1.sz.tájékoztató_t.'!A1),SEARCH("]",CELL("address",'KV_1.sz.tájékoztató_t.'!A1),1)+1,LEN(CELL("address",'KV_1.sz.tájékoztató_t.'!A1))-SEARCH("]",CELL("address",'KV_1.sz.tájékoztató_t.'!A1),1)),"'","")) -> KV_1.sz.tájékoztató_t.!$A$1
A39: 2. számú tájékoztató tábla | B39: Többéves kihatással járó döntések számszerűsítése évenkénti bontásban és összesítve célok szerint | C39: =HYPERLINK(SUBSTITUTE(CELL("address",'KV_2.sz.tájékoztató_t.'!A1),"'",""),SUBSTITUTE(MID(CELL("address",'KV_2.sz.tájékoztató_t.'!A1),SEARCH("]",CELL("address",'KV_2.sz.tájékoztató_t.'!A1),1)+1,LEN(CELL("address",'KV_2.sz.tájékoztató_t.'!A1))-SEARCH("]",CELL("address",'KV_2.sz.tájékoztató_t.'!A1),1)),"'","")) -> KV_2.sz.tájékoztató_t.!$A$1
A40: 3. számú tájékoztató tábla | B40: Az önkormányzat által adott közvetett támogatások (kedvezmények) | C40: =HYPERLINK(SUBSTITUTE(CELL("address",'KV_3.sz.tájékoztató_t.'!A1),"'",""),SUBSTITUTE(MID(CELL("address",'KV_3.sz.tájékoztató_t.'!A1),SEARCH("]",CELL("address",'KV_3.sz.tájékoztató_t.'!A1),1)+1,LEN(CELL("address",'KV_3.sz.tájékoztató_t.'!A1))-SEARCH("]",CELL("address",'KV_3.sz.tájékoztató_t.'!A1),1)),"'","")) -> KV_3.sz.tájékoztató_t.!$A$1
A41: 4. számú tájékoztató tábla | B41: ='KV_4.sz.tájékoztató_t.'!A2 -> Előirányzat-felhasználási terv 2020. évre | C41: =HYPERLINK(SUBSTITUTE(CELL("address",'KV_4.sz.tájékoztató_t.'!A1),"'",""),SUBSTITUTE(MID(CELL("address",'KV_4.sz.tájékoztató_t.'!A1),SEARCH("]",CELL("address",'KV_4.sz.tájékoztató_t.'!A1),1)+1,LEN(CELL("address",'KV_4.sz.tájékoztató_t.'!A1))-SEARCH("]",CELL("address",'KV_4.sz.tájékoztató_t.'!A1),1)),"'","")) -> KV_4.sz.tájékoztató_t.!$A$1
A42: 5. számú tájékoztató tábla | B42: ='KV_5.sz.tájékoztató_t'!B1 -> A 2020. évi általános működés és ágazati feladatok támogatásának alakulása jogcímenként | C42: =HYPERLINK(SUBSTITUTE(CELL("address",'KV_5.sz.tájékoztató_t'!A1),"'",""),SUBSTITUTE(MID(CELL("address",'KV_5.sz.tájékoztató_t'!A1),SEARCH("]",CELL("address",'KV_5.sz.tájékoztató_t'!A1),1)+1,LEN(CELL("address",'KV_5.sz.tájékoztató_t'!A1))-SEARCH("]",CELL("address",'KV_5.sz.tájékoztató_t'!A1),1)),"'","")) -> KV_5.sz.tájékoztató_t!$A$1
A43: 6. számú tájékoztató tábla | B43: ='KV_6.sz.tájékoztató_t.'!A2 -> K I M U T A T Á S a 2020. évben céljelleggel juttatott támogatásokról | C43: =HYPERLINK(SUBSTITUTE(CELL("address",'KV_6.sz.tájékoztató_t.'!A1),"'",""),SUBSTITUTE(MID(CELL("address",'KV_6.sz.tájékoztató_t.'!A1),SEARCH("]",CELL("address",'KV_6.sz.tájékoztató_t.'!A1),1)+1,LEN(CELL("address",'KV_6.sz.tájékoztató_t.'!A1))-SEARCH("]",CELL("address",'KV_6.sz.tájékoztató_t.'!A1),1)),"'","")) -> KV_6.sz.tájékoztató_t.!$A$1
A44: 7. számú tájékoztató tábla | B44: =LOWER('KV_7.sz.tájékoztató_t.'!A3) -> 2020. évi költségvetési évet követő 3 év tervezett | C44: =HYPERLINK(SUBSTITUTE(CELL("address",'KV_7.sz.tájékoztató_t.'!A1),"'",""),SUBSTITUTE(MID(CELL("address",'KV_7.sz.tájékoztató_t.'!A1),SEARCH("]",CELL("address",'KV_7.sz.tájékoztató_t.'!A1),1)+1,LEN(CELL("address",'KV_7.sz.tájékoztató_t.'!A1))-SEARCH("]",CELL("address",'KV_7.sz.tájékoztató_t.'!A1),1)),"'","")) -> KV_7.sz.tájékoztató_t.!$A$1

Sheet ALAPADATOK
A1: ALAPADATOK
A3: Sajószöged Községi Önkormányzat
A6: Előterjesztéskor
A7: a | B7: … | C7: / | D7: =TARTALOMJEGYZÉK!A1 -> 2020 | E7: ( | F7: … | G7: ) | H7: önkormányzati rendelethez
K10: Mellékletben külön?
A11: Sajószögedi Polgármesteri Hivatal | K11: Igen | M11: 9. | N11: =IF($K$11="Nem","",2) -> 2 | O11: . | P11: =CONCATENATE(M11,N11,O11) -> 9.2.
A13: 1. költségvetési szerv neve | B13: Sajószögedi Általános Művelődési Központ - Család és Gyermekjóléti Szolgálat - Konyha - Művelődési Ház és Könyvtár | M13: 9. | N13: =IF(K11="Nem",2,3) -> 3 | O13: . | P13: =CONCATENATE(M13,N13,O13) -> 9.3.
A15: 2. költségvetési szerv neve | B15: 2 kvi név | M15: 9. | N15: =N13+1 -> 4 | O15: . | P15: =CONCATENATE(M15,N15,O15) -> 9.4.
A17: 3. költségvetési szerv neve | B17: 3 kvi név | M17: 9. | N17: =N15+1 -> 5 | O17: . | P17: =CONCATENATE(M17,N17,O17) -> 9.5.
A19: 4. költségvetési szerv neve | B19: 4 kvi név | M19: 9. | N19: =N17+1 -> 6 | O19: . | P19: =CONCATENATE(M19,N19,O19) -> 9.6.
A21: 5. költségvetési szerv neve | B21: 5 kvi név | M21: 9. | N21: =N19+1 -> 7 | O21: . | P21: =CONCATENATE(M21,N21,O21) -> 9.7.
A23: 6. költségvetési szerv neve | B23: 6 kvi név | M23: 9. | N23: =N21+1 -> 8 | O23: . | P23: =CONCATENATE(M23,N23,O23) -> 9.8.
A25: 7. költségvetési szerv neve | B25: 7 kvi név | M25: 9. | N25: =N23+1 -> 9 | O25: . | P25: =CONCATENATE(M25,N25,O25) -> 9.9.
A27: 8. költségvetési szerv neve | B27: 8 kvi név | M27: 9. | N27: =N25+1 -> 10 | O27: . | P27: =CONCATENATE(M27,N27,O27) -> 9.10.
A29: 8. költségvetési szerv neve | B29: 9 kvi név | M29: 9. | N29: =N27+1 -> 11 | O29: . | P29: =CONCATENATE(M29,N29,O29) -> 9.11.
A31: 10. költségvetési szerv neve | B31: 10 kvi név | M31: 9. | N31: =N29+1 -> 12 | O31: . | P31: =CONCATENATE(M31,N31,O31) -> 9.12.

Sheet KV_ÖSSZEFÜGGÉSEK
A2: Költségvetési rendelet űrlapjainak összefüggései:
A5: =CONCATENATE(ALAPADATOK!D7,". évi előirányzat BEVÉTELEK") -> 2020. évi előirányzat BEVÉTELEK
A7: 1.1. sz. melléklet Bevételek táblázat C. oszlop 9 sora = | B7: 2.1. számú melléklet C. oszlop 13. sor + 2.2. számú melléklet C. oszlop 12. sor
A8: 1.1. sz. melléklet Bevételek táblázat C. oszlop 17 sora = | B8: 2.1. számú melléklet C. oszlop 24. sor + 2.2. számú melléklet C. oszlop 25. sor
A9: 1.1. sz. melléklet Bevételek táblázat C. oszlop 18 sora = | B9: 2.1. számú melléklet C. oszlop 25. sor + 2.2. számú melléklet C. oszlop 26. sor
A12: =+CONCATENATE(LEFT(A5,4),". évi előirányzat KIADÁSOK") -> 2020. évi előirányzat KIADÁSOK
A14: 1.1. sz. melléklet Kiadások táblázat C. oszlop 3 sora = | B14: 2.1. számú melléklet E. oszlop 13. sor + 2.2. számú melléklet E. oszlop 12. sor
A15: 1.1. sz. melléklet Kiadások táblázat C. oszlop 10 sora = | B15: 2.1. számú melléklet E. oszlop 24. sor + 2.2. számú melléklet E. oszlop 25. sor
A16: 1.1. sz. melléklet Kiadások táblázat C. oszlop 11 sora = | B16: 2.1. számú melléklet E. oszlop 25. sor + 2.2. számú melléklet E. oszlop 26. sor

Sheet KV_1.1.sz.mell.
B1: =CONCATENATE("1.1. melléklet ",ALAPADATOK!A7," ",ALAPADATOK!B7," ",ALAPADATOK!C7," ",ALAPADATOK!D7," ",ALAPADATOK!E7," ",ALAPADATOK!F7," ",ALAPADATOK!G7," ",ALAPADATOK!H7) -> 1.1. melléklet a … / 2020 ( … ) önkormányzati rendelethez
B2: =CONCATENATE(ALAPADATOK!A3) -> Sajószöged Községi Önkormányzat
B3: =CONCATENATE(ALAPADATOK!D7,". ÉVI KÖLTSÉGVETÉS") -> 2020. ÉVI KÖLTSÉGVETÉS
B4: ÖSSZEVONT MÉRLEGE
A6: B E V É T E L E K
A7: 1. sz. táblázat | C7: Forintban!
A8: Sor- szám | B8: Bevételi jogcím | C8: =+CONCATENATE(LEFT(KV_ÖSSZEFÜGGÉSEK!A5,4),". évi előirányzat") -> 2020. évi előirányzat
B9: A | C9: B
A10: 1. | B10: Önkormányzat működési támogatásai (1.1.+…+.1.6.) | C10: =+C11+C12+C13+C14+C15+C16 -> 98604818
A11: 1.1. | B11: Helyi önkormányzatok működésének általános támogatása | C11: 23631621
A12: 1.2. | B12: Önkormányzatok egyes köznevelési feladatainak támogatása | C12: 48695600
A13: 1.3. | B13: Önkormányzatok szociális és gyermekjóléti, étkeztetési feladatainak támogatása | C13: 23410305
A14: 1.4. | B14: Önkormányzatok kulturális feladatainak támogatása | C14: 2867292
A15: 1.5. | B15: Működési célú kvi támogatások és kiegészítő támogatások
A16: 1.6. | B16: Elszámolásból származó bevételek
A17: 2. | B17: Működési célú támogatások államháztartáson belülről (2.1.+…+.2.5.) | C17: =+C18+C19+C20+C21+C22 -> 11262720
A18: 2.1. | B18: Elvonások és befizetések bevételei
A19: 2.2. | B19: Működési célú garancia- és kezességvállalásból megtérülések
A20: 2.3. | B20: Működési célú visszatérítendő támogatások, kölcsönök visszatérülése
A21: 2.4. | B21: Működési célú visszatérítendő támogatások, kölcsönök igénybevétele
A22: 2.5. | B22: Egyéb működési célú támogatások bevételei államháztartáson belülről | C22: 11262720
A23: 2.6. | B23: 2.5.-ből EU-s támogatás
A24: 3. | B24: Felhalmozási célú támogatások államháztartáson belülről (3.1.+…+3.5.) | C24: =+C25+C26+C27+C28+C29 -> 117478820
A25: 3.1. | B25: Felhalmozási célú önkormányzati támogatások
A26: 3.2. | B26: Felhalmozási célú garancia- és kezességvállalásból megtérülések
A27: 3.3. | B27: Felhalmozási célú visszatérítendő támogatások, kölcsönök visszatérülése
A28: 3.4. | B28: Felhalmozási célú visszatérítendő támogatások, kölcsönök igénybevétele
A29: 3.5. | B29: Egyéb felhalmozási célú támogatások bevételei | C29: 117478820
A30: 3.6. | B30: 3.5.-ből EU-s támogatás | C30: 117478820
A31: 4. | B31: Közhatalmi bevételek (4.1.+…+4.7.) | C31: =SUM(C32:C38) -> 221400000
A32: 4.1. | B32: Vagyoni tipusú adók | C32: 102100000
A33: 4.2. | B33: Idegenforgalmi adó
A34: 4.3. | B34: Iparűzési adó | C34: 110000000
A35: 4.4. | B35: Talajterhelési díj | C35: 200000
A36: 4.5. | B36: Gépjárműadó | C36: 8800000
A37: 4.6. | B37: Egyéb közhatalmi bevételek | C37: 300000
A38: 4.7. | B38: Kommunális adó
A39: 5. | B39: Működési bevételek (5.1.+…+ 5.11.) | C39: =SUM(C40:C50) -> 54016468
A40: 5.1. | B40: Készletértékesítés ellenértéke
A41: 5.2. | B41: Szolgáltatások ellenértéke | C41: 12268000
A42: 5.3. | B42: Közvetített szolgáltatások értéke | C42: 1850000
A43: 5.4. | B43: Tulajdonosi bevételek | C43: 13693455
A44: 5.5. | B44: Ellátási díjak | C44: 15279908
A45: 5.6. | B45: Kiszámlázott általános forgalmi adó | C45: 10925105
A46: 5.7. | B46: Általános forgalmi adó visszatérítése
A47: 5.8. | B47: Kamatbevételek és más nyereségjellegű bevételek
A48: 5.9. | B48: Egyéb pénzügyi műveletek bevételei
A49: 5.10. | B49: Biztosító által fizetett kártérítés
A50: 5.11. | B50: Egyéb működési bevételek
A51: 6. | B51: Felhalmozási bevételek (6.1.+…+6.5.) | C51: =SUM(C52:C56) -> 11000000
A52: 6.1. | B52: Immateriális javak értékesítése
A53: 6.2. | B53: Ingatlanok értékesítése | C53: 11000000
A54: 6.3. | B54: Egyéb tárgyi eszközök értékesítése
A55: 6.4. | B55: Részesedések értékesítése
A56: 6.5. | B56: Részesedések megszűnéséhez kapcsolódó bevételek
A57: 7. | B57: Működési célú átvett pénzeszközök (7.1. + … + 7.3.) | C57: =SUM(C58:C60) -> 0
A58: 7.1. | B58: Működési célú garancia- és kezességvállalásból megtérülések ÁH-n kívülről
A59: 7.2. | B59: Működési célú visszatérítendő támogatások, kölcsönök visszatér. ÁH-n kívülről
A60: 7.3. | B60: Egyéb működési célú átvett pénzeszköz
A61: 7.4. | B61: 7.3.-ból EU-s támogatás (közvetlen)
A62: 8. | B62: Felhalmozási célú átvett pénzeszközök (8.1.+8.2.+8.3.) | C62: =SUM(C63:C65) -> 2580040
A63: 8.1. | B63: Felhalm. célú garancia- és kezességvállalásból megtérülések ÁH-n kívülről
A64: 8.2. | B64: Felhalm. célú visszatérítendő támogatások, kölcsönök visszatér. ÁH-n kívülről | C64: 2580040
A65: 8.3. | B65: Egyéb felhalmozási célú átvett pénzeszköz
A66: 8.4. | B66: 8.3.-ból EU-s támogatás (közvetlen)
A67: 9. | B67: KÖLTSÉGVETÉSI BEVÉTELEK ÖSSZESEN: (1+…+8) | C67: =+C10+C17+C24+C31+C39+C51+C57+C62 -> 516342866
A68: 10. | B68: Hitel-, kölcsönfelvétel államháztartáson kívülről (10.1.+10.3.) | C68: =SUM(C69:C71) -> 0
A69: 10.1. | B69: Hosszú lejáratú hitelek, kölcsönök felvétele
A70: 10.2. | B70: Likviditási célú hitelek, kölcsönök felvétele pénzügyi vállalkozástól
A71: 10.3. | B71: Rövid lejáratú hitelek, kölcsönök felvétele pénzügyi vállalkozástól
A72: 11. | B72: Belföldi értékpapírok bevételei (11.1. +…+ 11.4.) | C72: =SUM(C73:C76) -> 69406265
A73: 11.1. | B73: Forgatási célú belföldi értékpapírok beváltása, értékesítése | C73: 69406265
A74: 11.2. | B74: Éven belüli lejáratú belföldi értékpapírok kibocsátása
A75: 11.3. | B75: Befektetési célú belföldi értékpapírok beváltása, értékesítése
A76: 11.4. | B76: Éven túli lejáratú belföldi értékpapírok kibocsátása
A77: 12. | B77: Maradvány igénybevétele (12.1. + 12.2.) | C77: =SUM(C78:C79) -> 71042340
A78: 12.1. | B78: Előző év költségvetési maradványának igénybevétele | C78: 71042340
A79: 12.2. | B79: Előző év vállalkozási maradványának igénybevétele
A80: 13. | B80: Belföldi finanszírozás bevételei (13.1. + … + 13.3.) | C80: =SUM(C81:C83) -> 0
A81: 13.1. | B81: Államháztartáson belüli megelőlegezések
A82: 13.2. | B82: Államháztartáson belüli megelőlegezések törlesztése
A83: 13.3. | B83: Lekötött betétek megszüntetése
A84: 14. | B84: Külföldi finanszírozás bevételei (14.1.+…14.4.) | C84: =SUM(C85:C88) -> 0
A85: 14.1. | B85: Forgatási célú külföldi értékpapírok beváltása, értékesítése
A86: 14.2. | B86: Befektetési célú külföldi értékpapírok beváltása, értékesítése
A87: 14.3. | B87: Külföldi értékpapírok kibocsátása
A88: 14.4. | B88: Külföldi hitelek, kölcsönök felvétele
A89: 15. | B89: Váltóbevételek
A90: 16. | B90: Adóssághoz nem kapcsolódó származékos ügyletek bevételei
A91: 17. | B91: FINANSZÍROZÁSI BEVÉTELEK ÖSSZESEN: (10. + … +16.) | C91: =+C68+C72+C77+C80+C84+C90+C89 -> 140448605
A92: 18. | B92: KÖLTSÉGVETÉSI ÉS FINANSZÍROZÁSI BEVÉTELEK ÖSSZESEN: (9+17) | C92: =+C67+C91 -> 656791471
A94: K I A D Á S O K
A95: 2. sz. táblázat | C95: =C7 -> Forintban!
A96: Sor- szám | B96: Kiadási jogcímek | C96: =+C8 -> 2020. évi előirányzat
B97: A | C97: B
A98: 1. | B98: Működési költségvetés kiadásai (1.1+…+1.5.+1.18.) | C98: =C99+C100+C101+C102+C103+C116 -> 461122455
A99: 1.1. | B99: Személyi juttatások | C99: 162344941
A100: 1.2. | B100: Munkaadókat terhelő járulékok és szociális hozzájárulási adó | C100: 30620220
A101: 1.3. | B101: Dologi kiadások | C101: 190873654
A102: 1.4. | B102: Ellátottak pénzbeli juttatásai | C102: 13040000
...

Sheet KV_1.2.sz.mell.
B1: =CONCATENATE("1.2. melléklet ",ALAPADATOK!A7," ",ALAPADATOK!B7," ",ALAPADATOK!C7," ",ALAPADATOK!D7," ",ALAPADATOK!E7," ",ALAPADATOK!F7," ",ALAPADATOK!G7," ",ALAPADATOK!H7) -> 1.2. melléklet a … / 2020 ( … ) önkormányzati rendelethez
B2: =CONCATENATE(ALAPADATOK!A3) -> Sajószöged Községi Önkormányzat
B3: ='KV_1.1.sz.mell.'!B3 -> 2020. ÉVI KÖLTSÉGVETÉS
B4: KÖTELEZŐ FELADATOK MÉRLEGE
A6: B E V É T E L E K
A7: 1. sz. táblázat | C7: =CONCATENATE('KV_1.1.sz.mell.'!C7) -> Forintban!
A8: Sor- szám | B8: Bevételi jogcím | C8: =+CONCATENATE(LEFT(KV_ÖSSZEFÜGGÉSEK!A5,4),". évi előirányzat") -> 2020. évi előirányzat
B9: A | C9: B
A10: 1. | B10: Önkormányzat működési támogatásai (1.1.+…+.1.6.) | C10: =+C11+C12+C13+C14+C15+C16 -> 98604818
A11: 1.1. | B11: Helyi önkormányzatok működésének általános támogatása | C11: 23631621
A12: 1.2. | B12: Önkormányzatok egyes köznevelési feladatainak támogatása | C12: 48695600
A13: 1.3. | B13: Önkormányzatok szociális és gyermekjóléti, étkeztetési feladatainak támogatása | C13: 23410305
A14: 1.4. | B14: Önkormányzatok kulturális feladatainak támogatása | C14: 2867292
A15: 1.5. | B15: Működési célú kvi támogatások és kiegészítő támogatások
A16: 1.6. | B16: Elszámolásból származó bevételek
A17: 2. | B17: Működési célú támogatások államháztartáson belülről (2.1.+…+.2.5.) | C17: =+C18+C19+C20+C21+C22 -> 11262720
A18: 2.1. | B18: Elvonások és befizetések bevételei
A19: 2.2. | B19: Működési célú garancia- és kezességvállalásból megtérülések
A20: 2.3. | B20: Működési célú visszatérítendő támogatások, kölcsönök visszatérülése
A21: 2.4. | B21: Működési célú visszatérítendő támogatások, kölcsönök igénybevétele
A22: 2.5. | B22: Egyéb működési célú támogatások bevételei államháztartáson belülről | C22: 11262720
A23: 2.6. | B23: 2.5.-ből EU-s támogatás
A24: 3. | B24: Felhalmozási célú támogatások államháztartáson belülről (3.1.+…+3.5.) | C24: =+C25+C26+C27+C28+C29 -> 117478820
A25: 3.1. | B25: Felhalmozási célú önkormányzati támogatások
A26: 3.2. | B26: Felhalmozási célú garancia- és kezességvállalásból megtérülések
A27: 3.3. | B27: Felhalmozási célú visszatérítendő támogatások, kölcsönök visszatérülése
A28: 3.4. | B28: Felhalmozási célú visszatérítendő támogatások, kölcsönök igénybevétele
A29: 3.5. | B29: Egyéb felhalmozási célú támogatások bevételei | C29: 117478820
A30: 3.6. | B30: 3.5.-ből EU-s támogatás | C30: 117478820
A31: 4. | B31: Közhatalmi bevételek (4.1.+…+4.7.) | C31: =SUM(C32:C38) -> 221400000
A32: 4.1. | B32: ='KV_1.1.sz.mell.'!B32 -> Vagyoni tipusú adók | C32: 102100000
A33: 4.2. | B33: ='KV_1.1.sz.mell.'!B33 -> Idegenforgalmi adó
A34: 4.3. | B34: ='KV_1.1.sz.mell.'!B34 -> Iparűzési adó | C34: 110000000
A35: 4.4. | B35: ='KV_1.1.sz.mell.'!B35 -> Talajterhelési díj | C35: 200000
A36: 4.5. | B36: ='KV_1.1.sz.mell.'!B36 -> Gépjárműadó | C36: 8800000
A37: 4.6. | B37: ='KV_1.1.sz.mell.'!B37 -> Egyéb közhatalmi bevételek | C37: 300000
A38: 4.7. | B38: ='KV_1.1.sz.mell.'!B38 -> Kommunális adó
A39: 5. | B39: Működési bevételek (5.1.+…+ 5.11.) | C39: =SUM(C40:C50) -> 54016468
A40: 5.1. | B40: Készletértékesítés ellenértéke
A41: 5.2. | B41: Szolgáltatások ellenértéke | C41: 12268000
A42: 5.3. | B42: Közvetített szolgáltatások értéke | C42: 1850000
A43: 5.4. | B43: Tulajdonosi bevételek | C43: 13693455
A44: 5.5. | B44: Ellátási díjak | C44: 15279908
A45: 5.6. | B45: Kiszámlázott általános forgalmi adó | C45: 10925105
A46: 5.7. | B46: Általános forgalmi adó visszatérítése
A47: 5.8. | B47: Kamatbevételek és más nyereségjellegű bevételek
A48: 5.9. | B48: Egyéb pénzügyi műveletek bevételei
A49: 5.10. | B49: Biztosító által fizetett kártérítés
A50: 5.11. | B50: Egyéb működési bevételek
A51: 6. | B51: Felhalmozási bevételek (6.1.+…+6.5.) | C51: =SUM(C52:C56) -> 11000000
A52: 6.1. | B52: Immateriális javak értékesítése
A53: 6.2. | B53: Ingatlanok értékesítése | C53: 11000000
A54: 6.3. | B54: Egyéb tárgyi eszközök értékesítése
A55: 6.4. | B55: Részesedések értékesítése
A56: 6.5. | B56: Részesedések megszűnéséhez kapcsolódó bevételek
A57: 7. | B57: Működési célú átvett pénzeszközök (7.1. + … + 7.3.) | C57: =SUM(C58:C60) -> 0
A58: 7.1. | B58: Működési célú garancia- és kezességvállalásból megtérülések ÁH-n kívülről
A59: 7.2. | B59: Működési célú visszatérítendő támogatások, kölcsönök visszatér. ÁH-n kívülről
A60: 7.3. | B60: Egyéb működési célú átvett pénzeszköz
A61: 7.4. | B61: 7.3.-ból EU-s támogatás (közvetlen)
A62: 8. | B62: Felhalmozási célú átvett pénzeszközök (8.1.+8.2.+8.3.) | C62: =SUM(C63:C65) -> 2580040
A63: 8.1. | B63: Felhalm. célú garancia- és kezességvállalásból megtérülések ÁH-n kívülről
A64: 8.2. | B64: Felhalm. célú visszatérítendő támogatások, kölcsönök visszatér. ÁH-n kívülről
A65: 8.3. | B65: Egyéb felhalmozási célú átvett pénzeszköz | C65: 2580040
A66: 8.4. | B66: 8.3.-ból EU-s támogatás (közvetlen)
A67: 9. | B67: KÖLTSÉGVETÉSI BEVÉTELEK ÖSSZESEN: (1+…+8) | C67: =+C10+C17+C24+C31+C39+C51+C57+C62 -> 516342866
A68: 10. | B68: Hitel-, kölcsönfelvétel államháztartáson kívülről (10.1.+10.3.) | C68: =SUM(C69:C71) -> 0
A69: 10.1. | B69: Hosszú lejáratú hitelek, kölcsönök felvétele
A70: 10.2. | B70: Likviditási célú hitelek, kölcsönök felvétele pénzügyi vállalkozástól
A71: 10.3. | B71: Rövid lejáratú hitelek, kölcsönök felvétele pénzügyi vállalkozástól
A72: 11. | B72: Belföldi értékpapírok bevételei (11.1. +…+ 11.4.) | C72: =SUM(C73:C76) -> 69406265
A73: 11.1. | B73: Forgatási célú belföldi értékpapírok beváltása, értékesítése | C73: 69406265
A74: 11.2. | B74: Éven belüli lejáratú belföldi értékpapírok kibocsátása
A75: 11.3. | B75: Befektetési célú belföldi értékpapírok beváltása, értékesítése
A76: 11.4. | B76: Éven túli lejáratú belföldi értékpapírok kibocsátása
A77: 12. | B77: Maradvány igénybevétele (12.1. + 12.2.) | C77: =SUM(C78:C79) -> 71042340
A78: 12.1. | B78: Előző év költségvetési maradványának igénybevétele | C78: 71042340
A79: 12.2. | B79: Előző év vállalkozási maradványának igénybevétele
A80: 13. | B80: Belföldi finanszírozás bevételei (13.1. + … + 13.3.) | C80: =SUM(C81:C83) -> 0
A81: 13.1. | B81: Államháztartáson belüli megelőlegezések
A82: 13.2. | B82: Államháztartáson belüli megelőlegezések törlesztése
A83: 13.3. | B83: Lekötött betétek megszüntetése
A84: 14. | B84: Külföldi finanszírozás bevételei (14.1.+…14.4.) | C84: =SUM(C85:C88) -> 0
A85: 14.1. | B85: Forgatási célú külföldi értékpapírok beváltása, értékesítése
A86: 14.2. | B86: Befektetési célú külföldi értékpapírok beváltása, értékesítése
A87: 14.3. | B87: Külföldi értékpapírok kibocsátása
A88: 14.4. | B88: Külföldi hitelek, kölcsönök felvétele
A89: 15. | B89: Váltóbevételek
A90: 16. | B90: Adóssághoz nem kapcsolódó származékos ügyletek bevételei
A91: 17. | B91: FINANSZÍROZÁSI BEVÉTELEK ÖSSZESEN: (10. + … +16.) | C91: =+C68+C72+C77+C80+C84+C90+C89 -> 140448605
A92: 18. | B92: KÖLTSÉGVETÉSI ÉS FINANSZÍROZÁSI BEVÉTELEK ÖSSZESEN: (9+17) | C92: =+C67+C91 -> 656791471
A94: K I A D Á S O K
A95: 2. sz. táblázat | C95: =C7 -> Forintban!
A96: Sor- szám | B96: Kiadási jogcímek | C96: =+C8 -> 2020. évi előirányzat
B97: A | C97: B
A98: 1. | B98: Működési költségvetés kiadásai (1.1+…+1.5.+1.18.) | C98: =C99+C100+C101+C102+C103+C116 -> 461122455
A99: 1.1. | B99: Személyi juttatások | C99: 162344941
A100: 1.2. | B100: Munkaadókat terhelő járulékok és szociális hozzájárulási adó | C100: 30620220
A101: 1.3. | B101: Dologi kiadások | C101: 190873654
A102: 1.4. | B102: Ellátottak pénzbeli juttatásai | C102: 13040000
...

Sheet KV_1.3.sz.mell.
B1: =CONCATENATE("1.3. melléklet ",ALAPADATOK!A7," ",ALAPADATOK!B7," ",ALAPADATOK!C7," ",ALAPADATOK!D7," ",ALAPADATOK!E7," ",ALAPADATOK!F7," ",ALAPADATOK!G7," ",ALAPADATOK!H7) -> 1.3. melléklet a … / 2020 ( … ) önkormányzati rendelethez
B2: =CONCATENATE(ALAPADATOK!A3) -> Sajószöged Községi Önkormányzat
B3: ='KV_1.2.sz.mell.'!B3 -> 2020. ÉVI KÖLTSÉGVETÉS
B4: ÖNKÉNT VÁLLALT FELADATOK MÉRLEGE
A6: B E V É T E L E K
A7: 1. sz. táblázat | C7: =CONCATENATE('KV_1.1.sz.mell.'!C7) -> Forintban!
A8: Sor- szám | B8: Bevételi jogcím | C8: =+CONCATENATE(LEFT(KV_ÖSSZEFÜGGÉSEK!A5,4),". évi előirányzat") -> 2020. évi előirányzat
B9: A | C9: B
A10: 1. | B10: Önkormányzat működési támogatásai (1.1.+…+.1.6.) | C10: =+C11+C12+C13+C14+C15+C16 -> 0
A11: 1.1. | B11: Helyi önkormányzatok működésének általános támogatása
A12: 1.2. | B12: Önkormányzatok egyes köznevelési feladatainak támogatása
A13: 1.3. | B13: Önkormányzatok szociális és gyermekjóléti, étkeztetési feladatainak támogatása
A14: 1.4. | B14: Önkormányzatok kulturális feladatainak támogatása
A15: 1.5. | B15: Működési célú kvi támogatások és kiegészítő támogatások
A16: 1.6. | B16: Elszámolásból származó bevételek
A17: 2. | B17: Működési célú támogatások államháztartáson belülről (2.1.+…+.2.5.) | C17: =+C18+C19+C20+C21+C22 -> 0
A18: 2.1. | B18: Elvonások és befizetések bevételei
A19: 2.2. | B19: Működési célú garancia- és kezességvállalásból megtérülések
A20: 2.3. | B20: Működési célú visszatérítendő támogatások, kölcsönök visszatérülése
A21: 2.4. | B21: Működési célú visszatérítendő támogatások, kölcsönök igénybevétele
A22: 2.5. | B22: Egyéb működési célú támogatások bevételei államháztartáson belülről
A23: 2.6. | B23: 2.5.-ből EU-s támogatás
A24: 3. | B24: Felhalmozási célú támogatások államháztartáson belülről (3.1.+…+3.5.) | C24: =+C25+C26+C27+C28+C29 -> 0
A25: 3.1. | B25: Felhalmozási célú önkormányzati támogatások
A26: 3.2. | B26: Felhalmozási célú garancia- és kezességvállalásból megtérülések
A27: 3.3. | B27: Felhalmozási célú visszatérítendő támogatások, kölcsönök visszatérülése
A28: 3.4. | B28: Felhalmozási célú visszatérítendő támogatások, kölcsönök igénybevétele
A29: 3.5. | B29: Egyéb felhalmozási célú támogatások bevételei
A30: 3.6. | B30: 3.5.-ből EU-s támogatás
A31: 4. | B31: Közhatalmi bevételek (4.1.+…+4.7.) | C31: =SUM(C32:C38) -> 0
A32: 4.1. | B32: ='KV_1.1.sz.mell.'!B32 -> Vagyoni tipusú adók
A33: 4.2. | B33: ='KV_1.1.sz.mell.'!B33 -> Idegenforgalmi adó
A34: 4.3. | B34: ='KV_1.1.sz.mell.'!B34 -> Iparűzési adó
A35: 4.4. | B35: ='KV_1.1.sz.mell.'!B35 -> Talajterhelési díj
A36: 4.5. | B36: ='KV_1.1.sz.mell.'!B36 -> Gépjárműadó
A37: 4.6. | B37: ='KV_1.1.sz.mell.'!B37 -> Egyéb közhatalmi bevételek
A38: 4.7. | B38: ='KV_1.1.sz.mell.'!B38 -> Kommunális adó
A39: 5. | B39: Működési bevételek (5.1.+…+ 5.11.) | C39: =SUM(C40:C50) -> 0
A40: 5.1. | B40: Készletértékesítés ellenértéke
A41: 5.2. | B41: Szolgáltatások ellenértéke
A42: 5.3. | B42: Közvetített szolgáltatások értéke
A43: 5.4. | B43: Tulajdonosi bevételek
A44: 5.5. | B44: Ellátási díjak
A45: 5.6. | B45: Kiszámlázott általános forgalmi adó
A46: 5.7. | B46: Általános forgalmi adó visszatérítése
A47: 5.8. | B47: Kamatbevételek és más nyereségjellegű bevételek
A48: 5.9. | B48: Egyéb pénzügyi műveletek bevételei
A49: 5.10. | B49: Biztosító által fizetett kártérítés
A50: 5.11. | B50: Egyéb működési bevételek
A51: 6. | B51: Felhalmozási bevételek (6.1.+…+6.5.) | C51: =SUM(C52:C56) -> 0
A52: 6.1. | B52: Immateriális javak értékesítése
A53: 6.2. | B53: Ingatlanok értékesítése
A54: 6.3. | B54: Egyéb tárgyi eszközök értékesítése
A55: 6.4. | B55: Részesedések értékesítése
A56: 6.5. | B56: Részesedések megszűnéséhez kapcsolódó bevételek
A57: 7. | B57: Működési célú átvett pénzeszközök (7.1. + … + 7.3.) | C57: =SUM(C58:C60) -> 0
A58: 7.1. | B58: Működési célú garancia- és kezességvállalásból megtérülések ÁH-n kívülről
A59: 7.2. | B59: Működési célú visszatérítendő támogatások, kölcsönök visszatér. ÁH-n kívülről
A60: 7.3. | B60: Egyéb működési célú átvett pénzeszköz
A61: 7.4. | B61: 7.3.-ból EU-s támogatás (közvetlen)
A62: 8. | B62: Felhalmozási célú átvett pénzeszközök (8.1.+8.2.+8.3.) | C62: =SUM(C63:C65) -> 0
A63: 8.1. | B63: Felhalm. célú garancia- és kezességvállalásból megtérülések ÁH-n kívülről
A64: 8.2. | B64: Felhalm. célú visszatérítendő támogatások, kölcsönök visszatér. ÁH-n kívülről
A65: 8.3. | B65: Egyéb felhalmozási célú átvett pénzeszköz
A66: 8.4. | B66: 8.3.-ból EU-s támogatás (közvetlen)
A67: 9. | B67: KÖLTSÉGVETÉSI BEVÉTELEK ÖSSZESEN: (1+…+8) | C67: =+C10+C17+C24+C31+C39+C51+C57+C62 -> 0
A68: 10. | B68: Hitel-, kölcsönfelvétel államháztartáson kívülről (10.1.+10.3.) | C68: =SUM(C69:C71) -> 0
A69: 10.1. | B69: Hosszú lejáratú hitelek, kölcsönök felvétele
A70: 10.2. | B70: Likviditási célú hitelek, kölcsönök felvétele pénzügyi vállalkozástól
A71: 10.3. | B71: Rövid lejáratú hitelek, kölcsönök felvétele pénzügyi vállalkozástól
A72: 11. | B72: Belföldi értékpapírok bevételei (11.1. +…+ 11.4.) | C72: =SUM(C73:C76) -> 0
A73: 11.1. | B73: Forgatási célú belföldi értékpapírok beváltása, értékesítése
A74: 11.2. | B74: Éven belüli lejáratú belföldi értékpapírok kibocsátása
A75: 11.3. | B75: Befektetési célú belföldi értékpapírok beváltása, értékesítése
A76: 11.4. | B76: Éven túli lejáratú belföldi értékpapírok kibocsátása
A77: 12. | B77: Maradvány igénybevétele (12.1. + 12.2.) | C77: =SUM(C78:C79) -> 0
A78: 12.1. | B78: Előző év költségvetési maradványának igénybevétele
A79: 12.2. | B79: Előző év vállalkozási maradványának igénybevétele
A80: 13. | B80: Belföldi finanszírozás bevételei (13.1. + … + 13.3.) | C80: =SUM(C81:C83) -> 0
A81: 13.1. | B81: Államháztartáson belüli megelőlegezések
A82: 13.2. | B82: Államháztartáson belüli megelőlegezések törlesztése
A83: 13.3. | B83: Lekötött betétek megszüntetése
A84: 14. | B84: Külföldi finanszírozás bevételei (14.1.+…14.4.) | C84: =SUM(C85:C88) -> 0
A85: 14.1. | B85: Forgatási célú külföldi értékpapírok beváltása, értékesítése
A86: 14.2. | B86: Befektetési célú külföldi értékpapírok beváltása, értékesítése
A87: 14.3. | B87: Külföldi értékpapírok kibocsátása
A88: 14.4. | B88: Külföldi hitelek, kölcsönök felvétele
A89: 15. | B89: Váltóbevételek
A90: 16. | B90: Adóssághoz nem kapcsolódó származékos ügyletek bevételei
A91: 17. | B91: FINANSZÍROZÁSI BEVÉTELEK ÖSSZESEN: (10. + … +16.) | C91: =+C68+C72+C77+C80+C84+C90+C89 -> 0
A92: 18. | B92: KÖLTSÉGVETÉSI ÉS FINANSZÍROZÁSI BEVÉTELEK ÖSSZESEN: (9+17) | C92: =+C67+C91 -> 0
A94: K I A D Á S O K
A95: 2. sz. táblázat | C95: =C7 -> Forintban!
A96: Sor- szám | B96: Kiadási jogcímek | C96: =+C8 -> 2020. évi előirányzat
B97: A | C97: B
A98: 1. | B98: Működési költségvetés kiadásai (1.1+…+1.5.+1.18.) | C98: =C99+C100+C101+C102+C103+C116 -> 0
A99: 1.1. | B99: Személyi juttatások
A100: 1.2. | B100: Munkaadókat terhelő járulékok és szociális hozzájárulási adó
A101: 1.3. | B101: Dologi kiadások
A102: 1.4. | B102: Ellátottak pénzbeli juttatásai
...

Sheet KV_1.4.sz.mell.
B1: =CONCATENATE("1.4. melléklet ",ALAPADATOK!A7," ",ALAPADATOK!B7," ",ALAPADATOK!C7," ",ALAPADATOK!D7," ",ALAPADATOK!E7," ",ALAPADATOK!F7," ",ALAPADATOK!G7," ",ALAPADATOK!H7) -> 1.4. melléklet a … / 2020 ( … ) önkormányzati rendelethez
B2: =CONCATENATE(ALAPADATOK!A3) -> Sajószöged Községi Önkormányzat
B3: ='KV_1.3.sz.mell.'!B3 -> 2020. ÉVI KÖLTSÉGVETÉS
B4: ÁLLAMIGAZGATÁSI FELADATOK MÉRLEGE
A6: B E V É T E L E K
A7: 1. sz. táblázat | C7: =CONCATENATE('KV_1.1.sz.mell.'!C7) -> Forintban!
A8: Sor- szám | B8: Bevételi jogcím | C8: =+CONCATENATE(LEFT(KV_ÖSSZEFÜGGÉSEK!A5,4),". évi előirányzat") -> 2020. évi előirányzat
B9: A | C9: B
A10: 1. | B10: Önkormányzat működési támogatásai (1.1.+…+.1.6.) | C10: =+C11+C12+C13+C14+C15+C16 -> 0
A11: 1.1. | B11: Helyi önkormányzatok működésének általános támogatása
A12: 1.2. | B12: Önkormányzatok egyes köznevelési feladatainak támogatása
A13: 1.3. | B13: Önkormányzatok szociális és gyermekjóléti, étkeztetési feladatainak támogatása
A14: 1.4. | B14: Önkormányzatok kulturális feladatainak támogatása
A15: 1.5. | B15: Működési célú kvi támogatások és kiegészítő támogatások
A16: 1.6. | B16: Elszámolásból származó bevételek
A17: 2. | B17: Működési célú támogatások államháztartáson belülről (2.1.+…+.2.5.) | C17: =+C18+C19+C20+C21+C22 -> 0
A18: 2.1. | B18: Elvonások és befizetések bevételei
A19: 2.2. | B19: Működési célú garancia- és kezességvállalásból megtérülések
A20: 2.3. | B20: Működési célú visszatérítendő támogatások, kölcsönök visszatérülése
A21: 2.4. | B21: Működési célú visszatérítendő támogatások, kölcsönök igénybevétele
A22: 2.5. | B22: Egyéb működési célú támogatások bevételei államháztartáson belülről
A23: 2.6. | B23: 2.5.-ből EU-s támogatás
A24: 3. | B24: Felhalmozási célú támogatások államháztartáson belülről (3.1.+…+3.5.) | C24: =+C25+C26+C27+C28+C29 -> 0
A25: 3.1. | B25: Felhalmozási célú önkormányzati támogatások
A26: 3.2. | B26: Felhalmozási célú garancia- és kezességvállalásból megtérülések
A27: 3.3. | B27: Felhalmozási célú visszatérítendő támogatások, kölcsönök visszatérülése
A28: 3.4. | B28: Felhalmozási célú visszatérítendő támogatások, kölcsönök igénybevétele
A29: 3.5. | B29: Egyéb felhalmozási célú támogatások bevételei
A30: 3.6. | B30: 3.5.-ből EU-s támogatás
A31: 4. | B31: Közhatalmi bevételek (4.1.+…+4.7.) | C31: =SUM(C32:C38) -> 0
A32: 4.1. | B32: ='KV_1.1.sz.mell.'!B32 -> Vagyoni tipusú adók
A33: 4.2. | B33: ='KV_1.1.sz.mell.'!B33 -> Idegenforgalmi adó
A34: 4.3. | B34: ='KV_1.1.sz.mell.'!B34 -> Iparűzési adó
A35: 4.4. | B35: ='KV_1.1.sz.mell.'!B35 -> Talajterhelési díj
A36: 4.5. | B36: ='KV_1.1.sz.mell.'!B36 -> Gépjárműadó
A37: 4.6. | B37: ='KV_1.1.sz.mell.'!B37 -> Egyéb közhatalmi bevételek
A38: 4.7. | B38: ='KV_1.1.sz.mell.'!B38 -> Kommunális adó
A39: 5. | B39: Működési bevételek (5.1.+…+ 5.11.) | C39: =SUM(C40:C50) -> 0
A40: 5.1. | B40: Készletértékesítés ellenértéke
A41: 5.2. | B41: Szolgáltatások ellenértéke
A42: 5.3. | B42: Közvetített szolgáltatások értéke
A43: 5.4. | B43: Tulajdonosi bevételek
A44: 5.5. | B44: Ellátási díjak
A45: 5.6. | B45: Kiszámlázott általános forgalmi adó
A46: 5.7. | B46: Általános forgalmi adó visszatérítése
A47: 5.8. | B47: Kamatbevételek és más nyereségjellegű bevételek
A48: 5.9. | B48: Egyéb pénzügyi műveletek bevételei
A49: 5.10. | B49: Biztosító által fizetett kártérítés
A50: 5.11. | B50: Egyéb működési bevételek
A51: 6. | B51: Felhalmozási bevételek (6.1.+…+6.5.) | C51: =SUM(C52:C56) -> 0
A52: 6.1. | B52: Immateriális javak értékesítése
A53: 6.2. | B53: Ingatlanok értékesítése
A54: 6.3. | B54: Egyéb tárgyi eszközök értékesítése
A55: 6.4. | B55: Részesedések értékesítése
A56: 6.5. | B56: Részesedések megszűnéséhez kapcsolódó bevételek
A57: 7. | B57: Működési célú átvett pénzeszközök (7.1. + … + 7.3.) | C57: =SUM(C58:C60) -> 0
A58: 7.1. | B58: Működési célú garancia- és kezességvállalásból megtérülések ÁH-n kívülről
A59: 7.2. | B59: Működési célú visszatérítendő támogatások, kölcsönök visszatér. ÁH-n kívülről
A60: 7.3. | B60: Egyéb működési célú átvett pénzeszköz
A61: 7.4. | B61: 7.3.-ból EU-s támogatás (közvetlen)
A62: 8. | B62: Felhalmozási célú átvett pénzeszközök (8.1.+8.2.+8.3.) | C62: =SUM(C63:C65) -> 0
A63: 8.1. | B63: Felhalm. célú garancia- és kezességvállalásból megtérülések ÁH-n kívülről
A64: 8.2. | B64: Felhalm. célú visszatérítendő támogatások, kölcsönök visszatér. ÁH-n kívülről
A65: 8.3. | B65: Egyéb felhalmozási célú átvett pénzeszköz
A66: 8.4. | B66: 8.3.-ból EU-s támogatás (közvetlen)
A67: 9. | B67: KÖLTSÉGVETÉSI BEVÉTELEK ÖSSZESEN: (1+…+8) | C67: =+C10+C17+C24+C31+C39+C51+C57+C62 -> 0
A68: 10. | B68: Hitel-, kölcsönfelvétel államháztartáson kívülről (10.1.+10.3.) | C68: =SUM(C69:C71) -> 0
A69: 10.1. | B69: Hosszú lejáratú hitelek, kölcsönök felvétele
A70: 10.2. | B70: Likviditási célú hitelek, kölcsönök felvétele pénzügyi vállalkozástól
A71: 10.3. | B71: Rövid lejáratú hitelek, kölcsönök felvétele pénzügyi vállalkozástól
A72: 11. | B72: Belföldi értékpapírok bevételei (11.1. +…+ 11.4.) | C72: =SUM(C73:C76) -> 0
A73: 11.1. | B73: Forgatási célú belföldi értékpapírok beváltása, értékesítése
A74: 11.2. | B74: Éven belüli lejáratú belföldi értékpapírok kibocsátása
A75: 11.3. | B75: Befektetési célú belföldi értékpapírok beváltása, értékesítése
A76: 11.4. | B76: Éven túli lejáratú belföldi értékpapírok kibocsátása
A77: 12. | B77: Maradvány igénybevétele (12.1. + 12.2.) | C77: =SUM(C78:C79) -> 0
A78: 12.1. | B78: Előző év költségvetési maradványának igénybevétele
A79: 12.2. | B79: Előző év vállalkozási maradványának igénybevétele
A80: 13. | B80: Belföldi finanszírozás bevételei (13.1. + … + 13.3.) | C80: =SUM(C81:C83) -> 0
A81: 13.1. | B81: Államháztartáson belüli megelőlegezések
A82: 13.2. | B82: Államháztartáson belüli megelőlegezések törlesztése
A83: 13.3. | B83: Lekötött betétek megszüntetése
A84: 14. | B84: Külföldi finanszírozás bevételei (14.1.+…14.4.) | C84: =SUM(C85:C88) -> 0
A85: 14.1. | B85: Forgatási célú külföldi értékpapírok beváltása, értékesítése
A86: 14.2. | B86: Befektetési célú külföldi értékpapírok beváltása, értékesítése
A87: 14.3. | B87: Külföldi értékpapírok kibocsátása
A88: 14.4. | B88: Külföldi hitelek, kölcsönök felvétele
A89: 15. | B89: Váltóbevételek
A90: 16. | B90: Adóssághoz nem kapcsolódó származékos ügyletek bevételei
A91: 17. | B91: FINANSZÍROZÁSI BEVÉTELEK ÖSSZESEN: (10. + … +16.) | C91: =+C68+C72+C77+C80+C84+C90+C89 -> 0
A92: 18. | B92: KÖLTSÉGVETÉSI ÉS FINANSZÍROZÁSI BEVÉTELEK ÖSSZESEN: (9+17) | C92: =+C67+C91 -> 0
A94: K I A D Á S O K
A95: 2. sz. táblázat | C95: =C7 -> Forintban!
A96: Sor- szám | B96: Kiadási jogcímek | C96: =+C8 -> 2020. évi előirányzat
B97: A | C97: B
A98: 1. | B98: Működési költségvetés kiadásai (1.1+…+1.5.+1.18.) | C98: =C99+C100+C101+C102+C103+C116 -> 0
A99: 1.1. | B99: Személyi juttatások
A100: 1.2. | B100: Munkaadókat terhelő járulékok és szociális hozzájárulási adó
A101: 1.3. | B101: Dologi kiadások
A102: 1.4. | B102: Ellátottak pénzbeli juttatásai
...

Sheet KV_2.1.sz.mell.
B1: I. Működési célú bevételek és kiadások mérlege (Önkormányzati szinten) | F1: =CONCATENATE("2.1. melléklet ",ALAPADATOK!A7," ",ALAPADATOK!B7," ",ALAPADATOK!C7," ",ALAPADATOK!D7," ",ALAPADATOK!E7," ",ALAPADATOK!F7," ",ALAPADATOK!G7," ",ALAPADATOK!H7) -> 2.1. melléklet a … / 2020 ( … ) önkormányzati rendelethez
E2: =CONCATENATE('KV_1.1.sz.mell.'!C7) -> Forintban!
A3: Sor- szám | B3: Bevételek | D3: Kiadások
B4: Megnevezés | C4: =+'KV_1.1.sz.mell.'!C8 -> 2020. évi előirányzat | D4: Megnevezés | E4: =+C4 -> 2020. évi előirányzat
B5: A | C5: B | D5: C | E5: D
A6: 1. | B6: Önkormányzatok működési támogatásai | C6: 98604818 | D6: Személyi juttatások | E6: 162344941
A7: 2. | B7: Működési célú támogatások államháztartáson belülről | C7: 11262720 | D7: Munkaadókat terhelő járulékok és szociális hozzájárulási adó | E7: 30620220
A8: 3. | B8: 2.-ból EU-s támogatás | D8: Dologi kiadások | E8: 190873654
A9: 4. | B9: Közhatalmi bevételek | C9: 221400000 | D9: Ellátottak pénzbeli juttatásai | E9: 13040000
A10: 5. | B10: Működési bevételek | C10: 54016468 | D10: Egyéb működési célú kiadások | E10: 54243640
A11: 6. | B11: Működési célú átvett pénzeszközök | D11: Tartalékok | E11: 10000000
A12: 7. | B12: 6.-ból EU-s támogatás (közvetlen)
A13: 8.
A14: 9.
A15: 10.
A16: 11.
A17: 12.
A18: 13. | B18: Költségvetési bevételek összesen (1.+2.+4.+5.+6.+8.+…+12.) | C18: =C6+C7+C9+C10+C11+C13+C14+C15+C16+C17 -> 385284006 | D18: Költségvetési kiadások összesen (1.+...+12.) | E18: =SUM(E6:E17) -> 461122455
A19: 14. | B19: Hiány belső finanszírozásának bevételei (15.+…+18. ) | C19: =+C20+C21+C22+C23 -> 75838449 | D19: Értékpapír vásárlása, visszavásárlása
A20: 15. | B20: Költségvetési maradvány igénybevétele | C20: 6432184 | D20: Likviditási célú hitelek törlesztése
A21: 16. | B21: Vállalkozási maradvány igénybevétele | D21: Rövid lejáratú hitelek törlesztése
A22: 17. | B22: Betét visszavonásából származó bevétel | D22: Hosszú lejáratú hitelek törlesztése
A23: 18. | B23: OTP befektetési jegy visszaváltása | C23: 69406265 | D23: Kölcsön törlesztése
A24: 19. | B24: Hiány külső finanszírozásának bevételei (20.+…+21.) | C24: =+C25+C26 -> 0 | D24: Forgatási célú belföldi, külföldi értékpapírok vásárlása
A25: 20. | B25: Likviditási célú hitelek, kölcsönök felvétele | D25: Pénzeszközök lekötött betétként elhelyezése
A26: 21. | B26: Egyéb | D26: Adóssághoz nem kapcsolódó származékos ügyletek
A27: 22. | B27: Váltóbevételek | D27: Váltókiadások
A28: 23. | B28: Adóssághoz nem kapcsolódó származékos ügyletek bevételei
A29: 24. | B29: Működési célú finanszírozási bevételek összesen (14.+19.+22.+23.) | C29: =+C19+C24+C27+C28 -> 75838449 | D29: Működési célú finanszírozási kiadások összesen (14.+...+23.) | E29: =SUM(E19:E28) -> 0
A30: 25. | B30: BEVÉTEL ÖSSZESEN (13.+24.) | C30: =+C18+C29 -> 461122455 | D30: KIADÁSOK ÖSSZESEN (13.+24.) | E30: =+E18+E29 -> 461122455
A31: 26. | B31: Költségvetési hiány: | C31: =IF(C18-E18<0,E18-C18,"-") -> 75838449 | D31: Költségvetési többlet: | E31: =IF(C18-E18>0,C18-E18,"-") -> -
A32: 27. | B32: Bruttó hiány: | C32: =IF(C30-E30<0,E30-C30,"-") -> - | D32: Bruttó többlet: | E32: =IF(C30-E30>0,C30-E30,"-") -> -
A33: =IF(C32<>"-","Nem lehet bruttó hiány, mert az Mötv. 111. § (4) bekezédse szerint A költségvetési rendeletben működési hiány nem tervezhető.","")

Sheet KV_2.2.sz.mell.
B1: II. Felhalmozási célú bevételek és kiadások mérlege (Önkormányzati szinten) | F1: =CONCATENATE("2.2. melléklet ",ALAPADATOK!A7," ",ALAPADATOK!B7," ",ALAPADATOK!C7," ",ALAPADATOK!D7," ",ALAPADATOK!E7," ",ALAPADATOK!F7," ",ALAPADATOK!G7," ",ALAPADATOK!H7) -> 2.2. melléklet a … / 2020 ( … ) önkormányzati rendelethez
E2: =CONCATENATE('KV_1.1.sz.mell.'!C7) -> Forintban!
A3: Sor- szám | B3: Bevételek | D3: Kiadások
B4: Megnevezés | C4: =+'KV_2.1.sz.mell.'!C4 -> 2020. évi előirányzat | D4: Megnevezés | E4: =+'KV_2.1.sz.mell.'!C4 -> 2020. évi előirányzat
B5: A | C5: B | D5: C | E5: D
A6: 1. | B6: Felhalmozási célú támogatások államháztartáson belülről | C6: 117478820 | D6: Beruházások | E6: 174297550
A7: 2. | B7: 1.-ből EU-s támogatás | C7: 117478820 | D7: 1.-ből EU-s forrásból megvalósuló beruházás | E7: 101435180
A8: 3. | B8: Felhalmozási bevételek | C8: 11000000 | D8: Felújítások | E8: 17390675
A9: 4. | B9: Felhalmozási célú átvett pénzeszközök átvétele | C9: 2580040 | D9: 3.-ból EU-s forrásból megvalósuló felújítás
A10: 5. | B10: 4.-ből EU-s támogatás (közvetlen) | D10: Egyéb felhalmozási kiadások | E10: 3980791
A11: 6. | B11: Egyéb felhalmozási célú bevételek
A12: 7.
A13: 8.
A14: 9.
A15: 10.
A16: 11. | D16: Tartalékok
A17: 12. | B17: Költségvetési bevételek összesen: (1.+3.+4.+6.+…+11.) | C17: =+C6+C8+C9+C11+C12+C13+C14+C15+C16 -> 131058860 | D17: Költségvetési kiadások összesen: (1.+3.+5.+...+11.) | E17: =+E6+E8+E10+E11+E12+E13+E14+E15+E16 -> 195669016
A18: 13. | B18: Hiány belső finanszírozás bevételei ( 14+…+18) | C18: =SUM(C19:C23) -> 64610156 | D18: Értékpapír vásárlása, visszavásárlása
A19: 14. | B19: Költségvetési maradvány igénybevétele | C19: 64610156 | D19: Hitelek törlesztése
A20: 15. | B20: Vállalkozási maradvány igénybevétele | D20: Rövid lejáratú hitelek törlesztése
A21: 16. | B21: Betét visszavonásából származó bevétel | D21: Hosszú lejáratú hitelek törlesztése
A22: 17. | B22: OTP befektetési jegy értékesítése | D22: Kölcsön törlesztése
A23: 18. | B23: Egyéb belső finanszírozási bevételek | D23: Befektetési célú belföldi, külföldi értékpapírok vásárlása
A24: 19. | B24: Hiány külső finanszírozásának bevételei (20+…+24 ) | C24: =+C25+C26+C27+C28+C29 -> 0 | D24: Betét elhelyezése
A25: 20. | B25: Hosszú lejáratú hitelek, kölcsönök felvétele | D25: Pénzügyi lízing kiadásai
A26: 21. | B26: Likviditási célú hitelek, kölcsönök felvétele
A27: 22. | B27: Rövid lejáratú hitelek, kölcsönök felvétele
A28: 23. | B28: Értékpapírok kibocsátása
A29: 24. | B29: Egyéb külső finanszírozási bevételek
A30: 25. | B30: Felhalmozási célú finanszírozási bevételek összesen (13.+19.) | C30: =+C18+C24 -> 64610156 | D30: Felhalmozási célú finanszírozási kiadások összesen (13.+...+24.) | E30: =SUM(E18:E29) -> 0
A31: 26. | B31: BEVÉTEL ÖSSZESEN (12+25) | C31: =+C17+C30 -> 195669016 | D31: KIADÁSOK ÖSSZESEN (12+25) | E31: =+E17+E30 -> 195669016
A32: 27. | B32: Költségvetési hiány: | C32: =IF(C17-E17<0,E17-C17,"-") -> 64610156 | D32: Költségvetési többlet: | E32: =IF(C17-E17>0,C17-E17,"-") -> -
A33: 28. | B33: Bruttó hiány: | C33: =IF(C31-E31<0,E31-C31,"-") -> - | D33: Bruttó többlet: | E33: =IF(C31-E31>0,C31-E31,"-") -> -

Sheet KV_ELLENŐRZÉS
A1: Költségvetési rendelet űrlapjainak összefüggései: | E1: ELTÉRÉS
A4: =+KV_ÖSSZEFÜGGÉSEK!A5 -> 2020. évi előirányzat BEVÉTELEK
A6: 1.1. sz. melléklet Bevételek táblázat C. oszlop 9 sora = | B6: =+'KV_1.1.sz.mell.'!C67 -> 516342866 | C6: 2.1. számú melléklet C. oszlop 13. sor + 2.2. számú melléklet C. oszlop 12. sor | D6: =+'KV_2.1.sz.mell.'!C18+'KV_2.2.sz.mell.'!C17 -> 516342866 | E6: =+B6-D6 -> 0
A7: 1.1. sz. melléklet Bevételek táblázat C. oszlop 17 sora = | B7: =+'KV_1.1.sz.mell.'!C91 -> 140448605 | C7: 2.1. számú melléklet C. oszlop 24. sor + 2.2. számú melléklet C. oszlop 25. sor | D7: =+'KV_2.1.sz.mell.'!C29+'KV_2.2.sz.mell.'!C30 -> 140448605 | E7: =+B7-D7 -> 0
A8: 1.1. sz. melléklet Bevételek táblázat C. oszlop 18 sora = | B8: =+'KV_1.1.sz.mell.'!C92 -> 656791471 | C8: 2.1. számú melléklet C. oszlop 25. sor + 2.2. számú melléklet C. oszlop 26. sor | D8: =+'KV_2.1.sz.mell.'!C30+'KV_2.2.sz.mell.'!C31 -> 656791471 | E8: =+B8-D8 -> 0
A11: =+KV_ÖSSZEFÜGGÉSEK!A12 -> 2020. évi előirányzat KIADÁSOK
A13: 1.1. sz. melléklet Kiadások táblázat C. oszlop 3 sora = | B13: =+'KV_1.1.sz.mell.'!C133 -> 656791471 | C13: 2.1. számú melléklet E. oszlop 13. sor + 2.2. számú melléklet E. oszlop 12. sor | D13: =+'KV_2.1.sz.mell.'!E18+'KV_2.2.sz.mell.'!E17 -> 656791471 | E13: =+B13-D13 -> 0
A14: 1.1. sz. melléklet Kiadások táblázat C. oszlop 10 sora = | B14: =+'KV_1.1.sz.mell.'!C158 -> 0 | C14: 2.1. számú melléklet E. oszlop 24. sor + 2.2. számú melléklet E. oszlop 25. sor | D14: =+'KV_2.1.sz.mell.'!E29+'KV_2.2.sz.mell.'!E30 -> 0 | E14: =+B14-D14 -> 0
A15: 1.1. sz. melléklet Kiadások táblázat C. oszlop 11 sora = | B15: =+'KV_1.1.sz.mell.'!C159 -> 656791471 | C15: 2.1. számú melléklet E. oszlop 25. sor + 2.2. számú melléklet E. oszlop 26. sor | D15: =+'KV_2.1.sz.mell.'!E30+'KV_2.2.sz.mell.'!E31 -> 656791471 | E15: =+B15-D15 -> 0

Sheet KV_3.sz.mell.
B2: =CONCATENATE("3. melléklet ",ALAPADATOK!A7," ",ALAPADATOK!B7," ",ALAPADATOK!C7," ",ALAPADATOK!D7," ",ALAPADATOK!E7," ",ALAPADATOK!F7," ",ALAPADATOK!G7," ",ALAPADATOK!H7) -> 3. melléklet a … / 2020 ( … ) önkormányzati rendelethez
A4: =CONCATENATE(PROPER(ALAPADATOK!A3)," adósságot keletkeztető ügyletekből és kezességvállalásokból fennálló kötelezettségei") -> Sajószöged Községi Önkormányzat adósságot keletkeztető ügyletekből és kezességvállalásokból fennálló kötelezettségei
E5: ='KV_2.2.sz.mell.'!E2 -> Forintban!
A6: Sor-szám | B6: MEGNEVEZÉS | C6: Évek | F6: Összesen (F=C+D+E)
C7: =+LEFT(KV_ÖSSZEFÜGGÉSEK!A5,4)+1 -> 2021 | D7: =+C7+1 -> 2022 | E7: =+D7+1 -> 2023
B8: A | C8: B | D8: C | E8: D | F8: E
A9: 1. | B9: NEMLEGES! | F9: =SUM(C9:E9) -> 0
A10: 2. | F10: =SUM(C10:E10) -> 0
A11: 3. | F11: =SUM(C11:E11) -> 0
A12: 4. | F12: =SUM(C12:E12) -> 0
A13: 5. | F13: =SUM(C13:E13) -> 0
A14: 6. | B14: ÖSSZES KÖTELEZETTSÉG | C14: =SUM(C9:C13) -> 0 | D14: =SUM(D9:D13) -> 0 | E14: =SUM(E9:E13) -> 0 | F14: =SUM(F9:F13) -> 0

Sheet KV_4.sz.mell.
B2: =CONCATENATE("4. melléklet ",ALAPADATOK!A7," ",ALAPADATOK!B7," ",ALAPADATOK!C7," ",ALAPADATOK!D7," ",ALAPADATOK!E7," ",ALAPADATOK!F7," ",ALAPADATOK!G7," ",ALAPADATOK!H7) -> 4. melléklet a … / 2020 ( … ) önkormányzati rendelethez
A4: =CONCATENATE(PROPER(ALAPADATOK!A3)," saját bevételeinek részletezése az adósságot keletkeztető ügyletből származó tárgyévi fizetési kötelezettség megállapításához") -> Sajószöged Községi Önkormányzat saját bevételeinek részletezése az adósságot keletkeztető ügyletből származó tárgyévi fizetési kötelezettség megállapításához
C5: ='KV_2.2.sz.mell.'!E2 -> Forintban!
A6: Sor-szám | B6: Bevételi jogcímek | C6: =+'KV_1.1.sz.mell.'!C8 -> 2020. évi előirányzat
B7: A | C7: B
A8: 1. | B8: Helyi adóból és a települési adóból származó bevétel | C8: 212400000
A9: 2. | B9: Az önkormányzati vagyon és az önkormányzatot megillető vagyoni értékű jog értékesítéséből és hasznosításából származó bevétel | C9: 13693455
A10: 3. | B10: Osztalék, koncessziós díj és hozambevétel
A11: 4. | B11: Tárgyi eszköz és az immateriális jószág, részvény, részesedés, vállalat értékesítéséből vagy privatizációból származó bevétel | C11: 11000000
A12: 5. | B12: Bírság-, pótlék- és díjbevétel
A13: 6. | B13: Kezesség-, illetve garanciavállalással kapcsolatos megtérülés
A14: SAJÁT BEVÉTELEK ÖSSZESEN* | C14: =SUM(C8:C13) -> 237093455
A15: *Az adósságot keletkeztető ügyletekhez történő hozzájárulás részletes szabályairól szóló 353/2011. (XII.31.) Korm. Rendelet 2.§ (1) bekezdése alapján.

Sheet KV_5.sz.mell.
B2: =CONCATENATE("5. melléklet ",ALAPADATOK!A7," ",ALAPADATOK!B7," ",ALAPADATOK!C7," ",ALAPADATOK!D7," ",ALAPADATOK!E7," ",ALAPADATOK!F7," ",ALAPADATOK!G7," ",ALAPADATOK!H7) -> 5. melléklet a … / 2020 ( … ) önkormányzati rendelethez
A4: =CONCATENATE(PROPER(ALAPADATOK!A3)," ",ALAPADATOK!D7,". évi adósságot keletkeztető fejlesztési céljai") -> Sajószöged Községi Önkormányzat 2020. évi adósságot keletkeztető fejlesztési céljai
C5: ='KV_4.sz.mell.'!C5 -> Forintban!
A6: Sor-szám | B6: Fejlesztési cél leírása | C6: Fejlesztés várható kiadása
B7: A | C7: B
A8: 1. | B8: Nemleges!
A9: 2.
A10: 3.
A11: 4. | B11: ADÓSSÁGOT KELETKEZTETŐ ÜGYLETEK VÁRHATÓ EGYÜTTES ÖSSZEGE* | C11: =SUM(C8:C10) -> 0
A12: * Magyarország gazdasági stabilitásáról szóló 2011. évi CXCIV. törvény 8. § (2) bekezdése szerinti adósságot keletkezető ügyletek.

Sheet KV_6.sz.mell.
B2: =CONCATENATE("6. melléklet ",ALAPADATOK!A7," ",ALAPADATOK!B7," ",ALAPADATOK!C7," ",ALAPADATOK!D7," ",ALAPADATOK!E7," ",ALAPADATOK!F7," ",ALAPADATOK!G7," ",ALAPADATOK!H7) -> 6. melléklet a … / 2020 ( … ) önkormányzati rendelethez
A4: Beruházási (felhalmozási) kiadások előirányzata beruházásonként
F5: ='KV_5.sz.mell.'!C5 -> Forintban!
A6: Beruházás megnevezése | B6: Teljes költség | C6: Kivitelezés kezdési és befejezési éve | D6: =+CONCATENATE("Felhasználás ",LEFT(KV_ÖSSZEFÜGGÉSEK!A5,4)-1,". XII. 31-ig") -> Felhasználás 2019. XII. 31-ig | E6: =+'KV_1.1.sz.mell.'!C8 -> 2020. évi előirányzat | F6: =+CONCATENATE(LEFT(KV_ÖSSZEFÜGGÉSEK!A5,4),". utáni szükséglet") -> 2020. utáni szükséglet
A7: A | B7: B | C7: C | D7: D | E7: E | F7: F=(B-D-E)
A8: TOP 1.4.1-15-BO1-2016-00080. Óvoda és Konyha korszer | B8: 111971908 | C8: 2017-2020 | D8: 103462708 | E8: 8509200 | F8: =B8-D8-E8 -> 0
A9: TOP 1.4.1-16 BO1-2017-00018. Sajószögedi Zöld Sziget B | B9: 104613317 | C9: 2019-2020 | D9: 90914259 | E9: 13699058 | F9: =B9-D9-E9 -> 0
A10: TOP 3.2.1-16-BO1-2017-00055 Iskola energetikai korszerűsítése | B10: 87833480 | C10: 2020-2020 | E10: 87833480 | F10: =B10-D10-E10 -> 0
A11: térfigyelő kamerarendszer beüzemelése | B11: 3942212 | C11: 2014-2020 | D11: 2635463 | E11: 1306749 | F11: =B11-D11-E11 -> 0
A12: Okos zebra | B12: 2433981 | C12: 2020-2020 | E12: 2433981 | F12: =B12-D12-E12 -> 0
A13: Bölcsőde kerítés | B13: 2000250 | C13: 2020-2020 | E13: 2000250 | F13: =B13-D13-E13 -> 0
A14: Bölcsőde udvar | B14: 654050 | C14: 2020-2020 | E14: 654050 | F14: =B14-D14-E14 -> 0
A15: Vasút út felújítása | B15: 35907370 | C15: 2020-2020 | E15: 35907370 | F15: =B15-D15-E15 -> 0
A16: Óvoda udvar | B16: 4999997 | C16: 2020-2020 | E16: 4999997 | F16: =B16-D16-E16 -> 0
A17: Iskola előtti út felújítása | B17: 6826617 | C17: 2020-2020 | E17: 6826617 | F17: =B17-D17-E17 -> 0
A18: ÁMK -eszközbeszerzések | B18: 2970149 | C18: 2020-2020 | E18: 2970149 | F18: =B18-D18-E18 -> 0
A19: ÖNK-eszközbeszerzések | B19: 1867550 | C19: 2020-2020 | E19: 1867550 | F19: =B19-D19-E19 -> 0
A20: PH - eszközbeszerzések | B20: 5289099 | C20: 2020-2020 | E20: 5289099 | F20: =B20-D20-E20 -> 0
F21: =B21-D21-E21 -> 0
F22: =B22-D22-E22 -> 0
F23: =B23-D23-E23 -> 0
A24: ÖSSZESEN: | B24: =SUM(B8:B23) -> 371309980 | D24: =SUM(D8:D23) -> 197012430 | E24: =SUM(E8:E23) -> 174297550 | F24: =SUM(F8:F23) -> 0

Sheet KV_7.sz.mell.
B2: =CONCATENATE("7. melléklet ",ALAPADATOK!A7," ",ALAPADATOK!B7," ",ALAPADATOK!C7," ",ALAPADATOK!D7," ",ALAPADATOK!E7," ",ALAPADATOK!F7," ",ALAPADATOK!G7," ",ALAPADATOK!H7) -> 7. melléklet a … / 2020 ( … ) önkormányzati rendelethez
A4: Felújítási kiadások előirányzata felújításonként
F5: ='KV_6.sz.mell.'!F5 -> Forintban!
A6: Felújítás megnevezése | B6: Teljes költség | C6: Kivitelezés kezdési és befejezési éve | D6: =+'KV_6.sz.mell.'!D6 -> Felhasználás 2019. XII. 31-ig | E6: =+'KV_6.sz.mell.'!E6 -> 2020. évi előirányzat | F6: =+CONCATENATE(LEFT(KV_ÖSSZEFÜGGÉSEK!A5,4),". utáni szükséglet ",CHAR(10),"") -> 2020. utáni szükséglet
A7: A | B7: B | C7: C | D7: D | E7: E | F7: F=(B-D-E)
A8: ÉRV szennyvíz, ívóvíz rendszer felújítása | B8: 17390675 | C8: 2020-2020 | E8: 17390675 | F8: =B8-D8-E8 -> 0
F9: =B9-D9-E9 -> 0
F10: =B10-D10-E10 -> 0
F11: =B11-D11-E11 -> 0
F12: =B12-D12-E12 -> 0
F13: =B13-D13-E13 -> 0
F14: =B14-D14-E14 -> 0
F15: =B15-D15-E15 -> 0
F16: =B16-D16-E16 -> 0
F17: =B17-D17-E17 -> 0
F18: =B18-D18-E18 -> 0
F19: =B19-D19-E19 -> 0
F20: =B20-D20-E20 -> 0
... F24: =B24-D24-E24 -> 0
A25: ÖSSZESEN: | B25: =SUM(B8:B24) -> 17390675 | D25: =SUM(D8:D24) -> 0 | E25: =SUM(E8:E24) -> 17390675 | F25: =SUM(F8:F24) -> 0

Sheet KV_8.sz.mell.
F1: =CONCATENATE("8. melléklet ",ALAPADATOK!A7," ",ALAPADATOK!B7," ",ALAPADATOK!C7," ",ALAPADATOK!D7," ",ALAPADATOK!E7," ",ALAPADATOK!F7," ",ALAPADATOK!G7," ",ALAPADATOK!H7) -> 8. melléklet a … / 2020 ( … ) önkormányzati rendelethez
A2: Önkormányzaton kívüli EU-s projekthez történő hozzájárulás
E3: ='KV_7.sz.mell.'!F5 -> Forintban!
A4: Támogatott neve | E4: Előirányzat
A7: Összesen: | E7: =SUM(E5:E6) -> 0
A9: Európai uniós támogatással megvalósuló projektek
A10: bevételei, kiadásai, hozzájárulások
A11: EU-s projekt neve, azonosítója:* TOP 1.4.1-15-BO1-2016-00080 Óvoda és konyha fejlesztése Sajószögeden
E12: =$E$3 -> Forintban!
A13: Források | B13: Támogatási szerződés szerinti bevételek, kiadások
B14: Összes tervezett forrás, kiadás | C14: Évenkénti ütemezés
C15: =CONCATENATE(TARTALOMJEGYZÉK!$A$1,". előtti tervezett forrás, kiadás") -> 2020. előtti tervezett forrás, kiadás | D15: =CONCATENATE(TARTALOMJEGYZÉK!$A$1,". évi eredeti előirányzat") -> 2020. évi eredeti előirányzat | E15: =CONCATENATE(TARTALOMJEGYZÉK!$A$1,". év utáni tervezett forrás, kiadás") -> 2020. év utáni tervezett forrás, kiadás
A17: A | B17: B=(C+D+E) | C17: C | D17: D | E17: E
A18: Saját erő | B18: 16571108 | C18: 7971908 | D18: 8599200
A19: - saját erőből központi támogatás | B19: =C19+D19+E19 -> 0
A20: EU-s forrás | B20: 160348571 | C20: 160348571
A21: Társfinanszírozás | B21: =C21+D21+E21 -> 0
A22: Hitel | B22: =C22+D22+E22 -> 0
A23: Egyéb forrás | B23: =C23+D23+E23 -> 0
A24: Források összesen: | B24: =B18+SUM(B20:B23) -> 176919679 | C24: =C18+SUM(C20:C23) -> 168320479 | D24: =D18+SUM(D20:D23) -> 8599200 | E24: =E18+SUM(E20:E23) -> 0
A25: Személyi jellegű | B25: =C25+D25+E25 -> 0
A26: Beruházások, beszerzések | B26: =C26+D26 -> 144782264 | C26: 136183064 | D26: 8599200
A27: Szolgáltatások igénybe vétele | B27: =C27+D27+E27 -> 1905000 | C27: 1905000
A28: Adminisztratív költségek | B28: =C28+D28+E28 -> 0
A29: Fordított ÁFA | B29: =C29+D29+E29 -> 30232415 | C29: 30232415
A30: Kiadások összesen: | B30: =SUM(B25:B29) -> 176919679 | C30: =SUM(C25:C29) -> 168320479 | D30: =SUM(D25:D29) -> 8599200 | E30: =SUM(E25:E29) -> 0
A31: * Amennyiben több projekt megvalósítása történi egy időben akkor azokat külön-külön, projektenként be kell mutatni!
A33: EU-s projekt neve, azonosítója: TOP 3.2.1-16-BO1-2017-00055. A Kölcsey Ferenc ÁIAMI energetikai korszerűsítése a káros anyag
A34: kibocsátás csökkentése céljából | E34: =$E$3 -> Forintban!
A35: Források | B35: Támogatási szerződés szerinti bevételek, kiadások
B36: Összes tervezett forrás, kiadás | C36: Évenkénti ütemezés
C37: =CONCATENATE(TARTALOMJEGYZÉK!$A$1,". előtti tervezett forrás, kiadás") -> 2020. előtti tervezett forrás, kiadás | D37: =CONCATENATE(TARTALOMJEGYZÉK!$A$1,". évi eredeti előirányzat") -> 2020. évi eredeti előirányzat | E37: =CONCATENATE(TARTALOMJEGYZÉK!$A$1,". év utáni tervezett forrás, kiadás") -> 2020. év utáni tervezett forrás, kiadás
A39: A | B39: B=(C+D+E) | C39: C | D39: D | E39: E
A40: Saját erő | B40: =C40+D40+E40 -> 0
A41: - saját erőből központi támogatás | B41: =C41+D41+E41 -> 0
A42: EU-s forrás | B42: 117478820 | D42: 117478820
A43: Társfinanszírozás | B43: =C43+D43+E43 -> 0
A44: Hitel | B44: =C44+D44+E44 -> 0
A45: Egyéb forrás | B45: =C45+D45+E45 -> 0
A46: Források összesen: | B46: =B40+SUM(B42:B45) -> 117478820 | C46: =C40+SUM(C42:C45) -> 0 | D46: =D40+SUM(D42:D45) -> 117478820 | E46: =E40+SUM(E42:E45) -> 0
A47: Személyi jellegű | B47: =C47+D47+E47 -> 0
A48: Beruházások, beszerzések | B48: 87833480 | D48: 87833480
A49: Szolgáltatások igénybe vétele | B49: 5930300 | D49: 5930300
A50: Adminisztratív költségek | B50: =C50+D50+E50 -> 0
A51: Fordított ÁFA | B51: 23715040 | D51: 23715040
A52: Kiadások összesen: | B52: =SUM(B47:B51) -> 117478820 | C52: =SUM(C47:C51) -> 0 | D52: =SUM(D47:D51) -> 117478820 | E52: =SUM(E47:E51) -> 0
A54: EU-s projekt neve, azonosítója: TOP 1.4.1-16-BO1-2017-00018. Sajószögedi Zöld Sziget Bölcsőde Építése
E55: =$E$3 -> Forintban!
A56: Források | B56: Támogatási szerződés szerinti bevételek, kiadások
B57: Összes tervezett forrás, kiadás | C57: Évenkénti ütemezés
C58: =CONCATENATE(TARTALOMJEGYZÉK!$A$1,". előtti tervezett forrás, kiadás") -> 2020. előtti tervezett forrás, kiadás | D58: =CONCATENATE(TARTALOMJEGYZÉK!$A$1,". évi eredeti előirányzat") -> 2020. évi eredeti előirányzat | E58: =CONCATENATE(TARTALOMJEGYZÉK!$A$1,". év utáni tervezett forrás, kiadás") -> 2020. év utáni tervezett forrás, kiadás
A60: A | B60: B=(C+D+E) | C60: C | D60: D | E60: E
A61: Saját erő | B61: =C61+D61+E61 -> 0
A62: - saját erőből központi támogatás | B62: =C62+D62+E62 -> 0
A63: EU-s forrás | B63: 165714104 | C63: 148919657 | D63: 16794447
A64: Társfinanszírozás | B64: =C64+D64+E64 -> 0
A65: Hitel | B65: =C65+D65+E65 -> 0
A66: Egyéb forrás | B66: =C66+D66+E66 -> 0
A67: Források összesen: | B67: =B61+SUM(B63:B66) -> 165714104 | C67: =C61+SUM(C63:C66) -> 148919657 | D67: =D61+SUM(D63:D66) -> 16794447 | E67: =E61+SUM(E63:E66) -> 0
A68: Személyi jellegű | B68: =C68+D68+E68 -> 0
A69: Beruházások, beszerzések | B69: 127111666 | C69: 113509966 | D69: 13601700
A70: Szolgáltatások igénybe vétele | B70: 10128247 | C70: 6935500 | D70: 3192747
A71: Adminisztratív költségek | B71: =C92+D92+E92 -> 0
A72: Fordíott ÁFA | B72: 28474191 | C72: 28474190
A73: Kiadások összesen: | B73: =SUM(B68:B72) -> 165714104 | C73: =SUM(C68:C72) -> 148919656 | D73: =SUM(D68:D72) -> 16794447 | E73: =SUM(E68:E72) -> 0

Sheet KV_9.1.sz.mell
C1: =CONCATENATE("9.1. melléklet ",ALAPADATOK!A7," ",ALAPADATOK!B7," ",ALAPADATOK!C7," ",ALAPADATOK!D7," ",ALAPADATOK!E7," ",ALAPADATOK!F7," ",ALAPADATOK!G7," ",ALAPADATOK!H7) -> 9.1. melléklet a … / 2020 ( … ) önkormányzati rendelethez
A2: Megnevezés | B2: =CONCATENATE(ALAPADATOK!A3) -> Sajószöged Községi Önkormányzat | C2: 01
A3: Feladat megnevezése | B3: Összes bevétel, kiadás | C3: 01
C4: ='KV_7.sz.mell.'!F5 -> Forintban!
A5: Száma | B5: Kiemelt előirányzat, előirányzat megnevezése | C5: Előirányzat
B6: A | C6: B
B7: Bevételek
A8: 1. | B8: Önkormányzat működési támogatásai (1.1.+…+.1.6.) | C8: =+C9+C10+C11+C12+C13+C14 -> 98604818
A9: 1.1. | B9: Helyi önkormányzatok működésének általános támogatása | C9: 23631621
A10: 1.2. | B10: Önkormányzatok egyes köznevelési feladatainak támogatása | C10: 48695600
A11: 1.3. | B11: Önkormányzatok szociális és gyermekjóléti, étkeztetési feladatainak támogatása | C11: 23410305
A12: 1.4. | B12: Önkormányzatok kulturális feladatainak támogatása | C12: 2867292
A13: 1.5. | B13: Működési célú kvi támogatások és kiegészítő támogatások
A14: 1.6. | B14: Elszámolásból származó bevételek
A15: 2. | B15: Működési célú támogatások államháztartáson belülről (2.1.+…+.2.5.) | C15: =+C16+C17+C18+C19+C20 -> 11262720
A16: 2.1. | B16: Elvonások és befizetések bevételei
A17: 2.2. | B17: Működési célú garancia- és kezességvállalásból megtérülések
A18: 2.3. | B18: Működési célú visszatérítendő támogatások, kölcsönök visszatérülése
A19: 2.4. | B19: Működési célú visszatérítendő támogatások, kölcsönök igénybevétele
A20: 2.5. | B20: Egyéb működési célú támogatások bevételei | C20: 11262720
A21: 2.6. | B21: 2.5.-ből EU-s támogatás
A22: 3. | B22: Felhalmozási célú támogatások államháztartáson belülről (3.1.+…+3.5.) | C22: =+C23+C24+C25+C26+C27 -> 117478820
A23: 3.1. | B23: Felhalmozási célú önkormányzati támogatások
A24: 3.2. | B24: Felhalmozási célú garancia- és kezességvállalásból megtérülések
A25: 3.3. | B25: Felhalmozási célú visszatérítendő támogatások, kölcsönök visszatérülése
A26: 3.4. | B26: Felhalmozási célú visszatérítendő támogatások, kölcsönök igénybevétele
A27: 3.5. | B27: Egyéb felhalmozási célú támogatások bevételei | C27: 117478820
A28: 3.6. | B28: 3.5.-ből EU-s támogatás | C28: 117478820
A29: 4. | B29: Közhatalmi bevételek (4.1.+...+4.7.) | C29: =C30+C31+C32+C33+C34+C35+C36 -> 221350000
A30: 4.1. | B30: Építményadó | C30: 3100000
A31: 4.2. | B31: ='KV_1.1.sz.mell.'!B33 -> Idegenforgalmi adó
A32: 4.3. | B32: ='KV_1.1.sz.mell.'!B34 -> Iparűzési adó | C32: 110000000
A33: 4.4. | B33: ='KV_1.1.sz.mell.'!B35 -> Talajterhelési díj | C33: 200000
A34: 4.5. | B34: ='KV_1.1.sz.mell.'!B36 -> Gépjárműadó | C34: 8800000
A35: 4.6. | B35: ='KV_1.1.sz.mell.'!B37 -> Egyéb közhatalmi bevételek | C35: 99000000
A36: 4.7. | B36: Egyéb közhatalmi bevételek | C36: 250000
A37: 5. | B37: Működési bevételek (5.1.+…+ 5.11.) | C37: =SUM(C38:C48) -> 39976090
A38: 5.1. | B38: Készletértékesítés ellenértéke
A39: 5.2. | B39: Szolgáltatások ellenértéke | C39: 2028000
A40: 5.3. | B40: Közvetített szolgáltatások értéke | C40: 1850000
A41: 5.4. | B41: Tulajdonosi bevételek | C41: 13693455
A42: 5.5. | B42: Ellátási díjak | C42: 14336933
A43: 5.6. | B43: Kiszámlázott általános forgalmi adó | C43: 8067702
A44: 5.7. | B44: Általános forgalmi adó visszatérítése
A45: 5.8. | B45: Kamatbevételek és más nyereségjellegű bevételek
A46: 5.9. | B46: Egyéb pénzügyi műveletek bevételei
A47: 5.10. | B47: Biztosító által fizetett kártérítés
A48: 5.11. | B48: Egyéb működési bevételek
A49: 6. | B49: Felhalmozási bevételek (6.1.+…+6.5.) | C49: =SUM(C50:C54) -> 11000000
A50: 6.1. | B50: Immateriális javak értékesítése
A51: 6.2. | B51: Ingatlanok értékesítése | C51: 11000000
A52: 6.3. | B52: Egyéb tárgyi eszközök értékesítése
A53: 6.4. | B53: Részesedések értékesítése
A54: 6.5. | B54: Részesedések megszűnéséhez kapcsolódó bevételek
A55: 7. | B55: Működési célú átvett pénzeszközök (7.1. + … + 7.3.) | C55: =SUM(C56:C58) -> 0
A56: 7.1. | B56: Működési célú garancia- és kezességvállalásból megtérülések ÁH-n kívülről
A57: 7.2. | B57: Működési célú visszatérítendő támogatások, kölcsönök visszatér. ÁH-n kívülről
A58: 7.3. | B58: Egyéb működési célú átvett pénzeszköz
A59: 7.4. | B59: 7.3.-ból EU-s támogatás (közvetlen)
A60: 8. | B60: Felhalmozási célú átvett pénzeszközök (8.1.+8.2.+8.3.) | C60: =SUM(C61:C63) -> 2580040
A61: 8.1. | B61: Felhalm. célú garancia- és kezességvállalásból megtérülések ÁH-n kívülről
A62: 8.2. | B62: Felhalm. célú visszatérítendő támogatások, kölcsönök visszatér. ÁH-n kívülről | C62: 2580040
A63: 8.3. | B63: Egyéb felhalmozási célú átvett pénzeszköz
A64: 8.4. | B64: 8.3.-ból EU-s támogatás (közvetlen)
A65: 9. | B65: KÖLTSÉGVETÉSI BEVÉTELEK ÖSSZESEN: (1+…+8) | C65: =+C8+C15+C22+C29+C37+C49+C55+C60 -> 502252488
A66: 10. | B66: Hitel-, kölcsönfelvétel államháztartáson kívülről (10.1.+10.3.) | C66: =SUM(C67:C69) -> 0
A67: 10.1. | B67: Hosszú lejáratú hitelek, kölcsönök felvétele
A68: 10.2. | B68: Likviditási célú hitelek, kölcsönök felvétele pénzügyi vállalkozástól
A69: 10.3. | B69: Rövid lejáratú hitelek, kölcsönök felvétele
A70: 11. | B70: Belföldi értékpapírok bevételei (11.1. +…+ 11.4.) | C70: =SUM(C71:C74) -> 69406265
A71: 11.1. | B71: Forgatási célú belföldi értékpapírok beváltása, értékesítése | C71: 69406265
A72: 11.2. | B72: Éven belüli lejáratú belföldi értékpapírok kibocsátása
A73: 11.3. | B73: Befektetési célú belföldi értékpapírok beváltása, értékesítése
A74: 11.4. | B74: Éven túli lejáratú belföldi értékpapírok kibocsátása
A75: 12. | B75: Maradvány igénybevétele (12.1. + 12.2.) | C75: =SUM(C76:C77) -> 69266826
A76: 12.1. | B76: Előző év költségvetési maradványának igénybevétele | C76: 69266826
A77: 12.2. | B77: Előző év vállalkozási maradványának igénybevétele
A78: 13. | B78: Belföldi finanszírozás bevételei (13.1. + … + 13.3.) | C78: =SUM(C79:C81) -> 0
A79: 13.1. | B79: Államháztartáson belüli megelőlegezések
A80: 13.2. | B80: Államháztartáson belüli megelőlegezések törlesztése
A81: 13.3. | B81: Lekötött betétek megszüntetése
A82: 14. | B82: Külföldi finanszírozás bevételei (14.1.+…14.4.) | C82: =SUM(C83:C86) -> 0
A83: 14.1. | B83: Forgatási célú külföldi értékpapírok beváltása, értékesítése
A84: 14.2. | B84: Befektetési célú külföldi értékpapírok beváltása, értékesítése
A85: 14.3. | B85: Külföldi értékpapírok kibocsátása
A86: 14.4. | B86: Külföldi hitelek, kölcsönök felvétele
A87: 15. | B87: Váltóbevételek
A88: 16. | B88: Adóssághoz nem kapcsolódó származékos ügyletek bevételei
A89: 17. | B89: FINANSZÍROZÁSI BEVÉTELEK ÖSSZESEN: (10. + … +16.) | C89: =+C66+C70+C75+C78+C82+C88+C87 -> 138673091
A90: 18. | B90: BEVÉTELEK ÖSSZESEN: (9+17) | C90: =+C65+C89 -> 640925579
B92: Kiadások
A93: 1. | B93: Működési költségvetés kiadásai (1.1+…+1.5+1.18.) | C93: =+C94+C95+C96+C97+C98+C111 -> 241427914
A94: 1.1. | B94: Személyi juttatások | C94: 41127723
A95: 1.2. | B95: Munkaadókat terhelő járulékok és szociális hozzájárulási adó | C95: 7742822
A96: 1.3. | B96: Dologi kiadások | C96: 115273729
A97: 1.4. | B97: Ellátottak pénzbeli juttatásai | C97: 13040000
A98: 1.5 | B98: Egyéb működési célú kiadások | C98: 54243640
A99: 1.6. | B99: az 1.5-ből: - Előző évi elszámolásból származó befizetések
A100: 1.7. | B100: - Törvényi előíráson alapuló befizetések
A101: 1.8. | B101: - Elvonások és befizetések
...

Sheet KV_9.1.1.sz.mell
C1: =CONCATENATE("9.1.1. melléklet ",ALAPADATOK!A7," ",ALAPADATOK!B7," ",ALAPADATOK!C7," ",ALAPADATOK!D7," ",ALAPADATOK!E7," ",ALAPADATOK!F7," ",ALAPADATOK!G7," ",ALAPADATOK!H7) -> 9.1.1. melléklet a … / 2020 ( … ) önkormányzati rendelethez
A2: Megnevezés | B2: =CONCATENATE(ALAPADATOK!A3) -> Sajószöged Községi Önkormányzat | C2: 01
A3: Feladat megnevezése | B3: Kötelező feladatok bevételei, kiadása | C3: 02
C4: ='KV_9.1.sz.mell'!C4 -> Forintban!
A5: Száma | B5: Kiemelt előirányzat, előirányzat megnevezése | C5: Előirányzat
B6: A | C6: B
B7: Bevételek
A8: 1. | B8: Önkormányzat működési támogatásai (1.1.+…+.1.6.) | C8: =+C9+C10+C11+C12+C13+C14 -> 98604818
A9: 1.1. | B9: Helyi önkormányzatok működésének általános támogatása | C9: 23631621
A10: 1.2. | B10: Önkormányzatok egyes köznevelési feladatainak támogatása | C10: 48695600
A11: 1.3. | B11: Önkormányzatok szociális és gyermekjóléti, étkeztetési feladatainak támogatása | C11: 23410305
A12: 1.4. | B12: Önkormányzatok kulturális feladatainak támogatása | C12: 2867292
A13: 1.5. | B13: Működési célú kvi támogatások és kiegészítő támogatások
A14: 1.6. | B14: Elszámolásból származó bevételek
A15: 2. | B15: Működési célú támogatások államháztartáson belülről (2.1.+…+.2.5.) | C15: =+C16+C17+C18+C19+C20 -> 11262720
A16: 2.1. | B16: Elvonások és befizetések bevételei
A17: 2.2. | B17: Működési célú garancia- és kezességvállalásból megtérülések
A18: 2.3. | B18: Működési célú visszatérítendő támogatások, kölcsönök visszatérülése
A19: 2.4. | B19: Működési célú visszatérítendő támogatások, kölcsönök igénybevétele
A20: 2.5. | B20: Egyéb működési célú támogatások bevételei | C20: 11262720
A21: 2.6. | B21: 2.5.-ből EU-s támogatás
A22: 3. | B22: Felhalmozási célú támogatások államháztartáson belülről (3.1.+…+3.5.) | C22: =+C23+C24+C25+C26+C27 -> 117478820
A23: 3.1. | B23: Felhalmozási célú önkormányzati támogatások
A24: 3.2. | B24: Felhalmozási célú garancia- és kezességvállalásból megtérülések
A25: 3.3. | B25: Felhalmozási célú visszatérítendő támogatások, kölcsönök visszatérülése
A26: 3.4. | B26: Felhalmozási célú visszatérítendő támogatások, kölcsönök igénybevétele
A27: 3.5. | B27: Egyéb felhalmozási célú támogatások bevételei | C27: 117478820
A28: 3.6. | B28: 3.5.-ből EU-s támogatás | C28: 11478820
A29: 4. | B29: Közhatalmi bevételek (4.1.+...+4.7.) | C29: =SUM(C30:C36) -> 221350000
A30: 4.1. | B30: ='KV_1.1.sz.mell.'!B32 -> Vagyoni tipusú adók | C30: 3100000
A31: 4.2. | B31: ='KV_1.1.sz.mell.'!B33 -> Idegenforgalmi adó
A32: 4.3. | B32: ='KV_1.1.sz.mell.'!B34 -> Iparűzési adó | C32: 110000000
A33: 4.4. | B33: ='KV_1.1.sz.mell.'!B35 -> Talajterhelési díj | C33: 200000
A34: 4.5. | B34: ='KV_1.1.sz.mell.'!B36 -> Gépjárműadó | C34: 8800000
A35: 4.6. | B35: ='KV_1.1.sz.mell.'!B37 -> Egyéb közhatalmi bevételek | C35: 99000000
A36: 4.7. | B36: ='KV_1.1.sz.mell.'!B38 -> Kommunális adó | C36: 250000
A37: 5. | B37: Működési bevételek (5.1.+…+ 5.11.) | C37: =SUM(C38:C48) -> 39976090
A38: 5.1. | B38: Készletértékesítés ellenértéke
A39: 5.2. | B39: Szolgáltatások ellenértéke | C39: 2028000
A40: 5.3. | B40: Közvetített szolgáltatások értéke | C40: 1850000
A41: 5.4. | B41: Tulajdonosi bevételek | C41: 13693455
A42: 5.5. | B42: Ellátási díjak | C42: 14336933
A43: 5.6. | B43: Kiszámlázott általános forgalmi adó | C43: 8067702
A44: 5.7. | B44: Általános forgalmi adó visszatérítése
A45: 5.8. | B45: Kamatbevételek és más nyereségjellegű bevételek
A46: 5.9. | B46: Egyéb pénzügyi műveletek bevételei
A47: 5.10. | B47: Biztosító által fizetett kártérítés
A48: 5.11. | B48: Egyéb működési bevételek
A49: 6. | B49: Felhalmozási bevételek (6.1.+…+6.5.) | C49: =SUM(C50:C54) -> 11000000
A50: 6.1. | B50: Immateriális javak értékesítése
A51: 6.2. | B51: Ingatlanok értékesítése | C51: 11000000
A52: 6.3. | B52: Egyéb tárgyi eszközök értékesítése
A53: 6.4. | B53: Részesedések értékesítése
A54: 6.5. | B54: Részesedések megszűnéséhez kapcsolódó bevételek
A55: 7. | B55: Működési célú átvett pénzeszközök (7.1. + … + 7.3.) | C55: =SUM(C56:C58) -> 0
A56: 7.1. | B56: Működési célú garancia- és kezességvállalásból megtérülések ÁH-n kívülről
A57: 7.2. | B57: Működési célú visszatérítendő támogatások, kölcsönök visszatér. ÁH-n kívülről
A58: 7.3. | B58: Egyéb működési célú átvett pénzeszköz
A59: 7.4. | B59: 7.3.-ból EU-s támogatás (közvetlen)
A60: 8. | B60: Felhalmozási célú átvett pénzeszközök (8.1.+8.2.+8.3.) | C60: =SUM(C61:C63) -> 2580040
A61: 8.1. | B61: Felhalm. célú garancia- és kezességvállalásból megtérülések ÁH-n kívülről
A62: 8.2. | B62: Felhalm. célú visszatérítendő támogatások, kölcsönök visszatér. ÁH-n kívülről | C62: 2580040
A63: 8.3. | B63: Egyéb felhalmozási célú átvett pénzeszköz
A64: 8.4. | B64: 8.3.-ból EU-s támogatás (közvetlen)
A65: 9. | B65: KÖLTSÉGVETÉSI BEVÉTELEK ÖSSZESEN: (1+…+8) | C65: =+C8+C15+C22+C29+C37+C49+C55+C60 -> 502252488
A66: 10. | B66: Hitel-, kölcsönfelvétel államháztartáson kívülről (10.1.+10.3.) | C66: =SUM(C67:C69) -> 0
A67: 10.1. | B67: Hosszú lejáratú hitelek, kölcsönök felvétele
A68: 10.2. | B68: Likviditási célú hitelek, kölcsönök felvétele pénzügyi vállalkozástól
A69: 10.3. | B69: Rövid lejáratú hitelek, kölcsönök felvétele
A70: 11. | B70: Belföldi értékpapírok bevételei (11.1. +…+ 11.4.) | C70: =SUM(C71:C74) -> 69406265
A71: 11.1. | B71: Forgatási célú belföldi értékpapírok beváltása, értékesítése | C71: 69406265
A72: 11.2. | B72: Éven belüli lejáratú belföldi értékpapírok kibocsátása
A73: 11.3. | B73: Befektetési célú belföldi értékpapírok beváltása, értékesítése
A74: 11.4. | B74: Éven túli lejáratú belföldi értékpapírok kibocsátása
A75: 12. | B75: Maradvány igénybevétele (12.1. + 12.2.) | C75: =SUM(C76:C77) -> 69266826
A76: 12.1. | B76: Előző év költségvetési maradványának igénybevétele | C76: 69266826
A77: 12.2. | B77: Előző év vállalkozási maradványának igénybevétele
A78: 13. | B78: Belföldi finanszírozás bevételei (13.1. + … + 13.3.) | C78: =SUM(C79:C81) -> 0
A79: 13.1. | B79: Államháztartáson belüli megelőlegezések
A80: 13.2. | B80: Államháztartáson belüli megelőlegezések törlesztése
A81: 13.3. | B81: Lekötött betétek megszüntetése
A82: 14. | B82: Külföldi finanszírozás bevételei (14.1.+…14.4.) | C82: =SUM(C83:C86) -> 0
A83: 14.1. | B83: Forgatási célú külföldi értékpapírok beváltása, értékesítése
A84: 14.2. | B84: Befektetési célú külföldi értékpapírok beváltása, értékesítése
A85: 14.3. | B85: Külföldi értékpapírok kibocsátása
A86: 14.4. | B86: Külföldi hitelek, kölcsönök felvétele
A87: 15. | B87: Váltóbevételek
A88: 16. | B88: Adóssághoz nem kapcsolódó származékos ügyletek bevételei
A89: 17. | B89: FINANSZÍROZÁSI BEVÉTELEK ÖSSZESEN: (10. + … +16.) | C89: =+C66+C70+C75+C78+C82+C88+C87 -> 138673091
A90: 18. | B90: BEVÉTELEK ÖSSZESEN: (9+17) | C90: =+C65+C89 -> 640925579
B92: Kiadások
A93: 1. | B93: Működési költségvetés kiadásai (1.1+…+1.5+1.18.) | C93: =+C94+C95+C96+C97+C98+C111 -> 241427914
A94: 1.1. | B94: Személyi juttatások | C94: 41127723
A95: 1.2. | B95: Munkaadókat terhelő járulékok és szociális hozzájárulási adó | C95: 7742822
A96: 1.3. | B96: Dologi kiadások | C96: 115273729
A97: 1.4. | B97: Ellátottak pénzbeli juttatásai | C97: 13040000
A98: 1.5 | B98: Egyéb működési célú kiadások | C98: 54243640
A99: 1.6. | B99: az 1.5-ből: - Előző évi elszámolásból származó befizetések
A100: 1.7. | B100: - Törvényi előíráson alapuló befizetések
A101: 1.8. | B101: - Elvonások és befizetések
...

Sheet KV_9.1.2.sz.mell.
C1: =CONCATENATE("9.1.2. melléklet ",ALAPADATOK!A7," ",ALAPADATOK!B7," ",ALAPADATOK!C7," ",ALAPADATOK!D7," ",ALAPADATOK!E7," ",ALAPADATOK!F7," ",ALAPADATOK!G7," ",ALAPADATOK!H7) -> 9.1.2. melléklet a … / 2020 ( … ) önkormányzati rendelethez
A2: Megnevezés | B2: =CONCATENATE(ALAPADATOK!A3) -> Sajószöged Községi Önkormányzat | C2: 01
A3: Feladat megnevezése | B3: Önként vállalt feladatok bevételei, kiadása | C3: 03
C4: ='KV_9.1.1.sz.mell'!C4 -> Forintban!
A5: Száma | B5: Kiemelt előirányzat, előirányzat megnevezése | C5: Előirányzat
B6: A | C6: B
B7: Bevételek
A8: 1. | B8: Önkormányzat működési támogatásai (1.1.+…+.1.6.) | C8: =+C9+C10+C11+C12+C13+C14 -> 0
A9: 1.1. | B9: Helyi önkormányzatok működésének általános támogatása
A10: 1.2. | B10: Önkormányzatok egyes köznevelési feladatainak támogatása
A11: 1.3. | B11: Önkormányzatok szociális és gyermekjóléti, étkeztetési feladatainak támogatása
A12: 1.4. | B12: Önkormányzatok kulturális feladatainak támogatása
A13: 1.5. | B13: Működési célú kvi támogatások és kiegészítő támogatások
A14: 1.6. | B14: Elszámolásból származó bevételek
A15: 2. | B15: Működési célú támogatások államháztartáson belülről (2.1.+…+.2.5.) | C15: =+C16+C17+C18+C19+C20 -> 0
A16: 2.1. | B16: Elvonások és befizetések bevételei
A17: 2.2. | B17: Működési célú garancia- és kezességvállalásból megtérülések
A18: 2.3. | B18: Működési célú visszatérítendő támogatások, kölcsönök visszatérülése
A19: 2.4. | B19: Működési célú visszatérítendő támogatások, kölcsönök igénybevétele
A20: 2.5. | B20: Egyéb működési célú támogatások bevételei
A21: 2.6. | B21: 2.5.-ből EU-s támogatás
A22: 3. | B22: Felhalmozási célú támogatások államháztartáson belülről (3.1.+…+3.5.) | C22: =+C23+C24+C25+C26+C27 -> 0
A23: 3.1. | B23: Felhalmozási célú önkormányzati támogatások
A24: 3.2. | B24: Felhalmozási célú garancia- és kezességvállalásból megtérülések
A25: 3.3. | B25: Felhalmozási célú visszatérítendő támogatások, kölcsönök visszatérülése
A26: 3.4. | B26: Felhalmozási célú visszatérítendő támogatások, kölcsönök igénybevétele
A27: 3.5. | B27: Egyéb felhalmozási célú támogatások bevételei
A28: 3.6. | B28: 3.5.-ből EU-s támogatás
A29: 4. | B29: Közhatalmi bevételek (4.1.+4.2.+4.3.+4.4.) | C29: =SUM(C30:C36) -> 0
A30: 4.1. | B30: ='KV_1.1.sz.mell.'!B32 -> Vagyoni tipusú adók
A31: 4.2. | B31: ='KV_1.1.sz.mell.'!B33 -> Idegenforgalmi adó
A32: 4.3. | B32: ='KV_1.1.sz.mell.'!B34 -> Iparűzési adó
A33: 4.4. | B33: ='KV_1.1.sz.mell.'!B35 -> Talajterhelési díj
A34: 4.5. | B34: ='KV_1.1.sz.mell.'!B36 -> Gépjárműadó
A35: 4.6. | B35: ='KV_1.1.sz.mell.'!B37 -> Egyéb közhatalmi bevételek
A36: 4.7. | B36: ='KV_1.1.sz.mell.'!B38 -> Kommunális adó
A37: 5. | B37: Működési bevételek (5.1.+…+ 5.11.) | C37: =SUM(C38:C48) -> 0
A38: 5.1. | B38: Készletértékesítés ellenértéke
A39: 5.2. | B39: Szolgáltatások ellenértéke
A40: 5.3. | B40: Közvetített szolgáltatások értéke
A41: 5.4. | B41: Tulajdonosi bevételek
A42: 5.5. | B42: Ellátási díjak
A43: 5.6. | B43: Kiszámlázott általános forgalmi adó
A44: 5.7. | B44: Általános forgalmi adó visszatérítése
A45: 5.8. | B45: Kamatbevételek és más nyereség jellegű bevételek
A46: 5.9. | B46: Egyéb pénzügyi műveletek bevételei
A47: 5.10. | B47: Biztosító által fizetett kártérítés
A48: 5.11. | B48: Egyéb működési bevételek
A49: 6. | B49: Felhalmozási bevételek (6.1.+…+6.5.) | C49: =SUM(C50:C54) -> 0
A50: 6.1. | B50: Immateriális javak értékesítése
A51: 6.2. | B51: Ingatlanok értékesítése
A52: 6.3. | B52: Egyéb tárgyi eszközök értékesítése
A53: 6.4. | B53: Részesedések értékesítése
A54: 6.5. | B54: Részesedések megszűnéséhez kapcsolódó bevételek
A55: 7. | B55: Működési célú átvett pénzeszközök (7.1. + … + 7.3.) | C55: =SUM(C56:C58) -> 0
A56: 7.1. | B56: Működési célú garancia- és kezességvállalásból megtérülések ÁH-n kívülről
A57: 7.2. | B57: Működési célú visszatérítendő támogatások, kölcsönök visszatér. ÁH-n kívülről
A58: 7.3. | B58: Egyéb működési célú átvett pénzeszköz
A59: 7.4. | B59: 7.3.-ból EU-s támogatás (közvetlen)
A60: 8. | B60: Felhalmozási célú átvett pénzeszközök (8.1.+8.2.+8.3.) | C60: =SUM(C61:C63) -> 0
A61: 8.1. | B61: Felhalm. célú garancia- és kezességvállalásból megtérülések ÁH-n kívülről
A62: 8.2. | B62: Felhalm. célú visszatérítendő támogatások, kölcsönök visszatér. ÁH-n kívülről
A63: 8.3. | B63: Egyéb felhalmozási célú átvett pénzeszköz
A64: 8.4. | B64: 8.3.-ból EU-s támogatás (közvetlen)
A65: 9. | B65: KÖLTSÉGVETÉSI BEVÉTELEK ÖSSZESEN: (1+…+8) | C65: =+C8+C15+C22+C29+C37+C49+C55+C60 -> 0
A66: 10. | B66: Hitel-, kölcsönfelvétel államháztartáson kívülről (10.1.+10.3.) | C66: =SUM(C67:C69) -> 0
A67: 10.1. | B67: Hosszú lejáratú hitelek, kölcsönök felvétele
A68: 10.2. | B68: Likviditási célú hitelek, kölcsönök felvétele pénzügyi vállalkozástól
A69: 10.3. | B69: Rövid lejáratú hitelek, kölcsönök felvétele
A70: 11. | B70: Belföldi értékpapírok bevételei (11.1. +…+ 11.4.) | C70: =SUM(C71:C74) -> 0
A71: 11.1. | B71: Forgatási célú belföldi értékpapírok beváltása, értékesítése
A72: 11.2. | B72: Éven belüli lejáratú belföldi értékpapírok kibocsátása
A73: 11.3. | B73: Befektetési célú belföldi értékpapírok beváltása, értékesítése
A74: 11.4. | B74: Éven túli lejáratú belföldi értékpapírok kibocsátása
A75: 12. | B75: Maradvány igénybevétele (12.1. + 12.2.) | C75: =SUM(C76:C77) -> 0
A76: 12.1. | B76: Előző év költségvetési maradványának igénybevétele
A77: 12.2. | B77: Előző év vállalkozási maradványának igénybevétele
A78: 13. | B78: Belföldi finanszírozás bevételei (13.1. + … + 13.3.) | C78: =SUM(C79:C81) -> 0
A79: 13.1. | B79: Államháztartáson belüli megelőlegezések
A80: 13.2. | B80: Államháztartáson belüli megelőlegezések törlesztése
A81: 13.3. | B81: Lekötött betétek megszüntetése
A82: 14. | B82: Külföldi finanszírozás bevételei (14.1.+…14.4.) | C82: =SUM(C83:C86) -> 0
A83: 14.1. | B83: Forgatási célú külföldi értékpapírok beváltása, értékesítése
A84: 14.2. | B84: Befektetési célú külföldi értékpapírok beváltása, értékesítése
A85: 14.3. | B85: Külföldi értékpapírok kibocsátása
A86: 14.4. | B86: Külföldi hitelek, kölcsönök felvétele
A87: 15. | B87: Váltóbevételek
A88: 16. | B88: Adóssághoz nem kapcsolódó származékos ügyletek bevételei
A89: 17. | B89: FINANSZÍROZÁSI BEVÉTELEK ÖSSZESEN: (10. + … +16.) | C89: =+C66+C70+C75+C78+C82+C88+C87 -> 0
A90: 18. | B90: BEVÉTELEK ÖSSZESEN: (9+17) | C90: =+C65+C89 -> 0
B92: Kiadások
A93: 1. | B93: Működési költségvetés kiadásai (1.1+…+1.5+1.18.) | C93: =+C94+C95+C96+C97+C98+C111 -> 0
A94: 1.1. | B94: Személyi juttatások
A95: 1.2. | B95: Munkaadókat terhelő járulékok és szociális hozzájárulási adó
A96: 1.3. | B96: Dologi kiadások
A97: 1.4. | B97: Ellátottak pénzbeli juttatásai
A98: 1.5 | B98: Egyéb működési célú kiadások
A99: 1.6. | B99: az 1.5-ből: - Előző évi elszámolásból származó befizetések
A100: 1.7. | B100: - Törvényi előíráson alapuló befizetések
A101: 1.8. | B101: - Elvonások és befizetések
...

Sheet KV_9.1.3.sz.mell
C1: =CONCATENATE("9.1.3. melléklet ",ALAPADATOK!A7," ",ALAPADATOK!B7," ",ALAPADATOK!C7," ",ALAPADATOK!D7," ",ALAPADATOK!E7," ",ALAPADATOK!F7," ",ALAPADATOK!G7," ",ALAPADATOK!H7) -> 9.1.3. melléklet a … / 2020 ( … ) önkormányzati rendelethez
A2: Megnevezés | B2: =CONCATENATE(ALAPADATOK!A3) -> Sajószöged Községi Önkormányzat | C2: 01
A3: Feladat megnevezése | B3: Államigazgatási feladatok bevételei, kiadása | C3: 04
C4: ='KV_9.1.2.sz.mell.'!C4 -> Forintban!
A5: Száma | B5: Kiemelt előirányzat, előirányzat megnevezése | C5: Előirányzat
B6: A | C6: B
B7: Bevételek
A8: 1. | B8: Önkormányzat működési támogatásai (1.1.+…+.1.6.) | C8: =+C9+C10+C11+C12+C13+C14 -> 0
A9: 1.1. | B9: Helyi önkormányzatok működésének általános támogatása
A10: 1.2. | B10: Önkormányzatok egyes köznevelési feladatainak támogatása
A11: 1.3. | B11: Önkormányzatok szociális és gyermekjóléti, étkeztetési feladatainak támogatása
A12: 1.4. | B12: Önkormányzatok kulturális feladatainak támogatása
A13: 1.5. | B13: Működési célú kvi támogatások és kiegészítő támogatások
A14: 1.6. | B14: Elszámolásból származó bevételek
A15: 2. | B15: Működési célú támogatások államháztartáson belülről (2.1.+…+.2.5.) | C15: =+C16+C17+C18+C19+C20 -> 0
A16: 2.1. | B16: Elvonások és befizetések bevételei
A17: 2.2. | B17: Működési célú garancia- és kezességvállalásból megtérülések
A18: 2.3. | B18: Működési célú visszatérítendő támogatások, kölcsönök visszatérülése
A19: 2.4. | B19: Működési célú visszatérítendő támogatások, kölcsönök igénybevétele
A20: 2.5. | B20: Egyéb működési célú támogatások bevételei
A21: 2.6. | B21: 2.5.-ből EU-s támogatás
A22: 3. | B22: Felhalmozási célú támogatások államháztartáson belülről (3.1.+…+3.5.) | C22: =+C23+C24+C25+C26+C27 -> 0
A23: 3.1. | B23: Felhalmozási célú önkormányzati támogatások
A24: 3.2. | B24: Felhalmozási célú garancia- és kezességvállalásból megtérülések
A25: 3.3. | B25: Felhalmozási célú visszatérítendő támogatások, kölcsönök visszatérülése
A26: 3.4. | B26: Felhalmozási célú visszatérítendő támogatások, kölcsönök igénybevétele
A27: 3.5. | B27: Egyéb felhalmozási célú támogatások bevételei
A28: 3.6. | B28: 3.5.-ből EU-s támogatás
A29: 4. | B29: Közhatalmi bevételek (4.1.+4.2.+4.3.+4.4.) | C29: =SUM(C30:C36) -> 0
A30: 4.1. | B30: ='KV_1.1.sz.mell.'!B32 -> Vagyoni tipusú adók
A31: 4.2. | B31: ='KV_1.1.sz.mell.'!B33 -> Idegenforgalmi adó
A32: 4.3. | B32: ='KV_1.1.sz.mell.'!B34 -> Iparűzési adó
A33: 4.4. | B33: ='KV_1.1.sz.mell.'!B35 -> Talajterhelési díj
A34: 4.5. | B34: ='KV_1.1.sz.mell.'!B36 -> Gépjárműadó
A35: 4.6. | B35: ='KV_1.1.sz.mell.'!B37 -> Egyéb közhatalmi bevételek
A36: 4.7. | B36: ='KV_1.1.sz.mell.'!B38 -> Kommunális adó
A37: 5. | B37: Működési bevételek (5.1.+…+ 5.11.) | C37: =SUM(C38:C48) -> 0
A38: 5.1. | B38: Készletértékesítés ellenértéke
A39: 5.2. | B39: Szolgáltatások ellenértéke
A40: 5.3. | B40: Közvetített szolgáltatások értéke
A41: 5.4. | B41: Tulajdonosi bevételek
A42: 5.5. | B42: Ellátási díjak
A43: 5.6. | B43: Kiszámlázott általános forgalmi adó
A44: 5.7. | B44: Általános forgalmi adó visszatérítése
A45: 5.8. | B45: Kamatbevételek és más nyereségjellegű bevételek
A46: 5.9. | B46: Egyéb pénzügyi műveletek bevételei
A47: 5.10. | B47: Biztosító által fizetett kártérítés
A48: 5.11. | B48: Egyéb működési bevételek
A49: 6. | B49: Felhalmozási bevételek (6.1.+…+6.5.) | C49: =SUM(C50:C54) -> 0
A50: 6.1. | B50: Immateriális javak értékesítése
A51: 6.2. | B51: Ingatlanok értékesítése
A52: 6.3. | B52: Egyéb tárgyi eszközök értékesítése
A53: 6.4. | B53: Részesedések értékesítése
A54: 6.5. | B54: Részesedések megszűnéséhez kapcsolódó bevételek
A55: 7. | B55: Működési célú átvett pénzeszközök (7.1. + … + 7.3.) | C55: =SUM(C56:C58) -> 0
A56: 7.1. | B56: Működési célú garancia- és kezességvállalásból megtérülések ÁH-n kívülről
A57: 7.2. | B57: Működési célú visszatérítendő támogatások, kölcsönök visszatér. ÁH-n kívülről
A58: 7.3. | B58: Egyéb működési célú átvett pénzeszköz
A59: 7.4. | B59: 7.3.-ból EU-s támogatás (közvetlen)
A60: 8. | B60: Felhalmozási célú átvett pénzeszközök (8.1.+8.2.+8.3.) | C60: =SUM(C61:C63) -> 0
A61: 8.1. | B61: Felhalm. célú garancia- és kezességvállalásból megtérülések ÁH-n kívülről
A62: 8.2. | B62: Felhalm. célú visszatérítendő támogatások, kölcsönök visszatér. ÁH-n kívülről
A63: 8.3. | B63: Egyéb felhalmozási célú átvett pénzeszköz
A64: 8.4. | B64: 8.3.-ból EU-s támogatás (közvetlen)
A65: 9. | B65: KÖLTSÉGVETÉSI BEVÉTELEK ÖSSZESEN: (1+…+8) | C65: =+C8+C15+C22+C29+C37+C49+C55+C60 -> 0
A66: 10. | B66: Hitel-, kölcsönfelvétel államháztartáson kívülről (10.1.+10.3.) | C66: =SUM(C67:C69) -> 0
A67: 10.1. | B67: Hosszú lejáratú hitelek, kölcsönök felvétele
A68: 10.2. | B68: Likviditási célú hitelek, kölcsönök felvétele pénzügyi vállalkozástól
A69: 10.3. | B69: Rövid lejáratú hitelek, kölcsönök felvétele
A70: 11. | B70: Belföldi értékpapírok bevételei (11.1. +…+ 11.4.) | C70: =SUM(C71:C74) -> 0
A71: 11.1. | B71: Forgatási célú belföldi értékpapírok beváltása, értékesítése
A72: 11.2. | B72: Éven belüli lejáratú belföldi értékpapírok kibocsátása
A73: 11.3. | B73: Befektetési célú belföldi értékpapírok beváltása, értékesítése
A74: 11.4. | B74: Éven túli lejáratú belföldi értékpapírok kibocsátása
A75: 12. | B75: Maradvány igénybevétele (12.1. + 12.2.) | C75: =SUM(C76:C77) -> 0
A76: 12.1. | B76: Előző év költségvetési maradványának igénybevétele
A77: 12.2. | B77: Előző év vállalkozási maradványának igénybevétele
A78: 13. | B78: Belföldi finanszírozás bevételei (13.1. + … + 13.3.) | C78: =SUM(C79:C81) -> 0
A79: 13.1. | B79: Államháztartáson belüli megelőlegezések
A80: 13.2. | B80: Államháztartáson belüli megelőlegezések törlesztése
A81: 13.3. | B81: Lekötött betétek megszüntetése
A82: 14. | B82: Külföldi finanszírozás bevételei (14.1.+…14.4.) | C82: =SUM(C83:C86) -> 0
A83: 14.1. | B83: Forgatási célú külföldi értékpapírok beváltása, értékesítése
A84: 14.2. | B84: Befektetési célú külföldi értékpapírok beváltása, értékesítése
A85: 14.3. | B85: Külföldi értékpapírok kibocsátása
A86: 14.4. | B86: Külföldi hitelek, kölcsönök felvétele
A87: 15. | B87: Váltóbevételek
A88: 16. | B88: Adóssághoz nem kapcsolódó származékos ügyletek bevételei
A89: 17. | B89: FINANSZÍROZÁSI BEVÉTELEK ÖSSZESEN: (10. + … +16.) | C89: =+C66+C70+C75+C78+C82+C88+C87 -> 0
A90: 18. | B90: BEVÉTELEK ÖSSZESEN: (9+17) | C90: =+C65+C89 -> 0
B92: Kiadások
A93: 1. | B93: Működési költségvetés kiadásai (1.1+…+1.5+1.18.) | C93: =+C94+C95+C96+C97+C98+C111 -> 0
A94: 1.1. | B94: Személyi juttatások
A95: 1.2. | B95: Munkaadókat terhelő járulékok és szociális hozzájárulási adó
A96: 1.3. | B96: Dologi kiadások
A97: 1.4. | B97: Ellátottak pénzbeli juttatásai
A98: 1.5 | B98: Egyéb működési célú kiadások
A99: 1.6. | B99: az 1.5-ből: - Előző évi elszámolásból származó befizetések
A100: 1.7. | B100: - Törvényi előíráson alapuló befizetések
A101: 1.8. | B101: - Elvonások és befizetések
...

Sheet KV_9.2.sz.mell
C1: =CONCATENATE("9.2. melléklet ",ALAPADATOK!A7," ",ALAPADATOK!B7," ",ALAPADATOK!C7," ",ALAPADATOK!D7," ",ALAPADATOK!E7," ",ALAPADATOK!F7," ",ALAPADATOK!G7," ",ALAPADATOK!H7) -> 9.2. melléklet a … / 2020 ( … ) önkormányzati rendelethez
A2: Költségvetési szerv megnevezése | B2: =CONCATENATE(ALAPADATOK!A11) -> Sajószögedi Polgármesteri Hivatal | C2: 02
A3: Feladat megnevezése | B3: Összes bevétel, kiadás | C3: 01
C4: ='KV_9.1.3.sz.mell'!C4 -> Forintban!
A5: Száma | B5: Kiemelt előirányzat, előirányzat megnevezése | C5: Előirányzat
B6: A | C6: B
B7: Bevételek
A8: 1. | B8: Működési bevételek (1.1.+…+1.11.) | C8: =SUM(C9:C19) -> 0
A9: 1.1. | B9: Készletértékesítés ellenértéke
A10: 1.2. | B10: Szolgáltatások ellenértéke
A11: 1.3. | B11: Közvetített szolgáltatások értéke
A12: 1.4. | B12: Tulajdonosi bevételek
A13: 1.5. | B13: Ellátási díjak
A14: 1.6. | B14: Kiszámlázott általános forgalmi adó
A15: 1.7. | B15: Általános forgalmi adó visszatérülése
A16: 1.8. | B16: Kamatbevételek
A17: 1.9. | B17: Egyéb pénzügyi műveletek bevételei
A18: 1.10. | B18: Biztosító által fizetett kártérítés
A19: 1.11. | B19: Egyéb működési bevételek
A20: 2. | B20: Működési célú támogatások államháztartáson belülről (2.1.+…+2.3.) | C20: =SUM(C21:C23) -> 0
A21: 2.1. | B21: Elvonások és befizetések bevételei
A22: 2.2. | B22: Visszatérítendő támogatások, kölcsönök visszatérülése ÁH-n belülről
A23: 2.3. | B23: Egyéb működési célú támogatások bevételei államháztartáson belülről
A24: 2.4. | B24: 2.3-ból EU támogatás
A25: 3. | B25: Közhatalmi bevételek | C25: 50000
A26: 4. | B26: Felhalmozási célú támogatások államháztartáson belülről (4.1.+…+4.3.) | C26: =+C27+C28+C29 -> 0
A27: 4.1. | B27: Felhalmozási célú önkormányzati támogatások
A28: 4.2. | B28: Visszatérítendő támogatások, kölcsönök visszatérülése ÁH-n belülről
A29: 4.3. | B29: Egyéb felhalmozási célú támogatások bevételei államháztartáson belülről
A30: 4.4. | B30: 4.3.-ból EU-s támogatás
A31: 5. | B31: Felhalmozási bevételek (5.1.+…+5.3.) | C31: =+C32+C33+C34 -> 0
A32: 5.1. | B32: Immateriális javak értékesítése
A33: 5.2. | B33: Ingatlanok értékesítése
A34: 5.3. | B34: Egyéb tárgyi eszközök értékesítése
A35: 6. | B35: Működési célú átvett pénzeszközök
A36: 7. | B36: Felhalmozási célú átvett pénzeszközök
A37: 8. | B37: Költségvetési bevételek összesen (1.+…+7.) | C37: =+C8+C20+C25+C26+C31+C35+C36 -> 50000
A38: 9. | B38: Finanszírozási bevételek (9.1.+…+9.3.) | C38: =+C39+C40+C41 -> 83879325
A39: 9.1. | B39: Költségvetési maradvány igénybevétele | C39: 454814
A40: 9.2. | B40: Vállalkozási maradvány igénybevétele
A41: 9.3. | B41: Irányító szervi (önkormányzati) támogatás (intézményfinanszírozás) | C41: 83424511
A42: 10. | B42: BEVÉTELEK ÖSSZESEN: (8.+9.) | C42: =+C37+C38 -> 83929325
B45: Kiadások
A46: 1. | B46: Működési költségvetés kiadásai (1.1+…+1.5.) | C46: =SUM(C47:C51) -> 78640226
A47: 1.1. | B47: Személyi juttatások | C47: 50683984
A48: 1.2. | B48: Munkaadókat terhelő járulékok és szociális hozzájárulási adó | C48: 9363442
A49: 1.3. | B49: Dologi kiadások | C49: 18592800
A50: 1.4. | B50: Ellátottak pénzbeli juttatásai
A51: 1.5. | B51: Egyéb működési célú kiadások
A52: 2. | B52: Felhalmozási költségvetés kiadásai (2.1.+…+2.3.) | C52: =SUM(C53:C55) -> 5289099
A53: 2.1. | B53: Beruházások | C53: 5289099
A54: 2.2. | B54: Felújítások
A55: 2.3. | B55: Egyéb fejlesztési célú kiadások
A56: 2.4. | B56: 2.3.-ból EU-s támogatásból megvalósuló programok, projektek kiadása
A57: 3. | B57: Finanszírozási kiadások
A58: 4. | B58: KIADÁSOK ÖSSZESEN: (1.+2.+3.) | C58: =+C46+C52+C57 -> 83929325
C59: =C42-C58 -> 0
A60: Éves tervezett létszám előirányzat (fő) | C60: 8
A61: Közfoglalkoztatottak létszáma (fő) | C61: 0

Sheet KV_9.2.1.sz.mell
C1: =CONCATENATE("9.2.1. melléklet ",ALAPADATOK!A7," ",ALAPADATOK!B7," ",ALAPADATOK!C7," ",ALAPADATOK!D7," ",ALAPADATOK!E7," ",ALAPADATOK!F7," ",ALAPADATOK!G7," ",ALAPADATOK!H7) -> 9.2.1. melléklet a … / 2020 ( … ) önkormányzati rendelethez
A2: Költségvetési szerv megnevezése | B2: =CONCATENATE(ALAPADATOK!A11) -> Sajószögedi Polgármesteri Hivatal | C2: 02
A3: Feladat megnevezése | B3: Kötelező feladatok bevételei, kiadásai | C3: 02
C4: ='KV_9.2.sz.mell'!C4 -> Forintban!
A5: Száma | B5: Kiemelt előirányzat, előirányzat megnevezése | C5: Előirányzat
B6: A | C6: B
B7: Bevételek
A8: 1. | B8: Működési bevételek (1.1.+…+1.11.) | C8: =SUM(C9:C19) -> 0
A9: 1.1. | B9: Készletértékesítés ellenértéke
A10: 1.2. | B10: Szolgáltatások ellenértéke
A11: 1.3. | B11: Közvetített szolgáltatások értéke
A12: 1.4. | B12: Tulajdonosi bevételek
A13: 1.5. | B13: Ellátási díjak
A14: 1.6. | B14: Kiszámlázott általános forgalmi adó
A15: 1.7. | B15: Általános forgalmi adó visszatérülése
A16: 1.8. | B16: Kamatbevételek
A17: 1.9. | B17: Egyéb pénzügyi műveletek bevételei
A18: 1.10. | B18: Biztosító által fizetett kártérítés
A19: 1.11. | B19: Egyéb működési bevételek
A20: 2. | B20: Működési célú támogatások államháztartáson belülről (2.1.+…+2.3.) | C20: =SUM(C21:C23) -> 0
A21: 2.1. | B21: Elvonások és befizetések bevételei
A22: 2.2. | B22: Visszatérítendő támogatások, kölcsönök visszatérülése ÁH-n belülről
A23: 2.3. | B23: Egyéb működési célú támogatások bevételei államháztartáson belülről
A24: 2.4. | B24: 2.3-ból EU támogatás
A25: 3. | B25: Közhatalmi bevételek | C25: 50000
A26: 4. | B26: Felhalmozási célú támogatások államháztartáson belülről (4.1.+…+4.3.) | C26: =+C27+C28+C29 -> 0
A27: 4.1. | B27: Felhalmozási célú önkormányzati támogatások
A28: 4.2. | B28: Visszatérítendő támogatások, kölcsönök visszatérülése ÁH-n belülről
A29: 4.3. | B29: Egyéb felhalmozási célú támogatások bevételei államháztartáson belülről
A30: 4.4. | B30: 4.3.-ból EU-s támogatás
A31: 5. | B31: Felhalmozási bevételek (5.1.+…+5.3.) | C31: =+C32+C33+C34 -> 0
A32: 5.1. | B32: Immateriális javak értékesítése
A33: 5.2. | B33: Ingatlanok értékesítése
A34: 5.3. | B34: Egyéb tárgyi eszközök értékesítése
A35: 6. | B35: Működési célú átvett pénzeszközök
A36: 7. | B36: Felhalmozási célú átvett pénzeszközök
A37: 8. | B37: Költségvetési bevételek összesen (1.+…+7.) | C37: =+C8+C20+C25+C26+C31+C35+C36 -> 50000
A38: 9. | B38: Finanszírozási bevételek (9.1.+…+9.3.) | C38: =+C39+C40+C41 -> 83879325
A39: 9.1. | B39: Költségvetési maradvány igénybevétele | C39: 454814
A40: 9.2. | B40: Vállalkozási maradvány igénybevétele
A41: 9.3. | B41: Irányító szervi (önkormányzati) támogatás (intézményfinanszírozás) | C41: 83424511
A42: 10. | B42: BEVÉTELEK ÖSSZESEN: (8.+9.) | C42: =+C37+C38 -> 83929325
B45: Kiadások
A46: 1. | B46: Működési költségvetés kiadásai (1.1+…+1.5.) | C46: =SUM(C47:C51) -> 78640226
A47: 1.1. | B47: Személyi juttatások | C47: 50683984
A48: 1.2. | B48: Munkaadókat terhelő járulékok és szociális hozzájárulási adó | C48: 9363442
A49: 1.3. | B49: Dologi kiadások | C49: 18592800
A50: 1.4. | B50: Ellátottak pénzbeli juttatásai
A51: 1.5. | B51: Egyéb működési célú kiadások
A52: 2. | B52: Felhalmozási költségvetés kiadásai (2.1.+…+2.3.) | C52: =SUM(C53:C55) -> 5289099
A53: 2.1. | B53: Beruházások | C53: 5289099
A54: 2.2. | B54: Felújítások
A55: 2.3. | B55: Egyéb fejlesztési célú kiadások
A56: 2.4. | B56: 2.3.-ból EU-s támogatásból megvalósuló programok, projektek kiadása
A57: 3. | B57: Finanszírozási kiadások
A58: 4. | B58: KIADÁSOK ÖSSZESEN: (1.+2.+3.) | C58: =+C46+C52+C57 -> 83929325
C59: =C42-C58 -> 0
A60: Éves tervezett létszám előirányzat (fő) | C60: 8
A61: Közfoglalkoztatottak létszáma (fő) | C61: 0

Sheet KV_9.2.2.sz.mell
C1: =CONCATENATE("9.2.2. melléklet ",ALAPADATOK!A7," ",ALAPADATOK!B7," ",ALAPADATOK!C7," ",ALAPADATOK!D7," ",ALAPADATOK!E7," ",ALAPADATOK!F7," ",ALAPADATOK!G7," ",ALAPADATOK!H7) -> 9.2.2. melléklet a … / 2020 ( … ) önkormányzati rendelethez
A2: Költségvetési szerv megnevezése | B2: =CONCATENATE(ALAPADATOK!A11) -> Sajószögedi Polgármesteri Hivatal | C2: 02
A3: Feladat megnevezése | B3: Önként vállalt feladatok bevételei, kiadásai | C3: 03
C4: ='KV_9.2.1.sz.mell'!C4 -> Forintban!
A5: Száma | B5: Kiemelt előirányzat, előirányzat megnevezése | C5: Előirányzat
B6: A | C6: B
B7: Bevételek
A8: 1. | B8: Működési bevételek (1.1.+…+1.11.) | C8: =SUM(C9:C19) -> 0
A9: 1.1. | B9: Készletértékesítés ellenértéke
A10: 1.2. | B10: Szolgáltatások ellenértéke
A11: 1.3. | B11: Közvetített szolgáltatások értéke
A12: 1.4. | B12: Tulajdonosi bevételek
A13: 1.5. | B13: Ellátási díjak
A14: 1.6. | B14: Kiszámlázott általános forgalmi adó
A15: 1.7. | B15: Általános forgalmi adó visszatérülése
A16: 1.8. | B16: Kamatbevételek
A17: 1.9. | B17: Egyéb pénzügyi műveletek bevételei
A18: 1.10. | B18: Biztosító által fizetett kártérítés
A19: 1.11. | B19: Egyéb működési bevételek
A20: 2. | B20: Működési célú támogatások államháztartáson belülről (2.1.+…+2.3.) | C20: =SUM(C21:C23) -> 0
A21: 2.1. | B21: Elvonások és befizetések bevételei
A22: 2.2. | B22: Visszatérítendő támogatások, kölcsönök visszatérülése ÁH-n belülről
A23: 2.3. | B23: Egyéb működési célú támogatások bevételei államháztartáson belülről
A24: 2.4. | B24: 2.3-ból EU támogatás
A25: 3. | B25: Közhatalmi bevételek
A26: 4. | B26: Felhalmozási célú támogatások államháztartáson belülről (4.1.+…+4.3.) | C26: =+C27+C28+C29 -> 0
A27: 4.1. | B27: Felhalmozási célú önkormányzati támogatások
A28: 4.2. | B28: Visszatérítendő támogatások, kölcsönök visszatérülése ÁH-n belülről
A29: 4.3. | B29: Egyéb felhalmozási célú támogatások bevételei államháztartáson belülről
A30: 4.4. | B30: 4.3.-ból EU-s támogatás
A31: 5. | B31: Felhalmozási bevételek (5.1.+…+5.3.) | C31: =+C32+C33+C34 -> 0
A32: 5.1. | B32: Immateriális javak értékesítése
A33: 5.2. | B33: Ingatlanok értékesítése
A34: 5.3. | B34: Egyéb tárgyi eszközök értékesítése
A35: 6. | B35: Működési célú átvett pénzeszközök
A36: 7. | B36: Felhalmozási célú átvett pénzeszközök
A37: 8. | B37: Költségvetési bevételek összesen (1.+…+7.) | C37: =+C8+C20+C25+C26+C31+C35+C36 -> 0
A38: 9. | B38: Finanszírozási bevételek (9.1.+…+9.3.) | C38: =+C39+C40+C41 -> 0
A39: 9.1. | B39: Költségvetési maradvány igénybevétele
A40: 9.2. | B40: Vállalkozási maradvány igénybevétele
A41: 9.3. | B41: Irányító szervi (önkormányzati) támogatás (intézményfinanszírozás)
A42: 10. | B42: BEVÉTELEK ÖSSZESEN: (8.+9.) | C42: =+C37+C38 -> 0
B45: Kiadások
A46: 1. | B46: Működési költségvetés kiadásai (1.1+…+1.5.) | C46: =SUM(C47:C51) -> 0
A47: 1.1. | B47: Személyi juttatások
A48: 1.2. | B48: Munkaadókat terhelő járulékok és szociális hozzájárulási adó
A49: 1.3. | B49: Dologi kiadások
A50: 1.4. | B50: Ellátottak pénzbeli juttatásai
A51: 1.5. | B51: Egyéb működési célú kiadások
A52: 2. | B52: Felhalmozási költségvetés kiadásai (2.1.+…+2.3.) | C52: =SUM(C53:C55) -> 0
A53: 2.1. | B53: Beruházások
A54: 2.2. | B54: Felújítások
A55: 2.3. | B55: Egyéb fejlesztési célú kiadások
A56: 2.4. | B56: 2.3.-ból EU-s támogatásból megvalósuló programok, projektek kiadása
A57: 3. | B57: Finanszírozási kiadások
A58: 4. | B58: KIADÁSOK ÖSSZESEN: (1.+2.+3.) | C58: =+C46+C52+C57 -> 0
C59: =C42-C58 -> 0
A60: Éves tervezett létszám előirányzat (fő)
A61: Közfoglalkoztatottak létszáma (fő)

Sheet KV_9.2.3.sz.mell
C1: =CONCATENATE("9.2.3. melléklet ",ALAPADATOK!A7," ",ALAPADATOK!B7," ",ALAPADATOK!C7," ",ALAPADATOK!D7," ",ALAPADATOK!E7," ",ALAPADATOK!F7," ",ALAPADATOK!G7," ",ALAPADATOK!H7) -> 9.2.3. melléklet a … / 2020 ( … ) önkormányzati rendelethez
A2: Költségvetési szerv megnevezése | B2: =CONCATENATE(ALAPADATOK!A11) -> Sajószögedi Polgármesteri Hivatal | C2: 02
A3: Feladat megnevezése | B3: Államigazgatási feladatok bevételei, kiadásai | C3: 04
C4: ='KV_9.2.2.sz.mell'!C4 -> Forintban!
A5: Száma | B5: Kiemelt előirányzat, előirányzat megnevezése | C5: Előirányzat
B6: A | C6: B
B7: Bevételek
A8: 1. | B8: Működési bevételek (1.1.+…+1.11.) | C8: =SUM(C9:C19) -> 0
A9: 1.1. | B9: Készletértékesítés ellenértéke
A10: 1.2. | B10: Szolgáltatások ellenértéke
A11: 1.3. | B11: Közvetített szolgáltatások értéke
A12: 1.4. | B12: Tulajdonosi bevételek
A13: 1.5. | B13: Ellátási díjak
A14: 1.6. | B14: Kiszámlázott általános forgalmi adó
A15: 1.7. | B15: Általános forgalmi adó visszatérülése
A16: 1.8. | B16: Kamatbevételek
A17: 1.9. | B17: Egyéb pénzügyi műveletek bevételei
A18: 1.10. | B18: Biztosító által fizetett kártérítés
A19: 1.11. | B19: Egyéb működési bevételek
A20: 2. | B20: Működési célú támogatások államháztartáson belülről (2.1.+…+2.3.) | C20: =SUM(C21:C23) -> 0
A21: 2.1. | B21: Elvonások és befizetések bevételei
A22: 2.2. | B22: Visszatérítendő támogatások, kölcsönök visszatérülése ÁH-n belülről
A23: 2.3. | B23: Egyéb működési célú támogatások bevételei államháztartáson belülről
A24: 2.4. | B24: 2.3-ból EU támogatás
A25: 3. | B25: Közhatalmi bevételek
A26: 4. | B26: Felhalmozási célú támogatások államháztartáson belülről (4.1.+…+4.3.) | C26: =+C27+C28+C29 -> 0
A27: 4.1. | B27: Felhalmozási célú önkormányzati támogatások
A28: 4.2. | B28: Visszatérítendő támogatások, kölcsönök visszatérülése ÁH-n belülről
A29: 4.3. | B29: Egyéb felhalmozási célú támogatások bevételei államháztartáson belülről
A30: 4.4. | B30: 4.3.-ból EU-s támogatás
A31: 5. | B31: Felhalmozási bevételek (5.1.+…+5.3.) | C31: =+C32+C33+C34 -> 0
A32: 5.1. | B32: Immateriális javak értékesítése
A33: 5.2. | B33: Ingatlanok értékesítése
A34: 5.3. | B34: Egyéb tárgyi eszközök értékesítése
A35: 6. | B35: Működési célú átvett pénzeszközök
A36: 7. | B36: Felhalmozási célú átvett pénzeszközök
A37: 8. | B37: Költségvetési bevételek összesen (1.+…+7.) | C37: =+C8+C20+C25+C26+C31+C35+C36 -> 0
A38: 9. | B38: Finanszírozási bevételek (9.1.+…+9.3.) | C38: =+C39+C40+C41 -> 0
A39: 9.1. | B39: Költségvetési maradvány igénybevétele
A40: 9.2. | B40: Vállalkozási maradvány igénybevétele
A41: 9.3. | B41: Irányító szervi (önkormányzati) támogatás (intézményfinanszírozás)
A42: 10. | B42: BEVÉTELEK ÖSSZESEN: (8.+9.) | C42: =+C37+C38 -> 0
B45: Kiadások
A46: 1. | B46: Működési költségvetés kiadásai (1.1+…+1.5.) | C46: =SUM(C47:C51) -> 0
A47: 1.1. | B47: Személyi juttatások
A48: 1.2. | B48: Munkaadókat terhelő járulékok és szociális hozzájárulási adó
A49: 1.3. | B49: Dologi kiadások
A50: 1.4. | B50: Ellátottak pénzbeli juttatásai
A51: 1.5. | B51: Egyéb működési célú kiadások
A52: 2. | B52: Felhalmozási költségvetés kiadásai (2.1.+…+2.3.) | C52: =SUM(C53:C55) -> 0
A53: 2.1. | B53: Beruházások
A54: 2.2. | B54: Felújítások
A55: 2.3. | B55: Egyéb fejlesztési célú kiadások
A56: 2.4. | B56: 2.3.-ból EU-s támogatásból megvalósuló programok, projektek kiadása
A57: 3. | B57: Finanszírozási kiadások
A58: 4. | B58: KIADÁSOK ÖSSZESEN: (1.+2.+3.) | C58: =+C46+C52+C57 -> 0
C59: =C42-C58 -> 0
A60: Éves tervezett létszám előirányzat (fő)
A61: Közfoglalkoztatottak létszáma (fő)

Sheet KV_9.3.sz.mell
C1: =CONCATENATE(ALAPADATOK!P13," melléklet ",ALAPADATOK!A7," ",ALAPADATOK!B7," ",ALAPADATOK!C7," ",ALAPADATOK!D7," ",ALAPADATOK!E7," ",ALAPADATOK!F7," ",ALAPADATOK!G7," ",ALAPADATOK!H7) -> 9.3. melléklet a … / 2020 ( … ) önkormányzati rendelethez
A2: Költségvetési szerv megnevezése | B2: =CONCATENATE(ALAPADATOK!B13) -> Sajószögedi Általános Művelődési Központ - Család és Gyermekjóléti Szolgálat - Konyha - Művelődési Ház és Könyvtár | C2: 03
A3: Feladat megnevezése | B3: Összes bevétel, kiadás | C3: 01
C4: ='KV_9.2.3.sz.mell'!C4 -> Forintban!
A5: Száma | B5: Kiemelt előirányzat, előirányzat megnevezése | C5: Előirányzat
B6: A | C6: B
B7: Bevételek
A8: 1. | B8: Működési bevételek (1.1.+…+1.11.) | C8: =SUM(C9:C19) -> 14040378
A9: 1.1. | B9: Készletértékesítés ellenértéke
A10: 1.2. | B10: Szolgáltatások ellenértéke | C10: 10240000
A11: 1.3. | B11: Közvetített szolgáltatások értéke
A12: 1.4. | B12: Tulajdonosi bevételek
A13: 1.5. | B13: Ellátási díjak | C13: 942975
A14: 1.6. | B14: Kiszámlázott általános forgalmi adó | C14: 2857403
A15: 1.7. | B15: Általános forgalmi adó visszatérülése
A16: 1.8. | B16: Kamatbevételek
A17: 1.9. | B17: Egyéb pénzügyi műveletek bevételei
A18: 1.10. | B18: Biztosító által fizetett kártérítés
A19: 1.11. | B19: Egyéb működési bevételek
A20: 2. | B20: Működési célú támogatások államháztartáson belülről (2.1.+…+2.3.) | C20: =SUM(C21:C23) -> 0
A21: 2.1. | B21: Elvonások és befizetések bevételei
A22: 2.2. | B22: Visszatérítendő támogatások, kölcsönök visszatérülése ÁH-n belülről
A23: 2.3. | B23: Egyéb működési célú támogatások bevételei államháztartáson belülről
A24: 2.4. | B24: 2.3.-ból EU támogatás
A25: 3. | B25: Közhatalmi bevételek
A26: 4. | B26: Felhalmozási célú támogatások államháztartáson belülről (4.1.+4.2.) | C26: =+C27+C28 -> 0
A27: 4.1. | B27: Visszatérítendő támogatások, kölcsönök visszatérülése ÁH-n belülről
A28: 4.2. | B28: Egyéb felhalmozási célú támogatások bevételei államháztartáson belülről
A29: 4.3. | B29: 4.2.-ből EU-s támogatás
A30: 5. | B30: Felhalmozási bevételek (5.1.+…+5.3.) | C30: =+C31+C32+C33 -> 0
A31: 5.1. | B31: Immateriális javak értékesítése
A32: 5.2. | B32: Ingatlanok értékesítése
A33: 5.3. | B33: Egyéb tárgyi eszközök értékesítése
A34: 6. | B34: Működési célú átvett pénzeszközök
A35: 7. | B35: Felhalmozási célú átvett pénzeszközök
A36: 8. | B36: KÖLTSÉGVETÉSI BEVÉTELEK ÖSSZESEN (1.+…+7.) | C36: =+C8+C20+C25+C26+C30+C34+C35 -> 14040378
A37: 9. | B37: Finanszírozási bevételek (9.1.+…+9.3.) | C37: =+C38+C39+C40 -> 129984086
A38: 9.1. | B38: Költségvetési maradvány igénybevétele | C38: 1320700
A39: 9.2. | B39: Vállalkozási maradvány igénybevétele
A40: 9.3. | B40: Irányító szervi (önkormányzati) támogatás (intézményfinanszírozás) | C40: 128663386
A41: 10. | B41: BEVÉTELEK ÖSSZESEN: (8.+9.) | C41: =+C36+C37 -> 144024464
B44: Kiadások
A45: 1. | B45: Működési költségvetés kiadásai (1.1+…+1.5.) | C45: =SUM(C46:C50) -> 141054315
A46: 1.1. | B46: Személyi juttatások | C46: 70533234
A47: 1.2. | B47: Munkaadókat terhelő járulékok és szociális hozzájárulási adó | C47: 13513956
A48: 1.3. | B48: Dologi kiadások | C48: 57007125
A49: 1.4. | B49: Ellátottak pénzbeli juttatásai
A50: 1.5. | B50: Egyéb működési célú kiadások
A51: 2. | B51: Felhalmozási költségvetés kiadásai (2.1.+…+2.3.) | C51: =SUM(C52:C54) -> 2970149
A52: 2.1. | B52: Beruházások | C52: 2970149
A53: 2.2. | B53: Felújítások
A54: 2.3. | B54: Egyéb fejlesztési célú kiadások
A55: 2.4. | B55: 2.3.-ból EU-s támogatásból megvalósuló programok, projektek kiadása
A56: 3. | B56: Finanszírozási kiadások
A57: 4. | B57: KIADÁSOK ÖSSZESEN: (1.+2.+3.) | C57: =+C45+C51+C56 -> 144024464
C58: =C41-C57 -> 0
A59: Éves tervezett létszám előirányzat (fő) | C59: 17
A60: Közfoglalkoztatottak létszáma (fő) | C60: 0

Sheet KV_9.3.1.sz.mell
C1: =CONCATENATE(ALAPADATOK!P13,"1. melléklet ",ALAPADATOK!A7," ",ALAPADATOK!B7," ",ALAPADATOK!C7," ",ALAPADATOK!D7," ",ALAPADATOK!E7," ",ALAPADATOK!F7," ",ALAPADATOK!G7," ",ALAPADATOK!H7) -> 9.3.1. melléklet a … / 2020 ( … ) önkormányzati rendelethez
A2: Költségvetési szerv megnevezése | B2: =CONCATENATE('KV_9.3.sz.mell'!B2) -> Sajószögedi Általános Művelődési Központ - Család és Gyermekjóléti Szolgálat - Konyha - Művelődési Ház és Könyvtár | C2: 03
A3: Feladat megnevezése | B3: Kötelező feladatok bevételei, kiadásai | C3: 02
C4: ='KV_9.3.sz.mell'!C4 -> Forintban!
A5: Száma | B5: Kiemelt előirányzat, előirányzat megnevezése | C5: Előirányzat
B6: A | C6: B
B7: Bevételek
A8: 1. | B8: Működési bevételek (1.1.+…+1.11.) | C8: =SUM(C9:C19) -> 14040378
A9: 1.1. | B9: Készletértékesítés ellenértéke
A10: 1.2. | B10: Szolgáltatások ellenértéke | C10: 10240000
A11: 1.3. | B11: Közvetített szolgáltatások értéke
A12: 1.4. | B12: Tulajdonosi bevételek
A13: 1.5. | B13: Ellátási díjak | C13: 942975
A14: 1.6. | B14: Kiszámlázott általános forgalmi adó | C14: 2857403
A15: 1.7. | B15: Általános forgalmi adó visszatérülése
A16: 1.8. | B16: Kamatbevételek
A17: 1.9. | B17: Egyéb pénzügyi műveletek bevételei
A18: 1.10. | B18: Biztosító által fizetett kártérítés
A19: 1.11. | B19: Egyéb működési bevételek
A20: 2. | B20: Működési célú támogatások államháztartáson belülről (2.1.+…+2.3.) | C20: =SUM(C21:C23) -> 0
A21: 2.1. | B21: Elvonások és befizetések bevételei
A22: 2.2. | B22: Visszatérítendő támogatások, kölcsönök visszatérülése ÁH-n belülről
A23: 2.3. | B23: Egyéb működési célú támogatások bevételei államháztartáson belülről
A24: 2.4. | B24: 2.3.-ból EU támogatás
A25: 3. | B25: Közhatalmi bevételek
A26: 4. | B26: Felhalmozási célú támogatások államháztartáson belülről (4.1.+4.2.) | C26: =+C27+C28 -> 0
A27: 4.1. | B27: Visszatérítendő támogatások, kölcsönök visszatérülése ÁH-n belülről
A28: 4.2. | B28: Egyéb felhalmozási célú támogatások bevételei államháztartáson belülről
A29: 4.3. | B29: 4.2.-ből EU-s támogatás
A30: 5. | B30: Felhalmozási bevételek (5.1.+…+5.3.) | C30: =+C31+C32+C33 -> 0
A31: 5.1. | B31: Immateriális javak értékesítése
A32: 5.2. | B32: Ingatlanok értékesítése
A33: 5.3. | B33: Egyéb tárgyi eszközök értékesítése
A34: 6. | B34: Működési célú átvett pénzeszközök
A35: 7. | B35: Felhalmozási célú átvett pénzeszközök
A36: 8. | B36: KÖLTSÉGVETÉSI BEVÉTELEK ÖSSZESEN (1.+…+7.) | C36: =+C8+C20+C25+C26+C30+C34+C35 -> 14040378
A37: 9. | B37: Finanszírozási bevételek (9.1.+…+9.3.) | C37: =+C38+C39+C40 -> 129984086
A38: 9.1. | B38: Költségvetési maradvány igénybevétele | C38: 1320700
A39: 9.2. | B39: Vállalkozási maradvány igénybevétele
A40: 9.3. | B40: Irányító szervi (önkormányzati) támogatás (intézményfinanszírozás) | C40: 128663386
A41: 10. | B41: BEVÉTELEK ÖSSZESEN: (8.+9.) | C41: =+C36+C37 -> 144024464
B44: Kiadások
A45: 1. | B45: Működési költségvetés kiadásai (1.1+…+1.5.) | C45: =SUM(C46:C50) -> 141054315
A46: 1.1. | B46: Személyi juttatások | C46: 70533234
A47: 1.2. | B47: Munkaadókat terhelő járulékok és szociális hozzájárulási adó | C47: 13513956
A48: 1.3. | B48: Dologi kiadások | C48: 57007125
A49: 1.4. | B49: Ellátottak pénzbeli juttatásai
A50: 1.5. | B50: Egyéb működési célú kiadások
A51: 2. | B51: Felhalmozási költségvetés kiadásai (2.1.+…+2.3.) | C51: =SUM(C52:C54) -> 2970149
A52: 2.1. | B52: Beruházások | C52: 2970149
A53: 2.2. | B53: Felújítások
A54: 2.3. | B54: Egyéb fejlesztési célú kiadások
A55: 2.4. | B55: 2.3.-ból EU-s támogatásból megvalósuló programok, projektek kiadása
A56: 3. | B56: Finanszírozási kiadások
A57: 4. | B57: KIADÁSOK ÖSSZESEN: (1.+2.+3.) | C57: =+C45+C51+C56 -> 144024464
C58: =C41-C57 -> 0
A59: Éves tervezett létszám előirányzat (fő) | C59: 17
A60: Közfoglalkoztatottak létszáma (fő) | C60: 0

Sheet KV_9.3.2.sz.mell
C1: =CONCATENATE(ALAPADATOK!P13,"2. melléklet ",ALAPADATOK!A7," ",ALAPADATOK!B7," ",ALAPADATOK!C7," ",ALAPADATOK!D7," ",ALAPADATOK!E7," ",ALAPADATOK!F7," ",ALAPADATOK!G7," ",ALAPADATOK!H7) -> 9.3.2. melléklet a … / 2020 ( … ) önkormányzati rendelethez
A2: Költségvetési szerv megnevezése | B2: =CONCATENATE('KV_9.3.1.sz.mell'!B2) -> Sajószögedi Általános Művelődési Központ - Család és Gyermekjóléti Szolgálat - Konyha - Művelődési Ház és Könyvtár | C2: 03
A3: Feladat megnevezése | B3: Önként vállalt feladatok bevételei, kiadásai | C3: 03
C4: ='KV_9.3.1.sz.mell'!C4 -> Forintban!
A5: Száma | B5: Kiemelt előirányzat, előirányzat megnevezése | C5: Előirányzat
B6: A | C6: B
B7: Bevételek
A8: 1. | B8: Működési bevételek (1.1.+…+1.11.) | C8: =SUM(C9:C19) -> 0
A9: 1.1. | B9: Készletértékesítés ellenértéke
A10: 1.2. | B10: Szolgáltatások ellenértéke
A11: 1.3. | B11: Közvetített szolgáltatások értéke
A12: 1.4. | B12: Tulajdonosi bevételek
A13: 1.5. | B13: Ellátási díjak
A14: 1.6. | B14: Kiszámlázott általános forgalmi adó
A15: 1.7. | B15: Általános forgalmi adó visszatérülése
A16: 1.8. | B16: Kamatbevételek
A17: 1.9. | B17: Egyéb pénzügyi műveletek bevételei
A18: 1.10. | B18: Biztosító által fizetett kártérítés
A19: 1.11. | B19: Egyéb működési bevételek
A20: 2. | B20: Működési célú támogatások államháztartáson belülről (2.1.+…+2.3.) | C20: =SUM(C21:C23) -> 0
A21: 2.1. | B21: Elvonások és befizetések bevételei
A22: 2.2. | B22: Visszatérítendő támogatások, kölcsönök visszatérülése ÁH-n belülről
A23: 2.3. | B23: Egyéb működési célú támogatások bevételei államháztartáson belülről
A24: 2.4. | B24: 2.3.-ból EU támogatás
A25: 3. | B25: Közhatalmi bevételek
A26: 4. | B26: Felhalmozási célú támogatások államháztartáson belülről (4.1.+4.2.) | C26: =+C27+C28 -> 0
A27: 4.1. | B27: Visszatérítendő támogatások, kölcsönök visszatérülése ÁH-n belülről
A28: 4.2. | B28: Egyéb felhalmozási célú támogatások bevételei államháztartáson belülről
A29: 4.3. | B29: 4.2.-ből EU-s támogatás
A30: 5. | B30: Felhalmozási bevételek (5.1.+…+5.3.) | C30: =+C31+C32+C33 -> 0
A31: 5.1. | B31: Immateriális javak értékesítése
A32: 5.2. | B32: Ingatlanok értékesítése
A33: 5.3. | B33: Egyéb tárgyi eszközök értékesítése
A34: 6. | B34: Működési célú átvett pénzeszközök
A35: 7. | B35: Felhalmozási célú átvett pénzeszközök
A36: 8. | B36: KÖLTSÉGVETÉSI BEVÉTELEK ÖSSZESEN (1.+…+7.) | C36: =+C8+C20+C25+C26+C30+C34+C35 -> 0
A37: 9. | B37: Finanszírozási bevételek (9.1.+…+9.3.) | C37: =+C38+C39+C40 -> 0
A38: 9.1. | B38: Költségvetési maradvány igénybevétele
A39: 9.2. | B39: Vállalkozási maradvány igénybevétele
A40: 9.3. | B40: Irányító szervi (önkormányzati) támogatás (intézményfinanszírozás)
A41: 10. | B41: BEVÉTELEK ÖSSZESEN: (8.+9.) | C41: =+C36+C37 -> 0
B44: Kiadások
A45: 1. | B45: Működési költségvetés kiadásai (1.1+…+1.5.) | C45: =SUM(C46:C50) -> 0
A46: 1.1. | B46: Személyi juttatások
A47: 1.2. | B47: Munkaadókat terhelő járulékok és szociális hozzájárulási adó
A48: 1.3. | B48: Dologi kiadások
A49: 1.4. | B49: Ellátottak pénzbeli juttatásai
A50: 1.5. | B50: Egyéb működési célú kiadások
A51: 2. | B51: Felhalmozási költségvetés kiadásai (2.1.+…+2.3.) | C51: =SUM(C52:C54) -> 0
A52: 2.1. | B52: Beruházások
A53: 2.2. | B53: Felújítások
A54: 2.3. | B54: Egyéb fejlesztési célú kiadások
A55: 2.4. | B55: 2.3.-ból EU-s támogatásból megvalósuló programok, projektek kiadása
A56: 3. | B56: Finanszírozási kiadások
A57: 4. | B57: KIADÁSOK ÖSSZESEN: (1.+2.+3.) | C57: =+C45+C51+C56 -> 0
C58: =C41-C57 -> 0
A59: Éves tervezett létszám előirányzat (fő)
A60: Közfoglalkoztatottak létszáma (fő)

Sheet KV_9.3.3.sz.mell
C1: =CONCATENATE(ALAPADATOK!P13,"3. melléklet ",ALAPADATOK!A7," ",ALAPADATOK!B7," ",ALAPADATOK!C7," ",ALAPADATOK!D7," ",ALAPADATOK!E7," ",ALAPADATOK!F7," ",ALAPADATOK!G7," ",ALAPADATOK!H7) -> 9.3.3. melléklet a … / 2020 ( … ) önkormányzati rendelethez
A2: Költségvetési szerv megnevezése | B2: =CONCATENATE('KV_9.3.2.sz.mell'!B2) -> Sajószögedi Általános Művelődési Központ - Család és Gyermekjóléti Szolgálat - Konyha - Művelődési Ház és Könyvtár | C2: 03
A3: Feladat megnevezése | B3: Államigazgatási feladatok bevételei, kiadásai | C3: 04
C4: ='KV_9.3.2.sz.mell'!C4 -> Forintban!
A5: Száma | B5: Kiemelt előirányzat, előirányzat megnevezése | C5: Előirányzat
B6: A | C6: B
B7: Bevételek
A8: 1. | B8: Működési bevételek (1.1.+…+1.11.) | C8: =SUM(C9:C19) -> 0
A9: 1.1. | B9: Készletértékesítés ellenértéke
A10: 1.2. | B10: Szolgáltatások ellenértéke
A11: 1.3. | B11: Közvetített szolgáltatások értéke
A12: 1.4. | B12: Tulajdonosi bevételek
A13: 1.5. | B13: Ellátási díjak
A14: 1.6. | B14: Kiszámlázott általános forgalmi adó
A15: 1.7. | B15: Általános forgalmi adó visszatérülése
A16: 1.8. | B16: Kamatbevételek
A17: 1.9. | B17: Egyéb pénzügyi műveletek bevételei
A18: 1.10. | B18: Biztosító által fizetett kártérítés
A19: 1.11. | B19: Egyéb működési bevételek
A20: 2. | B20: Működési célú támogatások államháztartáson belülről (2.1.+…+2.3.) | C20: =SUM(C21:C23) -> 0
A21: 2.1. | B21: Elvonások és befizetések bevételei
A22: 2.2. | B22: Visszatérítendő támogatások, kölcsönök visszatérülése ÁH-n belülről
A23: 2.3. | B23: Egyéb működési célú támogatások bevételei államháztartáson belülről
A24: 2.4. | B24: 2.3.-ból EU támogatás
A25: 3. | B25: Közhatalmi bevételek
A26: 4. | B26: Felhalmozási célú támogatások államháztartáson belülről (4.1.+4.2.) | C26: =+C27+C28 -> 0
A27: 4.1. | B27: Visszatérítendő támogatások, kölcsönök visszatérülése ÁH-n belülről
A28: 4.2. | B28: Egyéb felhalmozási célú támogatások bevételei államháztartáson belülről
A29: 4.3. | B29: 4.2.-ből EU-s támogatás
A30: 5. | B30: Felhalmozási bevételek (5.1.+…+5.3.) | C30: =+C31+C32+C33 -> 0
A31: 5.1. | B31: Immateriális javak értékesítése
A32: 5.2. | B32: Ingatlanok értékesítése
A33: 5.3. | B33: Egyéb tárgyi eszközök értékesítése
A34: 6. | B34: Működési célú átvett pénzeszközök
A35: 7. | B35: Felhalmozási célú átvett pénzeszközök
A36: 8. | B36: KÖLTSÉGVETÉSI BEVÉTELEK ÖSSZESEN (1.+…+7.) | C36: =+C8+C20+C25+C26+C30+C34+C35 -> 0
A37: 9. | B37: Finanszírozási bevételek (9.1.+…+9.3.) | C37: =+C38+C39+C40 -> 0
A38: 9.1. | B38: Költségvetési maradvány igénybevétele
A39: 9.2. | B39: Vállalkozási maradvány igénybevétele
A40: 9.3. | B40: Irányító szervi (önkormányzati) támogatás (intézményfinanszírozás)
A41: 10. | B41: BEVÉTELEK ÖSSZESEN: (8.+9.) | C41: =+C36+C37 -> 0
B44: Kiadások
A45: 1. | B45: Működési költségvetés kiadásai (1.1+…+1.5.) | C45: =SUM(C46:C50) -> 0
A46: 1.1. | B46: Személyi juttatások
A47: 1.2. | B47: Munkaadókat terhelő járulékok és szociális hozzájárulási adó
A48: 1.3. | B48: Dologi kiadások
A49: 1.4. | B49: Ellátottak pénzbeli juttatásai
A50: 1.5. | B50: Egyéb működési célú kiadások
A51: 2. | B51: Felhalmozási költségvetés kiadásai (2.1.+…+2.3.) | C51: =SUM(C52:C54) -> 0
A52: 2.1. | B52: Beruházások
A53: 2.2. | B53: Felújítások
A54: 2.3. | B54: Egyéb fejlesztési célú kiadások
A55: 2.4. | B55: 2.3.-ból EU-s támogatásból megvalósuló programok, projektek kiadása
A56: 3. | B56: Finanszírozási kiadások
A57: 4. | B57: KIADÁSOK ÖSSZESEN: (1.+2.+3.) | C57: =+C45+C51+C56 -> 0
C58: =C41-C57 -> 0
A59: Éves tervezett létszám előirányzat (fő)
A60: Közfoglalkoztatottak létszáma (fő)

Sheet KV_10.sz.mell
B2: =CONCATENATE("10. melléklet ",ALAPADATOK!A7," ",ALAPADATOK!B7," ",ALAPADATOK!C7," ",ALAPADATOK!D7," ",ALAPADATOK!E7," ",ALAPADATOK!F7," ",ALAPADATOK!G7," ",ALAPADATOK!H7) -> 10. melléklet a … / 2020 ( … ) önkormányzati rendelethez
A4: Adatszolgáltatás az elismert tartozásállományról
A6: Költségvetési szerv neve: | C6: Sajószöged Községi Önkormányzat
A8: Költségvetési szerv számlaszáma: | C8: 11734114-15348609
A10: Éves eredeti kiadási előirányzat: 656 791 471 Ft
A11: 30 napon túli elismert tartozásállomány összesen: 5 981 700 Ft | G11: ='KV_9.3.3.sz.mell'!C4 -> Forintban!
A12: Sor-szám | B12: Tartozásállomány megnevezése | C12: 30 nap alatti állomány | D12: 30-60 nap közötti állomány | E12: 60 napon túli állomány | F12: Át-ütemezett | G12: Összesen:
A13: 1. | B13: Állammal szembeni tartozások | C13: 0 | G13: =SUM(C13:F13) -> 0
A14: 2. | B14: Központi költségvetéssel szemben fennálló tartozás | G14: =SUM(C14:F14) -> 0
A15: 3. | B15: Elkülönített állami pénzalapokkal szembeni tartozás | G15: =SUM(C15:F15) -> 0
A16: 4. | B16: TB alapokkal szembeni tartozás | G16: =SUM(C16:F16) -> 0
A17: 5. | B17: Tartozásállomány önkormányzatok és intézmények felé | G17: =SUM(C17:F17) -> 0
A18: 6. | B18: Egyéb tartozásállomány | E18: 5981700 | G18: 5981700
A19: 7. | B19: Összesen: | C19: =SUM(C13:C18) -> 0 | D19: =SUM(D13:D18) -> 0 | E19: 5981700 | F19: =SUM(F13:F18) -> 0 | G19: =SUM(C19:F19) -> 5981700
A23: =+CONCATENATE("......................, ",LEFT(KV_ÖSSZEFÜGGÉSEK!A5,4),". .......................... hó ..... nap") -> ......................, 2020. .......................... hó ..... nap
D27: költségvetési szerv vezetője

Sheet KV_1.sz.tájékoztató_t.
E1: =CONCATENATE("1. tájékoztató tábla ",ALAPADATOK!A7," ",ALAPADATOK!B7," ",ALAPADATOK!C7," ",ALAPADATOK!D7," ",ALAPADATOK!E7," ",ALAPADATOK!F7," ",ALAPADATOK!G7," ",ALAPADATOK!H7) -> 1. tájékoztató tábla a … / 2020 ( … ) önkormányzati rendelethez
A2: =CONCATENATE(ALAPADATOK!A3) -> Sajószöged Községi Önkormányzat
A3: =CONCATENATE("Tájékoztató a ",ALAPADATOK!D7-2,". évi tény, ",ALAPADATOK!D7-1,". évi várható és ",ALAPADATOK!D7,". évi terv adatokról") -> Tájékoztató a 2018. évi tény, 2019. évi várható és 2020. évi terv adatokról
A4: B E V É T E L E K
A5: 1. sz. táblázat | E5: ='KV_10.sz.mell'!G11 -> Forintban!
A6: Sor- szám | B6: Bevételi jogcím | C6: =+CONCATENATE(LEFT(KV_ÖSSZEFÜGGÉSEK!A5,4)-2,". évi tény") -> 2018. évi tény | D6: =+CONCATENATE(LEFT(KV_ÖSSZEFÜGGÉSEK!A5,4)-1,". évi várható") -> 2019. évi várható | E6: =+'KV_1.1.sz.mell.'!C8 -> 2020. évi előirányzat
A7: A | B7: B | C7: C | D7: D | E7: E
A8: 1. | B8: Önkormányzat működési támogatásai (1.1.+…+.1.6.) | C8: =+C9+C10+C11+C12+C13+C14 -> 111078702 | D8: =+D9+D10+D11+D12+D13+D14 -> 112010707 | E8: =+E9+E10+E11+E12+E13+E14 -> 98604818
A9: 1.1. | B9: Helyi önkormányzatok működésének általános támogatása | C9: 30702256 | D9: 26652249 | E9: 23631621
A10: 1.2. | B10: Önkormányzatok egyes köznevelési feladatainak támogatása | C10: 45829000 | D10: 47126524 | E10: 48695600
A11: 1.3. | B11: Önkormányzatok szociális és gyermekjóléti feladatainak támogatása | C11: 28159042 | D11: 28922475 | E11: 23410305
A12: 1.4. | B12: Önkormányzatok kulturális feladatainak támogatása | C12: 3266886 | D12: 3159719 | E12: 2867292
A13: 1.5. | B13: Működési célú kvi támogatások és kiegészítő támogatások | C13: 3084198 | D13: 5977570
A14: 1.6. | B14: Elszámolásból származó bevételek | C14: 37320 | D14: 172170
A15: 2. | B15: Működési célú támogatások államháztartáson belülről (2.1.+…+.2.5.) | C15: =+C16+C17+C18+C19+C20 -> 14911346 | D15: =+D16+D17+D18+D19+D20 -> 12978730 | E15: =+E16+E17+E18+E19+E20 -> 11262720
A16: 2.1. | B16: Elvonások és befizetések bevételei
A17: 2.2. | B17: Működési célú garancia- és kezességvállalásból megtérülések
A18: 2.3. | B18: Működési célú visszatérítendő támogatások, kölcsönök visszatérülése
A19: 2.4. | B19: Működési célú visszatérítendő támogatások, kölcsönök igénybevétele
A20: 2.5. | B20: Egyéb működési célú támogatások bevételei | C20: 14911346 | D20: 12978730 | E20: 11262720
A21: 2.6. | B21: 2.5.-ből EU-s támogatás
A22: 3. | B22: Felhalmozási célú támogatások államháztartáson belülről (3.1.+…+3.5.) | C22: =+C23+C24+C25+C26+C27 -> 165934824 | D22: =+D23+D24+D25+D26+D27 -> 34999996 | E22: =+E23+E24+E25+E26+E27 -> 117478820
A23: 3.1. | B23: Felhalmozási célú önkormányzati támogatások
A24: 3.2. | B24: Felhalmozási célú garancia- és kezességvállalásból megtérülések
A25: 3.3. | B25: Felhalmozási célú visszatérítendő támogatások, kölcsönök visszatérülése
A26: 3.4. | B26: Felhalmozási célú visszatérítendő támogatások, kölcsönök igénybevétele
A27: 3.5. | B27: Egyéb felhalmozási célú támogatások bevételei | C27: 165934824 | D27: 34999996 | E27: 117478820
A28: 3.6. | B28: 3.5.-ből EU-s támogatás | C28: 165934824 | E28: 117478820
A29: 4. | B29: Közhatalmi bevételek (4.1.+4.2.+4.3.+4.4.) | C29: =SUM(C30:C36) -> 202072008 | D29: =SUM(D30:D36) -> 253185917 | E29: =SUM(E30:E36) -> 221400000
A30: 4.1. | B30: Vagyoni típusú adók | C30: 102435842 | D30: 105941988 | E30: 102100000
A31: 4.2. | B31: ='KV_1.1.sz.mell.'!B33 -> Idegenforgalmi adó
A32: 4.3. | B32: ='KV_1.1.sz.mell.'!B34 -> Iparűzési adó | C32: 91045175 | D32: 136815221 | E32: 110000000
A33: 4.4. | B33: ='KV_1.1.sz.mell.'!B35 -> Talajterhelési díj | C33: 451245 | D33: 242400 | E33: 200000
A34: 4.5. | B34: ='KV_1.1.sz.mell.'!B36 -> Gépjárműadó | C34: 7906553 | D34: 9520753 | E34: 8800000
A35: 4.6. | B35: Egyéb közhatalmi bevételek | C35: 233193 | D35: 665555 | E35: 300000
A36: 4.7. | B36: ='KV_1.1.sz.mell.'!B38 -> Kommunális adó
A37: 5. | B37: Működési bevételek (5.1.+…+ 5.11.) | C37: =SUM(C38:C48) -> 29500158 | D37: =SUM(D38:D48) -> 43842094 | E37: =SUM(E38:E48) -> 54016468
A38: 5.1. | B38: Készletértékesítés ellenértéke
A39: 5.2. | B39: Szolgáltatások ellenértéke | C39: 6447818 | D39: 11022675 | E39: 12268000
A40: 5.3. | B40: Közvetített szolgáltatások értéke | C40: 1690990 | D40: 1938489 | E40: 1850000
A41: 5.4. | B41: Tulajdonosi bevételek | C41: 4661097 | D41: 10493394 | E41: 13693455
A42: 5.5. | B42: Ellátási díjak | C42: 9197721 | D42: 11638922 | E42: 15279908
A43: 5.6. | B43: Kiszámlázott általános forgalmi adó | C43: 7094562 | D43: 8332642 | E43: 10925105
A44: 5.7. | B44: Általános forgalmi adó visszatérítése
A45: 5.8. | B45: Kamatbevételek és más nyereségjellegű bevételek | C45: 20832 | D45: 44
A46: 5.9. | B46: Egyéb pénzügyi műveletek bevételei
A47: 5.10. | B47: Biztosító által fizetett kártérítés
A48: 5.11. | B48: Egyéb működési bevételek | C48: 387138 | D48: 415928
A49: 6. | B49: Felhalmozási bevételek (6.1.+…+6.5.) | C49: =SUM(C50:C54) -> 4349740 | D49: =SUM(D50:D54) -> 7000 | E49: =SUM(E50:E54) -> 11000000
A50: 6.1. | B50: Immateriális javak értékesítése
A51: 6.2. | B51: Ingatlanok értékesítése | C51: 4349740 | E51: 11000000
A52: 6.3. | B52: Egyéb tárgyi eszközök értékesítése | D52: 7000
A53: 6.4. | B53: Részesedések értékesítése
A54: 6.5. | B54: Részesedések megszűnéséhez kapcsolódó bevételek
A55: 7. | B55: Működési célú átvett pénzeszközök (7.1. + … + 7.3.) | C55: =SUM(C56:C58) -> 4735711 | D55: =SUM(D56:D58) -> 260000 | E55: =SUM(E56:E58) -> 0
A56: 7.1. | B56: Működési célú garancia- és kezességvállalásból megtérülések ÁH-n kívülről
A57: 7.2. | B57: Működési célú visszatérítendő támogatások, kölcsönök visszatér. ÁH-n kívülről
A58: 7.3. | B58: Egyéb működési célú átvett pénzeszköz | C58: 4735711 | D58: 260000
A59: 7.4. | B59: 7.3.-ból EU-s támogatás (közvetlen)
A60: 8. | B60: Felhalmozási célú átvett pénzeszközök (8.1.+8.2.+8.3.) | C60: =SUM(C61:C63) -> 1634455 | D60: =SUM(D61:D63) -> 2135480 | E60: =SUM(E61:E63) -> 2580040
A61: 8.1. | B61: Felhalm. célú garancia- és kezességvállalásból megtérülések ÁH-n kívülről
A62: 8.2. | B62: Felhalm. célú visszatérítendő támogatások, kölcsönök visszatér. ÁH-n kívülről | C62: 1634455 | D62: 2135480 | E62: 2580040
A63: 8.3. | B63: Egyéb felhalmozási célú átvett pénzeszköz
A64: 8.4. | B64: 8.3.-ból EU-s támogatás (közvetlen)
A65: 9. | B65: KÖLTSÉGVETÉSI BEVÉTELEK ÖSSZESEN: (1+…+8) | C65: =+C8+C15+C22+C29+C37+C49+C55+C60 -> 534216944 | D65: =+D8+D15+D22+D29+D37+D49+D55+D60 -> 459419924 | E65: =+E8+E15+E22+E29+E37+E49+E55+E60 -> 516342866
A66: 10. | B66: Hitel-, kölcsönfelvétel államháztartáson kívülről (10.1.+…+10.3.) | C66: =SUM(C67:C69) -> 0 | D66: =SUM(D67:D69) -> 0 | E66: =SUM(E67:E69) -> 0
A67: 10.1. | B67: Hosszú lejáratú hitelek, kölcsönök felvétele
A68: 10.2. | B68: Likviditási célú hitelek, kölcsönök felvétele pénzügyi vállalkozástól
A69: 10.3. | B69: Rövid lejáratú hitelek, kölcsönök felvétele
A70: 11. | B70: Belföldi értékpapírok bevételei (11.1. +…+ 11.4.) | C70: =SUM(C71:C74) -> 22054243 | D70: =SUM(D71:D74) -> 50156923 | E70: =SUM(E71:E74) -> 69406265
A71: 11.1. | B71: Forgatási célú belföldi értékpapírok beváltása, értékesítése | C71: 22054243 | D71: 50156923 | E71: 69406265
A72: 11.2. | B72: Éven belüli lejáratú belföldi értékpapírok kibocsátása
A73: 11.3. | B73: Befektetési célú belföldi értékpapírok beváltása, értékesítése
A74: 11.4. | B74: Éven túli lejáratú belföldi értékpapírok kibocsátása
A75: 12. | B75: Maradvány igénybevétele (12.1. + 12.2.) | C75: =SUM(C76:C77) -> 195642959 | D75: =SUM(D76:D77) -> 211769408 | E75: =SUM(E76:E77) -> 71042340
A76: 12.1. | B76: Előző év költségvetési maradványának igénybevétele | C76: 195642959 | D76: 211769408 | E76: 71042340
A77: 12.2. | B77: Előző év vállalkozási maradványának igénybevétele
A78: 13. | B78: Belföldi finanszírozás bevételei (13.1. + … + 13.3.) | C78: =SUM(C79:C81) -> 3368014 | D78: =SUM(D79:D81) -> 3944193 | E78: =SUM(E79:E81) -> 0
A79: 13.1. | B79: Államháztartáson belüli megelőlegezések | C79: 3368014 | D79: 3944193
A80: 13.2. | B80: Államháztartáson belüli megelőlegezések törlesztése
A81: 13.3. | B81: Lekötött betétek megszüntetése
A82: 14. | B82: Külföldi finanszírozás bevételei (14.1.+…14.4.) | C82: =SUM(C83:C86) -> 0 | D82: =SUM(D83:D86) -> 0 | E82: =SUM(E83:E86) -> 0
A83: 14.1. | B83: Forgatási célú külföldi értékpapírok beváltása, értékesítése
A84: 14.2. | B84: Befektetési célú külföldi értékpapírok beváltása, értékesítése
A85: 14.3. | B85: Külföldi értékpapírok kibocsátása
A86: 14.4. | B86: Külföldi hitelek, kölcsönök felvétele
A87: 15. | B87: Váltóbevételek
A88: 16. | B88: Adóssághoz nem kapcsolódó származékos ügyletek bevételei
A89: 17. | B89: FINANSZÍROZÁSI BEVÉTELEK ÖSSZESEN: (10. + … +16.) | C89: =+C66+C70+C75+C78+C82+C88+C87 -> 221065216 | D89: =+D66+D70+D75+D78+D82+D88+D87 -> 265870524 | E89: =+E66+E70+E75+E78+E82+E88+E87 -> 140448605
A90: 18. | B90: KÖLTSÉGVETÉSI ÉS FINANSZÍROZÁSI BEVÉTELEK ÖSSZESEN: (9+17) | C90: =+C65+C89 -> 755282160 | D90: =+D65+D89 -> 725290448 | E90: =+E65+E89 -> 656791471
A92: K I A D Á S O K
A93: 2. sz. táblázat | E93: =E5 -> Forintban!
A94: Sor-szám | B94: Kiadási jogcímek | C94: =+C6 -> 2018. évi tény | D94: =+D6 -> 2019. évi várható | E94: =+E6 -> 2020. évi előirányzat
A95: A | B95: B | C95: C | D95: D | E95: E
A96: 1. | B96: Működési költségvetés kiadásai (1.1+…+1.5.+1.18.) | C96: =C97+C98+C99+C100+C101+C114 -> 360287492 | D96: =D97+D98+D99+D100+D101+D114 -> 416564373 | E96: =E97+E98+E99+E100+E101+E114 -> 461122455
A97: 1.1. | B97: Személyi juttatások | C97: 143385492 | D97: 147442718 | E97: 162344941
A98: 1.2. | B98: Munkaadókat terhelő járulékok és szociális hozzájárulási adó | C98: 27709837 | D98: 27444445 | E98: 30620220
A99: 1.3. | B99: Dologi kiadások | C99: 141462025 | D99: 182200656 | E99: 190873654
A100: 1.4. | B100: Ellátottak pénzbeli juttatásai | C100: 7566935 | D100: 10556149 | E100: 13040000
A101: 1.5 | B101: Egyéb működési célú kiadások | C101: 40163203 | D101: 48920405 | E101: 54243640
...

Sheet KV_2.sz.tájékoztató_t.
A1: Többéves kihatással járó döntések számszerűsítése évenkénti bontásban és összesítve célok szerint | J1: =CONCATENATE("2. tájékoztató tábla ",ALAPADATOK!A7," ",ALAPADATOK!B7," ",ALAPADATOK!C7," ",ALAPADATOK!D7," ",ALAPADATOK!E7," ",ALAPADATOK!F7," ",ALAPADATOK!G7," ",ALAPADATOK!H7) -> 2. tájékoztató tábla a … / 2020 ( … ) önkormányzati rendelethez
I2: ='KV_1.sz.tájékoztató_t.'!E5 -> Forintban!
A3: Sor- szám | B3: Kötelezettség jogcíme | C3: Köt. váll. éve | D3: =+CONCATENATE(LEFT(KV_ÖSSZEFÜGGÉSEK!A5,4)," előtti kifizetés") -> 2020 előtti kifizetés | E3: Kiadás vonzata évenként | I3: Összesen
E4: =+CONCATENATE(LEFT(KV_ÖSSZEFÜGGÉSEK!A5,4),".") -> 2020. | F4: =+CONCATENATE(LEFT(KV_ÖSSZEFÜGGÉSEK!A5,4)+1,".") -> 2021. | G4: =+CONCATENATE(LEFT(KV_ÖSSZEFÜGGÉSEK!A5,4)+2,".") -> 2022. | H4: =+CONCATENATE(LEFT(KV_ÖSSZEFÜGGÉSEK!A5,4)+2,".",CHAR(10)," után") -> 2022. után
A5: A | B5: B | C5: C | D5: D | E5: E | F5: F | G5: G | H5: H | I5: I=(D+E+F+G+H)
A6: 1. | B6: Működési célú finanszírozási kiadások (hiteltörlesztés, értékpapír vásárlás, stb.) | D6: =+D7+D8 -> 0 | E6: =+E7+E8 -> 0 | F6: =+F7+F8 -> 0 | G6: =+G7+G8 -> 0 | H6: =+H7+H8 -> 0 | I6: =SUM(D6:H6) -> 0
A7: 2. | B7: ............................ | I7: =SUM(D7:H7) -> 0
A8: 3. | B8: ............................ | I8: =SUM(D8:H8) -> 0
A9: 4. | B9: Felhalmozási célú finanszírozási kiadások (hiteltörlesztés, értékpapír vásárlás, stb.) | D9: =+D10+D11 -> 0 | E9: =+E10+E11 -> 0 | F9: =+F10+F11 -> 0 | G9: =+G10+G11 -> 0 | H9: =+H10+H11 -> 0 | I9: =SUM(D9:H9) -> 0
A10: 5. | B10: ............................ | I10: =SUM(D10:H10) -> 0
A11: 6. | B11: ............................ | I11: =SUM(D11:H11) -> 0
A12: 7. | B12: Beruházási kiadások beruházásonként | D12: =+D13 -> 0 | E12: =+E13 -> 0 | F12: =+F13 -> 0 | G12: =+G13 -> 0 | H12: =+H13 -> 0 | I12: =SUM(D12:H12) -> 0
A13: 8. | B13: ............................ | I13: =SUM(D13:H13) -> 0
A14: 9. | B14: Felújítási kiadások felújításonként | D14: =+D15 -> 0 | E14: =+E15 -> 0 | F14: =+F15 -> 0 | G14: =+G15 -> 0 | H14: =+H15 -> 0 | I14: =SUM(D14:H14) -> 0
A15: 10. | B15: ............................ | I15: =SUM(D15:H15) -> 0
A16: 11. | B16: Egyéb (Pl.: garancia és kezességvállalás, stb.) | D16: =+D17 -> 0 | E16: =+E17 -> 0 | F16: =+F17 -> 0 | G16: =+G17 -> 0 | H16: =+H17 -> 0 | I16: =SUM(D16:H16) -> 0
A17: 12. | B17: NEMLEGES! | I17: =SUM(D17:H17) -> 0
A18: Összesen (1+4+7+9+11) | D18: =+D6+D9+D12+D14+D16 -> 0 | E18: =+E6+E9+E12+E14+E16 -> 0 | F18: =+F6+F9+F12+F14+F16 -> 0 | G18: =+G6+G9+G12+G14+G16 -> 0 | H18: =+H6+H9+H12+H14+H16 -> 0 | I18: =+I6+I9+I12+I14+I16 -> 0

Sheet KV_3.sz.tájékoztató_t.
D1: =CONCATENATE("3. tájékoztató tábla ",ALAPADATOK!A7," ",ALAPADATOK!B7," ",ALAPADATOK!C7," ",ALAPADATOK!D7," ",ALAPADATOK!E7," ",ALAPADATOK!F7," ",ALAPADATOK!G7," ",ALAPADATOK!H7) -> 3. tájékoztató tábla a … / 2020 ( … ) önkormányzati rendelethez
B3: Az önkormányzat által adott közvetett támogatások (kedvezmények)
D4: ='KV_2.sz.tájékoztató_t.'!I2 -> Forintban!
A5: Sor-szám | B5: Bevételi jogcím | C5: Kedvezmény nélkül elérhető bevétel | D5: Kedvezmények összege
A6: A | B6: B | C6: C | D6: D
A7: 1. | B7: Ellátottak térítési díjának méltányosságból történő elengedése
A8: 2. | B8: Ellátottak kártérítésének méltányosságból történő elengedése
A9: 3. | B9: Lakosság részére lakásépítéshez nyújtott kölcsön elengedése | C9: 1858340 | D9: 400000
A10: 4. | B10: Lakosság részére lakásfelújításhoz nyújtott kölcsön elengedése
A11: 5. | B11: Helyi adóból biztosított kedvezmény, mentesség összesen
A12: 6. | B12: -ebből: Építményadó
A13: 7. | B13: Telekadó
A14: 9. | B14: Magánszemélyek kommunális adója
A15: 10. | B15: Idegenforgalmi adó tartózkodás után
A16: 11. | B16: Idegenforgalmi adó épület után
A17: 12. | B17: Iparűzési adó állandó jelleggel végzett iparűzési tevékenység után
A18: 13. | B18: Gépjárműadóból biztosított kedvezmény, mentesség
A19: 14. | B19: Helyiségek hasznosítása utáni kedvezmény, mentesség
A20: 15. | B20: Eszközök hasznosítása utáni kedvezmény, mentesség
A21: 16. | B21: Egyéb kedvezmény
A22: 17. | B22: Egyéb kölcsön elengedése
A23: 18.
A24: 19.
A25: 20.
A26: 21.
A27: 22.
A28: 23.
A29: 24.
A30: 25.
A31: 26.
A32: 27. | B32: Összesen: | C32: =+C7+C8+C9+C10+C11+C18+C19+C20+C21+C22+C23+C24+C25+C26+C27+C28+C29+C30+C31 -> 1858340 | D32: =+D7+D8+D9+D10+D11+D18+D19+D20+D21+D22+D23+D24+D25+D26+D27+D28+D29+D30+D31 -> 400000

Sheet KV_4.sz.tájékoztató_t.
O1: =CONCATENATE("4. tájékoztató tábla ",ALAPADATOK!A7," ",ALAPADATOK!B7," ",ALAPADATOK!C7," ",ALAPADATOK!D7," ",ALAPADATOK!E7," ",ALAPADATOK!F7," ",ALAPADATOK!G7," ",ALAPADATOK!H7) -> 4. tájékoztató tábla a … / 2020 ( … ) önkormányzati rendelethez
A2: =+CONCATENATE("Előirányzat-felhasználási terv",CHAR(10),LEFT(KV_ÖSSZEFÜGGÉSEK!A5,4),". évre") -> Előirányzat-felhasználási terv 2020. évre
O3: ='KV_3.sz.tájékoztató_t.'!D4 -> Forintban!
A4: Sor-szám | B4: Megnevezés | C4: Január | D4: Február | E4: Március | F4: Április | G4: Május | H4: Június | I4: Július | J4: Auguszt. | K4: Szept. | L4: Okt. | M4: Nov. | N4: Dec. | O4: Összesen:
A5: 1. | B5: Bevételek
A6: 2. | B6: Önkormányzatok működési támogatásai | C6: 8217068 | D6: 8217068 | E6: 8217068 | F6: 8217068 | G6: 8217068 | H6: 8217068 | I6: 8217068 | J6: 8217068 | K6: 8217068 | L6: 8217068 | M6: 8217068 | N6: 8217070 | O6: =SUM(C6:N6) -> 98604818
A7: 3. | B7: Működési célú támogatások ÁH-on belül | C7: 938560 | D7: 938560 | E7: 938560 | F7: 938560 | G7: 938560 | H7: 938560 | I7: 938560 | J7: 938560 | K7: 938560 | L7: 938560 | M7: 938560 | N7: 938560 | O7: =SUM(C7:N7) -> 11262720
A8: 4. | B8: Felhalmozási célú támogatások ÁH-on belül | F8: 5000000 | G8: 9000000 | H8: 35159600 | I8: 25159600 | J8: 33159620 | K8: 10000000 | O8: =SUM(C8:N8) -> 117478820
A9: 5. | B9: Közhatalmi bevételek | E9: 22140000 | F9: 22140000 | G9: 22140000 | H9: 22140000 | I9: 22140000 | J9: 22140000 | K9: 22140000 | L9: 22140000 | M9: 22140000 | N9: 22140000 | O9: =SUM(C9:N9) -> 221400000
A10: 6. | B10: Működési bevételek | C10: 4501370 | D10: 4501370 | E10: 4501370 | F10: 4501370 | G10: 4501370 | H10: 4501370 | I10: 4501370 | J10: 4501370 | K10: 4501370 | L10: 4501370 | M10: 4501370 | N10: 4501398 | O10: =SUM(C10:N10) -> 54016468
A11: 7. | B11: Felhalmozási bevételek | E11: 1100000 | F11: 1100000 | G11: 1100000 | H11: 1100000 | I11: 1100000 | J11: 1100000 | K11: 1100000 | L11: 1100000 | M11: 1200000 | N11: 1000000 | O11: =SUM(C11:N11) -> 11000000
A12: 8. | B12: Működési célú átvett pénzeszközök | O12: =SUM(C12:N12) -> 0
A13: 9. | B13: Felhalmozási célú átvett pénzeszközök | C13: 215003 | D13: 215003 | E13: 215003 | F13: 215003 | G13: 215003 | H13: 215003 | I13: 215003 | J13: 215003 | K13: 215003 | L13: 215003 | M13: 430010 | O13: =SUM(C13:N13) -> 2580040
A14: 10. | B14: Finanszírozási bevételek | C14: 13047127 | D14: 13047127 | F14: 1831922 | G14: 16338059 | H14: 4703254 | I14: 16203254 | J14: 9703234 | K14: 12535861 | L14: 16338059 | M14: 20023052 | N14: 16677656 | O14: =SUM(C14:N14) -> 140448605
A15: 11. | B15: Bevételek összesen: | C15: =SUM(C6:C14) -> 26919128 | D15: =SUM(D6:D14) -> 26919128 | E15: =SUM(E6:E14) -> 37112001 | F15: =SUM(F6:F14) -> 43943923 | G15: =SUM(G6:G14) -> 62450060 | H15: =SUM(H6:H14) -> 76974855 | I15: =SUM(I6:I14) -> 78474855 | J15: =SUM(J6:J14) -> 79974855 | ... N15: =SUM(N6:N14) -> 53474684 | O15: =SUM(C15:N15) -> 656791471
A16: 12. | B16: Kiadások
A17: 13. | B17: Személyi juttatások | C17: 13528745 | D17: 13528745 | E17: 13528745 | F17: 13528745 | G17: 13528745 | H17: 13528745 | I17: 13528745 | J17: 13528745 | K17: 13528745 | L17: 13528745 | M17: 13528745 | N17: 13528746 | O17: =SUM(C17:N17) -> 162344941
A18: 14. | B18: Munkaadókat terhelő járulékok és szociális hozzájárulási adó | C18: 2551685 | D18: 2551685 | E18: 2551685 | F18: 2551685 | G18: 2551685 | H18: 2551685 | I18: 2551685 | J18: 2551685 | K18: 2551685 | L18: 2551685 | M18: 2551685 | N18: 2551685 | O18: =SUM(C18:N18) -> 30620220
A19: 15. | B19: Dologi kiadások | C19: 5900000 | D19: 5900000 | E19: 5900000 | F19: 6900000 | G19: 26906137 | H19: 26906137 | I19: 26906137 | J19: 27906137 | K19: 16906137 | L19: 16906137 | M19: 16906137 | N19: 16930695 | O19: =SUM(C19:N19) -> 200873654
A20: 16. | B20: Ellátottak pénzbeli juttatásai | C20: 86666 | D20: 86666 | E20: 86666 | F20: 1586666 | G20: 86666 | H20: 86666 | I20: 1586666 | J20: 2086666 | K20: 86666 | L20: 1086666 | M20: 5086666 | N20: 1086674 | O20: =SUM(C20:N20) -> 13040000
A21: 17. | B21: Egyéb működési célú kiadások | C21: 4520300 | D21: 4520300 | E21: 4520300 | F21: 4520300 | G21: 4520300 | H21: 4520300 | I21: 4520300 | J21: 4520300 | K21: 4520300 | L21: 4520300 | M21: 4520300 | N21: 4520340 | O21: =SUM(C21:N21) -> 54243640
A22: 18. | B22: Beruházások | F22: 14524795 | G22: 14524795 | H22: 29049590 | I22: 29049590 | J22: 29049590 | K22: 14524795 | L22: 14524795 | M22: 14524795 | N22: 14524805 | O22: =SUM(C22:N22) -> 174297550
A23: 19. | B23: Felújítások | E23: 10192873 | K23: 7197802 | O23: =SUM(C23:N23) -> 17390675
A24: 20. | B24: Egyéb felhalmozási kiadások | C24: 331732 | D24: 331732 | E24: 331732 | F24: 331732 | G24: 331732 | H24: 331732 | I24: 331732 | J24: 331732 | K24: 331732 | L24: 331732 | M24: 331732 | N24: 331739 | O24: =SUM(C24:N24) -> 3980791
A25: 21. | B25: Finanszírozási kiadások | O25: =SUM(C25:N25) -> 0
A26: 22. | B26: Kiadások összesen: | C26: =SUM(C17:C25) -> 26919128 | D26: =SUM(D17:D25) -> 26919128 | E26: =SUM(E17:E25) -> 37112001 | F26: =SUM(F17:F25) -> 43943923 | G26: =SUM(G17:G25) -> 62450060 | H26: =SUM(H17:H25) -> 76974855 | I26: =SUM(I17:I25) -> 78474855 | J26: =SUM(J17:J25) -> 79974855 | ... N26: =SUM(N17:N25) -> 53474684 | O26: =SUM(C26:N26) -> 656791471
A27: 23. | B27: Egyenleg | C27: =C15-C26 -> 0 | D27: =D15-D26 -> 0 | E27: =E15-E26 -> 0 | F27: =F15-F26 -> 0 | G27: =G15-G26 -> 0 | H27: =H15-H26 -> 0 | I27: =I15-I26 -> 0 | J27: =J15-J26 -> 0 | ... O27: =O15-O26 -> 0

Sheet KV_5.sz.tájékoztató_t
B1: =+CONCATENATE("A ",LEFT(KV_ÖSSZEFÜGGÉSEK!A5,4),". évi általános működés és ágazati feladatok támogatásának alakulása jogcímenként") -> A 2020. évi általános működés és ágazati feladatok támogatásának alakulása jogcímenként | D1: =CONCATENATE("5. tájékoztató tábla ",ALAPADATOK!A7," ",ALAPADATOK!B7," ",ALAPADATOK!C7," ",ALAPADATOK!D7," ",ALAPADATOK!E7," ",ALAPADATOK!F7," ",ALAPADATOK!G7," ",ALAPADATOK!H7) -> 5. tájékoztató tábla a … / 2020 ( … ) önkormányzati rendelethez
C2: Forintban
A3: 2019. évi LXXI. törvény 2. melléklete száma* | B3: Jogcím | C3: =+CONCATENATE(LEFT(KV_ÖSSZEFÜGGÉSEK!A5,4),". évi tervezett támogatás összesen") -> 2020. évi tervezett támogatás összesen
A4: A | B4: B | C4: C
A5: I. | B5: A helyi önkörmányzatok működésének általános támogatása összesen | C5: 23631621
A6: II. | B6: A települési önkormányzatok egyes köznevelési feladatainak támogatása | C6: 48695600
A7: III.2.a | B7: Család- és gyermekjóléti szolgálat | C7: 3400000
A8: III.2.c | B8: Szociális étkeztetés | C8: 2614400
A9: III.2.da | B9: Házi segítségnyújtás - szociális segítés | C9: 25000
A10: III.2 db (1) | B10: Házi segítségnyújtás - személyi gondozás | C10: 330000
A11: III.5.aa) | B11: Gyermekétkeztetés - a finanszírozás szempontjából elismert dolgozók bértámogatása | C11: 13398000
A12: III.5.ab) | B12: Gyermekétkeztetés üzemeltetési támogatása | C12: 3486953
A13: III.5 b) | B13: Rászoruló gyermekek szünidei étkezésének támogatása | C13: 155952
A14: IV. | B14: A települési önkormányzatok kulturális feladatainak támogatása | C14: 2867292
B25: Összesen: | C25: =SUM(C5:C24) -> 98604818
A26: * Magyarország 2020. évi központi költségvetéséról szóló törvény

Sheet KV_6.sz.tájékoztató_t.
D1: =CONCATENATE("6. tájékoztató tábla ",ALAPADATOK!A7," ",ALAPADATOK!B7," ",ALAPADATOK!C7," ",ALAPADATOK!D7," ",ALAPADATOK!E7," ",ALAPADATOK!F7," ",ALAPADATOK!G7," ",ALAPADATOK!H7) -> 6. tájékoztató tábla a … / 2020 ( … ) önkormányzati rendelethez
A2: =+CONCATENATE("K I M U T A T Á S",CHAR(10),"a ",LEFT(KV_ÖSSZEFÜGGÉSEK!A5,4),". évben céljelleggel juttatott támogatásokról") -> K I M U T A T Á S a 2020. évben céljelleggel juttatott támogatásokról
C4: ='KV_4.sz.tájékoztató_t.'!O3 -> Forintban!
A5: Sor- szám | B5: Támogatott szervezet neve | C5: Támogatás célja | D5: Támogatás összge
A6: 1. | B6: Sajószöged Községi Testedző Kör | C6: működési támogatás | D6: 4900000
A7: 2. | B7: Sajószöged Községi Testedző Kör | C7: felhalmozási támogatás | D7: 1980791
A8: 3. | B8: Sajószöged Polgárőr Egyesület | C8: működési támogatás | D8: 1630000
A9: 4. | B9: Alapítványok, civil szerveztek | C9: működési támogatás | D9: 1000000
A10: 5. | B10: Községüzemeltetési Kft. | C10: működési támogatás | D10: 40772428
A11: 6. | B11: Bursa Hungarica | C11: ösztöndíjak | D11: 1100000
A12: 7. | B12: Első lakáshoz jutók támogatás | C12: támogatás | D12: 2000000
A13: 8.
A14: 9.
A15: 10.
A16: 11.
A17: 12.
A18: 13.
A19: 14.
A20: 15.
A21: 16.
A22: 17.
A23: 18.
A24: 19.
... A38: 33.
A39: Összesen: | D39: =SUM(D6:D38) -> 53383219
A40: Nem kötelező!

Sheet KV_7.sz.tájékoztató_t.
E1: =CONCATENATE("7. tájékoztató tábla ",ALAPADATOK!A7," ",ALAPADATOK!B7," ",ALAPADATOK!C7," ",ALAPADATOK!D7," ",ALAPADATOK!E7," ",ALAPADATOK!F7," ",ALAPADATOK!G7," ",ALAPADATOK!H7) -> 7. tájékoztató tábla a … / 2020 ( … ) önkormányzati rendelethez
A2: =CONCATENATE(ALAPADATOK!A3) -> Sajószöged Községi Önkormányzat
A3: =CONCATENATE(ALAPADATOK!D7,". ÉVI KÖLTSÉGVETÉSI ÉVET KÖVETŐ 3 ÉV TERVEZETT") -> 2020. ÉVI KÖLTSÉGVETÉSI ÉVET KÖVETŐ 3 ÉV TERVEZETT
A4: BEVÉTELEI, KIADÁSAI
A5: 1. sz. táblázat | E5: ='KV_4.sz.tájékoztató_t.'!O3 -> Forintban!
A6: Sor- szám | B6: Bevételi jogcím | C6: =+CONCATENATE(LEFT(KV_ÖSSZEFÜGGÉSEK!A5,4)+1,". évi") -> 2021. évi | D6: =+CONCATENATE(LEFT(KV_ÖSSZEFÜGGÉSEK!A5,4)+2,". évi") -> 2022. évi | E6: =+CONCATENATE(LEFT(KV_ÖSSZEFÜGGÉSEK!A5,4)+3,". évi") -> 2023. évi
A7: A | B7: B | C7: C | D7: D | E7: E
A8: 1. | B8: Önkormányzat működési támogatásai | C8: 98000000 | D8: 98000000 | E8: 98000000
A9: 2. | B9: Működési célú támogatások államháztartáson belülről | C9: 10000000 | D9: 10000000 | E9: 10000000
A10: 3. | B10: Felhalmozási célú támogatások államháztartáson belülről
A11: 4. | B11: Közhatalmi bevételek (4.1.+4.2.+4.3.+4.4.) | C11: =SUM(C12:C18) -> 212400000 | D11: =SUM(D12:D18) -> 212400000 | E11: =SUM(E12:E18) -> 212400000
A12: 4.1. | B12: ='KV_1.1.sz.mell.'!B32 -> Vagyoni tipusú adók | C12: 99000000 | D12: 99000000 | E12: 99000000
A13: 4.2. | B13: ='KV_1.1.sz.mell.'!B33 -> Idegenforgalmi adó
A14: 4.3. | B14: ='KV_1.1.sz.mell.'!B34 -> Iparűzési adó | C14: 104000000 | D14: 104000000 | E14: 104000000
A15: 4.4. | B15: ='KV_1.1.sz.mell.'!B35 -> Talajterhelési díj | C15: 200000 | D15: 200000 | E15: 200000
A16: 4.5. | B16: ='KV_1.1.sz.mell.'!B36 -> Gépjárműadó | C16: 9000000 | D16: 9000000 | E16: 9000000
A17: 4.6. | B17: ='KV_1.1.sz.mell.'!B37 -> Egyéb közhatalmi bevételek | C17: 200000 | D17: 200000 | E17: 200000
A18: 4.7. | B18: ='KV_1.1.sz.mell.'!B38 -> Kommunális adó
A19: 5. | B19: Működési bevételek | C19: 40000000 | D19: 40000000 | E19: 40000000
A20: 6. | B20: Felhalmozási bevételek
A21: 7. | B21: Működési célú átvett pénzeszközök
A22: 8. | B22: Felhalmozási célú átvett pénzeszközök
A23: 9. | B23: KÖLTSÉGVETÉSI BEVÉTELEK ÖSSZESEN: (1+…+8) | C23: =+C8+C9+C10+C11+C19+C20+C21+C22 -> 360400000 | D23: =+D8+D9+D10+D11+D19+D20+D21+D22 -> 360400000 | E23: =+E8+E9+E10+E11+E19+E20+E21+E22 -> 360400000
A24: 10. | B24: FINANSZÍROZÁSI BEVÉTELEK ÖSSZESEN:
A25: 11. | B25: KÖLTSÉGVETÉSI ÉS FINANSZÍROZÁSI BEVÉTELEK ÖSSZESEN: (9+10) | C25: =+C23+C24 -> 360400000 | D25: =+D23+D24 -> 360400000 | E25: =+E23+E24 -> 360400000
A27: K I A D Á S O K
A28: 2. sz. táblázat | E28: =E5 -> Forintban!
A29: Sor-szám | B29: Kiadási jogcímek | C29: =+C6 -> 2021. évi | D29: =+D6 -> 2022. évi | E29: =+E6 -> 2023. évi
A30: A | B30: B | C30: C | D30: D | E30: E
A31: 1. | B31: Működési költségvetés kiadásai | C31: 341000000 | D31: 341000000 | E31: 341000000
A32: 2. | B32: Felhalmozási költségvetés kiadásai (2.1.+2.2.+2.3.) | C32: =+C33+C34+C35 -> 19400000 | D32: =+D33+D34+D35 -> 19400000 | E32: =+E33+E34+E35 -> 19400000
A33: 2.1. | B33: Beruházások | C33: 12400000 | D33: 12400000 | E33: 12400000
A34: 2.2. | B34: Felújítások | C34: 7000000 | D34: 7000000 | E34: 7000000
A35: 2.3. | B35: Egyéb felhalmozási kiadások
A36: 3. | B36: KÖLTSÉGVETÉSI KIADÁSOK ÖSSZESEN (1+2) | C36: =+C31+C32 -> 360400000 | D36: =+D31+D32 -> 360400000 | E36: =+E31+E32 -> 360400000
A37: 4. | B37: FINANSZÍROZÁSI KIADÁSOK ÖSSZESEN:
A38: 5. | B38: KIADÁSOK ÖSSZESEN: (3.+4.) | C38: =+C36+C37 -> 360400000 | D38: =+D36+D37 -> 360400000 | E38: =+E36+E37 -> 360400000
C39: =C25-C38 -> 0 | D39: =D25-D38 -> 0 | E39: =E25-E38 -> 0
