Workbook

Sheet TARTALOMJEGYZÉK
A1: 2020
A2: Tartalomjegyzék
A4: Dokumentum neve | B4: A dokumentációs rendszerben található táblázatok listája | C4: Ugrás
A6: KÖLTSÉGVETÉSI RENDLET
A7: Alapadatok | B7: Adatok megadása | C7: =HYPERLINK(SUBSTITUTE(CELL("address",ALAPADATOK!A1),"'",""),SUBSTITUTE(MID(CELL("address",ALAPADATOK!A1),SEARCH("]",CELL("address",ALAPADATOK!A1),1)+1,LEN(CELL("address",ALAPADATOK!A1))-SEARCH("]",CELL("address",ALAPADATOK!A1),1)),"'","")) -> ALAPADATOK!$A$1
A8: Összefüggések | B8: Táblázatok adatainak összefüggései | C8: =HYPERLINK(SUBSTITUTE(CELL("address",KV_ÖSSZEFÜGGÉSEK!A1),"'",""),SUBSTITUTE(MID(CELL("address",KV_ÖSSZEFÜGGÉSEK!A1),SEARCH("]",CELL("address",KV_ÖSSZEFÜGGÉSEK!A1),1)+1,LEN(CELL("address",KV_ÖSSZEFÜGGÉSEK!A1))-SEARCH("]",CELL("address",KV_ÖSSZEFÜGGÉSEK!A1),1)),"'","")) -> KV_ÖSSZEFÜGGÉSEK!$A$1
A9: 1.1. melléklet | B9: Önkormányzat összevont pénzügyi mérlege összesen | C9: =HYPERLINK(SUBSTITUTE(CELL("address",'KV_1.1.sz.mell.'!A1),"'",""),SUBSTITUTE(MID(CELL("address",'KV_1.1.sz.mell.'!A1),SEARCH("]",CELL("address",'KV_1.1.sz.mell.'!A1),1)+1,LEN(CELL("address",'KV_1.1.sz.mell.'!A1))-SEARCH("]",CELL("address",'KV_1.1.sz.mell.'!A1),1)),"'","")) -> KV_1.1.sz.mell.!$A$1
A10: 1.2. melléklet | B10: Önkormányzat kötelező feladatainak összevont pénzügyi mérlege | C10: =HYPERLINK(SUBSTITUTE(CELL("address",'KV_1.2.sz.mell.'!A1),"'",""),SUBSTITUTE(MID(CELL("address",'KV_1.2.sz.mell.'!A1),SEARCH("]",CELL("address",'KV_1.2.sz.mell.'!A1),1)+1,LEN(CELL("address",'KV_1.2.sz.mell.'!A1))-SEARCH("]",CELL("address",'KV_1.2.sz.mell.'!A1),1)),"'","")) -> KV_1.2.sz.mell.!$A$1
A11: 1.3. melléklet | B11: Önkormányzat önként vállalt feladatainak összevont pénzügyi mérlege | C11: =HYPERLINK(SUBSTITUTE(CELL("address",'KV_1.3.sz.mell.'!A1),"'",""),SUBSTITUTE(MID(CELL("address",'KV_1.3.sz.mell.'!A1),SEARCH("]",CELL("address",'KV_1.3.sz.mell.'!A1),1)+1,LEN(CELL("address",'KV_1.3.sz.mell.'!A1))-SEARCH("]",CELL("address",'KV_1.3.sz.mell.'!A1),1)),"'","")) -> KV_1.3.sz.mell.!$A$1
A12: 1.4. melléklet | B12: Önkormányzat államigazgatási feladatainak összevont pénzügyi mérlege | C12: =HYPERLINK(SUBSTITUTE(CELL("address",'KV_1.4.sz.mell.'!A1),"'",""),SUBSTITUTE(MID(CELL("address",'KV_1.4.sz.mell.'!A1),SEARCH("]",CELL("address",'KV_1.4.sz.mell.'!A1),1)+1,LEN(CELL("address",'KV_1.4.sz.mell.'!A1))-SEARCH("]",CELL("address",'KV_1.4.sz.mell.'!A1),1)),"'","")) -> KV_1.4.sz.mell.!$A$1
A13: 2.1. melléklet | B13: Működési célú bevételek, kiadások mérlege | C13: =HYPERLINK(SUBSTITUTE(CELL("address",'KV_2.1.sz.mell.'!A1),"'",""),SUBSTITUTE(MID(CELL("address",'KV_2.1.sz.mell.'!A1),SEARCH("]",CELL("address",'KV_2.1.sz.mell.'!A1),1)+1,LEN(CELL("address",'KV_2.1.sz.mell.'!A1))-SEARCH("]",CELL("address",'KV_2.1.sz.mell.'!A1),1)),"'","")) -> KV_2.1.sz.mell.!$A$1
A14: 2.2. melléklet | B14: Felhalmozási célú bevételek, kiadások mérlege | C14: =HYPERLINK(SUBSTITUTE(CELL("address",'KV_2.2.sz.mell.'!A1),"'",""),SUBSTITUTE(MID(CELL("address",'KV_2.2.sz.mell.'!A1),SEARCH("]",CELL("address",'KV_2.2.sz.mell.'!A1),1)+1,LEN(CELL("address",'KV_2.2.sz.mell.'!A1))-SEARCH("]",CELL("address",'KV_2.2.sz.mell.'!A1),1)),"'","")) -> KV_2.2.sz.mell.!$A$1
A15: Ellenőrző lista | B15: Ellenőrzés az 1-es és 2.1., 2.2. mellékletek adati esetében | C15: =HYPERLINK(SUBSTITUTE(CELL("address",KV_ELLENŐRZÉS!A1),"'",""),SUBSTITUTE(MID(CELL("address",KV_ELLENŐRZÉS!A1),SEARCH("]",CELL("address",KV_ELLENŐRZÉS!A1),1)+1,LEN(CELL("address",KV_ELLENŐRZÉS!A1))-SEARCH("]",CELL("address",KV_ELLENŐRZÉS!A1),1)),"'","")) -> KV_ELLENŐRZÉS!$A$1
A16: 3. melléklet | B16: Adósságot keletkeztető ügyletek táblázata | C16: =HYPERLINK(SUBSTITUTE(CELL("address",'KV_3.sz.mell.'!A1),"'",""),SUBSTITUTE(MID(CELL("address",'KV_3.sz.mell.'!A1),SEARCH("]",CELL("address",'KV_3.sz.mell.'!A1),1)+1,LEN(CELL("address",'KV_3.sz.mell.'!A1))-SEARCH("]",CELL("address",'KV_3.sz.mell.'!A1),1)),"'","")) -> KV_3.sz.mell.!$A$1
A17: 4. melléklet | B17: Önkormányzat saját bevételeinek bemutatása | C17: =HYPERLINK(SUBSTITUTE(CELL("address",'KV_4.sz.mell.'!A1),"'",""),SUBSTITUTE(MID(CELL("address",'KV_4.sz.mell.'!A1),SEARCH("]",CELL("address",'KV_4.sz.mell.'!A1),1)+1,LEN(CELL("address",'KV_4.sz.mell.'!A1))-SEARCH("]",CELL("address",'KV_4.sz.mell.'!A1),1)),"'","")) -> KV_4.sz.mell.!$A$1
A18: 5. melléklet | B18: Az önkormányzat adósságot keletkeztető fejlesztései céljai | C18: =HYPERLINK(SUBSTITUTE(CELL("address",'KV_5.sz.mell.'!A1),"'",""),SUBSTITUTE(MID(CELL("address",'KV_5.sz.mell.'!A1),SEARCH("]",CELL("address",'KV_5.sz.mell.'!A1),1)+1,LEN(CELL("address",'KV_5.sz.mell.'!A1))-SEARCH("]",CELL("address",'KV_5.sz.mell.'!A1),1)),"'","")) -> KV_5.sz.mell.!$A$1
A19: 6. melléklet | B19: Beruházások előirányzatai | C19: =HYPERLINK(SUBSTITUTE(CELL("address",'KV_6.sz.mell.'!A1),"'",""),SUBSTITUTE(MID(CELL("address",'KV_6.sz.mell.'!A1),SEARCH("]",CELL("address",'KV_6.sz.mell.'!A1),1)+1,LEN(CELL("address",'KV_6.sz.mell.'!A1))-SEARCH("]",CELL("address",'KV_6.sz.mell.'!A1),1)),"'","")) -> KV_6.sz.mell.!$A$1
A20: 7. melléklet | B20: Felújítások előirányzatai | C20: =HYPERLINK(SUBSTITUTE(CELL("address",'KV_7.sz.mell.'!A1),"'",""),SUBSTITUTE(MID(CELL("address",'KV_7.sz.mell.'!A1),SEARCH("]",CELL("address",'KV_7.sz.mell.'!A1),1)+1,LEN(CELL("address",'KV_7.sz.mell.'!A1))-SEARCH("]",CELL("address",'KV_7.sz.mell.'!A1),1)),"'","")) -> KV_7.sz.mell.!$A$1
A21: 8. melléklet | B21: EU-s projektek táblázatai | C21: =HYPERLINK(SUBSTITUTE(CELL("address",'KV_8.sz.mell.'!A1),"'",""),SUBSTITUTE(MID(CELL("address",'KV_8.sz.mell.'!A1),SEARCH("]",CELL("address",'KV_8.sz.mell.'!A1),1)+1,LEN(CELL("address",'KV_8.sz.mell.'!A1))-SEARCH("]",CELL("address",'KV_8.sz.mell.'!A1),1)),"'","")) -> KV_8.sz.mell.!$A$1
A22: 9.1. melléklet | B22: Önkormányzat bevételei kiadásai (összesen) | C22: =HYPERLINK(SUBSTITUTE(CELL("address",'KV_9.1.sz.mell'!A1),"'",""),SUBSTITUTE(MID(CELL("address",'KV_9.1.sz.mell'!A1),SEARCH("]",CELL("address",'KV_9.1.sz.mell'!A1),1)+1,LEN(CELL("address",'KV_9.1.sz.mell'!A1))-SEARCH("]",CELL("address",'KV_9.1.sz.mell'!A1),1)),"'","")) -> KV_9.1.sz.mell!$A$1
A23: 9.1.1. melléklet | B23: Önkormányzat kötelező feladatai | C23: =HYPERLINK(SUBSTITUTE(CELL("address",'KV_9.1.1.sz.mell'!A1),"'",""),SUBSTITUTE(MID(CELL("address",'KV_9.1.1.sz.mell'!A1),SEARCH("]",CELL("address",'KV_9.1.1.sz.mell'!A1),1)+1,LEN(CELL("address",'KV_9.1.1.sz.mell'!A1))-SEARCH("]",CELL("address",'KV_9.1.1.sz.mell'!A1),1)),"'","")) -> KV_9.1.1.sz.mell!$A$1
A24: 9.1.2. melléklet | B24: Önkormányzat önként vállalt feladatai | C24: =HYPERLINK(SUBSTITUTE(CELL("address",'KV_9.1.2.sz.mell.'!A1),"'",""),SUBSTITUTE(MID(CELL("address",'KV_9.1.2.sz.mell.'!A1),SEARCH("]",CELL("address",'KV_9.1.2.sz.mell.'!A1),1)+1,LEN(CELL("address",'KV_9.1.2.sz.mell.'!A1))-SEARCH("]",CELL("address",'KV_9.1.2.sz.mell.'!A1),1)),"'","")) -> KV_9.1.2.sz.mell.!$A$1
A25: 9.1.3. melléklet | B25: Önkormányzat államigazgatási feladatai | C25: =HYPERLINK(SUBSTITUTE(CELL("address",'KV_9.1.3.sz.mell'!A1),"'",""),SUBSTITUTE(MID(CELL("address",'KV_9.1.3.sz.mell'!A1),SEARCH("]",CELL("address",'KV_9.1.3.sz.mell'!A1),1)+1,LEN(CELL("address",'KV_9.1.3.sz.mell'!A1))-SEARCH("]",CELL("address",'KV_9.1.3.sz.mell'!A1),1)),"'","")) -> KV_9.1.3.sz.mell!$A$1
A26: 9.2. melléklet | B26: Polgármesteri/Közös hivatal költségvetési táblái (9.2.1., 9.2.2., 9.2.3.) | C26: =HYPERLINK(SUBSTITUTE(CELL("address",'KV_9.2.sz.mell'!A1),"'",""),SUBSTITUTE(MID(CELL("address",'KV_9.2.sz.mell'!A1),SEARCH("]",CELL("address",'KV_9.2.sz.mell'!A1),1)+1,LEN(CELL("address",'KV_9.2.sz.mell'!A1))-SEARCH("]",CELL("address",'KV_9.2.sz.mell'!A1),1)),"'","")) -> KV_9.2.sz.mell!$A$1
A27: 9.3. melléklet | B27: =CONCATENATE(ALAPADATOK!B13) -> Sajószögedi Általános Művelődési Központ - Család és Gyermekjóléti Szolgálat - Konyha - Művelődési Ház és Könyvtár | C27: =HYPERLINK(SUBSTITUTE(CELL("address",'KV_9.3.sz.mell'!A1),"'",""),SUBSTITUTE(MID(CELL("address",'KV_9.3.sz.mell'!A1),SEARCH("]",CELL("address",'KV_9.3.sz.mell'!A1),1)+1,LEN(CELL("address",'KV_9.3.sz.mell'!A1))-SEARCH("]",CELL("address",'KV_9.3.sz.mell'!A1),1)),"'","")) -> KV_9.3.sz.mell!$A$1
A28: 9.4. melléklet | B28: =CONCATENATE(ALAPADATOK!B15) -> 2 kvi név | C28: =HYPERLINK(SUBSTITUTE(CELL("address",#REF!),"'",""),SUBSTITUTE(MID(CELL("address",#REF!),SEARCH("]",CELL("address",#REF!),1)+1,LEN(CELL("address",#REF!))-SEARCH("]",CELL("address",#REF!),1)),"'","")) -> #REF!
A29: 9.5. melléklet | B29: =CONCATENATE(ALAPADATOK!B17) -> 3 kvi név | C29: =HYPERLINK(SUBSTITUTE(CELL("address",#REF!),"'",""),SUBSTITUTE(MID(CELL("address",#REF!),SEARCH("]",CELL("address",#REF!),1)+1,LEN(CELL("address",#REF!))-SEARCH("]",CELL("address",#REF!),1)),"'","")) -> #REF!
A30: 9.6. melléklet | B30: =CONCATENATE(ALAPADATOK!B19) -> 4 kvi név | C30: =HYPERLINK(SUBSTITUTE(CELL("address",#REF!),"'",""),SUBSTITUTE(MID(CELL("address",#REF!),SEARCH("]",CELL("address",#REF!),1)+1,LEN(CELL("address",#REF!))-SEARCH("]",CELL("address",#REF!),1)),"'","")) -> #REF!
A31: 9.7. melléklet | B31: =CONCATENATE(ALAPADATOK!B21) -> 5 kvi név | C31: =HYPERLINK(SUBSTITUTE(CELL("address",#REF!),"'",""),SUBSTITUTE(MID(CELL("address",#REF!),SEARCH("]",CELL("address",#REF!),1)+1,LEN(CELL("address",#REF!))-SEARCH("]",CELL("address",#REF!),1)),"'","")) -> #REF!
A32: 9.8. melléklet | B32: =CONCATENATE(ALAPADATOK!B23) -> 6 kvi név | C32: =HYPERLINK(SUBSTITUTE(CELL("address",#REF!),"'",""),SUBSTITUTE(MID(CELL("address",#REF!),SEARCH("]",CELL("address",#REF!),1)+1,LEN(CELL("address",#REF!))-SEARCH("]",CELL("address",#REF!),1)),"'","")) -> #REF!
A33: 9.9. melléklet | B33: =CONCATENATE(ALAPADATOK!B25) -> 7 kvi név | C33: =HYPERLINK(SUBSTITUTE(CELL("address",#REF!),"'",""),SUBSTITUTE(MID(CELL("address",#REF!),SEARCH("]",CELL("address",#REF!),1)+1,LEN(CELL("address",#REF!))-SEARCH("]",CELL("address",#REF!),1)),"'","")) -> #REF!
A34: 9.10. melléklet | B34: =CONCATENATE(ALAPADATOK!B27) -> 8 kvi név | C34: =HYPERLINK(SUBSTITUTE(CELL("address",#REF!),"'",""),SUBSTITUTE(MID(CELL("address",#REF!),SEARCH("]",CELL("address",#REF!),1)+1,LEN(CELL("address",#REF!))-SEARCH("]",CELL("address",#REF!),1)),"'","")) -> #REF!
A35: 9.11. melléklet | B35: =CONCATENATE(ALAPADATOK!B29) -> 9 kvi név | C35: =HYPERLINK(SUBSTITUTE(CELL("address",#REF!),"'",""),SUBSTITUTE(MID(CELL("address",#REF!),SEARCH("]",CELL("address",#REF!),1)+1,LEN(CELL("address",#REF!))-SEARCH("]",CELL("address",#REF!),1)),"'","")) -> #REF!
A36: 9.12. melléklet | B36: =CONCATENATE(ALAPADATOK!B31) -> 10 kvi név | C36: =HYPERLINK(SUBSTITUTE(CELL("address",#REF!),"'",""),SUBSTITUTE(MID(CELL("address",#REF!),SEARCH("]",CELL("address",#REF!),1)+1,LEN(CELL("address",#REF!))-SEARCH("]",CELL("address",#REF!),1)),"'","")) -> #REF!
A37: 10. melléklet | B37: Adatszolgáltatás az elismert tartozásállományról | C37: =HYPERLINK(SUBSTITUTE(CELL("address",'KV_10.sz.mell'!A1),"'",""),SUBSTITUTE(MID(CELL("address",'KV_10.sz.mell'!A1),SEARCH("]",CELL("address",'KV_10.sz.mell'!A1),1)+1,LEN(CELL("address",'KV_10.sz.mell'!A1))-SEARCH("]",CELL("address",'KV_10.sz.mell'!A1),1)),"'","")) -> KV_10.sz.mell!$A$1
A38: 1. számú tájékoztató tábla | B38: ='KV_1.sz.tájékoztató_t.'!A3 -> Tájékoztató a 2018. évi tény, 2019. évi várható és 2020. évi terv adatokról | C38: =HYPERLINK(SUBSTITUTE(CELL("address",'KV_1.sz.tájékoztató_t.'!A1),"'",""),SUBSTITUTE(MID(CELL("address",'KV_1.sz.tájékoztató_t.'!A1),SEARCH("]",CELL("address",'KV_1.sz.tájékoztató_t.'!A1),1)+1,LEN(CELL("address",'KV_1.sz.tájékoztató_t.'!A1))-SEARCH("]",CELL("address",'KV_1.sz.tájékoztató_t.'!A1),1)),"'","")) -> KV_1.sz.tájékoztató_t.!$A$1
A39: 2. számú tájékoztató tábla | B39: Többéves kihatással járó döntések számszerűsítése évenkénti bontásban és összesítve célok szerint | C39: =HYPERLINK(SUBSTITUTE(CELL("address",'KV_2.sz.tájékoztató_t.'!A1),"'",""),SUBSTITUTE(MID(CELL("address",'KV_2.sz.tájékoztató_t.'!A1),SEARCH("]",CELL("address",'KV_2.sz.tájékoztató_t.'!A1),1)+1,LEN(CELL("address",'KV_2.sz.tájékoztató_t.'!A1))-SEARCH("]",CELL("address",'KV_2.sz.tájékoztató_t.'!A1),1)),"'","")) -> KV_2.sz.tájékoztató_t.!$A$1
A40: 3. számú tájékoztató tábla | B40: Az önkormányzat által adott közvetett támogatások (kedvezmények) | C40: =HYPERLINK(SUBSTITUTE(CELL("address",'KV_3.sz.tájékoztató_t.'!A1),"'",""),SUBSTITUTE(MID(CELL("address",'KV_3.sz.tájékoztató_t.'!A1),SEARCH("]",CELL("address",'KV_3.sz.tájékoztató_t.'!A1),1)+1,LEN(CELL("address",'KV_3.sz.tájékoztató_t.'!A1))-SEARCH("]",CELL("address",'KV_3.sz.tájékoztató_t.'!A1),1)),"'","")) -> KV_3.sz.tájékoztató_t.!$A$1
A41: 4. számú tájékoztató tábla | B41: ='KV_4.sz.tájékoztató_t.'!A2 -> Előirányzat-felhasználási terv 2020. évre | C41: =HYPERLINK(SUBSTITUTE(CELL("address",'KV_4.sz.tájékoztató_t.'!A1),"'",""),SUBSTITUTE(MID(CELL("address",'KV_4.sz.tájékoztató_t.'!A1),SEARCH("]",CELL("address",'KV_4.sz.tájékoztató_t.'!A1),1)+1,LEN(CELL("address",'KV_4.sz.tájékoztató_t.'!A1))-SEARCH("]",CELL("address",'KV_4.sz.tájékoztató_t.'!A1),1)),"'","")) -> KV_4.sz.tájékoztató_t.!$A$1
A42: 5. számú tájékoztató tábla | B42: ='KV_5.sz.tájékoztató_t'!B1 -> A 2020. évi általános működés és ágazati feladatok támogatásának alakulása jogcímenként | C42: =HYPERLINK(SUBSTITUTE(CELL("address",'KV_5.sz.tájékoztató_t'!A1),"'",""),SUBSTITUTE(MID(CELL("address",'KV_5.sz.tájékoztató_t'!A1),SEARCH("]",CELL("address",'KV_5.sz.tájékoztató_t'!A1),1)+1,LEN(CELL("address",'KV_5.sz.tájékoztató_t'!A1))-SEARCH("]",CELL("address",'KV_5.sz.tájékoztató_t'!A1),1)),"'","")) -> KV_5.sz.tájékoztató_t!$A$1
...

Sheet ALAPADATOK
A1: ALAPADATOK
A3: Sajószöged Községi Önkormányzat
A6: Előterjesztéskor
A7: a | B7: … | C7: / | D7: =TARTALOMJEGYZÉK!A1 -> 2020 | E7: ( | F7: … | G7: ) | H7: önkormányzati rendelethez
K10: Mellékletben külön?
A11: Sajószögedi Polgármesteri Hivatal | K11: Igen | M11: 9. | N11: =IF($K$11="Nem","",2) -> 2 | O11: . | P11: =CONCATENATE(M11,N11,O11) -> 9.2.
A13: 1. költségvetési szerv neve | B13: Sajószögedi Általános Művelődési Központ - Család és Gyermekjóléti Szolgálat - Konyha - Művelődési Ház és Könyvtár | M13: 9. | N13: =IF(K11="Nem",2,3) -> 3 | O13: . | P13: =CONCATENATE(M13,N13,O13) -> 9.3.
A15: 2. költségvetési szerv neve | B15: 2 kvi név | M15: 9. | N15: =N13+1 -> 4 | O15: . | P15: =CONCATENATE(M15,N15,O15) -> 9.4.
A17: 3. költségvetési szerv neve | B17: 3 kvi név | M17: 9. | N17: =N15+1 -> 5 | O17: . | P17: =CONCATENATE(M17,N17,O17) -> 9.5.
A19: 4. költségvetési szerv neve | B19: 4 kvi név | M19: 9. | N19: =N17+1 -> 6 | O19: . | P19: =CONCATENATE(M19,N19,O19) -> 9.6.
A21: 5. költségvetési szerv neve | B21: 5 kvi név | M21: 9. | N21: =N19+1 -> 7 | O21: . | P21: =CONCATENATE(M21,N21,O21) -> 9.7.
A23: 6. költségvetési szerv neve | B23: 6 kvi név | M23: 9. | N23: =N21+1 -> 8 | O23: . | P23: =CONCATENATE(M23,N23,O23) -> 9.8.
A25: 7. költségvetési szerv neve | B25: 7 kvi név | M25: 9. | N25: =N23+1 -> 9 | O25: . | P25: =CONCATENATE(M25,N25,O25) -> 9.9.
A27: 8. költségvetési szerv neve | B27: 8 kvi név | M27: 9. | N27: =N25+1 -> 10 | O27: . | P27: =CONCATENATE(M27,N27,O27) -> 9.10.
A29: 8. költségvetési szerv neve | B29: 9 kvi név | M29: 9. | N29: =N27+1 -> 11 | O29: . | P29: =CONCATENATE(M29,N29,O29) -> 9.11.
A31: 10. költségvetési szerv neve | B31: 10 kvi név | M31: 9. | N31: =N29+1 -> 12 | O31: . | P31: =CONCATENATE(M31,N31,O31) -> 9.12.

Sheet KV_ÖSSZEFÜGGÉSEK
A2: Költségvetési rendelet űrlapjainak összefüggései:
A5: =CONCATENATE(ALAPADATOK!D7,". évi előirányzat BEVÉTELEK") -> 2020. évi előirányzat BEVÉTELEK
A7: 1.1. sz. melléklet Bevételek táblázat C. oszlop 9 sora = | B7: 2.1. számú melléklet C. oszlop 13. sor + 2.2. számú melléklet C. oszlop 12. sor
A8: 1.1. sz. melléklet Bevételek táblázat C. oszlop 17 sora = | B8: 2.1. számú melléklet C. oszlop 24. sor + 2.2. számú melléklet C. oszlop 25. sor
A9: 1.1. sz. melléklet Bevételek táblázat C. oszlop 18 sora = | B9: 2.1. számú melléklet C. oszlop 25. sor + 2.2. számú melléklet C. oszlop 26. sor
A12: =+CONCATENATE(LEFT(A5,4),". évi előirányzat KIADÁSOK") -> 2020. évi előirányzat KIADÁSOK
A14: 1.1. sz. melléklet Kiadások táblázat C. oszlop 3 sora = | B14: 2.1. számú melléklet E. oszlop 13. sor + 2.2. számú melléklet E. oszlop 12. sor
A15: 1.1. sz. melléklet Kiadások táblázat C. oszlop 10 sora = | B15: 2.1. számú melléklet E. oszlop 24. sor + 2.2. számú melléklet E. oszlop 25. sor
A16: 1.1. sz. melléklet Kiadások táblázat C. oszlop 11 sora = | B16: 2.1. számú melléklet E. oszlop 25. sor + 2.2. számú melléklet E. oszlop 26. sor

Sheet KV_1.1.sz.mell.
B1: =CONCATENATE("1.1. melléklet ",ALAPADATOK!A7," ",ALAPADATOK!B7," ",ALAPADATOK!C7," ",ALAPADATOK!D7," ",ALAPADATOK!E7," ",ALAPADATOK!F7," ",ALAPADATOK!G7," ",ALAPADATOK!H7) -> 1.1. melléklet a … / 2020 ( … ) önkormányzati rendelethez
B2: =CONCATENATE(ALAPADATOK!A3) -> Sajószöged Községi Önkormányzat
B3: =CONCATENATE(ALAPADATOK!D7,". ÉVI KÖLTSÉGVETÉS") -> 2020. ÉVI KÖLTSÉGVETÉS
B4: ÖSSZEVONT MÉRLEGE
A6: B E V É T E L E K
A7: 1. sz. táblázat | C7: Forintban!
A8: Sor- szám | B8: Bevételi jogcím | C8: =+CONCATENATE(LEFT(KV_ÖSSZEFÜGGÉSEK!A5,4),". évi előirányzat") -> 2020. évi előirányzat
B9: A | C9: B
A10: 1. | B10: Önkormányzat működési támogatásai (1.1.+…+.1.6.) | C10: =+C11+C12+C13+C14+C15+C16 -> 98604818
A11: 1.1. | B11: Helyi önkormányzatok működésének általános támogatása | C11: 23631621
A12: 1.2. | B12: Önkormányzatok egyes köznevelési feladatainak támogatása | C12: 48695600
A13: 1.3. | B13: Önkormányzatok szociális és gyermekjóléti, étkeztetési feladatainak támogatása | C13: 23410305
A14: 1.4. | B14: Önkormányzatok kulturális feladatainak támogatása | C14: 2867292
A15: 1.5. | B15: Működési célú kvi támogatások és kiegészítő támogatások
A16: 1.6. | B16: Elszámolásból származó bevételek
A17: 2. | B17: Működési célú támogatások államháztartáson belülről (2.1.+…+.2.5.) | C17: =+C18+C19+C20+C21+C22 -> 11262720
A18: 2.1. | B18: Elvonások és befizetések bevételei
A19: 2.2. | B19: Működési célú garancia- és kezességvállalásból megtérülések
A20: 2.3. | B20: Működési célú visszatérítendő támogatások, kölcsönök visszatérülése
A21: 2.4. | B21: Működési célú visszatérítendő támogatások, kölcsönök igénybevétele
A22: 2.5. | B22: Egyéb működési célú támogatások bevételei államháztartáson belülről | C22: 11262720
A23: 2.6. | B23: 2.5.-ből EU-s támogatás
A24: 3. | B24: Felhalmozási célú támogatások államháztartáson belülről (3.1.+…+3.5.) | C24: =+C25+C26+C27+C28+C29 -> 117478820
A25: 3.1. | B25: Felhalmozási célú önkormányzati támogatások
A26: 3.2. | B26: Felhalmozási célú garancia- és kezességvállalásból megtérülések
A27: 3.3. | B27: Felhalmozási célú visszatérítendő támogatások, kölcsönök visszatérülése
A28: 3.4. | B28: Felhalmozási célú visszatérítendő támogatások, kölcsönök igénybevétele
A29: 3.5. | B29: Egyéb felhalmozási célú támogatások bevételei | C29: 117478820
A30: 3.6. | B30: 3.5.-ből EU-s támogatás | C30: 117478820
A31: 4. | B31: Közhatalmi bevételek (4.1.+…+4.7.) | C31: =SUM(C32:C38) -> 221400000
A32: 4.1. | B32: Vagyoni tipusú adók | C32: 102100000
A33: 4.2. | B33: Idegenforgalmi adó
A34: 4.3. | B34: Iparűzési adó | C34: 110000000
A35: 4.4. | B35: Talajterhelési díj | C35: 200000
A36: 4.5. | B36: Gépjárműadó | C36: 8800000
A37: 4.6. | B37: Egyéb közhatalmi bevételek | C37: 300000
A38: 4.7. | B38: Kommunális adó
A39: 5. | B39: Működési bevételek (5.1.+…+ 5.11.) | C39: =SUM(C40:C50) -> 54016468
A40: 5.1. | B40: Készletértékesítés ellenértéke
A41: 5.2. | B41: Szolgáltatások ellenértéke | C41: 12268000
...

Sheet KV_1.2.sz.mell.
B1: =CONCATENATE("1.2. melléklet ",ALAPADATOK!A7," ",ALAPADATOK!B7," ",ALAPADATOK!C7," ",ALAPADATOK!D7," ",ALAPADATOK!E7," ",ALAPADATOK!F7," ",ALAPADATOK!G7," ",ALAPADATOK!H7) -> 1.2. melléklet a … / 2020 ( … ) önkormányzati rendelethez
B2: =CONCATENATE(ALAPADATOK!A3) -> Sajószöged Községi Önkormányzat
B3: ='KV_1.1.sz.mell.'!B3 -> 2020. ÉVI KÖLTSÉGVETÉS
B4: KÖTELEZŐ FELADATOK MÉRLEGE
A6: B E V É T E L E K
A7: 1. sz. táblázat | C7: =CONCATENATE('KV_1.1.sz.mell.'!C7) -> Forintban!
A8: Sor- szám | B8: Bevételi jogcím | C8: =+CONCATENATE(LEFT(KV_ÖSSZEFÜGGÉSEK!A5,4),". évi előirányzat") -> 2020. évi előirányzat
B9: A | C9: B
A10: 1. | B10: Önkormányzat működési támogatásai (1.1.+…+.1.6.) | C10: =+C11+C12+C13+C14+C15+C16 -> 98604818
A11: 1.1. | B11: Helyi önkormányzatok működésének általános támogatása | C11: 23631621
A12: 1.2. | B12: Önkormányzatok egyes köznevelési feladatainak támogatása | C12: 48695600
A13: 1.3. | B13: Önkormányzatok szociális és gyermekjóléti, étkeztetési feladatainak támogatása | C13: 23410305
A14: 1.4. | B14: Önkormányzatok kulturális feladatainak támogatása | C14: 2867292
A15: 1.5. | B15: Működési célú kvi támogatások és kiegészítő támogatások
A16: 1.6. | B16: Elszámolásból származó bevételek
A17: 2. | B17: Működési célú támogatások államháztartáson belülről (2.1.+…+.2.5.) | C17: =+C18+C19+C20+C21+C22 -> 11262720
A18: 2.1. | B18: Elvonások és befizetések bevételei
A19: 2.2. | B19: Működési célú garancia- és kezességvállalásból megtérülések
A20: 2.3. | B20: Működési célú visszatérítendő támogatások, kölcsönök visszatérülése
A21: 2.4. | B21: Működési célú visszatérítendő támogatások, kölcsönök igénybevétele
A22: 2.5. | B22: Egyéb működési célú támogatások bevételei államháztartáson belülről | C22: 11262720
A23: 2.6. | B23: 2.5.-ből EU-s támogatás
A24: 3. | B24: Felhalmozási célú támogatások államháztartáson belülről (3.1.+…+3.5.) | C24: =+C25+C26+C27+C28+C29 -> 117478820
A25: 3.1. | B25: Felhalmozási célú önkormányzati támogatások
A26: 3.2. | B26: Felhalmozási célú garancia- és kezességvállalásból megtérülések
A27: 3.3. | B27: Felhalmozási célú visszatérítendő támogatások, kölcsönök visszatérülése
A28: 3.4. | B28: Felhalmozási célú visszatérítendő támogatások, kölcsönök igénybevétele
A29: 3.5. | B29: Egyéb felhalmozási célú támogatások bevételei | C29: 117478820
A30: 3.6. | B30: 3.5.-ből EU-s támogatás | C30: 117478820
A31: 4. | B31: Közhatalmi bevételek (4.1.+…+4.7.) | C31: =SUM(C32:C38) -> 221400000
A32: 4.1. | B32: ='KV_1.1.sz.mell.'!B32 -> Vagyoni tipusú adók | C32: 102100000
A33: 4.2. | B33: ='KV_1.1.sz.mell.'!B33 -> Idegenforgalmi adó
A34: 4.3. | B34: ='KV_1.1.sz.mell.'!B34 -> Iparűzési adó | C34: 110000000
A35: 4.4. | B35: ='KV_1.1.sz.mell.'!B35 -> Talajterhelési díj | C35: 200000
A36: 4.5. | B36: ='KV_1.1.sz.mell.'!B36 -> Gépjárműadó | C36: 8800000
A37: 4.6. | B37: ='KV_1.1.sz.mell.'!B37 -> Egyéb közhatalmi bevételek | C37: 300000
A38: 4.7. | B38: ='KV_1.1.sz.mell.'!B38 -> Kommunális adó
A39: 5. | B39: Működési bevételek (5.1.+…+ 5.11.) | C39: =SUM(C40:C50) -> 54016468
A40: 5.1. | B40: Készletértékesítés ellenértéke
A41: 5.2. | B41: Szolgáltatások ellenértéke | C41: 12268000
...

Sheet KV_1.3.sz.mell.
B1: =CONCATENATE("1.3. melléklet ",ALAPADATOK!A7," ",ALAPADATOK!B7," ",ALAPADATOK!C7," ",ALAPADATOK!D7," ",ALAPADATOK!E7," ",ALAPADATOK!F7," ",ALAPADATOK!G7," ",ALAPADATOK!H7) -> 1.3. melléklet a … / 2020 ( … ) önkormányzati rendelethez
B2: =CONCATENATE(ALAPADATOK!A3) -> Sajószöged Községi Önkormányzat
B3: ='KV_1.2.sz.mell.'!B3 -> 2020. ÉVI KÖLTSÉGVETÉS
B4: ÖNKÉNT VÁLLALT FELADATOK MÉRLEGE
A6: B E V É T E L E K
A7: 1. sz. táblázat | C7: =CONCATENATE('KV_1.1.sz.mell.'!C7) -> Forintban!
A8: Sor- szám | B8: Bevételi jogcím | C8: =+CONCATENATE(LEFT(KV_ÖSSZEFÜGGÉSEK!A5,4),". évi előirányzat") -> 2020. évi előirányzat
B9: A | C9: B
A10: 1. | B10: Önkormányzat működési támogatásai (1.1.+…+.1.6.) | C10: =+C11+C12+C13+C14+C15+C16 -> 0
A11: 1.1. | B11: Helyi önkormányzatok működésének általános támogatása
A12: 1.2. | B12: Önkormányzatok egyes köznevelési feladatainak támogatása
A13: 1.3. | B13: Önkormányzatok szociális és gyermekjóléti, étkeztetési feladatainak támogatása
A14: 1.4. | B14: Önkormányzatok kulturális feladatainak támogatása
A15: 1.5. | B15: Működési célú kvi támogatások és kiegészítő támogatások
A16: 1.6. | B16: Elszámolásból származó bevételek
A17: 2. | B17: Működési célú támogatások államháztartáson belülről (2.1.+…+.2.5.) | C17: =+C18+C19+C20+C21+C22 -> 0
A18: 2.1. | B18: Elvonások és befizetések bevételei
A19: 2.2. | B19: Működési célú garancia- és kezességvállalásból megtérülések
A20: 2.3. | B20: Működési célú visszatérítendő támogatások, kölcsönök visszatérülése
A21: 2.4. | B21: Működési célú visszatérítendő támogatások, kölcsönök igénybevétele
A22: 2.5. | B22: Egyéb működési célú támogatások bevételei államháztartáson belülről
A23: 2.6. | B23: 2.5.-ből EU-s támogatás
A24: 3. | B24: Felhalmozási célú támogatások államháztartáson belülről (3.1.+…+3.5.) | C24: =+C25+C26+C27+C28+C29 -> 0
A25: 3.1. | B25: Felhalmozási célú önkormányzati támogatások
A26: 3.2. | B26: Felhalmozási célú garancia- és kezességvállalásból megtérülések
A27: 3.3. | B27: Felhalmozási célú visszatérítendő támogatások, kölcsönök visszatérülése
A28: 3.4. | B28: Felhalmozási célú visszatérítendő támogatások, kölcsönök igénybevétele
A29: 3.5. | B29: Egyéb felhalmozási célú támogatások bevételei
A30: 3.6. | B30: 3.5.-ből EU-s támogatás
A31: 4. | B31: Közhatalmi bevételek (4.1.+…+4.7.) | C31: =SUM(C32:C38) -> 0
A32: 4.1. | B32: ='KV_1.1.sz.mell.'!B32 -> Vagyoni tipusú adók
A33: 4.2. | B33: ='KV_1.1.sz.mell.'!B33 -> Idegenforgalmi adó
A34: 4.3. | B34: ='KV_1.1.sz.mell.'!B34 -> Iparűzési adó
A35: 4.4. | B35: ='KV_1.1.sz.mell.'!B35 -> Talajterhelési díj
A36: 4.5. | B36: ='KV_1.1.sz.mell.'!B36 -> Gépjárműadó
A37: 4.6. | B37: ='KV_1.1.sz.mell.'!B37 -> Egyéb közhatalmi bevételek
A38: 4.7. | B38: ='KV_1.1.sz.mell.'!B38 -> Kommunális adó
A39: 5. | B39: Működési bevételek (5.1.+…+ 5.11.) | C39: =SUM(C40:C50) -> 0
A40: 5.1. | B40: Készletértékesítés ellenértéke
A41: 5.2. | B41: Szolgáltatások ellenértéke
...

Sheet KV_1.4.sz.mell.
B1: =CONCATENATE("1.4. melléklet ",ALAPADATOK!A7," ",ALAPADATOK!B7," ",ALAPADATOK!C7," ",ALAPADATOK!D7," ",ALAPADATOK!E7," ",ALAPADATOK!F7," ",ALAPADATOK!G7," ",ALAPADATOK!H7) -> 1.4. melléklet a … / 2020 ( … ) önkormányzati rendelethez
B2: =CONCATENATE(ALAPADATOK!A3) -> Sajószöged Községi Önkormányzat
B3: ='KV_1.3.sz.mell.'!B3 -> 2020. ÉVI KÖLTSÉGVETÉS
B4: ÁLLAMIGAZGATÁSI FELADATOK MÉRLEGE
A6: B E V É T E L E K
A7: 1. sz. táblázat | C7: =CONCATENATE('KV_1.1.sz.mell.'!C7) -> Forintban!
A8: Sor- szám | B8: Bevételi jogcím | C8: =+CONCATENATE(LEFT(KV_ÖSSZEFÜGGÉSEK!A5,4),". évi előirányzat") -> 2020. évi előirányzat
B9: A | C9: B
A10: 1. | B10: Önkormányzat működési támogatásai (1.1.+…+.1.6.) | C10: =+C11+C12+C13+C14+C15+C16 -> 0
A11: 1.1. | B11: Helyi önkormányzatok működésének általános támogatása
A12: 1.2. | B12: Önkormányzatok egyes köznevelési feladatainak támogatása
A13: 1.3. | B13: Önkormányzatok szociális és gyermekjóléti, étkeztetési feladatainak támogatása
A14: 1.4. | B14: Önkormányzatok kulturális feladatainak támogatása
A15: 1.5. | B15: Működési célú kvi támogatások és kiegészítő támogatások
A16: 1.6. | B16: Elszámolásból származó bevételek
A17: 2. | B17: Működési célú támogatások államháztartáson belülről (2.1.+…+.2.5.) | C17: =+C18+C19+C20+C21+C22 -> 0
A18: 2.1. | B18: Elvonások és befizetések bevételei
A19: 2.2. | B19: Működési célú garancia- és kezességvállalásból megtérülések
A20: 2.3. | B20: Működési célú visszatérítendő támogatások, kölcsönök visszatérülése
A21: 2.4. | B21: Működési célú visszatérítendő támogatások, kölcsönök igénybevétele
A22: 2.5. | B22: Egyéb működési célú támogatások bevételei államháztartáson belülről
A23: 2.6. | B23: 2.5.-ből EU-s támogatás
A24: 3. | B24: Felhalmozási célú támogatások államháztartáson belülről (3.1.+…+3.5.) | C24: =+C25+C26+C27+C28+C29 -> 0
A25: 3.1. | B25: Felhalmozási célú önkormányzati támogatások
A26: 3.2. | B26: Felhalmozási célú garancia- és kezességvállalásból megtérülések
A27: 3.3. | B27: Felhalmozási célú visszatérítendő támogatások, kölcsönök visszatérülése
A28: 3.4. | B28: Felhalmozási célú visszatérítendő támogatások, kölcsönök igénybevétele
A29: 3.5. | B29: Egyéb felhalmozási célú támogatások bevételei
A30: 3.6. | B30: 3.5.-ből EU-s támogatás
A31: 4. | B31: Közhatalmi bevételek (4.1.+…+4.7.) | C31: =SUM(C32:C38) -> 0
A32: 4.1. | B32: ='KV_1.1.sz.mell.'!B32 -> Vagyoni tipusú adók
A33: 4.2. | B33: ='KV_1.1.sz.mell.'!B33 -> Idegenforgalmi adó
A34: 4.3. | B34: ='KV_1.1.sz.mell.'!B34 -> Iparűzési adó
A35: 4.4. | B35: ='KV_1.1.sz.mell.'!B35 -> Talajterhelési díj
A36: 4.5. | B36: ='KV_1.1.sz.mell.'!B36 -> Gépjárműadó
A37: 4.6. | B37: ='KV_1.1.sz.mell.'!B37 -> Egyéb közhatalmi bevételek
A38: 4.7. | B38: ='KV_1.1.sz.mell.'!B38 -> Kommunális adó
A39: 5. | B39: Működési bevételek (5.1.+…+ 5.11.) | C39: =SUM(C40:C50) -> 0
A40: 5.1. | B40: Készletértékesítés ellenértéke
A41: 5.2. | B41: Szolgáltatások ellenértéke
...

Sheet KV_2.1.sz.mell.
B1: I. Működési célú bevételek és kiadások mérlege (Önkormányzati szinten) | F1: =CONCATENATE("2.1. melléklet ",ALAPADATOK!A7," ",ALAPADATOK!B7," ",ALAPADATOK!C7," ",ALAPADATOK!D7," ",ALAPADATOK!E7," ",ALAPADATOK!F7," ",ALAPADATOK!G7," ",ALAPADATOK!H7) -> 2.1. melléklet a … / 2020 ( … ) önkormányzati rendelethez
E2: =CONCATENATE('KV_1.1.sz.mell.'!C7) -> Forintban!
A3: Sor- szám | B3: Bevételek | D3: Kiadások
B4: Megnevezés | C4: =+'KV_1.1.sz.mell.'!C8 -> 2020. évi előirányzat | D4: Megnevezés | E4: =+C4 -> 2020. évi előirányzat
B5: A | C5: B | D5: C | E5: D
A6: 1. | B6: Önkormányzatok működési támogatásai | C6: 98604818 | D6: Személyi juttatások | E6: 162344941
A7: 2. | B7: Működési célú támogatások államháztartáson belülről | C7: 11262720 | D7: Munkaadókat terhelő járulékok és szociális hozzájárulási adó | E7: 30620220
A8: 3. | B8: 2.-ból EU-s támogatás | D8: Dologi kiadások | E8: 190873654
A9: 4. | B9: Közhatalmi bevételek | C9: 221400000 | D9: Ellátottak pénzbeli juttatásai | E9: 13040000
A10: 5. | B10: Működési bevételek | C10: 54016468 | D10: Egyéb működési célú kiadások | E10: 54243640
A11: 6. | B11: Működési célú átvett pénzeszközök | D11: Tartalékok | E11: 10000000
A12: 7. | B12: 6.-ból EU-s támogatás (közvetlen)
A13: 8.
A14: 9.
A15: 10.
A16: 11.
A17: 12.
A18: 13. | B18: Költségvetési bevételek összesen (1.+2.+4.+5.+6.+8.+…+12.) | C18: =C6+C7+C9+C10+C11+C13+C14+C15+C16+C17 -> 385284006 | D18: Költségvetési kiadások összesen (1.+...+12.) | E18: =SUM(E6:E17) -> 461122455
A19: 14. | B19: Hiány belső finanszírozásának bevételei (15.+…+18. ) | C19: =+C20+C21+C22+C23 -> 75838449 | D19: Értékpapír vásárlása, visszavásárlása
A20: 15. | B20: Költségvetési maradvány igénybevétele | C20: 6432184 | D20: Likviditási célú hitelek törlesztése
A21: 16. | B21: Vállalkozási maradvány igénybevétele | D21: Rövid lejáratú hitelek törlesztése
A22: 17. | B22: Betét visszavonásából származó bevétel | D22: Hosszú lejáratú hitelek törlesztése
A23: 18. | B23: OTP befektetési jegy visszaváltása | C23: 69406265 | D23: Kölcsön törlesztése
A24: 19. | B24: Hiány külső finanszírozásának bevételei (20.+…+21.) | C24: =+C25+C26 -> 0 | D24: Forgatási célú belföldi, külföldi értékpapírok vásárlása
A25: 20. | B25: Likviditási célú hitelek, kölcsönök felvétele | D25: Pénzeszközök lekötött betétként elhelyezése
A26: 21. | B26: Egyéb | D26: Adóssághoz nem kapcsolódó származékos ügyletek
A27: 22. | B27: Váltóbevételek | D27: Váltókiadások
A28: 23. | B28: Adóssághoz nem kapcsolódó származékos ügyletek bevételei
A29: 24. | B29: Működési célú finanszírozási bevételek összesen (14.+19.+22.+23.) | C29: =+C19+C24+C27+C28 -> 75838449 | D29: Működési célú finanszírozási kiadások összesen (14.+...+23.) | E29: =SUM(E19:E28) -> 0
A30: 25. | B30: BEVÉTEL ÖSSZESEN (13.+24.) | C30: =+C18+C29 -> 461122455 | D30: KIADÁSOK ÖSSZESEN (13.+24.) | E30: =+E18+E29 -> 461122455
A31: 26. | B31: Költségvetési hiány: | C31: =IF(C18-E18<0,E18-C18,"-") -> 75838449 | D31: Költségvetési többlet: | E31: =IF(C18-E18>0,C18-E18,"-") -> -
A32: 27. | B32: Bruttó hiány: | C32: =IF(C30-E30<0,E30-C30,"-") -> - | D32: Bruttó többlet: | E32: =IF(C30-E30>0,C30-E30,"-") -> -
A33: =IF(C32<>"-","Nem lehet bruttó hiány, mert az Mötv. 111. § (4) bekezédse szerint A költségvetési rendeletben működési hiány nem tervezhető.","")

Sheet KV_2.2.sz.mell.
B1: II. Felhalmozási célú bevételek és kiadások mérlege (Önkormányzati szinten) | F1: =CONCATENATE("2.2. melléklet ",ALAPADATOK!A7," ",ALAPADATOK!B7," ",ALAPADATOK!C7," ",ALAPADATOK!D7," ",ALAPADATOK!E7," ",ALAPADATOK!F7," ",ALAPADATOK!G7," ",ALAPADATOK!H7) -> 2.2. melléklet a … / 2020 ( … ) önkormányzati rendelethez
E2: =CONCATENATE('KV_1.1.sz.mell.'!C7) -> Forintban!
A3: Sor- szám | B3: Bevételek | D3: Kiadások
B4: Megnevezés | C4: =+'KV_2.1.sz.mell.'!C4 -> 2020. évi előirányzat | D4: Megnevezés | E4: =+'KV_2.1.sz.mell.'!C4 -> 2020. évi előirányzat
B5: A | C5: B | D5: C | E5: D
A6: 1. | B6: Felhalmozási célú támogatások államháztartáson belülről | C6: 117478820 | D6: Beruházások | E6: 174297550
A7: 2. | B7: 1.-ből EU-s támogatás | C7: 117478820 | D7: 1.-ből EU-s forrásból megvalósuló beruházás | E7: 101435180
A8: 3. | B8: Felhalmozási bevételek | C8: 11000000 | D8: Felújítások | E8: 17390675
A9: 4. | B9: Felhalmozási célú átvett pénzeszközök átvétele | C9: 2580040 | D9: 3.-ból EU-s forrásból megvalósuló felújítás
A10: 5. | B10: 4.-ből EU-s támogatás (közvetlen) | D10: Egyéb felhalmozási kiadások | E10: 3980791
A11: 6. | B11: Egyéb felhalmozási célú bevételek
A12: 7.
A13: 8.
A14: 9.
A15: 10.
A16: 11. | D16: Tartalékok
A17: 12. | B17: Költségvetési bevételek összesen: (1.+3.+4.+6.+…+11.) | C17: =+C6+C8+C9+C11+C12+C13+C14+C15+C16 -> 131058860 | D17: Költségvetési kiadások összesen: (1.+3.+5.+...+11.) | E17: =+E6+E8+E10+E11+E12+E13+E14+E15+E16 -> 195669016
A18: 13. | B18: Hiány belső finanszírozás bevételei ( 14+…+18) | C18: =SUM(C19:C23) -> 64610156 | D18: Értékpapír vásárlása, visszavásárlása
A19: 14. | B19: Költségvetési maradvány igénybevétele | C19: 64610156 | D19: Hitelek törlesztése
A20: 15. | B20: Vállalkozási maradvány igénybevétele | D20: Rövid lejáratú hitelek törlesztése
A21: 16. | B21: Betét visszavonásából származó bevétel | D21: Hosszú lejáratú hitelek törlesztése
A22: 17. | B22: OTP befektetési jegy értékesítése | D22: Kölcsön törlesztése
A23: 18. | B23: Egyéb belső finanszírozási bevételek | D23: Befektetési célú belföldi, külföldi értékpapírok vásárlása
A24: 19. | B24: Hiány külső finanszírozásának bevételei (20+…+24 ) | C24: =+C25+C26+C27+C28+C29 -> 0 | D24: Betét elhelyezése
A25: 20. | B25: Hosszú lejáratú hitelek, kölcsönök felvétele | D25: Pénzügyi lízing kiadásai
A26: 21. | B26: Likviditási célú hitelek, kölcsönök felvétele
A27: 22. | B27: Rövid lejáratú hitelek, kölcsönök felvétele
A28: 23. | B28: Értékpapírok kibocsátása
A29: 24. | B29: Egyéb külső finanszírozási bevételek
A30: 25. | B30: Felhalmozási célú finanszírozási bevételek összesen (13.+19.) | C30: =+C18+C24 -> 64610156 | D30: Felhalmozási célú finanszírozási kiadások összesen (13.+...+24.) | E30: =SUM(E18:E29) -> 0
A31: 26. | B31: BEVÉTEL ÖSSZESEN (12+25) | C31: =+C17+C30 -> 195669016 | D31: KIADÁSOK ÖSSZESEN (12+25) | E31: =+E17+E30 -> 195669016
A32: 27. | B32: Költségvetési hiány: | C32: =IF(C17-E17<0,E17-C17,"-") -> 64610156 | D32: Költségvetési többlet: | E32: =IF(C17-E17>0,C17-E17,"-") -> -
A33: 28. | B33: Bruttó hiány: | C33: =IF(C31-E31<0,E31-C31,"-") -> - | D33: Bruttó többlet: | E33: =IF(C31-E31>0,C31-E31,"-") -> -

Sheet KV_ELLENŐRZÉS
A1: Költségvetési rendelet űrlapjainak összefüggései: | E1: ELTÉRÉS
A4: =+KV_ÖSSZEFÜGGÉSEK!A5 -> 2020. évi előirányzat BEVÉTELEK
A6: 1.1. sz. melléklet Bevételek táblázat C. oszlop 9 sora = | B6: =+'KV_1.1.sz.mell.'!C67 -> 516342866 | C6: 2.1. számú melléklet C. oszlop 13. sor + 2.2. számú melléklet C. oszlop 12. sor | D6: =+'KV_2.1.sz.mell.'!C18+'KV_2.2.sz.mell.'!C17 -> 516342866 | E6: =+B6-D6 -> 0
A7: 1.1. sz. melléklet Bevételek táblázat C. oszlop 17 sora = | B7: =+'KV_1.1.sz.mell.'!C91 -> 140448605 | C7: 2.1. számú melléklet C. oszlop 24. sor + 2.2. számú melléklet C. oszlop 25. sor | D7: =+'KV_2.1.sz.mell.'!C29+'KV_2.2.sz.mell.'!C30 -> 140448605 | E7: =+B7-D7 -> 0
A8: 1.1. sz. melléklet Bevételek táblázat C. oszlop 18 sora = | B8: =+'KV_1.1.sz.mell.'!C92 -> 656791471 | C8: 2.1. számú melléklet C. oszlop 25. sor + 2.2. számú melléklet C. oszlop 26. sor | D8: =+'KV_2.1.sz.mell.'!C30+'KV_2.2.sz.mell.'!C31 -> 656791471 | E8: =+B8-D8 -> 0
A11: =+KV_ÖSSZEFÜGGÉSEK!A12 -> 2020. évi előirányzat KIADÁSOK
A13: 1.1. sz. melléklet Kiadások táblázat C. oszlop 3 sora = | B13: =+'KV_1.1.sz.mell.'!C133 -> 656791471 | C13: 2.1. számú melléklet E. oszlop 13. sor + 2.2. számú melléklet E. oszlop 12. sor | D13: =+'KV_2.1.sz.mell.'!E18+'KV_2.2.sz.mell.'!E17 -> 656791471 | E13: =+B13-D13 -> 0
A14: 1.1. sz. melléklet Kiadások táblázat C. oszlop 10 sora = | B14: =+'KV_1.1.sz.mell.'!C158 -> 0 | C14: 2.1. számú melléklet E. oszlop 24. sor + 2.2. számú melléklet E. oszlop 25. sor | D14: =+'KV_2.1.sz.mell.'!E29+'KV_2.2.sz.mell.'!E30 -> 0 | E14: =+B14-D14 -> 0
A15: 1.1. sz. melléklet Kiadások táblázat C. oszlop 11 sora = | B15: =+'KV_1.1.sz.mell.'!C159 -> 656791471 | C15: 2.1. számú melléklet E. oszlop 25. sor + 2.2. számú melléklet E. oszlop 26. sor | D15: =+'KV_2.1.sz.mell.'!E30+'KV_2.2.sz.mell.'!E31 -> 656791471 | E15: =+B15-D15 -> 0

Sheet KV_3.sz.mell.
B2: =CONCATENATE("3. melléklet ",ALAPADATOK!A7," ",ALAPADATOK!B7," ",ALAPADATOK!C7," ",ALAPADATOK!D7," ",ALAPADATOK!E7," ",ALAPADATOK!F7," ",ALAPADATOK!G7," ",ALAPADATOK!H7) -> 3. melléklet a … / 2020 ( … ) önkormányzati rendelethez
A4: =CONCATENATE(PROPER(ALAPADATOK!A3)," adósságot keletkeztető ügyletekből és kezességvállalásokból fennálló kötelezettségei") -> Sajószöged Községi Önkormányzat adósságot keletkeztető ügyletekből és kezességvállalásokból fennálló kötelezettségei
E5: ='KV_2.2.sz.mell.'!E2 -> Forintban!
A6: Sor-szám | B6: MEGNEVEZÉS | C6: Évek | F6: Összesen (F=C+D+E)
C7: =+LEFT(KV_ÖSSZEFÜGGÉSEK!A5,4)+1 -> 2021 | D7: =+C7+1 -> 2022 | E7: =+D7+1 -> 2023
B8: A | C8: B | D8: C | E8: D | F8: E
A9: 1. | B9: NEMLEGES! | F9: =SUM(C9:E9) -> 0
A10: 2. | F10: =SUM(C10:E10) -> 0
A11: 3. | F11: =SUM(C11:E11) -> 0
A12: 4. | F12: =SUM(C12:E12) -> 0
A13: 5. | F13: =SUM(C13:E13) -> 0
A14: 6. | B14: ÖSSZES KÖTELEZETTSÉG | C14: =SUM(C9:C13) -> 0 | D14: =SUM(D9:D13) -> 0 | E14: =SUM(E9:E13) -> 0 | F14: =SUM(F9:F13) -> 0

Sheet KV_4.sz.mell.
B2: =CONCATENATE("4. melléklet ",ALAPADATOK!A7," ",ALAPADATOK!B7," ",ALAPADATOK!C7," ",ALAPADATOK!D7," ",ALAPADATOK!E7," ",ALAPADATOK!F7," ",ALAPADATOK!G7," ",ALAPADATOK!H7) -> 4. melléklet a … / 2020 ( … ) önkormányzati rendelethez
A4: =CONCATENATE(PROPER(ALAPADATOK!A3)," saját bevételeinek részletezése az adósságot keletkeztető ügyletből származó tárgyévi fizetési kötelezettség megállapításához") -> Sajószöged Községi Önkormányzat saját bevételeinek részletezése az adósságot keletkeztető ügyletből származó tárgyévi fizetési kötelezettség megállapításához
C5: ='KV_2.2.sz.mell.'!E2 -> Forintban!
A6: Sor-szám | B6: Bevételi jogcímek | C6: =+'KV_1.1.sz.mell.'!C8 -> 2020. évi előirányzat
B7: A | C7: B
A8: 1. | B8: Helyi adóból és a települési adóból származó bevétel | C8: 212400000
A9: 2. | B9: Az önkormányzati vagyon és az önkormányzatot megillető vagyoni értékű jog értékesítéséből és hasznosításából származó bevétel | C9: 13693455
A10: 3. | B10: Osztalék, koncessziós díj és hozambevétel
A11: 4. | B11: Tárgyi eszköz és az immateriális jószág, részvény, részesedés, vállalat értékesítéséből vagy privatizációból származó bevétel | C11: 11000000
A12: 5. | B12: Bírság-, pótlék- és díjbevétel
A13: 6. | B13: Kezesség-, illetve garanciavállalással kapcsolatos megtérülés
A14: SAJÁT BEVÉTELEK ÖSSZESEN* | C14: =SUM(C8:C13) -> 237093455
A15: *Az adósságot keletkeztető ügyletekhez történő hozzájárulás részletes szabályairól szóló 353/2011. (XII.31.) Korm. Rendelet 2.§ (1) bekezdése alapján.

Sheet KV_5.sz.mell.
B2: =CONCATENATE("5. melléklet ",ALAPADATOK!A7," ",ALAPADATOK!B7," ",ALAPADATOK!C7," ",ALAPADATOK!D7," ",ALAPADATOK!E7," ",ALAPADATOK!F7," ",ALAPADATOK!G7," ",ALAPADATOK!H7) -> 5. melléklet a … / 2020 ( … ) önkormányzati rendelethez
A4: =CONCATENATE(PROPER(ALAPADATOK!A3)," ",ALAPADATOK!D7,". évi adósságot keletkeztető fejlesztési céljai") -> Sajószöged Községi Önkormányzat 2020. évi adósságot keletkeztető fejlesztési céljai
C5: ='KV_4.sz.mell.'!C5 -> Forintban!
A6: Sor-szám | B6: Fejlesztési cél leírása | C6: Fejlesztés várható kiadása
B7: A | C7: B
A8: 1. | B8: Nemleges!
A9: 2.
A10: 3.
A11: 4. | B11: ADÓSSÁGOT KELETKEZTETŐ ÜGYLETEK VÁRHATÓ EGYÜTTES ÖSSZEGE* | C11: =SUM(C8:C10) -> 0
A12: * Magyarország gazdasági stabilitásáról szóló 2011. évi CXCIV. törvény 8. § (2) bekezdése szerinti adósságot keletkezető ügyletek.

Sheet KV_6.sz.mell.
B2: =CONCATENATE("6. melléklet ",ALAPADATOK!A7," ",ALAPADATOK!B7," ",ALAPADATOK!C7," ",ALAPADATOK!D7," ",ALAPADATOK!E7," ",ALAPADATOK!F7," ",ALAPADATOK!G7," ",ALAPADATOK!H7) -> 6. melléklet a … / 2020 ( … ) önkormányzati rendelethez
A4: Beruházási (felhalmozási) kiadások előirányzata beruházásonként
F5: ='KV_5.sz.mell.'!C5 -> Forintban!
A6: Beruházás megnevezése | B6: Teljes költség | C6: Kivitelezés kezdési és befejezési éve | D6: =+CONCATENATE("Felhasználás ",LEFT(KV_ÖSSZEFÜGGÉSEK!A5,4)-1,". XII. 31-ig") -> Felhasználás 2019. XII. 31-ig | E6: =+'KV_1.1.sz.mell.'!C8 -> 2020. évi előirányzat | F6: =+CONCATENATE(LEFT(KV_ÖSSZEFÜGGÉSEK!A5,4),". utáni szükséglet") -> 2020. utáni szükséglet
A7: A | B7: B | C7: C | D7: D | E7: E | F7: F=(B-D-E)
A8: TOP 1.4.1-15-BO1-2016-00080. Óvoda és Konyha korszer | B8: 111971908 | C8: 2017-2020 | D8: 103462708 | E8: 8509200 | F8: =B8-D8-E8 -> 0
A9: TOP 1.4.1-16 BO1-2017-00018. Sajószögedi Zöld Sziget B | B9: 104613317 | C9: 2019-2020 | D9: 90914259 | E9: 13699058 | F9: =B9-D9-E9 -> 0
A10: TOP 3.2.1-16-BO1-2017-00055 Iskola energetikai korszerűsítése | B10: 87833480 | C10: 2020-2020 | E10: 87833480 | F10: =B10-D10-E10 -> 0
A11: térfigyelő kamerarendszer beüzemelése | B11: 3942212 | C11: 2014-2020 | D11: 2635463 | E11: 1306749 | F11: =B11-D11-E11 -> 0
A12: Okos zebra | B12: 2433981 | C12: 2020-2020 | E12: 2433981 | F12: =B12-D12-E12 -> 0
A13: Bölcsőde kerítés | B13: 2000250 | C13: 2020-2020 | E13: 2000250 | F13: =B13-D13-E13 -> 0
A14: Bölcsőde udvar | B14: 654050 | C14: 2020-2020 | E14: 654050 | F14: =B14-D14-E14 -> 0
A15: Vasút út felújítása | B15: 35907370 | C15: 2020-2020 | E15: 35907370 | F15: =B15-D15-E15 -> 0
A16: Óvoda udvar | B16: 4999997 | C16: 2020-2020 | E16: 4999997 | F16: =B16-D16-E16 -> 0
A17: Iskola előtti út felújítása | B17: 6826617 | C17: 2020-2020 | E17: 6826617 | F17: =B17-D17-E17 -> 0
A18: ÁMK -eszközbeszerzések | B18: 2970149 | C18: 2020-2020 | E18: 2970149 | F18: =B18-D18-E18 -> 0
A19: ÖNK-eszközbeszerzések | B19: 1867550 | C19: 2020-2020 | E19: 1867550 | F19: =B19-D19-E19 -> 0
A20: PH - eszközbeszerzések | B20: 5289099 | C20: 2020-2020 | E20: 5289099 | F20: =B20-D20-E20 -> 0
F21: =B21-D21-E21 -> 0
F22: =B22-D22-E22 -> 0
F23: =B23-D23-E23 -> 0
A24: ÖSSZESEN: | B24: =SUM(B8:B23) -> 371309980 | D24: =SUM(D8:D23) -> 197012430 | E24: =SUM(E8:E23) -> 174297550 | F24: =SUM(F8:F23) -> 0

Sheet KV_7.sz.mell.
B2: =CONCATENATE("7. melléklet ",ALAPADATOK!A7," ",ALAPADATOK!B7," ",ALAPADATOK!C7," ",ALAPADATOK!D7," ",ALAPADATOK!E7," ",ALAPADATOK!F7," ",ALAPADATOK!G7," ",ALAPADATOK!H7) -> 7. melléklet a … / 2020 ( … ) önkormányzati rendelethez
A4: Felújítási kiadások előirányzata felújításonként
F5: ='KV_6.sz.mell.'!F5 -> Forintban!
A6: Felújítás megnevezése | B6: Teljes költség | C6: Kivitelezés kezdési és befejezési éve | D6: =+'KV_6.sz.mell.'!D6 -> Felhasználás 2019. XII. 31-ig | E6: =+'KV_6.sz.mell.'!E6 -> 2020. évi előirányzat | F6: =+CONCATENATE(LEFT(KV_ÖSSZEFÜGGÉSEK!A5,4),". utáni szükséglet ",CHAR(10),"") -> 2020. utáni szükséglet
A7: A | B7: B | C7: C | D7: D | E7: E | F7: F=(B-D-E)
A8: ÉRV szennyvíz, ívóvíz rendszer felújítása | B8: 17390675 | C8: 2020-2020 | E8: 17390675 | F8: =B8-D8-E8 -> 0
F9: =B9-D9-E9 -> 0
F10: =B10-D10-E10 -> 0
F11: =B11-D11-E11 -> 0
F12: =B12-D12-E12 -> 0
F13: =B13-D13-E13 -> 0
F14: =B14-D14-E14 -> 0
F15: =B15-D15-E15 -> 0
F16: =B16-D16-E16 -> 0
F17: =B17-D17-E17 -> 0
F18: =B18-D18-E18 -> 0
F19: =B19-D19-E19 -> 0
F20: =B20-D20-E20 -> 0
... F24: =B24-D24-E24 -> 0
A25: ÖSSZESEN: | B25: =SUM(B8:B24) -> 17390675 | D25: =SUM(D8:D24) -> 0 | E25: =SUM(E8:E24) -> 17390675 | F25: =SUM(F8:F24) -> 0

Sheet KV_8.sz.mell.
F1: =CONCATENATE("8. melléklet ",ALAPADATOK!A7," ",ALAPADATOK!B7," ",ALAPADATOK!C7," ",ALAPADATOK!D7," ",ALAPADATOK!E7," ",ALAPADATOK!F7," ",ALAPADATOK!G7," ",ALAPADATOK!H7) -> 8. melléklet a … / 2020 ( … ) önkormányzati rendelethez
A2: Önkormányzaton kívüli EU-s projekthez történő hozzájárulás
E3: ='KV_7.sz.mell.'!F5 -> Forintban!
A4: Támogatott neve | E4: Előirányzat
A7: Összesen: | E7: =SUM(E5:E6) -> 0
A9: Európai uniós támogatással megvalósuló projektek
A10: bevételei, kiadásai, hozzájárulások
A11: EU-s projekt neve, azonosítója:* TOP 1.4.1-15-BO1-2016-00080 Óvoda és konyha fejlesztése Sajószögeden
E12: =$E$3 -> Forintban!
A13: Források | B13: Támogatási szerződés szerinti bevételek, kiadások
B14: Összes tervezett forrás, kiadás | C14: Évenkénti ütemezés
C15: =CONCATENATE(TARTALOMJEGYZÉK!$A$1,". előtti tervezett forrás, kiadás") -> 2020. előtti tervezett forrás, kiadás | D15: =CONCATENATE(TARTALOMJEGYZÉK!$A$1,". évi eredeti előirányzat") -> 2020. évi eredeti előirányzat | E15: =CONCATENATE(TARTALOMJEGYZÉK!$A$1,". év utáni tervezett forrás, kiadás") -> 2020. év utáni tervezett forrás, kiadás
A17: A | B17: B=(C+D+E) | C17: C | D17: D | E17: E
A18: Saját erő | B18: 16571108 | C18: 7971908 | D18: 8599200
A19: - saját erőből központi támogatás | B19: =C19+D19+E19 -> 0
A20: EU-s forrás | B20: 160348571 | C20: 160348571
A21: Társfinanszírozás | B21: =C21+D21+E21 -> 0
A22: Hitel | B22: =C22+D22+E22 -> 0
A23: Egyéb forrás | B23: =C23+D23+E23 -> 0
A24: Források összesen: | B24: =B18+SUM(B20:B23) -> 176919679 | C24: =C18+SUM(C20:C23) -> 168320479 | D24: =D18+SUM(D20:D23) -> 8599200 | E24: =E18+SUM(E20:E23) -> 0
A25: Személyi jellegű | B25: =C25+D25+E25 -> 0
A26: Beruházások, beszerzések | B26: =C26+D26 -> 144782264 | C26: 136183064 | D26: 8599200
A27: Szolgáltatások igénybe vétele | B27: =C27+D27+E27 -> 1905000 | C27: 1905000
A28: Adminisztratív költségek | B28: =C28+D28+E28 -> 0
A29: Fordított ÁFA | B29: =C29+D29+E29 -> 30232415 | C29: 30232415
A30: Kiadások összesen: | B30: =SUM(B25:B29) -> 176919679 | C30: =SUM(C25:C29) -> 168320479 | D30: =SUM(D25:D29) -> 8599200 | E30: =SUM(E25:E29) -> 0
A31: * Amennyiben több projekt megvalósítása történi egy időben akkor azokat külön-külön, projektenként be kell mutatni!
A33: EU-s projekt neve, azonosítója: TOP 3.2.1-16-BO1-2017-00055. A Kölcsey Ferenc ÁIAMI energetikai korszerűsítése a káros anyag
A34: kibocsátás csökkentése céljából | E34: =$E$3 -> Forintban!
A35: Források | B35: Támogatási szerződés szerinti bevételek, kiadások
B36: Összes tervezett forrás, kiadás | C36: Évenkénti ütemezés
C37: =CONCATENATE(TARTALOMJEGYZÉK!$A$1,". előtti tervezett forrás, kiadás") -> 2020. előtti tervezett forrás, kiadás | D37: =CONCATENATE(TARTALOMJEGYZÉK!$A$1,". évi eredeti előirányzat") -> 2020. évi eredeti előirányzat | E37: =CONCATENATE(TARTALOMJEGYZÉK!$A$1,". év utáni tervezett forrás, kiadás") -> 2020. év utáni tervezett forrás, kiadás
A39: A | B39: B=(C+D+E) | C39: C | D39: D | E39: E
A40: Saját erő | B40: =C40+D40+E40 -> 0
A41: - saját erőből központi támogatás | B41: =C41+D41+E41 -> 0
A42: EU-s forrás | B42: 117478820 | D42: 117478820
A43: Társfinanszírozás | B43: =C43+D43+E43 -> 0
A44: Hitel | B44: =C44+D44+E44 -> 0
A45: Egyéb forrás | B45: =C45+D45+E45 -> 0
A46: Források összesen: | B46: =B40+SUM(B42:B45) -> 117478820 | C46: =C40+SUM(C42:C45) -> 0 | D46: =D40+SUM(D42:D45) -> 117478820 | E46: =E40+SUM(E42:E45) -> 0
...

Sheet KV_9.1.sz.mell
C1: =CONCATENATE("9.1. melléklet ",ALAPADATOK!A7," ",ALAPADATOK!B7," ",ALAPADATOK!C7," ",ALAPADATOK!D7," ",ALAPADATOK!E7," ",ALAPADATOK!F7," ",ALAPADATOK!G7," ",ALAPADATOK!H7) -> 9.1. melléklet a … / 2020 ( … ) önkormányzati rendelethez
A2: Megnevezés | B2: =CONCATENATE(ALAPADATOK!A3) -> Sajószöged Községi Önkormányzat | C2: 01
A3: Feladat megnevezése | B3: Összes bevétel, kiadás | C3: 01
C4: ='KV_7.sz.mell.'!F5 -> Forintban!
A5: Száma | B5: Kiemelt előirányzat, előirányzat megnevezése | C5: Előirányzat
B6: A | C6: B
B7: Bevételek
A8: 1. | B8: Önkormányzat működési támogatásai (1.1.+…+.1.6.) | C8: =+C9+C10+C11+C12+C13+C14 -> 98604818
A9: 1.1. | B9: Helyi önkormányzatok működésének általános támogatása | C9: 23631621
A10: 1.2. | B10: Önkormányzatok egyes köznevelési feladatainak támogatása | C10: 48695600
A11: 1.3. | B11: Önkormányzatok szociális és gyermekjóléti, étkeztetési feladatainak támogatása | C11: 23410305
A12: 1.4. | B12: Önkormányzatok kulturális feladatainak támogatása | C12: 2867292
A13: 1.5. | B13: Működési célú kvi támogatások és kiegészítő támogatások
A14: 1.6. | B14: Elszámolásból származó bevételek
A15: 2. | B15: Működési célú támogatások államháztartáson belülről (2.1.+…+.2.5.) | C15: =+C16+C17+C18+C19+C20 -> 11262720
A16: 2.1. | B16: Elvonások és befizetések bevételei
A17: 2.2. | B17: Működési célú garancia- és kezességvállalásból megtérülések
A18: 2.3. | B18: Működési célú visszatérítendő támogatások, kölcsönök visszatérülése
A19: 2.4. | B19: Működési célú visszatérítendő támogatások, kölcsönök igénybevétele
A20: 2.5. | B20: Egyéb működési célú támogatások bevételei | C20: 11262720
A21: 2.6. | B21: 2.5.-ből EU-s támogatás
A22: 3. | B22: Felhalmozási célú támogatások államháztartáson belülről (3.1.+…+3.5.) | C22: =+C23+C24+C25+C26+C27 -> 117478820
A23: 3.1. | B23: Felhalmozási célú önkormányzati támogatások
A24: 3.2. | B24: Felhalmozási célú garancia- és kezességvállalásból megtérülések
A25: 3.3. | B25: Felhalmozási célú visszatérítendő támogatások, kölcsönök visszatérülése
A26: 3.4. | B26: Felhalmozási célú visszatérítendő támogatások, kölcsönök igénybevétele
A27: 3.5. | B27: Egyéb felhalmozási célú támogatások bevételei | C27: 117478820
A28: 3.6. | B28: 3.5.-ből EU-s támogatás | C28: 117478820
A29: 4. | B29: Közhatalmi bevételek (4.1.+...+4.7.) | C29: =C30+C31+C32+C33+C34+C35+C36 -> 221350000
A30: 4.1. | B30: Építményadó | C30: 3100000
A31: 4.2. | B31: ='KV_1.1.sz.mell.'!B33 -> Idegenforgalmi adó
A32: 4.3. | B32: ='KV_1.1.sz.mell.'!B34 -> Iparűzési adó | C32: 110000000
A33: 4.4. | B33: ='KV_1.1.sz.mell.'!B35 -> Talajterhelési díj | C33: 200000
A34: 4.5. | B34: ='KV_1.1.sz.mell.'!B36 -> Gépjárműadó | C34: 8800000
A35: 4.6. | B35: ='KV_1.1.sz.mell.'!B37 -> Egyéb közhatalmi bevételek | C35: 99000000
A36: 4.7. | B36: Egyéb közhatalmi bevételek | C36: 250000
A37: 5. | B37: Működési bevételek (5.1.+…+ 5.11.) | C37: =SUM(C38:C48) -> 39976090
A38: 5.1. | B38: Készletértékesítés ellenértéke
A39: 5.2. | B39: Szolgáltatások ellenértéke | C39: 2028000
A40: 5.3. | B40: Közvetített szolgáltatások értéke | C40: 1850000
...

Sheet KV_9.1.1.sz.mell
C1: =CONCATENATE("9.1.1. melléklet ",ALAPADATOK!A7," ",ALAPADATOK!B7," ",ALAPADATOK!C7," ",ALAPADATOK!D7," ",ALAPADATOK!E7," ",ALAPADATOK!F7," ",ALAPADATOK!G7," ",ALAPADATOK!H7) -> 9.1.1. melléklet a … / 2020 ( … ) önkormányzati rendelethez
A2: Megnevezés | B2: =CONCATENATE(ALAPADATOK!A3) -> Sajószöged Községi Önkormányzat | C2: 01
A3: Feladat megnevezése | B3: Kötelező feladatok bevételei, kiadása | C3: 02
C4: ='KV_9.1.sz.mell'!C4 -> Forintban!
A5: Száma | B5: Kiemelt előirányzat, előirányzat megnevezése | C5: Előirányzat
B6: A | C6: B
B7: Bevételek
A8: 1. | B8: Önkormányzat működési támogatásai (1.1.+…+.1.6.) | C8: =+C9+C10+C11+C12+C13+C14 -> 98604818
A9: 1.1. | B9: Helyi önkormányzatok működésének általános támogatása | C9: 23631621
A10: 1.2. | B10: Önkormányzatok egyes köznevelési feladatainak támogatása | C10: 48695600
A11: 1.3. | B11: Önkormányzatok szociális és gyermekjóléti, étkeztetési feladatainak támogatása | C11: 23410305
A12: 1.4. | B12: Önkormányzatok kulturális feladatainak támogatása | C12: 2867292
A13: 1.5. | B13: Működési célú kvi támogatások és kiegészítő támogatások
A14: 1.6. | B14: Elszámolásból származó bevételek
A15: 2. | B15: Működési célú támogatások államháztartáson belülről (2.1.+…+.2.5.) | C15: =+C16+C17+C18+C19+C20 -> 11262720
A16: 2.1. | B16: Elvonások és befizetések bevételei
A17: 2.2. | B17: Működési célú garancia- és kezességvállalásból megtérülések
A18: 2.3. | B18: Működési célú visszatérítendő támogatások, kölcsönök visszatérülése
A19: 2.4. | B19: Működési célú visszatérítendő támogatások, kölcsönök igénybevétele
A20: 2.5. | B20: Egyéb működési célú támogatások bevételei | C20: 11262720
A21: 2.6. | B21: 2.5.-ből EU-s támogatás
A22: 3. | B22: Felhalmozási célú támogatások államháztartáson belülről (3.1.+…+3.5.) | C22: =+C23+C24+C25+C26+C27 -> 117478820
A23: 3.1. | B23: Felhalmozási célú önkormányzati támogatások
A24: 3.2. | B24: Felhalmozási célú garancia- és kezességvállalásból megtérülések
A25: 3.3. | B25: Felhalmozási célú visszatérítendő támogatások, kölcsönök visszatérülése
A26: 3.4. | B26: Felhalmozási célú visszatérítendő támogatások, kölcsönök igénybevétele
A27: 3.5. | B27: Egyéb felhalmozási célú támogatások bevételei | C27: 117478820
A28: 3.6. | B28: 3.5.-ből EU-s támogatás | C28: 11478820
A29: 4. | B29: Közhatalmi bevételek (4.1.+...+4.7.) | C29: =SUM(C30:C36) -> 221350000
A30: 4.1. | B30: ='KV_1.1.sz.mell.'!B32 -> Vagyoni tipusú adók | C30: 3100000
A31: 4.2. | B31: ='KV_1.1.sz.mell.'!B33 -> Idegenforgalmi adó
A32: 4.3. | B32: ='KV_1.1.sz.mell.'!B34 -> Iparűzési adó | C32: 110000000
A33: 4.4. | B33: ='KV_1.1.sz.mell.'!B35 -> Talajterhelési díj | C33: 200000
A34: 4.5. | B34: ='KV_1.1.sz.mell.'!B36 -> Gépjárműadó | C34: 8800000
A35: 4.6. | B35: ='KV_1.1.sz.mell.'!B37 -> Egyéb közhatalmi bevételek | C35: 99000000
A36: 4.7. | B36: ='KV_1.1.sz.mell.'!B38 -> Kommunális adó | C36: 250000
A37: 5. | B37: Működési bevételek (5.1.+…+ 5.11.) | C37: =SUM(C38:C48) -> 39976090
A38: 5.1. | B38: Készletértékesítés ellenértéke
A39: 5.2. | B39: Szolgáltatások ellenértéke | C39: 2028000
A40: 5.3. | B40: Közvetített szolgáltatások értéke | C40: 1850000
...

Sheet KV_9.1.2.sz.mell.
C1: =CONCATENATE("9.1.2. melléklet ",ALAPADATOK!A7," ",ALAPADATOK!B7," ",ALAPADATOK!C7," ",ALAPADATOK!D7," ",ALAPADATOK!E7," ",ALAPADATOK!F7," ",ALAPADATOK!G7," ",ALAPADATOK!H7) -> 9.1.2. melléklet a … / 2020 ( … ) önkormányzati rendelethez
A2: Megnevezés | B2: =CONCATENATE(ALAPADATOK!A3) -> Sajószöged Községi Önkormányzat | C2: 01
A3: Feladat megnevezése | B3: Önként vállalt feladatok bevételei, kiadása | C3: 03
C4: ='KV_9.1.1.sz.mell'!C4 -> Forintban!
A5: Száma | B5: Kiemelt előirányzat, előirányzat megnevezése | C5: Előirányzat
B6: A | C6: B
B7: Bevételek
A8: 1. | B8: Önkormányzat működési támogatásai (1.1.+…+.1.6.) | C8: =+C9+C10+C11+C12+C13+C14 -> 0
A9: 1.1. | B9: Helyi önkormányzatok működésének általános támogatása
A10: 1.2. | B10: Önkormányzatok egyes köznevelési feladatainak támogatása
A11: 1.3. | B11: Önkormányzatok szociális és gyermekjóléti, étkeztetési feladatainak támogatása
A12: 1.4. | B12: Önkormányzatok kulturális feladatainak támogatása
A13: 1.5. | B13: Működési célú kvi támogatások és kiegészítő támogatások
A14: 1.6. | B14: Elszámolásból származó bevételek
A15: 2. | B15: Működési célú támogatások államháztartáson belülről (2.1.+…+.2.5.) | C15: =+C16+C17+C18+C19+C20 -> 0
A16: 2.1. | B16: Elvonások és befizetések bevételei
A17: 2.2. | B17: Működési célú garancia- és kezességvállalásból megtérülések
A18: 2.3. | B18: Működési célú visszatérítendő támogatások, kölcsönök visszatérülése
A19: 2.4. | B19: Működési célú visszatérítendő támogatások, kölcsönök igénybevétele
A20: 2.5. | B20: Egyéb működési célú támogatások bevételei
A21: 2.6. | B21: 2.5.-ből EU-s támogatás
A22: 3. | B22: Felhalmozási célú támogatások államháztartáson belülről (3.1.+…+3.5.) | C22: =+C23+C24+C25+C26+C27 -> 0
A23: 3.1. | B23: Felhalmozási célú önkormányzati támogatások
A24: 3.2. | B24: Felhalmozási célú garancia- és kezességvállalásból megtérülések
A25: 3.3. | B25: Felhalmozási célú visszatérítendő támogatások, kölcsönök visszatérülése
A26: 3.4. | B26: Felhalmozási célú visszatérítendő támogatások, kölcsönök igénybevétele
A27: 3.5. | B27: Egyéb felhalmozási célú támogatások bevételei
A28: 3.6. | B28: 3.5.-ből EU-s támogatás
A29: 4. | B29: Közhatalmi bevételek (4.1.+4.2.+4.3.+4.4.) | C29: =SUM(C30:C36) -> 0
A30: 4.1. | B30: ='KV_1.1.sz.mell.'!B32 -> Vagyoni tipusú adók
A31: 4.2. | B31: ='KV_1.1.sz.mell.'!B33 -> Idegenforgalmi adó
A32: 4.3. | B32: ='KV_1.1.sz.mell.'!B34 -> Iparűzési adó
A33: 4.4. | B33: ='KV_1.1.sz.mell.'!B35 -> Talajterhelési díj
A34: 4.5. | B34: ='KV_1.1.sz.mell.'!B36 -> Gépjárműadó
A35: 4.6. | B35: ='KV_1.1.sz.mell.'!B37 -> Egyéb közhatalmi bevételek
A36: 4.7. | B36: ='KV_1.1.sz.mell.'!B38 -> Kommunális adó
A37: 5. | B37: Működési bevételek (5.1.+…+ 5.11.) | C37: =SUM(C38:C48) -> 0
A38: 5.1. | B38: Készletértékesítés ellenértéke
A39: 5.2. | B39: Szolgáltatások ellenértéke
A40: 5.3. | B40: Közvetített szolgáltatások értéke
...

Sheet KV_9.1.3.sz.mell
C1: =CONCATENATE("9.1.3. melléklet ",ALAPADATOK!A7," ",ALAPADATOK!B7," ",ALAPADATOK!C7," ",ALAPADATOK!D7," ",ALAPADATOK!E7," ",ALAPADATOK!F7," ",ALAPADATOK!G7," ",ALAPADATOK!H7) -> 9.1.3. melléklet a … / 2020 ( … ) önkormányzati rendelethez
A2: Megnevezés | B2: =CONCATENATE(ALAPADATOK!A3) -> Sajószöged Községi Önkormányzat | C2: 01
A3: Feladat megnevezése | B3: Államigazgatási feladatok bevételei, kiadása | C3: 04
C4: ='KV_9.1.2.sz.mell.'!C4 -> Forintban!
A5: Száma | B5: Kiemelt előirányzat, előirányzat megnevezése | C5: Előirányzat
B6: A | C6: B
B7: Bevételek
A8: 1. | B8: Önkormányzat működési támogatásai (1.1.+…+.1.6.) | C8: =+C9+C10+C11+C12+C13+C14 -> 0
A9: 1.1. | B9: Helyi önkormányzatok működésének általános támogatása
A10: 1.2. | B10: Önkormányzatok egyes köznevelési feladatainak támogatása
A11: 1.3. | B11: Önkormányzatok szociális és gyermekjóléti, étkeztetési feladatainak támogatása
A12: 1.4. | B12: Önkormányzatok kulturális feladatainak támogatása
A13: 1.5. | B13: Működési célú kvi támogatások és kiegészítő támogatások
A14: 1.6. | B14: Elszámolásból származó bevételek
A15: 2. | B15: Működési célú támogatások államháztartáson belülről (2.1.+…+.2.5.) | C15: =+C16+C17+C18+C19+C20 -> 0
A16: 2.1. | B16: Elvonások és befizetések bevételei
A17: 2.2. | B17: Működési célú garancia- és kezességvállalásból megtérülések
A18: 2.3. | B18: Működési célú visszatérítendő támogatások, kölcsönök visszatérülése
A19: 2.4. | B19: Működési célú visszatérítendő támogatások, kölcsönök igénybevétele
A20: 2.5. | B20: Egyéb működési célú támogatások bevételei
A21: 2.6. | B21: 2.5.-ből EU-s támogatás
A22: 3. | B22: Felhalmozási célú támogatások államháztartáson belülről (3.1.+…+3.5.) | C22: =+C23+C24+C25+C26+C27 -> 0
A23: 3.1. | B23: Felhalmozási célú önkormányzati támogatások
A24: 3.2. | B24: Felhalmozási célú garancia- és kezességvállalásból megtérülések
A25: 3.3. | B25: Felhalmozási célú visszatérítendő támogatások, kölcsönök visszatérülése
A26: 3.4. | B26: Felhalmozási célú visszatérítendő támogatások, kölcsönök igénybevétele
A27: 3.5. | B27: Egyéb felhalmozási célú támogatások bevételei
A28: 3.6. | B28: 3.5.-ből EU-s támogatás
A29: 4. | B29: Közhatalmi bevételek (4.1.+4.2.+4.3.+4.4.) | C29: =SUM(C30:C36) -> 0
A30: 4.1. | B30: ='KV_1.1.sz.mell.'!B32 -> Vagyoni tipusú adók
A31: 4.2. | B31: ='KV_1.1.sz.mell.'!B33 -> Idegenforgalmi adó
A32: 4.3. | B32: ='KV_1.1.sz.mell.'!B34 -> Iparűzési adó
A33: 4.4. | B33: ='KV_1.1.sz.mell.'!B35 -> Talajterhelési díj
A34: 4.5. | B34: ='KV_1.1.sz.mell.'!B36 -> Gépjárműadó
A35: 4.6. | B35: ='KV_1.1.sz.mell.'!B37 -> Egyéb közhatalmi bevételek
A36: 4.7. | B36: ='KV_1.1.sz.mell.'!B38 -> Kommunális adó
A37: 5. | B37: Működési bevételek (5.1.+…+ 5.11.) | C37: =SUM(C38:C48) -> 0
A38: 5.1. | B38: Készletértékesítés ellenértéke
A39: 5.2. | B39: Szolgáltatások ellenértéke
A40: 5.3. | B40: Közvetített szolgáltatások értéke
...

Sheet KV_9.2.sz.mell
C1: =CONCATENATE("9.2. melléklet ",ALAPADATOK!A7," ",ALAPADATOK!B7," ",ALAPADATOK!C7," ",ALAPADATOK!D7," ",ALAPADATOK!E7," ",ALAPADATOK!F7," ",ALAPADATOK!G7," ",ALAPADATOK!H7) -> 9.2. melléklet a … / 2020 ( … ) önkormányzati rendelethez
A2: Költségvetési szerv megnevezése | B2: =CONCATENATE(ALAPADATOK!A11) -> Sajószögedi Polgármesteri Hivatal | C2: 02
A3: Feladat megnevezése | B3: Összes bevétel, kiadás | C3: 01
C4: ='KV_9.1.3.sz.mell'!C4 -> Forintban!
A5: Száma | B5: Kiemelt előirányzat, előirányzat megnevezése | C5: Előirányzat
B6: A | C6: B
B7: Bevételek
