Workbook

Sheet TARTALOMJEGYZÉK
A2: Tartalomjegyzék
A4: Dokumentum neve | B4: A dokumentációs rendszerben található táblázatok listája | C4: Ugrás
A6: KÖLTSÉGVETÉSI RENDLET
A7: Alapadatok | B7: Adatok megadása | C7: =HYPERLINK(SUBSTITUTE(CELL("address",ALAPADATOK!A1),"'",""),SUBSTITUTE(MID(CELL("address",ALAPADATOK!A1),SEARCH("]",CELL("address",ALAPADATOK!A1),1)+1,LEN(CELL("address",ALAPADATOK!A1))-SEARCH("]",CELL("address",ALAPADATOK!A1),1)),"'","")) -> ALAPADATOK!$A$1
A8: Összefüggések | B8: Táblázuatok adatainak összefüggései | C8: =HYPERLINK(SUBSTITUTE(CELL("address",KV_ÖSSZEFÜGGÉSEK!A1),"'",""),SUBSTITUTE(MID(CELL("address",KV_ÖSSZEFÜGGÉSEK!A1),SEARCH("]",CELL("address",KV_ÖSSZEFÜGGÉSEK!A1),1)+1,LEN(CELL("address",KV_ÖSSZEFÜGGÉSEK!A1))-SEARCH("]",CELL("address",KV_ÖSSZEFÜGGÉSEK!A1),1)),"'","")) -> KV_ÖSSZEFÜGGÉSEK!$A$1
A9: 1.1. melléklet | B9: Önkormányzat összevont pénzügyi mérlege összesen | C9: =HYPERLINK(SUBSTITUTE(CELL("address",'KV_1.1.sz.mell.'!A1),"'",""),SUBSTITUTE(MID(CELL("address",'KV_1.1.sz.mell.'!A1),SEARCH("]",CELL("address",'KV_1.1.sz.mell.'!A1),1)+1,LEN(CELL("address",'KV_1.1.sz.mell.'!A1))-SEARCH("]",CELL("address",'KV_1.1.sz.mell.'!A1),1)),"'","")) -> KV_1.1.sz.mell.!$A$1
A10: 1.2. melléklet | B10: Önkormányzat kötelező feladatainak összevont pénzügyi mérlege | C10: =HYPERLINK(SUBSTITUTE(CELL("address",'KV_1.2.sz.mell.'!A1),"'",""),SUBSTITUTE(MID(CELL("address",'KV_1.2.sz.mell.'!A1),SEARCH("]",CELL("address",'KV_1.2.sz.mell.'!A1),1)+1,LEN(CELL("address",'KV_1.2.sz.mell.'!A1))-SEARCH("]",CELL("address",'KV_1.2.sz.mell.'!A1),1)),"'","")) -> KV_1.2.sz.mell.!$A$1
A11: 1.3. melléklet | B11: Önkormányzat önként vállalt feladatainak összevont pénzügyi mérlege | C11: =HYPERLINK(SUBSTITUTE(CELL("address",'KV_1.3.sz.mell.'!A1),"'",""),SUBSTITUTE(MID(CELL("address",'KV_1.3.sz.mell.'!A1),SEARCH("]",CELL("address",'KV_1.3.sz.mell.'!A1),1)+1,LEN(CELL("address",'KV_1.3.sz.mell.'!A1))-SEARCH("]",CELL("address",'KV_1.3.sz.mell.'!A1),1)),"'","")) -> KV_1.3.sz.mell.!$A$1
A12: 1.4. melléklet | B12: Önkormányzat államigazgatási feladatainak összevont pénzügyi mérlege | C12: =HYPERLINK(SUBSTITUTE(CELL("address",'KV_1.4.sz.mell.'!A1),"'",""),SUBSTITUTE(MID(CELL("address",'KV_1.4.sz.mell.'!A1),SEARCH("]",CELL("address",'KV_1.4.sz.mell.'!A1),1)+1,LEN(CELL("address",'KV_1.4.sz.mell.'!A1))-SEARCH("]",CELL("address",'KV_1.4.sz.mell.'!A1),1)),"'","")) -> KV_1.4.sz.mell.!$A$1
A13: 2.1. melléklet | B13: Működési célú bevételek, kiadások mérlege | C13: =HYPERLINK(SUBSTITUTE(CELL("address",'KV_2.1.sz.mell.'!A1),"'",""),SUBSTITUTE(MID(CELL("address",'KV_2.1.sz.mell.'!A1),SEARCH("]",CELL("address",'KV_2.1.sz.mell.'!A1),1)+1,LEN(CELL("address",'KV_2.1.sz.mell.'!A1))-SEARCH("]",CELL("address",'KV_2.1.sz.mell.'!A1),1)),"'","")) -> KV_2.1.sz.mell.!$A$1
A14: 2.2. melléklet | B14: Felhalmozási célú bevételek, kiadások mérlege | C14: =HYPERLINK(SUBSTITUTE(CELL("address",'KV_2.2.sz.mell.'!A1),"'",""),SUBSTITUTE(MID(CELL("address",'KV_2.2.sz.mell.'!A1),SEARCH("]",CELL("address",'KV_2.2.sz.mell.'!A1),1)+1,LEN(CELL("address",'KV_2.2.sz.mell.'!A1))-SEARCH("]",CELL("address",'KV_2.2.sz.mell.'!A1),1)),"'","")) -> KV_2.2.sz.mell.!$A$1
A15: Ellenőrző lista | B15: Ellenőrzés az 1-es és 2.1., 2.2. mellékletek adati esetében | C15: =HYPERLINK(SUBSTITUTE(CELL("address",KV_ELLENŐRZÉS!A1),"'",""),SUBSTITUTE(MID(CELL("address",KV_ELLENŐRZÉS!A1),SEARCH("]",CELL("address",KV_ELLENŐRZÉS!A1),1)+1,LEN(CELL("address",KV_ELLENŐRZÉS!A1))-SEARCH("]",CELL("address",KV_ELLENŐRZÉS!A1),1)),"'","")) -> KV_ELLENŐRZÉS!$A$1
A16: 3. melléklet | B16: Adósságet keletekeztető ügyletek táblázata | C16: =HYPERLINK(SUBSTITUTE(CELL("address",'KV_3.sz.mell.'!A1),"'",""),SUBSTITUTE(MID(CELL("address",'KV_3.sz.mell.'!A1),SEARCH("]",CELL("address",'KV_3.sz.mell.'!A1),1)+1,LEN(CELL("address",'KV_3.sz.mell.'!A1))-SEARCH("]",CELL("address",'KV_3.sz.mell.'!A1),1)),"'","")) -> KV_3.sz.mell.!$A$1
A17: 4. melléklet | B17: Önkormányzat saját bevételeinek bemutatása | C17: =HYPERLINK(SUBSTITUTE(CELL("address",'KV_4.sz.mell.'!A1),"'",""),SUBSTITUTE(MID(CELL("address",'KV_4.sz.mell.'!A1),SEARCH("]",CELL("address",'KV_4.sz.mell.'!A1),1)+1,LEN(CELL("address",'KV_4.sz.mell.'!A1))-SEARCH("]",CELL("address",'KV_4.sz.mell.'!A1),1)),"'","")) -> KV_4.sz.mell.!$A$1
A18: 5. melléklet | B18: Az önkormányzat adósságot keletkeztető fejlesztései céljai | C18: =HYPERLINK(SUBSTITUTE(CELL("address",'KV_5.sz.mell.'!A1),"'",""),SUBSTITUTE(MID(CELL("address",'KV_5.sz.mell.'!A1),SEARCH("]",CELL("address",'KV_5.sz.mell.'!A1),1)+1,LEN(CELL("address",'KV_5.sz.mell.'!A1))-SEARCH("]",CELL("address",'KV_5.sz.mell.'!A1),1)),"'","")) -> KV_5.sz.mell.!$A$1
A19: 6. melléklet | B19: Beruházások előirányzatai | C19: =HYPERLINK(SUBSTITUTE(CELL("address",'KV_6.sz.mell.'!#REF!),"'",""),SUBSTITUTE(MID(CELL("address",'KV_6.sz.mell.'!#REF!),SEARCH("]",CELL("address",'KV_6.sz.mell.'!#REF!),1)+1,LEN(CELL("address",'KV_6.sz.mell.'!#REF!))-SEARCH("]",CELL("address",'KV_6.sz.mell.'!#REF!),1)),"'","")) -> #REF!
A20: 7. melléklet | B20: Felújítások előirányzatai | C20: =HYPERLINK(SUBSTITUTE(CELL("address",'KV_7.sz.mell.'!A1),"'",""),SUBSTITUTE(MID(CELL("address",'KV_7.sz.mell.'!A1),SEARCH("]",CELL("address",'KV_7.sz.mell.'!A1),1)+1,LEN(CELL("address",'KV_7.sz.mell.'!A1))-SEARCH("]",CELL("address",'KV_7.sz.mell.'!A1),1)),"'","")) -> KV_7.sz.mell.!$A$1
A21: 8. melléklet | B21: EU-s projektek táblázatai | C21: =HYPERLINK(SUBSTITUTE(CELL("address",'KV_8.sz.mell.'!A1),"'",""),SUBSTITUTE(MID(CELL("address",'KV_8.sz.mell.'!A1),SEARCH("]",CELL("address",'KV_8.sz.mell.'!A1),1)+1,LEN(CELL("address",'KV_8.sz.mell.'!A1))-SEARCH("]",CELL("address",'KV_8.sz.mell.'!A1),1)),"'","")) -> KV_8.sz.mell.!$A$1
A22: 9.1. melléklet | B22: Önkormányzat bevételei kiadásai (összesen) | C22: =HYPERLINK(SUBSTITUTE(CELL("address",'KV_9.1.sz.mell'!A1),"'",""),SUBSTITUTE(MID(CELL("address",'KV_9.1.sz.mell'!A1),SEARCH("]",CELL("address",'KV_9.1.sz.mell'!A1),1)+1,LEN(CELL("address",'KV_9.1.sz.mell'!A1))-SEARCH("]",CELL("address",'KV_9.1.sz.mell'!A1),1)),"'","")) -> KV_9.1.sz.mell!$A$1
A23: 9.1.1. melléklet | B23: Önkormányzat kötelező feladatai | C23: =HYPERLINK(SUBSTITUTE(CELL("address",'KV_9.1.1.sz.mell'!A1),"'",""),SUBSTITUTE(MID(CELL("address",'KV_9.1.1.sz.mell'!A1),SEARCH("]",CELL("address",'KV_9.1.1.sz.mell'!A1),1)+1,LEN(CELL("address",'KV_9.1.1.sz.mell'!A1))-SEARCH("]",CELL("address",'KV_9.1.1.sz.mell'!A1),1)),"'","")) -> KV_9.1.1.sz.mell!$A$1
A24: 9.1.2. melléklet | B24: Önkormányzat önként vállalt feladatai | C24: =HYPERLINK(SUBSTITUTE(CELL("address",'KV_9.1.2.sz.mell.'!A1),"'",""),SUBSTITUTE(MID(CELL("address",'KV_9.1.2.sz.mell.'!A1),SEARCH("]",CELL("address",'KV_9.1.2.sz.mell.'!A1),1)+1,LEN(CELL("address",'KV_9.1.2.sz.mell.'!A1))-SEARCH("]",CELL("address",'KV_9.1.2.sz.mell.'!A1),1)),"'","")) -> KV_9.1.2.sz.mell.!$A$1
A25: 9.1.3. melléklet | B25: Önkormányzat államigazgatási feladatai | C25: =HYPERLINK(SUBSTITUTE(CELL("address",'KV_9.1.3.sz.mell'!A1),"'",""),SUBSTITUTE(MID(CELL("address",'KV_9.1.3.sz.mell'!A1),SEARCH("]",CELL("address",'KV_9.1.3.sz.mell'!A1),1)+1,LEN(CELL("address",'KV_9.1.3.sz.mell'!A1))-SEARCH("]",CELL("address",'KV_9.1.3.sz.mell'!A1),1)),"'","")) -> KV_9.1.3.sz.mell!$A$1
A26: 9.2. melléklet | B26: Polgármesteri/Közös hivatal költségvetési táblái (9.2.1., 9.2.2., 9.2.3.) | C26: =HYPERLINK(SUBSTITUTE(CELL("address",'KV_9.2.sz.mell'!A1),"'",""),SUBSTITUTE(MID(CELL("address",'KV_9.2.sz.mell'!A1),SEARCH("]",CELL("address",'KV_9.2.sz.mell'!A1),1)+1,LEN(CELL("address",'KV_9.2.sz.mell'!A1))-SEARCH("]",CELL("address",'KV_9.2.sz.mell'!A1),1)),"'","")) -> KV_9.2.sz.mell!$A$1
A27: 9.3. melléklet | B27: =CONCATENATE(ALAPADATOK!B13) -> Sajószögedi Általános Művelődési Központ | C27: =HYPERLINK(SUBSTITUTE(CELL("address",'KV_9.3.sz.mell'!A1),"'",""),SUBSTITUTE(MID(CELL("address",'KV_9.3.sz.mell'!A1),SEARCH("]",CELL("address",'KV_9.3.sz.mell'!A1),1)+1,LEN(CELL("address",'KV_9.3.sz.mell'!A1))-SEARCH("]",CELL("address",'KV_9.3.sz.mell'!A1),1)),"'","")) -> KV_9.3.sz.mell!$A$1
A28: 9.4. melléklet | B28: =CONCATENATE(ALAPADATOK!B15) -> 2 kvi név | C28: =HYPERLINK(SUBSTITUTE(CELL("address",#REF!),"'",""),SUBSTITUTE(MID(CELL("address",#REF!),SEARCH("]",CELL("address",#REF!),1)+1,LEN(CELL("address",#REF!))-SEARCH("]",CELL("address",#REF!),1)),"'","")) -> #REF!
A29: 9.5. melléklet | B29: =CONCATENATE(ALAPADATOK!B17) -> 3 kvi név | C29: =HYPERLINK(SUBSTITUTE(CELL("address",#REF!),"'",""),SUBSTITUTE(MID(CELL("address",#REF!),SEARCH("]",CELL("address",#REF!),1)+1,LEN(CELL("address",#REF!))-SEARCH("]",CELL("address",#REF!),1)),"'","")) -> #REF!
A30: 9.6. melléklet | B30: =CONCATENATE(ALAPADATOK!B19) -> 4 kvi név | C30: =HYPERLINK(SUBSTITUTE(CELL("address",#REF!),"'",""),SUBSTITUTE(MID(CELL("address",#REF!),SEARCH("]",CELL("address",#REF!),1)+1,LEN(CELL("address",#REF!))-SEARCH("]",CELL("address",#REF!),1)),"'","")) -> #REF!
A31: 9.7. melléklet | B31: =CONCATENATE(ALAPADATOK!B21) -> 5 kvi név | C31: =HYPERLINK(SUBSTITUTE(CELL("address",#REF!),"'",""),SUBSTITUTE(MID(CELL("address",#REF!),SEARCH("]",CELL("address",#REF!),1)+1,LEN(CELL("address",#REF!))-SEARCH("]",CELL("address",#REF!),1)),"'","")) -> #REF!
A32: 9.8. melléklet | B32: =CONCATENATE(ALAPADATOK!B23) -> 6 kvi név | C32: =HYPERLINK(SUBSTITUTE(CELL("address",#REF!),"'",""),SUBSTITUTE(MID(CELL("address",#REF!),SEARCH("]",CELL("address",#REF!),1)+1,LEN(CELL("address",#REF!))-SEARCH("]",CELL("address",#REF!),1)),"'","")) -> #REF!
A33: 9.9. melléklet | B33: =CONCATENATE(ALAPADATOK!B25) -> 7 kvi név | C33: =HYPERLINK(SUBSTITUTE(CELL("address",#REF!),"'",""),SUBSTITUTE(MID(CELL("address",#REF!),SEARCH("]",CELL("address",#REF!),1)+1,LEN(CELL("address",#REF!))-SEARCH("]",CELL("address",#REF!),1)),"'","")) -> #REF!
A34: 9.10. melléklet | B34: =CONCATENATE(ALAPADATOK!B27) -> 8 kvi név | C34: =HYPERLINK(SUBSTITUTE(CELL("address",#REF!),"'",""),SUBSTITUTE(MID(CELL("address",#REF!),SEARCH("]",CELL("address",#REF!),1)+1,LEN(CELL("address",#REF!))-SEARCH("]",CELL("address",#REF!),1)),"'","")) -> #REF!
A35: 9.11. melléklet | B35: =CONCATENATE(ALAPADATOK!B29) -> 9 kvi név | C35: =HYPERLINK(SUBSTITUTE(CELL("address",#REF!),"'",""),SUBSTITUTE(MID(CELL("address",#REF!),SEARCH("]",CELL("address",#REF!),1)+1,LEN(CELL("address",#REF!))-SEARCH("]",CELL("address",#REF!),1)),"'","")) -> #REF!
A36: 9.12. melléklet | B36: =CONCATENATE(ALAPADATOK!B31) -> 10 kvi név | C36: =HYPERLINK(SUBSTITUTE(CELL("address",#REF!),"'",""),SUBSTITUTE(MID(CELL("address",#REF!),SEARCH("]",CELL("address",#REF!),1)+1,LEN(CELL("address",#REF!))-SEARCH("]",CELL("address",#REF!),1)),"'","")) -> #REF!
A37: 10. melléklet | B37: Adatszolgáltatás az elismert tartozásállományról | C37: =HYPERLINK(SUBSTITUTE(CELL("address",'KV_10.sz.mell'!A1),"'",""),SUBSTITUTE(MID(CELL("address",'KV_10.sz.mell'!A1),SEARCH("]",CELL("address",'KV_10.sz.mell'!A1),1)+1,LEN(CELL("address",'KV_10.sz.mell'!A1))-SEARCH("]",CELL("address",'KV_10.sz.mell'!A1),1)),"'","")) -> KV_10.sz.mell!$A$1
A38: 1. számú tájékoztató tábla | B38: Tájékoztató a 2017. évi tény, 2018. évi várható és 2019. évi terv adatokról | C38: =HYPERLINK(SUBSTITUTE(CELL("address",'KV_1.sz.tájékoztató_t.'!A1),"'",""),SUBSTITUTE(MID(CELL("address",'KV_1.sz.tájékoztató_t.'!A1),SEARCH("]",CELL("address",'KV_1.sz.tájékoztató_t.'!A1),1)+1,LEN(CELL("address",'KV_1.sz.tájékoztató_t.'!A1))-SEARCH("]",CELL("address",'KV_1.sz.tájékoztató_t.'!A1),1)),"'","")) -> KV_1.sz.tájékoztató_t.!$A$1
A39: 2. számú tájékoztató tábla | B39: Többéves kihatással járó döntések számszerűsítése évenkénti bontásban és összesítve célok szerint | C39: =HYPERLINK(SUBSTITUTE(CELL("address",'KV_2.sz.tájékoztató_t.'!A1),"'",""),SUBSTITUTE(MID(CELL("address",'KV_2.sz.tájékoztató_t.'!A1),SEARCH("]",CELL("address",'KV_2.sz.tájékoztató_t.'!A1),1)+1,LEN(CELL("address",'KV_2.sz.tájékoztató_t.'!A1))-SEARCH("]",CELL("address",'KV_2.sz.tájékoztató_t.'!A1),1)),"'","")) -> KV_2.sz.tájékoztató_t.!$A$1
A40: 3. számú tájékoztató tábla | B40: Az önkormányzat által adott közvetett támogatások (kedvezmények) | C40: =HYPERLINK(SUBSTITUTE(CELL("address",'KV_3.sz.tájékoztató_t.'!A1),"'",""),SUBSTITUTE(MID(CELL("address",'KV_3.sz.tájékoztató_t.'!A1),SEARCH("]",CELL("address",'KV_3.sz.tájékoztató_t.'!A1),1)+1,LEN(CELL("address",'KV_3.sz.tájékoztató_t.'!A1))-SEARCH("]",CELL("address",'KV_3.sz.tájékoztató_t.'!A1),1)),"'","")) -> KV_3.sz.tájékoztató_t.!$A$1
A41: 4. számú tájékoztató tábla | B41: Előirányzat-felhasználási terv 2019. évre | C41: =HYPERLINK(SUBSTITUTE(CELL("address",'KV_4.sz.tájékoztató_t.'!A1),"'",""),SUBSTITUTE(MID(CELL("address",'KV_4.sz.tájékoztató_t.'!A1),SEARCH("]",CELL("address",'KV_4.sz.tájékoztató_t.'!A1),1)+1,LEN(CELL("address",'KV_4.sz.tájékoztató_t.'!A1))-SEARCH("]",CELL("address",'KV_4.sz.tájékoztató_t.'!A1),1)),"'","")) -> KV_4.sz.tájékoztató_t.!$A$1
A42: 5. számú tájékoztató tábla | B42: 2019. évi általános működés és ágazati feladatok támogatásának alakulása jogcímenként | C42: =HYPERLINK(SUBSTITUTE(CELL("address",'KV_5.sz.tájékoztató_t'!A1),"'",""),SUBSTITUTE(MID(CELL("address",'KV_5.sz.tájékoztató_t'!A1),SEARCH("]",CELL("address",'KV_5.sz.tájékoztató_t'!A1),1)+1,LEN(CELL("address",'KV_5.sz.tájékoztató_t'!A1))-SEARCH("]",CELL("address",'KV_5.sz.tájékoztató_t'!A1),1)),"'","")) -> KV_5.sz.tájékoztató_t!$A$1
A43: 6. számú tájékoztató tábla | B43: Kimutatás a 2019. évben céljelleggel juttatott támogatásokról | C43: =HYPERLINK(SUBSTITUTE(CELL("address",'KV_6.sz.tájékoztató_t.'!A1),"'",""),SUBSTITUTE(MID(CELL("address",'KV_6.sz.tájékoztató_t.'!A1),SEARCH("]",CELL("address",'KV_6.sz.tájékoztató_t.'!A1),1)+1,LEN(CELL("address",'KV_6.sz.tájékoztató_t.'!A1))-SEARCH("]",CELL("address",'KV_6.sz.tájékoztató_t.'!A1),1)),"'","")) -> KV_6.sz.tájékoztató_t.!$A$1
...

Sheet ALAPADATOK
A1: ALAPADATOK
A3: Sajószöged Községi Önkormányzat
A6: Előterjesztéskor
A7: a | B7: … | C7: / | D7: 2019 | E7: ( | F7: I.31. | G7: ) | H7: önkormányzati rendelethez
A11: Sajószögedi Polgármesteri Hivatal
A13: 1. költségvetési szerv neve | B13: Sajószögedi Általános Művelődési Központ
A15: 2. költségvetési szerv neve | B15: 2 kvi név
A17: 3. költségvetési szerv neve | B17: 3 kvi név
A19: 4. költségvetési szerv neve | B19: 4 kvi név
A21: 5. költségvetési szerv neve | B21: 5 kvi név
A23: 6. költségvetési szerv neve | B23: 6 kvi név
A25: 7. költségvetési szerv neve | B25: 7 kvi név
A27: 8. költségvetési szerv neve | B27: 8 kvi név
A29: 8. költségvetési szerv neve | B29: 9 kvi név
A31: 10. költségvetési szerv neve | B31: 10 kvi név

Sheet KV_ÖSSZEFÜGGÉSEK
A2: Költségvetési rendelet űrlapjainak összefüggései:
A5: 2019. évi előirányzat BEVÉTELEK
A7: 1.1. sz. melléklet Bevételek táblázat C. oszlop 9 sora = | B7: 2.1. számú melléklet C. oszlop 13. sor + 2.2. számú melléklet C. oszlop 12. sor
A8: 1.1. sz. melléklet Bevételek táblázat C. oszlop 17 sora = | B8: 2.1. számú melléklet C. oszlop 24. sor + 2.2. számú melléklet C. oszlop 25. sor
A9: 1.1. sz. melléklet Bevételek táblázat C. oszlop 18 sora = | B9: 2.1. számú melléklet C. oszlop 25. sor + 2.2. számú melléklet C. oszlop 26. sor
A12: =+CONCATENATE(LEFT(A5,4),". évi előirányzat KIADÁSOK") -> 2019. évi előirányzat KIADÁSOK
A14: 1.1. sz. melléklet Kiadások táblázat C. oszlop 3 sora = | B14: 2.1. számú melléklet E. oszlop 13. sor + 2.2. számú melléklet E. oszlop 12. sor
A15: 1.1. sz. melléklet Kiadások táblázat C. oszlop 10 sora = | B15: 2.1. számú melléklet E. oszlop 24. sor + 2.2. számú melléklet E. oszlop 25. sor
A16: 1.1. sz. melléklet Kiadások táblázat C. oszlop 11 sora = | B16: 2.1. számú melléklet E. oszlop 25. sor + 2.2. számú melléklet E. oszlop 26. sor

Sheet KV_1.1.sz.mell.
B1: =CONCATENATE("1.1. melléklet ",ALAPADATOK!A7," ",ALAPADATOK!B7," ",ALAPADATOK!C7," ",ALAPADATOK!D7," ",ALAPADATOK!E7," ",ALAPADATOK!F7," ",ALAPADATOK!G7," ",ALAPADATOK!H7) -> 1.1. melléklet a … / 2019 ( I.31. ) önkormányzati rendelethez
B2: =CONCATENATE(ALAPADATOK!A3) -> Sajószöged Községi Önkormányzat
B3: 2019. ÉVI KÖLTSÉGVETÉS
B4: ÖSSZEVONT MÉRLEGE
A6: B E V É T E L E K
A7: 1. sz. táblázat | C7: Forintban!
A8: Sor- szám | B8: Bevételi jogcím | C8: =+CONCATENATE(LEFT(KV_ÖSSZEFÜGGÉSEK!A5,4),". évi előirányzat") -> 2019. évi előirányzat
B9: A | C9: B
A10: 1. | B10: Önkormányzat működési támogatásai (1.1.+…+.1.6.) | C10: =+C11+C12+C13+C14+C15+C16 -> 100438942
A11: 1.1. | B11: Helyi önkormányzatok működésének általános támogatása | C11: 25480962
A12: 1.2. | B12: Önkormányzatok egyes köznevelési feladatainak támogatása | C12: 45542150
A13: 1.3. | B13: Önkormányzatok szociális és gyermekjóléti, étkeztetési feladatainak támogatása | C13: 26671550
A14: 1.4. | B14: Önkormányzatok kulturális feladatainak támogatása | C14: 2744280
A15: 1.5. | B15: Működési célú kvi támogatások és kiegészítő támogatások
A16: 1.6. | B16: Elszámolásból származó bevételek
A17: 2. | B17: Működési célú támogatások államháztartáson belülről (2.1.+…+.2.5.) | C17: =+C18+C19+C20+C21+C22 -> 15764112
A18: 2.1. | B18: Elvonások és befizetések bevételei
A19: 2.2. | B19: Működési célú garancia- és kezességvállalásból megtérülések
A20: 2.3. | B20: Működési célú visszatérítendő támogatások, kölcsönök visszatérülése
A21: 2.4. | B21: Működési célú visszatérítendő támogatások, kölcsönök igénybevétele
A22: 2.5. | B22: Egyéb működési célú támogatások bevételei államháztartáson belülről | C22: 15764112
A23: 2.6. | B23: 2.5.-ből EU-s támogatás
A24: 3. | B24: Felhalmozási célú támogatások államháztartáson belülről (3.1.+…+3.5.) | C24: =+C25+C26+C27+C28+C29 -> 117478820
A25: 3.1. | B25: Felhalmozási célú önkormányzati támogatások
A26: 3.2. | B26: Felhalmozási célú garancia- és kezességvállalásból megtérülések
A27: 3.3. | B27: Felhalmozási célú visszatérítendő támogatások, kölcsönök visszatérülése
A28: 3.4. | B28: Felhalmozási célú visszatérítendő támogatások, kölcsönök igénybevétele
A29: 3.5. | B29: Egyéb felhalmozási célú támogatások bevételei | C29: 117478820
A30: 3.6. | B30: 3.5.-ből EU-s támogatás | C30: 117478820
A31: 4. | B31: Közhatalmi bevételek (4.1.+…+4.7.) | C31: =SUM(C32:C38) -> 199620000
A32: 4.1. | B32: Építményadó és telekadó | C32: 101900000
A33: 4.2. | B33: Idegenforgalmi adó
A34: 4.3. | B34: Iparűzési adó | C34: 90000000
A35: 4.4. | B35: Talajterhelési díj | C35: 100000
A36: 4.5. | B36: Gépjárműadó | C36: 7500000
A37: 4.6. | B37: Egyéb áruhasználati és szolgáltatási adók
A38: 4.7. | B38: Egyéb közhatalmi bevételek | C38: 120000
A39: 5. | B39: Működési bevételek (5.1.+…+ 5.11.) | C39: =SUM(C40:C50) -> 30499349
A40: 5.1. | B40: Készletértékesítés ellenértéke
A41: 5.2. | B41: Szolgáltatások ellenértéke | C41: 11553460
...

Sheet KV_1.2.sz.mell.
B1: =CONCATENATE("1.2. melléklet ",ALAPADATOK!A7," ",ALAPADATOK!B7," ",ALAPADATOK!C7," ",ALAPADATOK!D7," ",ALAPADATOK!E7," ",ALAPADATOK!F7," ",ALAPADATOK!G7," ",ALAPADATOK!H7) -> 1.2. melléklet a … / 2019 ( I.31. ) önkormányzati rendelethez
B2: =CONCATENATE(ALAPADATOK!A3) -> Sajószöged Községi Önkormányzat
B3: 2019. ÉVI KÖLTSÉGVETÉS
B4: KÖTELEZŐ FELADATOK MÉRLEGE
A6: B E V É T E L E K
A7: 1. sz. táblázat | C7: =CONCATENATE('KV_1.1.sz.mell.'!C7) -> Forintban!
A8: Sor- szám | B8: Bevételi jogcím | C8: =+CONCATENATE(LEFT(KV_ÖSSZEFÜGGÉSEK!A5,4),". évi előirányzat") -> 2019. évi előirányzat
B9: A | C9: B
A10: 1. | B10: Önkormányzat működési támogatásai (1.1.+…+.1.6.) | C10: =+C11+C12+C13+C14+C15+C16 -> 100438942
A11: 1.1. | B11: Helyi önkormányzatok működésének általános támogatása | C11: 25480962
A12: 1.2. | B12: Önkormányzatok egyes köznevelési feladatainak támogatása | C12: 45542150
A13: 1.3. | B13: Önkormányzatok szociális és gyermekjóléti, étkeztetési feladatainak támogatása | C13: 26671550
A14: 1.4. | B14: Önkormányzatok kulturális feladatainak támogatása | C14: 2744280
A15: 1.5. | B15: Működési célú kvi támogatások és kiegészítő támogatások
A16: 1.6. | B16: Elszámolásból származó bevételek
A17: 2. | B17: Működési célú támogatások államháztartáson belülről (2.1.+…+.2.5.) | C17: =+C18+C19+C20+C21+C22 -> 15764112
A18: 2.1. | B18: Elvonások és befizetések bevételei
A19: 2.2. | B19: Működési célú garancia- és kezességvállalásból megtérülések
A20: 2.3. | B20: Működési célú visszatérítendő támogatások, kölcsönök visszatérülése
A21: 2.4. | B21: Működési célú visszatérítendő támogatások, kölcsönök igénybevétele
A22: 2.5. | B22: Egyéb működési célú támogatások bevételei államháztartáson belülről | C22: 15764112
A23: 2.6. | B23: 2.5.-ből EU-s támogatás
A24: 3. | B24: Felhalmozási célú támogatások államháztartáson belülről (3.1.+…+3.5.) | C24: =+C25+C26+C27+C28+C29 -> 117478820
A25: 3.1. | B25: Felhalmozási célú önkormányzati támogatások
A26: 3.2. | B26: Felhalmozási célú garancia- és kezességvállalásból megtérülések
A27: 3.3. | B27: Felhalmozási célú visszatérítendő támogatások, kölcsönök visszatérülése
A28: 3.4. | B28: Felhalmozási célú visszatérítendő támogatások, kölcsönök igénybevétele
A29: 3.5. | B29: Egyéb felhalmozási célú támogatások bevételei | C29: 117478820
A30: 3.6. | B30: 3.5.-ből EU-s támogatás | C30: 117478820
A31: 4. | B31: Közhatalmi bevételek (4.1.+…+4.7.) | C31: =SUM(C32:C38) -> 199620000
A32: 4.1. | B32: Építményadó és telekadó | C32: 101900000
A33: 4.2. | B33: Idegenforgalmi adó
A34: 4.3. | B34: Iparűzési adó | C34: 90000000
A35: 4.4. | B35: Talajterhelési díj | C35: 100000
A36: 4.5. | B36: Gépjárműadó | C36: 7500000
A37: 4.6. | B37: Egyéb áruhasználati és szolgáltatási adók
A38: 4.7. | B38: Egyéb közhatalmi bevételek | C38: 120000
A39: 5. | B39: Működési bevételek (5.1.+…+ 5.11.) | C39: =SUM(C40:C50) -> 30499349
A40: 5.1. | B40: Készletértékesítés ellenértéke
A41: 5.2. | B41: Szolgáltatások ellenértéke | C41: 11553460
...

Sheet KV_1.3.sz.mell.
B1: =CONCATENATE("1.3. melléklet ",ALAPADATOK!A7," ",ALAPADATOK!B7," ",ALAPADATOK!C7," ",ALAPADATOK!D7," ",ALAPADATOK!E7," ",ALAPADATOK!F7," ",ALAPADATOK!G7," ",ALAPADATOK!H7) -> 1.3. melléklet a … / 2019 ( I.31. ) önkormányzati rendelethez
B2: =CONCATENATE(ALAPADATOK!A3) -> Sajószöged Községi Önkormányzat
B3: 2019. ÉVI KÖLTSÉGVETÉS
B4: ÖNKÉNT VÁLLALT FELADATOK MÉRLEGE
A6: B E V É T E L E K
A7: 1. sz. táblázat | C7: =CONCATENATE('KV_1.1.sz.mell.'!C7) -> Forintban!
A8: Sor- szám | B8: Bevételi jogcím | C8: =+CONCATENATE(LEFT(KV_ÖSSZEFÜGGÉSEK!A5,4),". évi előirányzat") -> 2019. évi előirányzat
B9: A | C9: B
A10: 1. | B10: Önkormányzat működési támogatásai (1.1.+…+.1.6.) | C10: =+C11+C12+C13+C14+C15+C16 -> 0
A11: 1.1. | B11: Helyi önkormányzatok működésének általános támogatása
A12: 1.2. | B12: Önkormányzatok egyes köznevelési feladatainak támogatása
A13: 1.3. | B13: Önkormányzatok szociális és gyermekjóléti, étkeztetési feladatainak támogatása
A14: 1.4. | B14: Önkormányzatok kulturális feladatainak támogatása
A15: 1.5. | B15: Működési célú kvi támogatások és kiegészítő támogatások
A16: 1.6. | B16: Elszámolásból származó bevételek
A17: 2. | B17: Működési célú támogatások államháztartáson belülről (2.1.+…+.2.5.) | C17: =+C18+C19+C20+C21+C22 -> 0
A18: 2.1. | B18: Elvonások és befizetések bevételei
A19: 2.2. | B19: Működési célú garancia- és kezességvállalásból megtérülések
A20: 2.3. | B20: Működési célú visszatérítendő támogatások, kölcsönök visszatérülése
A21: 2.4. | B21: Működési célú visszatérítendő támogatások, kölcsönök igénybevétele
A22: 2.5. | B22: Egyéb működési célú támogatások bevételei államháztartáson belülről
A23: 2.6. | B23: 2.5.-ből EU-s támogatás
A24: 3. | B24: Felhalmozási célú támogatások államháztartáson belülről (3.1.+…+3.5.) | C24: =+C25+C26+C27+C28+C29 -> 0
A25: 3.1. | B25: Felhalmozási célú önkormányzati támogatások
A26: 3.2. | B26: Felhalmozási célú garancia- és kezességvállalásból megtérülések
A27: 3.3. | B27: Felhalmozási célú visszatérítendő támogatások, kölcsönök visszatérülése
A28: 3.4. | B28: Felhalmozási célú visszatérítendő támogatások, kölcsönök igénybevétele
A29: 3.5. | B29: Egyéb felhalmozási célú támogatások bevételei
A30: 3.6. | B30: 3.5.-ből EU-s támogatás
A31: 4. | B31: Közhatalmi bevételek (4.1.+…+4.7.) | C31: =SUM(C32:C38) -> 0
A32: 4.1. | B32: Építményadó
A33: 4.2. | B33: Idegenforgalmi adó
A34: 4.3. | B34: Iparűzési adó
A35: 4.4. | B35: Talajterhelési díj
A36: 4.5. | B36: Gépjárműadó
A37: 4.6. | B37: Egyéb áruhasználati és szolgáltatási adók
A38: 4.7. | B38: Egyéb közhatalmi bevételek
A39: 5. | B39: Működési bevételek (5.1.+…+ 5.11.) | C39: =SUM(C40:C50) -> 0
A40: 5.1. | B40: Készletértékesítés ellenértéke
A41: 5.2. | B41: Szolgáltatások ellenértéke
...

Sheet KV_1.4.sz.mell.
B1: =CONCATENATE("1.4. melléklet ",ALAPADATOK!A7," ",ALAPADATOK!B7," ",ALAPADATOK!C7," ",ALAPADATOK!D7," ",ALAPADATOK!E7," ",ALAPADATOK!F7," ",ALAPADATOK!G7," ",ALAPADATOK!H7) -> 1.4. melléklet a … / 2019 ( I.31. ) önkormányzati rendelethez
B2: =CONCATENATE(ALAPADATOK!A3) -> Sajószöged Községi Önkormányzat
B3: 2019. ÉVI KÖLTSÉGVETÉS
B4: ÁLLAMIGAZGATÁSI FELADATOK MÉRLEGE
A6: B E V É T E L E K
A7: 1. sz. táblázat | C7: =CONCATENATE('KV_1.1.sz.mell.'!C7) -> Forintban!
A8: Sor- szám | B8: Bevételi jogcím | C8: =+CONCATENATE(LEFT(KV_ÖSSZEFÜGGÉSEK!A5,4),". évi előirányzat") -> 2019. évi előirányzat
B9: A | C9: B
A10: 1. | B10: Önkormányzat működési támogatásai (1.1.+…+.1.6.) | C10: =+C11+C12+C13+C14+C15+C16 -> 0
A11: 1.1. | B11: Helyi önkormányzatok működésének általános támogatása
A12: 1.2. | B12: Önkormányzatok egyes köznevelési feladatainak támogatása
A13: 1.3. | B13: Önkormányzatok szociális és gyermekjóléti, étkeztetési feladatainak támogatása
A14: 1.4. | B14: Önkormányzatok kulturális feladatainak támogatása
A15: 1.5. | B15: Működési célú kvi támogatások és kiegészítő támogatások
A16: 1.6. | B16: Elszámolásból származó bevételek
A17: 2. | B17: Működési célú támogatások államháztartáson belülről (2.1.+…+.2.5.) | C17: =+C18+C19+C20+C21+C22 -> 0
A18: 2.1. | B18: Elvonások és befizetések bevételei
A19: 2.2. | B19: Működési célú garancia- és kezességvállalásból megtérülések
A20: 2.3. | B20: Működési célú visszatérítendő támogatások, kölcsönök visszatérülése
A21: 2.4. | B21: Működési célú visszatérítendő támogatások, kölcsönök igénybevétele
A22: 2.5. | B22: Egyéb működési célú támogatások bevételei államháztartáson belülről
A23: 2.6. | B23: 2.5.-ből EU-s támogatás
A24: 3. | B24: Felhalmozási célú támogatások államháztartáson belülről (3.1.+…+3.5.) | C24: =+C25+C26+C27+C28+C29 -> 0
A25: 3.1. | B25: Felhalmozási célú önkormányzati támogatások
A26: 3.2. | B26: Felhalmozási célú garancia- és kezességvállalásból megtérülések
A27: 3.3. | B27: Felhalmozási célú visszatérítendő támogatások, kölcsönök visszatérülése
A28: 3.4. | B28: Felhalmozási célú visszatérítendő támogatások, kölcsönök igénybevétele
A29: 3.5. | B29: Egyéb felhalmozási célú támogatások bevételei
A30: 3.6. | B30: 3.5.-ből EU-s támogatás
A31: 4. | B31: Közhatalmi bevételek (4.1.+…+4.7.) | C31: =SUM(C32:C38) -> 0
A32: 4.1. | B32: Építményadó
A33: 4.2. | B33: Idegenforgalmi adó
A34: 4.3. | B34: Iparűzési adó
A35: 4.4. | B35: Talajterhelési díj
A36: 4.5. | B36: Gépjárműadó
A37: 4.6. | B37: Egyéb áruhasználati és szolgáltatási adók
A38: 4.7. | B38: Egyéb közhatalmi bevételek
A39: 5. | B39: Működési bevételek (5.1.+…+ 5.11.) | C39: =SUM(C40:C50) -> 0
A40: 5.1. | B40: Készletértékesítés ellenértéke
A41: 5.2. | B41: Szolgáltatások ellenértéke
...

Sheet KV_2.1.sz.mell.
B1: I. Működési célú bevételek és kiadások mérlege (Önkormányzati szinten) | F1: =CONCATENATE("2.1. melléklet ",ALAPADATOK!A7," ",ALAPADATOK!B7," ",ALAPADATOK!C7," ",ALAPADATOK!D7," ",ALAPADATOK!E7," ",ALAPADATOK!F7," ",ALAPADATOK!G7," ",ALAPADATOK!H7) -> 2.1. melléklet a … / 2019 ( I.31. ) önkormányzati rendelethez
E2: =CONCATENATE('KV_1.1.sz.mell.'!C7) -> Forintban!
A3: Sor- szám | B3: Bevételek | D3: Kiadások
B4: Megnevezés | C4: =+'KV_1.1.sz.mell.'!C8 -> 2019. évi előirányzat | D4: Megnevezés | E4: =+C4 -> 2019. évi előirányzat
B5: A | C5: B | D5: C | E5: D
A6: 1. | B6: Önkormányzatok működési támogatásai | C6: 100438942 | D6: Személyi juttatások | E6: 140980644
A7: 2. | B7: Működési célú támogatások államháztartáson belülről | C7: 15764112 | D7: Munkaadókat terhelő járulékok és szociális hozzájárulási adó | E7: 28829131
A8: 3. | B8: 2.-ból EU-s támogatás | D8: Dologi kiadások | E8: 222634323
A9: 4. | B9: Közhatalmi bevételek | C9: 199620000 | D9: Ellátottak pénzbeli juttatásai | E9: 13340000
A10: 5. | B10: Működési bevételek | C10: 30499349 | D10: Egyéb működési célú kiadások | E10: 43514675
A11: 6. | B11: Működési célú átvett pénzeszközök | D11: Tartalékok | E11: 3000000
A12: 7. | B12: 6.-ból EU-s támogatás (közvetlen)
A13: 8.
A14: 9.
A15: 10.
A16: 11.
A17: 12.
A18: 13. | B18: Költségvetési bevételek összesen (1.+2.+4.+5.+6.+8.+…+12.) | C18: =C6+C7+C9+C10+C11+C13+C14+C15+C16+C17 -> 346322403 | D18: Költségvetési kiadások összesen (1.+...+12.) | E18: =SUM(E6:E17) -> 452298773
A19: 14. | B19: Hiány belső finanszírozásának bevételei (15.+…+18. ) | C19: =+C20+C21+C22+C23 -> 105976370 | D19: Értékpapír vásárlása, visszavásárlása
A20: 15. | B20: Költségvetési maradvány igénybevétele | C20: 44383618 | D20: Likviditási célú hitelek törlesztése
A21: 16. | B21: Vállalkozási maradvány igénybevétele | D21: Rövid lejáratú hitelek törlesztése
A22: 17. | B22: Betét visszavonásából származó bevétel | D22: Hosszú lejáratú hitelek törlesztése
A23: 18. | B23: Értékpapír értékesítése | C23: 61592752 | D23: Kölcsön törlesztése
A24: 19. | B24: Hiány külső finanszírozásának bevételei (20.+…+21.) | C24: =+C25+C26 -> 0 | D24: Forgatási célú belföldi, külföldi értékpapírok vásárlása
A25: 20. | B25: Likviditási célú hitelek, kölcsönök felvétele | D25: Pénzeszközök lekötött betétként elhelyezése
A26: 21. | B26: Egyéb | D26: Adóssághoz nem kapcsolódó származékos ügyletek
A27: 22. | B27: Váltóbevételek | D27: Váltókiadások
A28: 23. | B28: Adóssághoz nem kapcsolódó származékos ügyletek bevételei
A29: 24. | B29: Működési célú finanszírozási bevételek összesen (14.+19.+22.+23.) | C29: =+C19+C24+C27+C28 -> 105976370 | D29: Működési célú finanszírozási kiadások összesen (14.+...+23.) | E29: =SUM(E19:E28) -> 0
A30: 25. | B30: BEVÉTEL ÖSSZESEN (13.+24.) | C30: =+C18+C29 -> 452298773 | D30: KIADÁSOK ÖSSZESEN (13.+24.) | E30: =+E18+E29 -> 452298773
A31: 26. | B31: Költségvetési hiány: | C31: =IF(C18-E18<0,E18-C18,"-") -> 105976370 | D31: Költségvetési többlet: | E31: =IF(C18-E18>0,C18-E18,"-") -> -
A32: 27. | B32: Bruttó hiány: | C32: =IF(C30-E30<0,E30-C30,"-") -> - | D32: Bruttó többlet: | E32: =IF(C30-E30>0,C30-E30,"-") -> -

Sheet KV_2.2.sz.mell.
B1: II. Felhalmozási célú bevételek és kiadások mérlege (Önkormányzati szinten) | F1: =CONCATENATE("2.2. melléklet ",ALAPADATOK!A7," ",ALAPADATOK!B7," ",ALAPADATOK!C7," ",ALAPADATOK!D7," ",ALAPADATOK!E7," ",ALAPADATOK!F7," ",ALAPADATOK!G7," ",ALAPADATOK!H7) -> 2.2. melléklet a … / 2019 ( I.31. ) önkormányzati rendelethez
E2: =CONCATENATE('KV_1.1.sz.mell.'!C7) -> Forintban!
A3: Sor- szám | B3: Bevételek | D3: Kiadások
B4: Megnevezés | C4: =+'KV_2.1.sz.mell.'!C4 -> 2019. évi előirányzat | D4: Megnevezés | E4: =+'KV_2.1.sz.mell.'!C4 -> 2019. évi előirányzat
B5: A | C5: B | D5: C | E5: D
A6: 1. | B6: Felhalmozási célú támogatások államháztartáson belülről | C6: 117478820 | D6: Beruházások | E6: 278410769
A7: 2. | B7: 1.-ből EU-s támogatás | C7: 117478820 | D7: 1.-ből EU-s forrásból megvalósuló beruházás | E7: 262331299
A8: 3. | B8: Felhalmozási bevételek | D8: Felújítások
A9: 4. | B9: Felhalmozási célú átvett pénzeszközök átvétele | C9: 2025000 | D9: 3.-ból EU-s forrásból megvalósuló felújítás
A10: 5. | B10: 4.-ből EU-s támogatás (közvetlen) | D10: Egyéb felhalmozási kiadások | E10: 9654260
A11: 6. | B11: Egyéb felhalmozási célú bevételek
A12: 7.
A13: 8.
A14: 9.
A15: 10.
A16: 11. | D16: Tartalékok
A17: 12. | B17: Költségvetési bevételek összesen: (1.+3.+4.+6.+…+11.) | C17: =+C6+C8+C9+C11+C12+C13+C14+C15+C16 -> 119503820 | D17: Költségvetési kiadások összesen: (1.+3.+5.+...+11.) | E17: =+E6+E8+E10+E11+E12+E13+E14+E15+E16 -> 288065029
A18: 13. | B18: Hiány belső finanszírozás bevételei ( 14+…+18) | C18: =SUM(C19:C23) -> 168561209 | D18: Értékpapír vásárlása, visszavásárlása
A19: 14. | B19: Költségvetési maradvány igénybevétele | C19: 168561209 | D19: Hitelek törlesztése
A20: 15. | B20: Vállalkozási maradvány igénybevétele | D20: Rövid lejáratú hitelek törlesztése
A21: 16. | B21: Betét visszavonásából származó bevétel | D21: Hosszú lejáratú hitelek törlesztése
A22: 17. | B22: Értékpapír értékesítése | D22: Kölcsön törlesztése
A23: 18. | B23: Egyéb belső finanszírozási bevételek | D23: Befektetési célú belföldi, külföldi értékpapírok vásárlása
A24: 19. | B24: Hiány külső finanszírozásának bevételei (20+…+24 ) | C24: =+C25+C26+C27+C28+C29 -> 0 | D24: Betét elhelyezése
A25: 20. | B25: Hosszú lejáratú hitelek, kölcsönök felvétele | D25: Pénzügyi lízing kiadásai
A26: 21. | B26: Likviditási célú hitelek, kölcsönök felvétele
A27: 22. | B27: Rövid lejáratú hitelek, kölcsönök felvétele
A28: 23. | B28: Értékpapírok kibocsátása
A29: 24. | B29: Egyéb külső finanszírozási bevételek
A30: 25. | B30: Felhalmozási célú finanszírozási bevételek összesen (13.+19.) | C30: =+C18+C24 -> 168561209 | D30: Felhalmozási célú finanszírozási kiadások összesen (13.+...+24.) | E30: =SUM(E18:E29) -> 0
A31: 26. | B31: BEVÉTEL ÖSSZESEN (12+25) | C31: =+C17+C30 -> 288065029 | D31: KIADÁSOK ÖSSZESEN (12+25) | E31: =+E17+E30 -> 288065029
A32: 27. | B32: Költségvetési hiány: | C32: =IF(C17-E17<0,E17-C17,"-") -> 168561209 | D32: Költségvetési többlet: | E32: =IF(C17-E17>0,C17-E17,"-") -> -
A33: 28. | B33: Bruttó hiány: | C33: =IF(C31-E31<0,E31-C31,"-") -> - | D33: Bruttó többlet: | E33: =IF(C31-E31>0,C31-E31,"-") -> -

Sheet KV_ELLENŐRZÉS
A1: Költségvetési rendelet űrlapjainak összefüggései: | E1: ELTÉRÉS
A4: =+KV_ÖSSZEFÜGGÉSEK!A5 -> 2019. évi előirányzat BEVÉTELEK
A6: 1.1. sz. melléklet Bevételek táblázat C. oszlop 9 sora = | B6: =+'KV_1.1.sz.mell.'!C67 -> 465826223 | C6: 2.1. számú melléklet C. oszlop 13. sor + 2.2. számú melléklet C. oszlop 12. sor | D6: =+'KV_2.1.sz.mell.'!C18+'KV_2.2.sz.mell.'!C17 -> 465826223 | E6: =+B6-D6 -> 0
A7: 1.1. sz. melléklet Bevételek táblázat C. oszlop 17 sora = | B7: =+'KV_1.1.sz.mell.'!C91 -> 274537579 | C7: 2.1. számú melléklet C. oszlop 24. sor + 2.2. számú melléklet C. oszlop 25. sor | D7: =+'KV_2.1.sz.mell.'!C29+'KV_2.2.sz.mell.'!C30 -> 274537579 | E7: =+B7-D7 -> 0
A8: 1.1. sz. melléklet Bevételek táblázat C. oszlop 18 sora = | B8: =+'KV_1.1.sz.mell.'!C92 -> 740363802 | C8: 2.1. számú melléklet C. oszlop 25. sor + 2.2. számú melléklet C. oszlop 26. sor | D8: =+'KV_2.1.sz.mell.'!C30+'KV_2.2.sz.mell.'!C31 -> 740363802 | E8: =+B8-D8 -> 0
A11: =+KV_ÖSSZEFÜGGÉSEK!A12 -> 2019. évi előirányzat KIADÁSOK
A13: 1.1. sz. melléklet Kiadások táblázat C. oszlop 3 sora = | B13: =+'KV_1.1.sz.mell.'!C133 -> 740363802 | C13: 2.1. számú melléklet E. oszlop 13. sor + 2.2. számú melléklet E. oszlop 12. sor | D13: =+'KV_2.1.sz.mell.'!E18+'KV_2.2.sz.mell.'!E17 -> 740363802 | E13: =+B13-D13 -> 0
A14: 1.1. sz. melléklet Kiadások táblázat C. oszlop 10 sora = | B14: =+'KV_1.1.sz.mell.'!C158 -> 0 | C14: 2.1. számú melléklet E. oszlop 24. sor + 2.2. számú melléklet E. oszlop 25. sor | D14: =+'KV_2.1.sz.mell.'!E29+'KV_2.2.sz.mell.'!E30 -> 0 | E14: =+B14-D14 -> 0
A15: 1.1. sz. melléklet Kiadások táblázat C. oszlop 11 sora = | B15: =+'KV_1.1.sz.mell.'!C159 -> 740363802 | C15: 2.1. számú melléklet E. oszlop 25. sor + 2.2. számú melléklet E. oszlop 26. sor | D15: =+'KV_2.1.sz.mell.'!E30+'KV_2.2.sz.mell.'!E31 -> 740363802 | E15: =+B15-D15 -> 0

Sheet KV_3.sz.mell.
B2: =CONCATENATE("3. melléklet ",ALAPADATOK!A7," ",ALAPADATOK!B7," ",ALAPADATOK!C7," ",ALAPADATOK!D7," ",ALAPADATOK!E7," ",ALAPADATOK!F7," ",ALAPADATOK!G7," ",ALAPADATOK!H7) -> 3. melléklet a … / 2019 ( I.31. ) önkormányzati rendelethez
A4: Sajószöged Községi Önkormányzat adósságot keletkeztető ügyletekből és kezességvállalásokból fennálló kötelezettségei
E5: ='KV_2.2.sz.mell.'!E2 -> Forintban!
A6: Sor-szám | B6: MEGNEVEZÉS | C6: Évek | F6: Összesen (F=C+D+E)
C7: =+LEFT(KV_ÖSSZEFÜGGÉSEK!A5,4)+1 -> 2020 | D7: =+C7+1 -> 2021 | E7: =+D7+1 -> 2022
B8: A | C8: B | D8: C | E8: D | F8: E
A9: 1. | F9: =SUM(C9:E9) -> 0
A10: 2. | B10: NEMLEGES!!! | F10: =SUM(C10:E10) -> 0
A11: 3. | F11: =SUM(C11:E11) -> 0
A12: 4. | F12: =SUM(C12:E12) -> 0
A13: 5. | F13: =SUM(C13:E13) -> 0
A14: 6. | B14: ÖSSZES KÖTELEZETTSÉG | C14: =SUM(C9:C13) -> 0 | D14: =SUM(D9:D13) -> 0 | E14: =SUM(E9:E13) -> 0 | F14: =SUM(F9:F13) -> 0

Sheet KV_4.sz.mell.
B2: =CONCATENATE("4. melléklet ",ALAPADATOK!A7," ",ALAPADATOK!B7," ",ALAPADATOK!C7," ",ALAPADATOK!D7," ",ALAPADATOK!E7," ",ALAPADATOK!F7," ",ALAPADATOK!G7," ",ALAPADATOK!H7) -> 4. melléklet a … / 2019 ( I.31. ) önkormányzati rendelethez
A4: Sajószöged Községi Önkormányzat saját bevételeinek részletezése az adósságot keletkeztető ügyletből származó tárgyévi fizetési kötelezettség megállapításához
C5: ='KV_2.2.sz.mell.'!E2 -> Forintban!
A6: Sor-szám | B6: Bevételi jogcímek | C6: =+'KV_1.1.sz.mell.'!C8 -> 2019. évi előirányzat
B7: A | C7: B
A8: 1. | B8: Helyi adóból és a települési adóból származó bevétel | C8: 191900000
A9: 2. | B9: Az önkormányzati vagyon és az önkormányzatot megillető vagyoni értékű jog értékesítéséből és hasznosításából származó bevétel
A10: 3. | B10: Osztalék, koncessziós díj és hozambevétel
A11: 4. | B11: Tárgyi eszköz és az immateriális jószág, részvény, részesedés, vállalat értékesítéséből vagy privatizációból származó bevétel
A12: 5. | B12: Bírság-, pótlék- és díjbevétel
A13: 6. | B13: Kezesség-, illetve garanciavállalással kapcsolatos megtérülés
A14: SAJÁT BEVÉTELEK ÖSSZESEN* | C14: =SUM(C8:C13) -> 191900000
A15: *Az adósságot keletkeztető ügyletekhez történő hozzájárulás részletes szabályairól szóló 353/2011. (XII.31.) Korm. Rendelet 2.§ (1) bekezdése alapján.

Sheet KV_5.sz.mell.
B2: =CONCATENATE("5. melléklet ",ALAPADATOK!A7," ",ALAPADATOK!B7," ",ALAPADATOK!C7," ",ALAPADATOK!D7," ",ALAPADATOK!E7," ",ALAPADATOK!F7," ",ALAPADATOK!G7," ",ALAPADATOK!H7) -> 5. melléklet a … / 2019 ( I.31. ) önkormányzati rendelethez
A4: Sajószöged Községi Önkormányzat 2019. évi adósságot keletkeztető fejlesztési céljai
C5: ='KV_4.sz.mell.'!C5 -> Forintban!
A6: Sor-szám | B6: Fejlesztési cél leírása | C6: Fejlesztés várható kiadása
B7: A | C7: B
A8: 1. | B8: NEMLEGES!!!
A9: 2.
A10: 3.
A11: 4. | B11: ADÓSSÁGOT KELETKEZTETŐ ÜGYLETEK VÁRHATÓ EGYÜTTES ÖSSZEGE | C11: =SUM(C8:C10) -> 0

Sheet KV_6.sz.mell.
B1: =CONCATENATE("6. melléklet ",ALAPADATOK!A7," ",ALAPADATOK!B7," ",ALAPADATOK!C7," ",ALAPADATOK!D7," ",ALAPADATOK!E7," ",ALAPADATOK!F7," ",ALAPADATOK!G7," ",ALAPADATOK!H7) -> 6. melléklet a … / 2019 ( I.31. ) önkormányzati rendelethez
A2: Beruházási (felhalmozási) kiadások előirányzata beruházásonként
F3: ='KV_5.sz.mell.'!C5 -> Forintban!
A4: Beruházás megnevezése | B4: Teljes költség | C4: Kivitelezés kezdési és befejezési éve | D4: =+CONCATENATE("Felhasználás ",LEFT(KV_ÖSSZEFÜGGÉSEK!A5,4)-1,". XII. 31-ig") -> Felhasználás 2018. XII. 31-ig | E4: =+'KV_1.1.sz.mell.'!C8 -> 2019. évi előirányzat | F4: =+CONCATENATE(LEFT(KV_ÖSSZEFÜGGÉSEK!A5,4),". utáni szükséglet") -> 2019. utáni szükséglet
A5: A | B5: B | C5: C | D5: D | E5: E | F5: F=(B-D-E)
A6: PH-tárgyi eszköz és informatikai eszköz beszerzés | B6: 1270000 | C6: 2019-2019 | E6: 1270000 | F6: =B6-D6-E6 -> 0
A7: ÁMK-Konyha egyéb tárgyi eszköz beszerzés | B7: 254000 | C7: 2019-2019 | E7: 254000 | F7: =B7-D7-E7 -> 0
A8: ÁMK-Óvoda egyéb tárgyi eszközök beszerzése, pótlása | B8: 3622040 | C8: 2019-2019 | E8: 3622040 | F8: =B8-D8-E8 -> 0
A9: ÁMK-Művelődési Ház egyéb tárgyi eszközök besz. | B9: 381000 | C9: 2019-2019 | E9: 381000 | F9: =B9-D9-E9 -> 0
A10: ÁMK-Könyvtár eszközbeszerzés | B10: 635000 | C10: 2019-2019 | E10: 635000 | F10: =B10-D10-E10 -> 0
A11: ÖNK-háziorvosi szolgálat - eszközpótlás | B11: 1270000 | C11: 2019-2019 | E11: 1270000 | F11: =B11-D11-E11 -> 0
A12: ÖNK- védőnő - eszközbeszerzés/pótlás | B12: 381000 | C12: 2019-2019 | E12: 381000 | F12: =B12-D12-E12 -> 0
A13: Óvoda bővítés, korszerűsítés - TOP | B13: 111971908 | C13: 2017-2019 | D13: 74676516 | E13: 37295392 | F13: =B13-D13-E13 -> 0
A14: Óvoda Eszközbeszerzés - TOP | B14: 10221870 | C14: 2017-2019 | E14: 10221870 | F14: =B14-D14-E14 -> 0
A15: Óvoda udvar | B15: 2919095 | C15: 2018-2019 | D15: 2052955 | E15: 866140 | F15: =B15-D15-E15 -> 0
A16: Iskola korszrűsítés - TOP | B16: 87833480 | C16: 2019-2019 | E16: 87833480 | F16: =B16-D16-E16 -> 0
A17: Bölcsőde építés - TOP | B17: 104613317 | C17: 2019-2019 | E17: 104613317 | F17: =B17-D17-E17 -> 0
A18: Bölcsőde eszközbeszerzés - TOP | B18: 22367240 | C18: 2019-2019 | E18: 22367240 | F18: =B18-D18-E18 -> 0
A19: Térfigyelő kamera beüzemelése | B19: 3942212 | C19: 2014-2019 | D19: 2635952 | E19: 1306260 | F19: =B19-D19-E19 -> 0
A20: Kisértékű tárgyi eszköz közterületekre | B20: 1270000 | C20: 2019-2019 | E20: 1270000 | F20: =B20-D20-E20 -> 0
A21: Orvosi szolgálati lakás | B21: 1724000 | C21: 2019-2019 | E21: 1724000 | F21: =B21-D21-E21 -> 0
A22: Temető járda | B22: 666048 | C22: 2019-2019 | E22: 666048 | F22: =B22-D22-E22 -> 0
A23: Okos zebra | B23: 2433982 | C23: 2019-2019 | E23: 2433982 | F23: =B23-D23-E23 -> 0
A24: ÖSSZESEN: | B24: =SUM(B6:B23) -> 357776192 | D24: =SUM(D6:D21) -> 79365423 | E24: =SUM(E6:E23) -> 278410769 | F24: =SUM(F6:F23) -> 0

Sheet KV_7.sz.mell.
B2: =CONCATENATE("7. melléklet ",ALAPADATOK!A7," ",ALAPADATOK!B7," ",ALAPADATOK!C7," ",ALAPADATOK!D7," ",ALAPADATOK!E7," ",ALAPADATOK!F7," ",ALAPADATOK!G7," ",ALAPADATOK!H7) -> 7. melléklet a … / 2019 ( I.31. ) önkormányzati rendelethez
A4: Felújítási kiadások előirányzata felújításonként
F5: ='KV_6.sz.mell.'!F3 -> Forintban!
A6: Felújítás megnevezése | B6: Teljes költség | C6: Kivitelezés kezdési és befejezési éve | D6: =+'KV_6.sz.mell.'!D4 -> Felhasználás 2018. XII. 31-ig | E6: =+'KV_6.sz.mell.'!E4 -> 2019. évi előirányzat | F6: =+CONCATENATE(LEFT(KV_ÖSSZEFÜGGÉSEK!A5,4),". utáni szükséglet ",CHAR(10),"") -> 2019. utáni szükséglet
A7: A | B7: B | C7: C | D7: D | E7: E | F7: F=(B-D-E)
E8: 0 | F8: =B8-D8-E8 -> 0
F9: =B9-D9-E9 -> 0
F10: =B10-D10-E10 -> 0
F11: =B11-D11-E11 -> 0
F12: =B12-D12-E12 -> 0
F13: =B13-D13-E13 -> 0
F14: =B14-D14-E14 -> 0
F15: =B15-D15-E15 -> 0
F16: =B16-D16-E16 -> 0
F17: =B17-D17-E17 -> 0
F18: =B18-D18-E18 -> 0
F19: =B19-D19-E19 -> 0
F20: =B20-D20-E20 -> 0
... F24: =B24-D24-E24 -> 0
A25: ÖSSZESEN: | B25: =SUM(B8:B24) -> 0 | D25: =SUM(D8:D24) -> 0 | E25: =SUM(E8:E24) -> 0 | F25: =SUM(F8:F24) -> 0

Sheet KV_8.sz.mell.
A1: =CONCATENATE("8. melléklet ",ALAPADATOK!A7," ",ALAPADATOK!B7," ",ALAPADATOK!C7," ",ALAPADATOK!D7," ",ALAPADATOK!E7," ",ALAPADATOK!F7," ",ALAPADATOK!G7," ",ALAPADATOK!H7) -> 8. melléklet a … / 2019 ( I.31. ) önkormányzati rendelethez
A3: Európai uniós támogatással megvalósuló projektek
A4: bevételei, kiadási, hozzájárulások
A5: EU-s projekt neve, azonosítója: | B5: TOP 1.4.1-15-BO1-2016-00080.
A6: Óvoda és konyha fejlesztése Sajószögeden | D6: ='KV_7.sz.mell.'!F5 -> Forintban!
A7: Források | B7: =CONCATENATE((LEFT(KV_ÖSSZEFÜGGÉSEK!A5,4)),".") -> 2019. | C7: =CONCATENATE((LEFT(KV_ÖSSZEFÜGGÉSEK!A5,4))+1,".") -> 2020. | D7: =CONCATENATE((LEFT(KV_ÖSSZEFÜGGÉSEK!A5,4))+1,". után") -> 2020. után | E7: Összesen
A8: Saját erő | B8: 10124323 | E8: =SUM(B8:D8) -> 10124323
A9: - saját erőből központi támogatás | E9: =SUM(B9:D9) -> 0
A10: EU-s forrás | B10: 37392939 | E10: =SUM(B10:D10) -> 37392939
A11: Társfinanszírozás | E11: =SUM(B11:D11) -> 0
A12: Hitel | E12: =SUM(B12:D12) -> 0
A13: Egyéb forrás | E13: =SUM(B13:D13) -> 0
E14: =SUM(B14:D14) -> 0
A15: Források összesen: | B15: =B8+SUM(B10:B14) -> 47517262 | C15: =C8+SUM(C10:C14) -> 0 | D15: =D8+SUM(D10:D14) -> 0 | E15: =E8+SUM(E10:E14) -> 47517262
A17: Kiadások, költségek | B17: =+B7 -> 2019. | C17: =+C7 -> 2020. | D17: =+D7 -> 2020. után | E17: Összesen
A18: Személyi jellegű | E18: =SUM(B18:D18) -> 0
A19: Beruházások, beszerzések | B19: 47517262 | E19: =SUM(B19:D19) -> 47517262
A20: Szolgáltatások igénybe vétele | E20: =SUM(B20:D20) -> 0
A21: Adminisztratív költségek | E21: =SUM(B21:D21) -> 0
E22: =SUM(B22:D22) -> 0
E23: =SUM(B23:D23) -> 0
A24: Összesen: | B24: =SUM(B18:B23) -> 47517262 | C24: =SUM(C18:C23) -> 0 | D24: =SUM(D18:D23) -> 0 | E24: =SUM(E18:E23) -> 47517262
A26: EU-s projekt neve, azonosítója: | B26: TOP 3.2.1-16-BO1-2017-00055
A27: A Kölcsey Ferenc ÁIAMI energetikai korszerűsítése a káros anyag kibocsátás csökkentése céljából | D27: =D6 -> Forintban!
A28: Források | B28: =+B17 -> 2019. | C28: =+C17 -> 2020. | D28: =+D17 -> 2020. után | E28: Összesen
A29: Saját erő | E29: =SUM(B29:D29) -> 0
A30: - saját erőből központi támogatás | E30: =SUM(B30:D30) -> 0
A31: EU-s forrás | B31: 117478820 | E31: =SUM(B31:D31) -> 117478820
A32: Társfinanszírozás | E32: =SUM(B32:D32) -> 0
A33: Hitel | E33: =SUM(B33:D33) -> 0
A34: Egyéb forrás | E34: =SUM(B34:D34) -> 0
E35: =SUM(B35:D35) -> 0
A36: Források összesen: | B36: =B29+SUM(B31:B35) -> 117478820 | C36: =C29+SUM(C31:C35) -> 0 | D36: =D29+SUM(D31:D35) -> 0 | E36: =E29+SUM(E31:E35) -> 117478820
A38: Kiadások, költségek | B38: =+B28 -> 2019. | C38: =+C28 -> 2020. | D38: =+D28 -> 2020. után | E38: Összesen
A39: Személyi jellegű | E39: =SUM(B39:D39) -> 0
A40: Beruházások, beszerzések | B40: 87833480 | E40: =SUM(B40:D40) -> 87833480
A41: Szolgáltatások igénybe vétele | B41: 5930300 | E41: =SUM(B41:D41) -> 5930300
A42: Adminisztratív költségek | E42: =SUM(B42:D42) -> 0
A43: Fordított ÁFA | B43: 23715040 | E43: =SUM(B43:D43) -> 23715040
A44: Összesen: | B44: =SUM(B39:B43) -> 117478820 | C44: =SUM(C39:C43) -> 0 | D44: =SUM(D39:D43) -> 0 | E44: =SUM(E39:E43) -> 117478820
...

Sheet KV_9.1.sz.mell
C1: =CONCATENATE("9.1. melléklet ",ALAPADATOK!A7," ",ALAPADATOK!B7," ",ALAPADATOK!C7," ",ALAPADATOK!D7," ",ALAPADATOK!E7," ",ALAPADATOK!F7," ",ALAPADATOK!G7," ",ALAPADATOK!H7) -> 9.1. melléklet a … / 2019 ( I.31. ) önkormányzati rendelethez
A2: Megnevezés | B2: =CONCATENATE(ALAPADATOK!A3) -> Sajószöged Községi Önkormányzat | C2: 01
A3: Feladat megnevezése | B3: Összes bevétel, kiadás | C3: 01
C4: ='KV_7.sz.mell.'!F5 -> Forintban!
A5: Száma | B5: Kiemelt előirányzat, előirányzat megnevezése | C5: Előirányzat
B6: A | C6: B
B7: Bevételek
A8: 1. | B8: Önkormányzat működési támogatásai (1.1.+…+.1.6.) | C8: =+C9+C10+C11+C12+C13+C14 -> 100438942
A9: 1.1. | B9: Helyi önkormányzatok működésének általános támogatása | C9: 25480962
A10: 1.2. | B10: Önkormányzatok egyes köznevelési feladatainak támogatása | C10: 45542150
A11: 1.3. | B11: Önkormányzatok szociális és gyermekjóléti, étkeztetési feladatainak támogatása | C11: 26671550
A12: 1.4. | B12: Önkormányzatok kulturális feladatainak támogatása | C12: 2744280
A13: 1.5. | B13: Működési célú kvi támogatások és kiegészítő támogatások
A14: 1.6. | B14: Elszámolásból származó bevételek
A15: 2. | B15: Működési célú támogatások államháztartáson belülről (2.1.+…+.2.5.) | C15: =+C16+C17+C18+C19+C20 -> 15764112
A16: 2.1. | B16: Elvonások és befizetések bevételei
A17: 2.2. | B17: Működési célú garancia- és kezességvállalásból megtérülések
A18: 2.3. | B18: Működési célú visszatérítendő támogatások, kölcsönök visszatérülése
A19: 2.4. | B19: Működési célú visszatérítendő támogatások, kölcsönök igénybevétele
A20: 2.5. | B20: Egyéb működési célú támogatások bevételei | C20: 15764112
A21: 2.6. | B21: 2.5.-ből EU-s támogatás
A22: 3. | B22: Felhalmozási célú támogatások államháztartáson belülről (3.1.+…+3.5.) | C22: =+C23+C24+C25+C26+C27 -> 117478820
A23: 3.1. | B23: Felhalmozási célú önkormányzati támogatások
A24: 3.2. | B24: Felhalmozási célú garancia- és kezességvállalásból megtérülések
A25: 3.3. | B25: Felhalmozási célú visszatérítendő támogatások, kölcsönök visszatérülése
A26: 3.4. | B26: Felhalmozási célú visszatérítendő támogatások, kölcsönök igénybevétele
A27: 3.5. | B27: Egyéb felhalmozási célú támogatások bevételei | C27: 117478820
A28: 3.6. | B28: 3.5.-ből EU-s támogatás
A29: 4. | B29: Közhatalmi bevételek (4.1.+...+4.7.) | C29: =SUM(C30:C36) -> 199600000
A30: 4.1. | B30: Építményadó és telekadó | C30: 101900000
A31: 4.2. | B31: Idegenforgalmi adó
A32: 4.3. | B32: Iparűzési adó | C32: 90000000
A33: 4.4. | B33: Talajterhelési díj | C33: 100000
A34: 4.5. | B34: Gépjárműadó | C34: 7500000
A35: 4.6. | B35: Egyéb áruhasználati és szolgáltatási adók
A36: 4.7. | B36: Egyéb közhatalmi bevételek | C36: 100000
A37: 5. | B37: Működési bevételek (5.1.+…+ 5.11.) | C37: =SUM(C38:C48) -> 17398372
A38: 5.1. | B38: Készletértékesítés ellenértéke
A39: 5.2. | B39: Szolgáltatások ellenértéke | C39: 2028000
A40: 5.3. | B40: Közvetített szolgáltatások értéke | C40: 1850000
...

Sheet KV_9.1.1.sz.mell
C1: =CONCATENATE("9.1.1. melléklet ",ALAPADATOK!A7," ",ALAPADATOK!B7," ",ALAPADATOK!C7," ",ALAPADATOK!D7," ",ALAPADATOK!E7," ",ALAPADATOK!F7," ",ALAPADATOK!G7," ",ALAPADATOK!H7) -> 9.1.1. melléklet a … / 2019 ( I.31. ) önkormányzati rendelethez
A2: Megnevezés | B2: =CONCATENATE(ALAPADATOK!A3) -> Sajószöged Községi Önkormányzat | C2: 01
A3: Feladat megnevezése | B3: Kötelező feladatok bevételei, kiadása | C3: 02
C4: ='KV_9.1.sz.mell'!C4 -> Forintban!
A5: Száma | B5: Kiemelt előirányzat, előirányzat megnevezése | C5: Előirányzat
B6: A | C6: B
B7: Bevételek
A8: 1. | B8: Önkormányzat működési támogatásai (1.1.+…+.1.6.) | C8: =+C9+C10+C11+C12+C13+C14 -> 100438942
A9: 1.1. | B9: Helyi önkormányzatok működésének általános támogatása | C9: 25480962
A10: 1.2. | B10: Önkormányzatok egyes köznevelési feladatainak támogatása | C10: 45542150
A11: 1.3. | B11: Önkormányzatok szociális és gyermekjóléti, étkeztetési feladatainak támogatása | C11: 26671550
A12: 1.4. | B12: Önkormányzatok kulturális feladatainak támogatása | C12: 2744280
A13: 1.5. | B13: Működési célú kvi támogatások és kiegészítő támogatások
A14: 1.6. | B14: Elszámolásból származó bevételek
A15: 2. | B15: Működési célú támogatások államháztartáson belülről (2.1.+…+.2.5.) | C15: =+C16+C17+C18+C19+C20 -> 15764112
A16: 2.1. | B16: Elvonások és befizetések bevételei
A17: 2.2. | B17: Működési célú garancia- és kezességvállalásból megtérülések
A18: 2.3. | B18: Működési célú visszatérítendő támogatások, kölcsönök visszatérülése
A19: 2.4. | B19: Működési célú visszatérítendő támogatások, kölcsönök igénybevétele
A20: 2.5. | B20: Egyéb működési célú támogatások bevételei | C20: 15764112
A21: 2.6. | B21: 2.5.-ből EU-s támogatás
A22: 3. | B22: Felhalmozási célú támogatások államháztartáson belülről (3.1.+…+3.5.) | C22: =+C23+C24+C25+C26+C27 -> 117478820
A23: 3.1. | B23: Felhalmozási célú önkormányzati támogatások
A24: 3.2. | B24: Felhalmozási célú garancia- és kezességvállalásból megtérülések
A25: 3.3. | B25: Felhalmozási célú visszatérítendő támogatások, kölcsönök visszatérülése
A26: 3.4. | B26: Felhalmozási célú visszatérítendő támogatások, kölcsönök igénybevétele
A27: 3.5. | B27: Egyéb felhalmozási célú támogatások bevételei | C27: 117478820
A28: 3.6. | B28: 3.5.-ből EU-s támogatás
A29: 4. | B29: Közhatalmi bevételek (4.1.+...+4.7.) | C29: =SUM(C30:C36) -> 199600000
A30: 4.1. | B30: Építményadó és telekadó | C30: 101900000
A31: 4.2. | B31: Idegenforgalmi adó
A32: 4.3. | B32: Iparűzési adó | C32: 90000000
A33: 4.4. | B33: Talajterhelési díj | C33: 100000
A34: 4.5. | B34: Gépjárműadó | C34: 7500000
A35: 4.6. | B35: Egyéb áruhasználati és szolgáltatási adók
A36: 4.7. | B36: Egyéb közhatalmi bevételek | C36: 100000
A37: 5. | B37: Működési bevételek (5.1.+…+ 5.11.) | C37: =SUM(C38:C48) -> 17398372
A38: 5.1. | B38: Készletértékesítés ellenértéke
A39: 5.2. | B39: Szolgáltatások ellenértéke | C39: 2028000
A40: 5.3. | B40: Közvetített szolgáltatások értéke | C40: 1850000
...

Sheet KV_9.1.2.sz.mell.
C1: =CONCATENATE("9.1.2. melléklet ",ALAPADATOK!A7," ",ALAPADATOK!B7," ",ALAPADATOK!C7," ",ALAPADATOK!D7," ",ALAPADATOK!E7," ",ALAPADATOK!F7," ",ALAPADATOK!G7," ",ALAPADATOK!H7) -> 9.1.2. melléklet a … / 2019 ( I.31. ) önkormányzati rendelethez
A2: Megnevezés | B2: =CONCATENATE(ALAPADATOK!A3) -> Sajószöged Községi Önkormányzat | C2: 01
A3: Feladat megnevezése | B3: Önként vállalt feladatok bevételei, kiadása | C3: 03
C4: ='KV_9.1.1.sz.mell'!C4 -> Forintban!
A5: Száma | B5: Kiemelt előirányzat, előirányzat megnevezése | C5: Előirányzat
B6: A | C6: B
B7: Bevételek
A8: 1. | B8: Önkormányzat működési támogatásai (1.1.+…+.1.6.) | C8: =+C9+C10+C11+C12+C13+C14 -> 0
A9: 1.1. | B9: Helyi önkormányzatok működésének általános támogatása
A10: 1.2. | B10: Önkormányzatok egyes köznevelési feladatainak támogatása
A11: 1.3. | B11: Önkormányzatok szociális és gyermekjóléti, étkeztetési feladatainak támogatása
A12: 1.4. | B12: Önkormányzatok kulturális feladatainak támogatása
A13: 1.5. | B13: Működési célú kvi támogatások és kiegészítő támogatások
A14: 1.6. | B14: Elszámolásból származó bevételek
A15: 2. | B15: Működési célú támogatások államháztartáson belülről (2.1.+…+.2.5.) | C15: =+C16+C17+C18+C19+C20 -> 0
A16: 2.1. | B16: Elvonások és befizetések bevételei
A17: 2.2. | B17: Működési célú garancia- és kezességvállalásból megtérülések
A18: 2.3. | B18: Működési célú visszatérítendő támogatások, kölcsönök visszatérülése
A19: 2.4. | B19: Működési célú visszatérítendő támogatások, kölcsönök igénybevétele
A20: 2.5. | B20: Egyéb működési célú támogatások bevételei
A21: 2.6. | B21: 2.5.-ből EU-s támogatás
A22: 3. | B22: Felhalmozási célú támogatások államháztartáson belülről (3.1.+…+3.5.) | C22: =+C23+C24+C25+C26+C27 -> 0
A23: 3.1. | B23: Felhalmozási célú önkormányzati támogatások
A24: 3.2. | B24: Felhalmozási célú garancia- és kezességvállalásból megtérülések
A25: 3.3. | B25: Felhalmozási célú visszatérítendő támogatások, kölcsönök visszatérülése
A26: 3.4. | B26: Felhalmozási célú visszatérítendő támogatások, kölcsönök igénybevétele
A27: 3.5. | B27: Egyéb felhalmozási célú támogatások bevételei
A28: 3.6. | B28: 3.5.-ből EU-s támogatás
A29: 4. | B29: Közhatalmi bevételek (4.1.+4.2.+4.3.+4.4.) | C29: =SUM(C30:C36) -> 0
A30: 4.1. | B30: Építményadó
A31: 4.2. | B31: Idegenforgalmi adó
A32: 4.3. | B32: Iparűzési adó
A33: 4.4. | B33: Talajterhelési díj
A34: 4.5. | B34: Gépjárműadó
A35: 4.6. | B35: Egyéb áruhasználati és szolgáltatási adók
A36: 4.7. | B36: Egyéb közhatalmi bevételek
A37: 5. | B37: Működési bevételek (5.1.+…+ 5.11.) | C37: =SUM(C38:C48) -> 0
A38: 5.1. | B38: Készletértékesítés ellenértéke
A39: 5.2. | B39: Szolgáltatások ellenértéke
A40: 5.3. | B40: Közvetített szolgáltatások értéke
...

Sheet KV_9.1.3.sz.mell
C1: =CONCATENATE("9.1.3. melléklet ",ALAPADATOK!A7," ",ALAPADATOK!B7," ",ALAPADATOK!C7," ",ALAPADATOK!D7," ",ALAPADATOK!E7," ",ALAPADATOK!F7," ",ALAPADATOK!G7," ",ALAPADATOK!H7) -> 9.1.3. melléklet a … / 2019 ( I.31. ) önkormányzati rendelethez
A2: Megnevezés | B2: =CONCATENATE(ALAPADATOK!A3) -> Sajószöged Községi Önkormányzat | C2: 01
A3: Feladat megnevezése | B3: Államigazgatási feladatok bevételei, kiadása | C3: 04
C4: ='KV_9.1.2.sz.mell.'!C4 -> Forintban!
A5: Száma | B5: Kiemelt előirányzat, előirányzat megnevezése | C5: Előirányzat
B6: A | C6: B
B7: Bevételek
A8: 1. | B8: Önkormányzat működési támogatásai (1.1.+…+.1.6.) | C8: =+C9+C10+C11+C12+C13+C14 -> 0
A9: 1.1. | B9: Helyi önkormányzatok működésének általános támogatása
A10: 1.2. | B10: Önkormányzatok egyes köznevelési feladatainak támogatása
A11: 1.3. | B11: Önkormányzatok szociális és gyermekjóléti, étkeztetési feladatainak támogatása
A12: 1.4. | B12: Önkormányzatok kulturális feladatainak támogatása
A13: 1.5. | B13: Működési célú kvi támogatások és kiegészítő támogatások
A14: 1.6. | B14: Elszámolásból származó bevételek
A15: 2. | B15: Működési célú támogatások államháztartáson belülről (2.1.+…+.2.5.) | C15: =+C16+C17+C18+C19+C20 -> 0
A16: 2.1. | B16: Elvonások és befizetések bevételei
A17: 2.2. | B17: Működési célú garancia- és kezességvállalásból megtérülések
A18: 2.3. | B18: Működési célú visszatérítendő támogatások, kölcsönök visszatérülése
A19: 2.4. | B19: Működési célú visszatérítendő támogatások, kölcsönök igénybevétele
A20: 2.5. | B20: Egyéb működési célú támogatások bevételei
A21: 2.6. | B21: 2.5.-ből EU-s támogatás
A22: 3. | B22: Felhalmozási célú támogatások államháztartáson belülről (3.1.+…+3.5.) | C22: =+C23+C24+C25+C26+C27 -> 0
A23: 3.1. | B23: Felhalmozási célú önkormányzati támogatások
A24: 3.2. | B24: Felhalmozási célú garancia- és kezességvállalásból megtérülések
A25: 3.3. | B25: Felhalmozási célú visszatérítendő támogatások, kölcsönök visszatérülése
A26: 3.4. | B26: Felhalmozási célú visszatérítendő támogatások, kölcsönök igénybevétele
A27: 3.5. | B27: Egyéb felhalmozási célú támogatások bevételei
A28: 3.6. | B28: 3.5.-ből EU-s támogatás
A29: 4. | B29: Közhatalmi bevételek (4.1.+4.2.+4.3.+4.4.) | C29: =SUM(C30:C36) -> 0
A30: 4.1. | B30: Építményadó
A31: 4.2. | B31: Idegenforgalmi adó
A32: 4.3. | B32: Iparűzési adó
A33: 4.4. | B33: Talajterhelési díj
A34: 4.5. | B34: Gépjárműadó
A35: 4.6. | B35: Egyéb áruhasználati és szolgáltatási adók
A36: 4.7. | B36: Egyéb közhatalmi bevételek
A37: 5. | B37: Működési bevételek (5.1.+…+ 5.11.) | C37: =SUM(C38:C48) -> 0
A38: 5.1. | B38: Készletértékesítés ellenértéke
A39: 5.2. | B39: Szolgáltatások ellenértéke
A40: 5.3. | B40: Közvetített szolgáltatások értéke
...

Sheet KV_9.2.sz.mell
C1: =CONCATENATE("9.2. melléklet ",ALAPADATOK!A7," ",ALAPADATOK!B7," ",ALAPADATOK!C7," ",ALAPADATOK!D7," ",ALAPADATOK!E7," ",ALAPADATOK!F7," ",ALAPADATOK!G7," ",ALAPADATOK!H7) -> 9.2. melléklet a … / 2019 ( I.31. ) önkormányzati rendelethez
A2: Költségvetési szerv megnevezése | B2: =CONCATENATE(ALAPADATOK!A11) -> Sajószögedi Polgármesteri Hivatal | C2: 02
A3: Feladat megnevezése | B3: Összes bevétel, kiadás | C3: 01
C4: ='KV_9.1.3.sz.mell'!C4 -> Forintban!
A5: Száma | B5: Kiemelt előirányzat, előirányzat megnevezése | C5: Előirányzat
B6: A | C6: B
B7: Bevételek
A8: 1. | B8: Működési bevételek (1.1.+…+1.11.) | C8: =SUM(C9:C19) -> 0
A9: 1.1. | B9: Készletértékesítés ellenértéke
A10: 1.2. | B10: Szolgáltatások ellenértéke
A11: 1.3. | B11: Közvetített szolgáltatások értéke
A12: 1.4. | B12: Tulajdonosi bevételek
A13: 1.5. | B13: Ellátási díjak
A14: 1.6. | B14: Kiszámlázott általános forgalmi adó
A15: 1.7. | B15: Általános forgalmi adó visszatérülése
A16: 1.8. | B16: Kamatbevételek
A17: 1.9. | B17: Egyéb pénzügyi műveletek bevételei
A18: 1.10. | B18: Biztosító által fizetett kártérítés
A19: 1.11. | B19: Egyéb működési bevételek
A20: 2. | B20: Működési célú támogatások államháztartáson belülről (2.1.+…+2.3.) | C20: =SUM(C21:C23) -> 0
A21: 2.1. | B21: Elvonások és befizetések bevételei
A22: 2.2. | B22: Visszatérítendő támogatások, kölcsönök visszatérülése ÁH-n belülről
A23: 2.3. | B23: Egyéb működési célú támogatások bevételei államháztartáson belülről
A24: 2.4. | B24: 2.3-ból EU támogatás
A25: 3. | B25: Közhatalmi bevételek | C25: 20000
A26: 4. | B26: Felhalmozási célú támogatások államháztartáson belülről (4.1.+…+4.3.) | C26: =+C27+C28+C29 -> 0
A27: 4.1. | B27: Felhalmozási célú önkormányzati támogatások
A28: 4.2. | B28: Visszatérítendő támogatások, kölcsönök visszatérülése ÁH-n belülről
A29: 4.3. | B29: Egyéb felhalmozási célú támogatások bevételei államháztartáson belülről
A30: 4.4. | B30: 4.3.-ból EU-s támogatás
A31: 5. | B31: Felhalmozási bevételek (5.1.+…+5.3.) | C31: =+C32+C33+C34 -> 0
A32: 5.1. | B32: Immateriális javak értékesítése
A33: 5.2. | B33: Ingatlanok értékesítése
A34: 5.3. | B34: Egyéb tárgyi eszközök értékesítése
A35: 6. | B35: Működési célú átvett pénzeszközök
A36: 7. | B36: Felhalmozási célú átvett pénzeszközök
A37: 8. | B37: Költségvetési bevételek összesen (1.+…+7.) | C37: =+C8+C20+C25+C26+C31+C35+C36 -> 20000
A38: 9. | B38: Finanszírozási bevételek (9.1.+…+9.3.) | C38: =+C39+C40+C41 -> 72463360
A39: 9.1. | B39: Költségvetési maradvány igénybevétele | C39: 170203
A40: 9.2. | B40: Vállalkozási maradvány igénybevétele
...

Sheet KV_9.2.1.sz.mell
C1: =CONCATENATE("9.2.1. melléklet ",ALAPADATOK!A7," ",ALAPADATOK!B7," ",ALAPADATOK!C7," ",ALAPADATOK!D7," ",ALAPADATOK!E7," ",ALAPADATOK!F7," ",ALAPADATOK!G7," ",ALAPADATOK!H7) -> 9.2.1. melléklet a … / 2019 ( I.31. ) önkormányzati rendelethez
A2: Költségvetési szerv megnevezése | B2: =CONCATENATE(ALAPADATOK!A11) -> Sajószögedi Polgármesteri Hivatal | C2: 02
A3: Feladat megnevezése | B3: Kötelező feladatok bevételei, kiadásai | C3: 02
C4: ='KV_9.2.sz.mell'!C4 -> Forintban!
A5: Száma | B5: Kiemelt előirányzat, előirányzat megnevezése | C5: Előirányzat
B6: A | C6: B
B7: Bevételek
A8: 1. | B8: Működési bevételek (1.1.+…+1.11.) | C8: =SUM(C9:C19) -> 0
