Workbook

Sheet ÖSSZEFÜGGÉSEK
A1: Költségvetési rendelet űrlapjainak összefüggései:
A6: 2018. évi eredeti előirányzat BEVÉTELEK
A9: 1.1. sz. melléklet Bevételek táblázat C. oszlop 9 sora = | B9: 2.1. számú melléklet C. oszlop 13. sor + 2.2. számú melléklet C. oszlop 12. sor
A10: 1.1 sz. melléklet Bevételek táblázat C. oszlop 17 sora = | B10: 2.1. számú melléklet C. oszlop 24. sor + 2.2. számú melléklet C. oszlop 25. sor
A11: 1.1 sz. melléklet Bevételek táblázat C. oszlop 18 sora = | B11: 2.1. számú melléklet C. oszlop 25. sor + 2.2. számú melléklet C. oszlop 26. sor
A13: =+CONCATENATE(LEFT(A6,4),". évi módosított előirányzat BEVÉTELEK") -> 2018. évi módosított előirányzat BEVÉTELEK
A15: 1.1. sz. melléklet Bevételek táblázat D. oszlop 9 sora = | B15: 2.1. számú melléklet D. oszlop 13. sor + 2.2. számú melléklet D. oszlop 12. sor
A16: 1.1. sz. melléklet Bevételek táblázat D. oszlop 17 sora = | B16: 2.1. számú melléklet D. oszlop 24. sor + 2.2. számú melléklet D. oszlop 25. sor
A17: 1.1. sz. melléklet Bevételek táblázat D. oszlop 18 sora = | B17: 2.1. számú melléklet D. oszlop 25. sor + 2.2. számú melléklet D. oszlop 26. sor
A19: =+CONCATENATE(LEFT(A6,4),". I. félévi (I-II. negyedévi) teljesítés BEVÉTELEK") -> 2018. I. félévi (I-II. negyedévi) teljesítés BEVÉTELEK
A21: 1.1. sz. melléklet Bevételek táblázat E. oszlop 9 sora = | B21: 2.1. számú melléklet E. oszlop 13. sor + 2.2. számú melléklet E. oszlop 12. sor
A22: 1.1. sz. melléklet Bevételek táblázat E. oszlop 17 sora = | B22: 2.1. számú melléklet E. oszlop 24. sor + 2.2. számú melléklet E. oszlop 25. sor
A23: 1.1. sz. melléklet Bevételek táblázat E. oszlop 18 sora = | B23: 2.1. számú melléklet E. oszlop 25. sor + 2.2. számú melléklet E. oszlop 26. sor
A25: =+CONCATENATE(LEFT(A6,4),". évi eredeti előirányzat KIADÁSOK") -> 2018. évi eredeti előirányzat KIADÁSOK
A27: 1.1.sz. melléklet Kiadások táblázat C. oszlop 3 sora = | B27: 2.1. számú melléklet G. oszlop 13. sor + 2.2. számú melléklet G. oszlop 12. sor
A28: 1.1. sz. melléklet Kiadások táblázat C. oszlop 10 sora = | B28: 2.1. számú melléklet G. oszlop 24. sor + 2.2. számú melléklet G. oszlop 25. sor
A29: 1.1. sz. melléklet Kiadások táblázat C. oszlop 11 sora = | B29: 2.1. számú melléklet G. oszlop 25. sor + 2.2. számú melléklet G. oszlop 26. sor
A31: =+CONCATENATE(LEFT(A6,4),". évi módosított előirányzat KIADÁSOK") -> 2018. évi módosított előirányzat KIADÁSOK
A33: 1.1. sz. melléklet Kiadások táblázat D. oszlop 3 sora = | B33: 2.1. számú melléklet H. oszlop 13. sor + 2.2. számú melléklet H. oszlop 12. sor
A34: 1.1. sz. melléklet Kiadások táblázat D. oszlop 10 sora = | B34: 2.1. számú melléklet H. oszlop 24. sor + 2.2. számú melléklet H. oszlop 25. sor
A35: 1.1. sz. melléklet Kiadások táblázat D. oszlop 11 sora = | B35: 2.1. számú melléklet H. oszlop 25. sor + 2.2. számú melléklet H. oszlop 26. sor
A37: =+CONCATENATE(LEFT(A6,4),". I. félévi (I-II. negyedévi) teljesítés KIADÁSOK") -> 2018. I. félévi (I-II. negyedévi) teljesítés KIADÁSOK
A39: 1.1. sz. melléklet Kiadások táblázat E. oszlop 3 sora = | B39: 2.1. számú melléklet I. oszlop 13. sor + 2.2. számú melléklet I. oszlop 12. sor
A40: 1.1. sz. melléklet Kiadások táblázat E. oszlop 10 sora = | B40: 2.1. számú melléklet I. oszlop 24. sor + 2.2. számú melléklet I. oszlop 25. sor
A41: 1.1.sz. melléklet Kiadások táblázat E. oszlop 11 sora = | B41: 2.1. számú melléklet I. oszlop 25. sor + 2.2. számú melléklet I. oszlop 26. sor

Sheet 1.1.sz.mell.
A1: B E V É T E L E K
A2: 1. sz. táblázat | E2: Forintban!
A3: Sor- szám | B3: Bevételi jogcím | C3: =+CONCATENATE(LEFT(ÖSSZEFÜGGÉSEK!A6,4),". évi") -> 2018. évi
C4: Eredeti előirányzat | D4: Módosított előirányzat | E4: =+CONCATENATE(LEFT(ÖSSZEFÜGGÉSEK!A6,4),". VI. 30.",CHAR(10),"teljesítés") -> 2018. VI. 30. teljesítés
A5: A | B5: B | C5: C | D5: D | E5: E
A6: 1. | B6: Önkormányzat működési támogatásai (1.1.+…+.1.6.) | C6: =+C7+C8+C9+C10+C11+C12 -> 109212674 | D6: =+D7+D8+D9+D10+D11+D12 -> 0 | E6: =+E7+E8+E9+E10+E11+E12 -> 58133251
A7: 1.1. | B7: Helyi önkormányzatok működésének általános támogatása | C7: 30667486 | E7: 15981863
A8: 1.2. | B8: Önkormányzatok egyes köznevelési feladatainak támogatása | C8: 46445433 | E8: 23430554
A9: 1.3. | B9: Önkormányzatok szociális és gyermekjóléti feladatainak támogatása | C9: 29146265 | E9: 16083375
A10: 1.4. | B10: Önkormányzatok kulturális feladatainak támogatása | C10: 2697090 | E10: 1810816
A11: 1.5. | B11: Működési célú kvi támogatások és kiegészítő támogatások | C11: 256400 | E11: 826643
A12: 1.6. | B12: Elszámolásból származó bevételek
A13: 2. | B13: Működési célú támogatások államháztartáson belülről (2.1.+…+.2.5.) | C13: =+C14+C15+C16+C17+C18 -> 14608139 | D13: =+D14+D15+D16+D17+D18 -> 0 | E13: =+E14+E15+E16+E17+E18 -> 7448655
A14: 2.1. | B14: Elvonások és befizetések bevételei
A15: 2.2. | B15: Működési célú garancia- és kezességvállalásból megtérülések
A16: 2.3. | B16: Működési célú visszatérítendő támogatások, kölcsönök visszatérülése
A17: 2.4. | B17: Működési célú visszatérítendő támogatások, kölcsönök igénybevétele
A18: 2.5. | B18: Egyéb működési célú támogatások bevételei | C18: 14608139 | E18: 7448655
A19: 2.6. | B19: 2.5.-ből EU-s támogatás
A20: 3. | B20: Felhalmozási célú támogatások államháztartáson belülről (3.1.+…+3.5.) | C20: =+C21+C22+C23+C24+C25 -> 300655070 | D20: =+D21+D22+D23+D24+D25 -> 0 | E20: =+E21+E22+E23+E24+E25 -> 165934824
A21: 3.1. | B21: Felhalmozási célú önkormányzati támogatások
A22: 3.2. | B22: Felhalmozási célú garancia- és kezességvállalásból megtérülések
A23: 3.3. | B23: Felhalmozási célú visszatérítendő támogatások, kölcsönök visszatérülése
A24: 3.4. | B24: Felhalmozási célú visszatérítendő támogatások, kölcsönök igénybevétele
A25: 3.5. | B25: Egyéb felhalmozási célú támogatások bevételei | C25: 300655070 | E25: 165934824
A26: 3.6. | B26: 3.5.-ből EU-s támogatás | C26: 300655070 | E26: 165934824
A27: 4. | B27: Közhatalmi bevételek (4.1.+…+4.7.) | C27: =SUM(C28:C34) -> 171810000 | D27: =SUM(D28:D34) -> 0 | E27: =SUM(E28:E34) -> 83728598
A28: 4.1. | B28: Építményadó | C28: 101300000 | D28: =+D29+D30+D31 -> 0 | E28: 51422984
A29: 4.2. | B29: Idegenforgalmi adó
A30: 4.3. | B30: Iparűzési adó | C30: 62350000 | E30: 27249710
A31: 4.4. | B31: Talajterhelési díj | C31: 160000 | E31: 327860
A32: 4.5. | B32: Gépjárműadó | C32: 8000000 | E32: 4602144
A33: 4.6. | B33: Egyéb áruhasználati és szolgáltatási adók
A34: 4.7. | B34: Egyéb közhatalmi bevételek | E34: 125900
A35: 5. | B35: Működési bevételek (5.1.+…+ 5.11.) | C35: =SUM(C36:C46) -> 30883426 | D35: =SUM(D36:D46) -> 0 | E35: =SUM(E36:E46) -> 13139259
A36: 5.1. | B36: Készletértékesítés ellenértéke | C36: 12478020 | E36: 4392636
A37: 5.2. | B37: Szolgáltatások ellenértéke
A38: 5.3. | B38: Közvetített szolgáltatások értéke | C38: 700000 | E38: 691349
A39: 5.4. | B39: Tulajdonosi bevételek | E39: 171000
A40: 5.5. | B40: Ellátási díjak | C40: 11335305 | E40: 4879051
...

Sheet 1.2.sz.mell.
A1: B E V É T E L E K
A2: 1. sz. táblázat | E2: ='1.1.sz.mell.'!E2 -> Forintban!
A3: Sor- szám | B3: Bevételi jogcím | C3: =+CONCATENATE(LEFT(ÖSSZEFÜGGÉSEK!A6,4),". évi") -> 2018. évi
C4: Eredeti előirányzat | D4: Módosított előirányzat | E4: =+CONCATENATE(LEFT(ÖSSZEFÜGGÉSEK!A6,4),". VI. 30.",CHAR(10),"teljesítés") -> 2018. VI. 30. teljesítés
A5: A | B5: B | C5: C | D5: D | E5: E
A6: 1. | B6: Önkormányzat működési támogatásai (1.1.+…+.1.6.) | C6: =+C7+C8+C9+C10+C11+C12 -> 109212674 | D6: =+D7+D8+D9+D10+D11+D12 -> 0 | E6: =+E7+E8+E9+E10+E11+E12 -> 58133251
A7: 1.1. | B7: Helyi önkormányzatok működésének általános támogatása | C7: 30667486 | E7: 15981863
A8: 1.2. | B8: Önkormányzatok egyes köznevelési feladatainak támogatása | C8: 46445433 | E8: 23430554
A9: 1.3. | B9: Önkormányzatok szociális és gyermekjóléti feladatainak támogatása | C9: 29146265 | E9: 16083375
A10: 1.4. | B10: Önkormányzatok kulturális feladatainak támogatása | C10: 2697090 | E10: 1810816
A11: 1.5. | B11: Működési célú kvi támogatások és kiegészítő támogatások | C11: 256400 | E11: 826643
A12: 1.6. | B12: Elszámolásból származó bevételek
A13: 2. | B13: Működési célú támogatások államháztartáson belülről (2.1.+…+.2.5.) | C13: =+C14+C15+C16+C17+C18 -> 14608139 | D13: =+D14+D15+D16+D17+D18 -> 0 | E13: =+E14+E15+E16+E17+E18 -> 7448655
A14: 2.1. | B14: Elvonások és befizetések bevételei
A15: 2.2. | B15: Működési célú garancia- és kezességvállalásból megtérülések
A16: 2.3. | B16: Működési célú visszatérítendő támogatások, kölcsönök visszatérülése
A17: 2.4. | B17: Működési célú visszatérítendő támogatások, kölcsönök igénybevétele
A18: 2.5. | B18: Egyéb működési célú támogatások bevételei | C18: 14608139 | E18: 7448655
A19: 2.6. | B19: 2.5.-ből EU-s támogatás
A20: 3. | B20: Felhalmozási célú támogatások államháztartáson belülről (3.1.+…+3.5.) | C20: =+C21+C22+C23+C24+C25 -> 300655070 | D20: =+D21+D22+D23+D24+D25 -> 0 | E20: =+E21+E22+E23+E24+E25 -> 165934824
A21: 3.1. | B21: Felhalmozási célú önkormányzati támogatások
A22: 3.2. | B22: Felhalmozási célú garancia- és kezességvállalásból megtérülések
A23: 3.3. | B23: Felhalmozási célú visszatérítendő támogatások, kölcsönök visszatérülése
A24: 3.4. | B24: Felhalmozási célú visszatérítendő támogatások, kölcsönök igénybevétele
A25: 3.5. | B25: Egyéb felhalmozási célú támogatások bevételei | C25: 300655070 | E25: 165934824
A26: 3.6. | B26: 3.5.-ből EU-s támogatás | C26: 300655070 | E26: 165934824
A27: 4. | B27: Közhatalmi bevételek (4.1.+…+4.7.) | C27: =SUM(C28:C34) -> 171810000 | D27: =SUM(D28:D34) -> 0 | E27: =SUM(E28:E34) -> 83728598
A28: 4.1. | B28: Építményadó és telekadó | C28: 101300000 | D28: =+D29+D30+D31 -> 0 | E28: 51422984
A29: 4.2. | B29: Idegenforgalmi adó
A30: 4.3. | B30: Iparűzési adó | C30: 62350000 | E30: 27249710
A31: 4.4. | B31: Talajterhelési díj | C31: 160000 | E31: 327860
A32: 4.5. | B32: Gépjárműadó | C32: 8000000 | E32: 4602144
A33: 4.6. | B33: Egyéb áruhasználati és szolgáltatási adók
A34: 4.7. | B34: Egyéb közhatalmi bevételek | E34: 125900
A35: 5. | B35: Működési bevételek (5.1.+…+ 5.11.) | C35: =SUM(C36:C46) -> 30883426 | D35: =SUM(D36:D46) -> 0 | E35: =SUM(E36:E46) -> 13139259
A36: 5.1. | B36: Készletértékesítés ellenértéke | C36: 12478020 | E36: 4392636
A37: 5.2. | B37: Szolgáltatások ellenértéke
A38: 5.3. | B38: Közvetített szolgáltatások értéke | C38: 700000 | E38: 691349
A39: 5.4. | B39: Tulajdonosi bevételek | E39: 171000
A40: 5.5. | B40: Ellátási díjak | C40: 11335305 | E40: 4879051
...

Sheet 1.3.sz.mell.
A1: B E V É T E L E K
A2: 1. sz. táblázat | E2: ='1.2.sz.mell.'!E2 -> Forintban!
A3: Sor- szám | B3: Bevételi jogcím | C3: =+CONCATENATE(LEFT(ÖSSZEFÜGGÉSEK!A6,4),". évi") -> 2018. évi
C4: Eredeti előirányzat | D4: Módosított előirányzat | E4: =+CONCATENATE(LEFT(ÖSSZEFÜGGÉSEK!A6,4),". VI. 30.",CHAR(10),"teljesítés") -> 2018. VI. 30. teljesítés
A5: A | B5: B | C5: C | D5: D | E5: E
A6: 1. | B6: Önkormányzat működési támogatásai (1.1.+…+.1.6.) | C6: =+C7+C8+C9+C10+C11+C12 -> 0 | D6: =+D7+D8+D9+D10+D11+D12 -> 0 | E6: =+E7+E8+E9+E10+E11+E12 -> 0
A7: 1.1. | B7: Helyi önkormányzatok működésének általános támogatása
A8: 1.2. | B8: Önkormányzatok egyes köznevelési feladatainak támogatása
A9: 1.3. | B9: Önkormányzatok szociális és gyermekjóléti feladatainak támogatása
A10: 1.4. | B10: Önkormányzatok kulturális feladatainak támogatása
A11: 1.5. | B11: Működési célú kvi támogatások és kiegészítő támogatások
A12: 1.6. | B12: Elszámolásból származó bevételek
A13: 2. | B13: Működési célú támogatások államháztartáson belülről (2.1.+…+.2.5.) | C13: =+C14+C15+C16+C17+C18 -> 0 | D13: =+D14+D15+D16+D17+D18 -> 0 | E13: =+E14+E15+E16+E17+E18 -> 0
A14: 2.1. | B14: Elvonások és befizetések bevételei
A15: 2.2. | B15: Működési célú garancia- és kezességvállalásból megtérülések
A16: 2.3. | B16: Működési célú visszatérítendő támogatások, kölcsönök visszatérülése
A17: 2.4. | B17: Működési célú visszatérítendő támogatások, kölcsönök igénybevétele
A18: 2.5. | B18: Egyéb működési célú támogatások bevételei
A19: 2.6. | B19: 2.5.-ből EU-s támogatás
A20: 3. | B20: Felhalmozási célú támogatások államháztartáson belülről (3.1.+…+3.5.) | C20: =+C21+C22+C23+C24+C25 -> 0 | D20: =+D21+D22+D23+D24+D25 -> 0 | E20: =+E21+E22+E23+E24+E25 -> 0
A21: 3.1. | B21: Felhalmozási célú önkormányzati támogatások
A22: 3.2. | B22: Felhalmozási célú garancia- és kezességvállalásból megtérülések
A23: 3.3. | B23: Felhalmozási célú visszatérítendő támogatások, kölcsönök visszatérülése
A24: 3.4. | B24: Felhalmozási célú visszatérítendő támogatások, kölcsönök igénybevétele
A25: 3.5. | B25: Egyéb felhalmozási célú támogatások bevételei
A26: 3.6. | B26: 3.5.-ből EU-s támogatás
A27: 4. | B27: Közhatalmi bevételek (4.1.+…+4.7.) | C27: =SUM(C28:C34) -> 0 | D27: =SUM(D28:D34) -> 0 | E27: =SUM(E28:E34) -> 0
A28: 4.1. | B28: Építményadó | C28: =+C29+C30+C31 -> 0 | D28: =+D29+D30+D31 -> 0 | E28: =+E29+E30+E31 -> 0
A29: 4.2. | B29: Idegenforgalmi adó
A30: 4.3. | B30: Iparűzési adó
A31: 4.4. | B31: Talajterhelési díj
A32: 4.5. | B32: Gépjárműadó
A33: 4.6. | B33: Egyéb áruhasználati és szolgáltatási adók
A34: 4.7. | B34: Egyéb közhatalmi bevételek
A35: 5. | B35: Működési bevételek (5.1.+…+ 5.11.) | C35: =SUM(C36:C46) -> 0 | D35: =SUM(D36:D46) -> 0 | E35: =SUM(E36:E46) -> 0
A36: 5.1. | B36: Készletértékesítés ellenértéke
A37: 5.2. | B37: Szolgáltatások ellenértéke
A38: 5.3. | B38: Közvetített szolgáltatások értéke
A39: 5.4. | B39: Tulajdonosi bevételek
A40: 5.5. | B40: Ellátási díjak
...

Sheet 1.4.sz.mell.
A1: B E V É T E L E K
A2: 1. sz. táblázat | E2: ='1.3.sz.mell.'!E2 -> Forintban!
A3: Sor- szám | B3: Bevételi jogcím | C3: =+CONCATENATE(LEFT(ÖSSZEFÜGGÉSEK!A6,4),". évi") -> 2018. évi
C4: Eredeti előirányzat | D4: Módosított előirányzat | E4: =+CONCATENATE(LEFT(ÖSSZEFÜGGÉSEK!A6,4),". VI. 30.",CHAR(10),"teljesítés") -> 2018. VI. 30. teljesítés
A5: A | B5: B | C5: C | D5: D | E5: E
A6: 1. | B6: Önkormányzat működési támogatásai (1.1.+…+.1.6.) | C6: =+C7+C8+C9+C10+C11+C12 -> 0 | D6: =+D7+D8+D9+D10+D11+D12 -> 0 | E6: =+E7+E8+E9+E10+E11+E12 -> 0
A7: 1.1. | B7: Helyi önkormányzatok működésének általános támogatása
A8: 1.2. | B8: Önkormányzatok egyes köznevelési feladatainak támogatása
A9: 1.3. | B9: Önkormányzatok szociális és gyermekjóléti feladatainak támogatása
A10: 1.4. | B10: Önkormányzatok kulturális feladatainak támogatása
A11: 1.5. | B11: Működési célú kvi támogatások és kiegészítő támogatások
A12: 1.6. | B12: Elszámolásból származó bevételek
A13: 2. | B13: Működési célú támogatások államháztartáson belülről (2.1.+…+.2.5.) | C13: =+C14+C15+C16+C17+C18 -> 0 | D13: =+D14+D15+D16+D17+D18 -> 0 | E13: =+E14+E15+E16+E17+E18 -> 0
A14: 2.1. | B14: Elvonások és befizetések bevételei
A15: 2.2. | B15: Működési célú garancia- és kezességvállalásból megtérülések
A16: 2.3. | B16: Működési célú visszatérítendő támogatások, kölcsönök visszatérülése
A17: 2.4. | B17: Működési célú visszatérítendő támogatások, kölcsönök igénybevétele
A18: 2.5. | B18: Egyéb működési célú támogatások bevételei
A19: 2.6. | B19: 2.5.-ből EU-s támogatás
A20: 3. | B20: Felhalmozási célú támogatások államháztartáson belülről (3.1.+…+3.5.) | C20: =+C21+C22+C23+C24+C25 -> 0 | D20: =+D21+D22+D23+D24+D25 -> 0 | E20: =+E21+E22+E23+E24+E25 -> 0
A21: 3.1. | B21: Felhalmozási célú önkormányzati támogatások
A22: 3.2. | B22: Felhalmozási célú garancia- és kezességvállalásból megtérülések
A23: 3.3. | B23: Felhalmozási célú visszatérítendő támogatások, kölcsönök visszatérülése
A24: 3.4. | B24: Felhalmozási célú visszatérítendő támogatások, kölcsönök igénybevétele
A25: 3.5. | B25: Egyéb felhalmozási célú támogatások bevételei
A26: 3.6. | B26: 3.5.-ből EU-s támogatás
A27: 4. | B27: Közhatalmi bevételek (4.1.+…+4.7.) | C27: =SUM(C28:C34) -> 0 | D27: =SUM(D28:D34) -> 0 | E27: =SUM(E28:E34) -> 0
A28: 4.1. | B28: Építményadó | C28: =+C29+C30+C31 -> 0 | D28: =+D29+D30+D31 -> 0 | E28: =+E29+E30+E31 -> 0
A29: 4.2. | B29: Idegenforgalmi adó
A30: 4.3. | B30: Iparűzési adó
A31: 4.4. | B31: Talajterhelési díj
A32: 4.5. | B32: Gépjárműadó
A33: 4.6. | B33: Egyéb áruhasználati és szolgáltatási adók
A34: 4.7. | B34: Egyéb közhatalmi bevételek
A35: 5. | B35: Működési bevételek (5.1.+…+ 5.11.) | C35: =SUM(C36:C46) -> 0 | D35: =SUM(D36:D46) -> 0 | E35: =SUM(E36:E46) -> 0
A36: 5.1. | B36: Készletértékesítés ellenértéke
A37: 5.2. | B37: Szolgáltatások ellenértéke
A38: 5.3. | B38: Közvetített szolgáltatások értéke
A39: 5.4. | B39: Tulajdonosi bevételek
A40: 5.5. | B40: Ellátási díjak
...

Sheet 2.1.sz.mell  
B1: I. Működési célú bevételek és kiadások mérlege (Önkormányzati szinten) | J1: 2.1. melléklet
I2: ='1.4.sz.mell.'!E2 -> Forintban!
A3: Sor- szám | B3: Bevételek | F3: Kiadások
B4: Megnevezés | C4: =+CONCATENATE('1.1.sz.mell.'!C3," eredeti előirányzat") -> 2018. évi eredeti előirányzat | D4: =+CONCATENATE('1.1.sz.mell.'!C3," módosított előirányzat") -> 2018. évi módosított előirányzat | E4: =+CONCATENATE(LEFT('1.1.sz.mell.'!C3,4),". VI. 30. teljesítés") -> 2018. VI. 30. teljesítés | F4: Megnevezés | G4: =+C4 -> 2018. évi eredeti előirányzat | H4: =+D4 -> 2018. évi módosított előirányzat | I4: =+E4 -> 2018. VI. 30. teljesítés
A5: A | B5: B | C5: C | D5: D | E5: E | F5: F | G5: G | H5: H | I5: I
A6: 1. | B6: Önkormányzatok működési támogatásai | C6: 109212674 | E6: 58133251 | F6: Személyi juttatások | G6: 129827432 | I6: 64799763
A7: 2. | B7: Működési célú támogatások államháztartáson belülről | C7: 14608139 | E7: 7448655 | F7: Munkaadókat terhelő járulékok és szociális hozzájárulási adó | G7: 26955245 | I7: 13259798
A8: 3. | B8: 2.-ból EU-s támogatás | F8: Dologi kiadások | G8: 128460894 | I8: 59059546
A9: 4. | B9: Közhatalmi bevételek | C9: 171810000 | E9: 83728598 | F9: Ellátottak pénzbeli juttatásai | G9: 10180000 | I9: 1571677
A10: 5. | B10: Működési bevételek | C10: 30883426 | E10: 13139259 | F10: Egyéb működési célú kiadások | G10: 37010615 | I10: 19881200
A11: 6. | B11: Működési célú átvett pénzeszközök | E11: 90000 | F11: Tartalékok | G11: 2500000
A12: 7. | B12: 6.-ból EU-s támogatás (közvetlen)
A13: 8.
A14: 9.
A15: 10.
A16: 11.
A17: 12.
A18: 13. | B18: Költségvetési bevételek összesen (1.+2.+4.+5.+6.+8.+…+12.) | C18: =SUM(C6:C17) -> 326514239 | D18: =SUM(D6:D17) -> 0 | E18: =SUM(E6:E17) -> 162539763 | F18: Költségvetési kiadások összesen (1.+...+12.) | G18: =SUM(G6:G17) -> 334934186 | H18: =SUM(H6:H17) -> 0 | I18: =SUM(I6:I17) -> 158571984
A19: 14. | B19: Hiány belső finanszírozásának bevételei (15.+…+18. ) | C19: =+C20+C21+C22+C23 -> 193841945 | D19: =+D20+D21+D22+D23 -> 0 | E19: =+E20+E21+E22+E23 -> 195642959 | F19: Értékpapír vásárlása, visszavásárlása
A20: 15. | B20: Költségvetési maradvány igénybevétele | C20: 193841945 | E20: 195642959 | F20: Likviditási célú hitelek törlesztése
A21: 16. | B21: Vállalkozási maradvány igénybevétele | F21: Rövid lejáratú hitelek törlesztése
A22: 17. | B22: Betét visszavonásából származó bevétel | F22: Hosszú lejáratú hitelek törlesztése
A23: 18. | B23: Egyéb belső finanszírozási bevételek | F23: Kölcsön törlesztése
A24: 19. | B24: Hiány külső finanszírozásának bevételei (20.+…+21.) | C24: =+C25+C26 -> 0 | D24: =+D25+D26 -> 0 | E24: =+E25+E26 -> 10019403 | F24: Forgatási célú belföldi, külföldi értékpapírok vásárlása
A25: 20. | B25: Likviditási célú hitelek, kölcsönök felvétele | F25: Pénzeszközök lekötött betétként elhelyezése
A26: 21. | B26: Értékpapírok bevételei | E26: 10019403 | F26: Adóssághoz nem kapcsolódó származékos ügyletek
A27: 22. | B27: Váltóbevételek | F27: Váltókiadások
A28: 23. | B28: Adóssághoz nem kapcsolódó származékos ügyletek bevételei | F28: Államháztartáson belüli megeleőlegezés visszafizetése | I28: 3680858
A29: 24. | B29: Működési célú finanszírozási bevételek összesen (14.+19.+22.+23.) | C29: =+C19+C24+C27+C28 -> 193841945 | D29: =+D19+D24+D27+D28 -> 0 | E29: =+E19+E24+E27+E28 -> 205662362 | F29: Működési célú finanszírozási kiadások összesen (14.+...+23.) | G29: =SUM(G19:G28) -> 0 | H29: =SUM(H19:H28) -> 0 | I29: =SUM(I19:I28) -> 3680858
A30: 25. | B30: BEVÉTEL ÖSSZESEN (13.+24.) | C30: =+C18+C29 -> 520356184 | D30: =+D18+D29 -> 0 | E30: =+E18+E29 -> 368202125 | F30: KIADÁSOK ÖSSZESEN (13.+24.) | G30: =+G18+G29 -> 334934186 | H30: =+H18+H29 -> 0 | I30: =+I18+I29 -> 162252842
A31: 26. | B31: Költségvetési hiány: | C31: =IF(C18-G18<0,G18-C18,"-") -> 8419947 | D31: =IF(D18-H18<0,H18-D18,"-") -> - | E31: =IF(E18-I18<0,I18-E18,"-") -> - | F31: Költségvetési többlet: | G31: =IF(C18-G18>0,C18-G18,"-") -> - | H31: =IF(D18-H18>0,D18-H18,"-") -> - | I31: =IF(E18-I18>0,E18-I18,"-") -> 3967779
A32: 27. | B32: Bruttó hiány: | C32: =IF(C30-G30<0,G30-C30,"-") -> - | D32: =IF(D30-H30<0,H30-D30,"-") -> - | E32: =IF(E30-I30<0,I30-E30,"-") -> - | F32: Bruttó többlet: | G32: =IF(C30-G30>0,C30-G30,"-") -> 185421998 | H32: =IF(D30-H30>0,D30-H30,"-") -> - | I32: =IF(E30-I30>0,E30-I30,"-") -> 205949283

Sheet 2.2.sz.mell  
B1: II. Felhalmozási célú bevételek és kiadások mérlege (Önkormányzati szinten) | J1: 2.2. melléklet
I2: ='2.1.sz.mell '!I2 -> Forintban!
A3: Sor- szám | B3: Bevételek | F3: Kiadások
B4: Megnevezés | C4: =+CONCATENATE('1.1.sz.mell.'!C3," eredeti előirányzat") -> 2018. évi eredeti előirányzat | D4: =+CONCATENATE('1.1.sz.mell.'!C3," módosított előirányzat") -> 2018. évi módosított előirányzat | E4: =+CONCATENATE(LEFT('1.1.sz.mell.'!C3,4),". VI. 30. teljesítés") -> 2018. VI. 30. teljesítés | F4: Megnevezés | G4: =+C4 -> 2018. évi eredeti előirányzat | H4: =+D4 -> 2018. évi módosított előirányzat | I4: =+E4 -> 2018. VI. 30. teljesítés
A5: A | B5: B | C5: C | D5: D | E5: E | F5: F | G5: G | H5: H | I5: I
A6: 1. | B6: Felhalmozási célú támogatások államháztartáson belülről | C6: 300655070 | E6: 165934824 | F6: Beruházások | G6: 481000435 | I6: 61369768
A7: 2. | B7: 1.-ből EU-s támogatás | F7: 1.-ből EU-s forrásból megvalósuló beruházás
A8: 3. | B8: Felhalmozási bevételek | E8: 1328740 | F8: Felújítások | G8: 1270000
A9: 4. | B9: Felhalmozási célú átvett pénzeszközök átvétele | C9: 1663367 | E9: 775998 | F9: 3.-ból EU-s forrásból megvalósuló felújítás
A10: 5. | B10: 4.-ből EU-s támogatás (közvetlen) | F10: Egyéb felhalmozási kiadások | G10: 5500000 | I10: 4200000
A11: 6. | B11: Egyéb felhalmozási célú bevételek
A12: 7.
A13: 8.
A14: 9.
A15: 10.
A16: 11. | F16: Tartalékok
A17: 12. | B17: Költségvetési bevételek összesen: (1.+3.+4.+6.+…+11.) | C17: =+C6+C8+C9+C11+C12+C13+C14+C15+C16 -> 302318437 | D17: =+D6+D8+D9+D11+D12+D13+D14+D15+D16 -> 0 | E17: =+E6+E8+E9+E11+E12+E13+E14+E15+E16 -> 168039562 | F17: Költségvetési kiadások összesen: (1.+3.+5.+...+11.) | G17: =+G6+G8+G10+G11+G12+G13+G14+G15+G16 -> 487770435 | H17: =+H6+H8+H10+H11+H12+H13+H14+H15+H16 -> 0 | I17: =+I6+I8+I10+I11+I12+I13+I14+I15+I16 -> 65569768
A18: 13. | B18: Hiány belső finanszírozás bevételei ( 14+…+18) | C18: =+C19+C20+C21+C22+C23 -> 0 | D18: =+D19+D20+D21+D22+D23 -> 0 | E18: =+E19+E20+E21+E22+E23 -> 0 | F18: Értékpapír vásárlása, visszavásárlása
A19: 14. | B19: Költségvetési maradvány igénybevétele | F19: Hitelek törlesztése
A20: 15. | B20: Vállalkozási maradvány igénybevétele | F20: Rövid lejáratú hitelek törlesztése
A21: 16. | B21: Betét visszavonásából származó bevétel | F21: Hosszú lejáratú hitelek törlesztése
A22: 17. | B22: Értékpapír értékesítése | F22: Kölcsön törlesztése
A23: 18. | B23: Egyéb belső finanszírozási bevételek | F23: Befektetési célú belföldi, külföldi értékpapírok vásárlása
A24: 19. | B24: Hiány külső finanszírozásának bevételei (20+…+24 ) | C24: =+C25+C26+C27+C28+C29 -> 0 | D24: =+D25+D26+D27+D28+D29 -> 0 | E24: =+E25+E26+E27+E28+E29 -> 0 | F24: Betét elhelyezése
A25: 20. | B25: Hosszú lejáratú hitelek, kölcsönök felvétele | F25: Pénzügyi lízing kiadásai
A26: 21. | B26: Likviditási célú hitelek, kölcsönök felvétele
A27: 22. | B27: Rövid lejáratú hitelek, kölcsönök felvétele
A28: 23. | B28: Értékpapírok kibocsátása
A29: 24. | B29: Egyéb külső finanszírozási bevételek
A30: 25. | B30: Felhalmozási célú finanszírozási bevételek összesen (13.+19.) | C30: =+C18+C24 -> 0 | D30: =+D18+D24 -> 0 | E30: =+E18+E24 -> 0 | F30: Felhalmozási célú finanszírozási kiadások összesen (13.+...+24.) | G30: =SUM(G18:G29) -> 0 | H30: =SUM(H18:H29) -> 0 | I30: =SUM(I18:I29) -> 0
A31: 26. | B31: BEVÉTEL ÖSSZESEN (12+25) | C31: =+C17+C30 -> 302318437 | D31: =+D17+D30 -> 0 | E31: =+E17+E30 -> 168039562 | F31: KIADÁSOK ÖSSZESEN (12+25) | G31: =+G17+G30 -> 487770435 | H31: =+H17+H30 -> 0 | I31: =+I17+I30 -> 65569768
A32: 27. | B32: Költségvetési hiány: | C32: =IF(C17-G17<0,G17-C17,"-") -> 185451998 | D32: =IF(D17-H17<0,H17-D17,"-") -> - | E32: =IF(E17-I17<0,I17-E17,"-") -> - | F32: Költségvetési többlet: | G32: =IF(C17-G17>0,C17-G17,"-") -> - | H32: =IF(D17-H17>0,D17-H17,"-") -> - | I32: =IF(E17-I17>0,E17-I17,"-") -> 102469794
A33: 28. | B33: Bruttó hiány: | C33: =IF(C31-G31<0,G31-C31,"-") -> 185451998 | D33: =IF(D31-H31<0,H31-D31,"-") -> - | E33: =IF(E31-I31<0,I31-E31,"-") -> - | F33: Bruttó többlet: | G33: =IF(C31-G31>0,C31-G31,"-") -> - | H33: =IF(D31-H31>0,D31-H31,"-") -> - | I33: =IF(E31-I31>0,E31-I31,"-") -> 102469794

Sheet ELLENŐRZÉS-1.sz.2.a.sz.2.b.sz.
A1: Költségvetési rendelet űrlapjainak összefüggései: | E1: ELTÉRÉS
A4: =+ÖSSZEFÜGGÉSEK!A6 -> 2018. évi eredeti előirányzat BEVÉTELEK
A6: 1.1. sz. melléklet Bevételek táblázat C. oszlop 9 sora = | B6: =+'1.1.sz.mell.'!C63 -> 628832676 | C6: 2.1. számú melléklet C. oszlop 13. sor + 2.2. számú melléklet C. oszlop 12. sor | D6: =+'2.1.sz.mell '!C18+'2.2.sz.mell '!C17 -> 628832676 | E6: =+B6-D6 -> 0
A7: 1.1. sz. melléklet Bevételek táblázat C. oszlop 17 sora = | B7: =+'1.1.sz.mell.'!C87 -> 193841945 | C7: 2.1. számú melléklet C. oszlop 24. sor + 2.2. számú melléklet C. oszlop 25. sor | D7: =+'2.1.sz.mell '!C29+'2.2.sz.mell '!C30 -> 193841945 | E7: =+B7-D7 -> 0
A8: 1.1. sz. melléklet Bevételek táblázat C. oszlop 18 sora = | B8: =+'1.1.sz.mell.'!C88 -> 822674621 | C8: 2.1. számú melléklet C. oszlop 25. sor + 2.2. számú melléklet C. oszlop 26. sor | D8: =+'2.1.sz.mell '!C30+'2.2.sz.mell '!C31 -> 822674621 | E8: =+B8-D8 -> 0
A10: =+ÖSSZEFÜGGÉSEK!A13 -> 2018. évi módosított előirányzat BEVÉTELEK
A12: 1.1. sz. melléklet Bevételek táblázat D. oszlop 9 sora = | B12: =+'1.1.sz.mell.'!D63 -> 0 | C12: 2.1. számú melléklet D. oszlop 13. sor + 2.2. számú melléklet D. oszlop 12. sor | D12: =+'2.1.sz.mell '!D18+'2.2.sz.mell '!D17 -> 0 | E12: =+B12-D12 -> 0
A13: 1.1. sz. melléklet Bevételek táblázat D. oszlop 17 sora = | B13: =+'1.1.sz.mell.'!D87 -> 0 | C13: 2.1. számú melléklet D. oszlop 24. sor + 2.2. számú melléklet D. oszlop 25. sor | D13: =+'2.1.sz.mell '!D29+'2.2.sz.mell '!D30 -> 0 | E13: =+B13-D13 -> 0
A14: 1.1. sz. melléklet Bevételek táblázat D. oszlop 18 sora = | B14: =+'1.1.sz.mell.'!D88 -> 0 | C14: 2.1. számú melléklet D. oszlop 25. sor + 2.2. számú melléklet D. oszlop 26. sor | D14: =+'2.1.sz.mell '!D30+'2.2.sz.mell '!D31 -> 0 | E14: =+B14-D14 -> 0
A16: =+ÖSSZEFÜGGÉSEK!A19 -> 2018. I. félévi (I-II. negyedévi) teljesítés BEVÉTELEK
A18: 1.1. sz. melléklet Bevételek táblázat E. oszlop 9 sora = | B18: =+'1.1.sz.mell.'!E63 -> 330579325 | C18: 2.1. számú melléklet E. oszlop 13. sor + 2.2. számú melléklet E. oszlop 12. sor | D18: =+'2.1.sz.mell '!E18+'2.2.sz.mell '!E17 -> 330579325 | E18: =+B18-D18 -> 0
A19: 1.1. sz. melléklet Bevételek táblázat E. oszlop 17 sora = | B19: =+'1.1.sz.mell.'!E87 -> 205662362 | C19: 2.1. számú melléklet E. oszlop 24. sor + 2.2. számú melléklet E. oszlop 25. sor | D19: =+'2.1.sz.mell '!E29+'2.2.sz.mell '!E30 -> 205662362 | E19: =+B19-D19 -> 0
A20: 1.1. sz. melléklet Bevételek táblázat E. oszlop 18 sora = | B20: =+'1.1.sz.mell.'!E88 -> 536241687 | C20: 2.1. számú melléklet E. oszlop 25. sor + 2.2. számú melléklet E. oszlop 26. sor | D20: =+'2.1.sz.mell '!E30+'2.2.sz.mell '!E31 -> 536241687 | E20: =+B20-D20 -> 0
A22: =+ÖSSZEFÜGGÉSEK!A25 -> 2018. évi eredeti előirányzat KIADÁSOK
A24: 1.1. sz. melléklet Kiadások táblázat C. oszlop 3 sora = | B24: =+'1.1.sz.mell.'!C130 -> 822704621 | C24: 2.1. számú melléklet G. oszlop 13. sor + 2.2. számú melléklet G. oszlop 12. sor | D24: =+'2.1.sz.mell '!G18+'2.2.sz.mell '!G17 -> 822704621 | E24: =+B24-D24 -> 0
A25: 1.1. sz. melléklet Kiadások táblázat C. oszlop 10 sora = | B25: =+'1.1.sz.mell.'!C155 -> 0 | C25: 2.1. számú melléklet G. oszlop 24. sor + 2.2. számú melléklet G. oszlop 25. sor | D25: =+'2.1.sz.mell '!G29+'2.2.sz.mell '!G30 -> 0 | E25: =+B25-D25 -> 0
A26: 1.1. sz. melléklet Kiadások táblázat C. oszlop 11 sora = | B26: =+'1.1.sz.mell.'!C156 -> 822704621 | C26: 2.1. számú melléklet G. oszlop 25. sor + 2.2. számú melléklet G. oszlop 26. sor | D26: =+'2.1.sz.mell '!G30+'2.2.sz.mell '!G31 -> 822704621 | E26: =+B26-D26 -> 0
A28: =+ÖSSZEFÜGGÉSEK!A31 -> 2018. évi módosított előirányzat KIADÁSOK
A30: 1.1. sz. melléklet Kiadások táblázat D. oszlop 3 sora = | B30: =+'1.1.sz.mell.'!D130 -> 0 | C30: 2.1. számú melléklet H. oszlop 13. sor + 2.2. számú melléklet H. oszlop 12. sor | D30: =+'2.1.sz.mell '!H18+'2.2.sz.mell '!H17 -> 0 | E30: =+B30-D30 -> 0
A31: 1.1. sz. melléklet Kiadások táblázat D. oszlop 10 sora = | B31: =+'1.1.sz.mell.'!D155 -> 0 | C31: 2.1. számú melléklet H. oszlop 24. sor + 2.2. számú melléklet H. oszlop 25. sor | D31: =+'2.1.sz.mell '!H29+'2.2.sz.mell '!H30 -> 0 | E31: =+B31-D31 -> 0
A32: 1.1. sz. melléklet Kiadások táblázat D. oszlop 11 sora = | B32: =+'1.1.sz.mell.'!D156 -> 0 | C32: 2.1. számú melléklet H. oszlop 25. sor + 2.2. számú melléklet H. oszlop 26. sor | D32: =+'2.1.sz.mell '!H30+'2.2.sz.mell '!H31 -> 0 | E32: =+B32-D32 -> 0
A34: =+ÖSSZEFÜGGÉSEK!A37 -> 2018. I. félévi (I-II. negyedévi) teljesítés KIADÁSOK
A36: 1.1. sz. melléklet Kiadások táblázat E. oszlop 3 sora = | B36: =+'1.1.sz.mell.'!E130 -> 224141752 | C36: 2.1. számú melléklet I. oszlop 13. sor + 2.2. számú melléklet I. oszlop 12. sor | D36: =+'2.1.sz.mell '!I18+'2.2.sz.mell '!I17 -> 224141752 | E36: =+B36-D36 -> 0
A37: 1.1. sz. melléklet Kiadások táblázat E. oszlop 10 sora = | B37: =+'1.1.sz.mell.'!E155 -> 3680858 | C37: 2.1. számú melléklet I. oszlop 24. sor + 2.2. számú melléklet I. oszlop 25. sor | D37: =+'2.1.sz.mell '!I29+'2.2.sz.mell '!I30 -> 3680858 | E37: =+B37-D37 -> 0
A38: 1.1. sz. melléklet Kiadások táblázat E. oszlop 11 sora = | B38: =+'1.1.sz.mell.'!E156 -> 227822610 | C38: 2.1. számú melléklet I. oszlop 25. sor + 2.2. számú melléklet I. oszlop 26. sor | D38: =+'2.1.sz.mell '!I30+'2.2.sz.mell '!I31 -> 227822610 | E38: =+B38-D38 -> 0

Sheet 3.sz.mell.
A1: Beruházási (felhalmozási) kiadások előirányzata beruházásonként
G2: ='2.2.sz.mell '!I2 -> Forintban!
A3: Beruházás megnevezése | B3: Teljes költség | C3: Kivitelezés kezdési és befejezési éve | D3: =+CONCATENATE("Felhasználás ",LEFT(ÖSSZEFÜGGÉSEK!A6,4)-1,". XII. 31-ig") -> Felhasználás 2017. XII. 31-ig | E3: =+CONCATENATE(LEFT(ÖSSZEFÜGGÉSEK!A6,4),". évi",CHAR(10),"módosított előirányzat") -> 2018. évi módosított előirányzat | F3: =+CONCATENATE("Teljesítés",CHAR(10),LEFT(ÖSSZEFÜGGÉSEK!A6,4),". VI. 30-ig") -> Teljesítés 2018. VI. 30-ig | G3: =+CONCATENATE("Összes teljesítés",CHAR(10),LEFT(ÖSSZEFÜGGÉSEK!A6,4),". VI. 30-ig") -> Összes teljesítés 2018. VI. 30-ig
A4: A | B4: B | C4: C | D4: D | E4: E | F4: F | G4: G=(D+F)
A5: Óvoda - TOP 1.4.1-15-BO1-2016-00080 | B5: 173524821 | C5: 2017-2018 | D5: 3810000 | E5: 169714821 | F5: 32056975 | G5: =D5+F5 -> 35866975
A6: Iskola - TOP 3.2.1-16-BO1-2017-00055. | B6: 117478820 | C6: 2018-2018 | E6: 117478820 | G6: =D6+F6 -> 0
A7: Bölcsőde TOP 1.4.1-16-BO1-2017-00018 | B7: 170000000 | C7: 2018-2018 | E7: 170000000 | F7: =5000000*1.27 -> 6350000 | G7: =D7+F7 -> 6350000
A8: Telekrész vásárlás (bölcsőde) | B8: 1500000 | C8: 2018-2018 | E8: 1500000 | F8: 2000000 | G8: =D8+F8 -> 2000000
A9: Térfigyelő rendszer beüzemelése | B9: 3665000 | C9: 2014-2018 | D9: 2636300 | E9: 1028700 | F9: 0 | G9: =D9+F9 -> 2636300
A10: Garázs PH udvarára | B10: 508000 | C10: 2018-2018 | E10: 508000 | G10: =D10+F10 -> 0
A11: Ideiglenes óvoda kialakítása | B11: 15920240 | C11: 2018-2018 | E11: 15920240 | F11: 18533339 | G11: =D11+F11 -> 18533339
A12: Számítástechnikai eszközök beszerzése ASP | B12: 1524000 | C12: 2018-2018 | D12: 111176 | E12: 1524000 | F12: 162052 | G12: =D12+F12 -> 273228
A13: Eszközbeszerzés - PH | B13: 1270000 | C13: 2018-2018 | E13: 1270000 | F13: 589876 | G13: =D13+F13 -> 589876
A14: Eszközbeszerzés - ÁMK | B14: 1397000 | C14: 2018-2018 | E14: 1397000 | F14: 1042226 | G14: =D14+F14 -> 1042226
A15: Eszközbeszerzés - ÖNK | B15: 658854 | C15: 2018-2018 | E15: 658854 | F15: 635300 | G15: =D15+F15 -> 635300
G16: =B16-D16-F16 -> 0
G17: =B17-D17-F17 -> 0
G18: =B18-D18-F18 -> 0
G19: =B19-D19-F19 -> 0
G20: =B20-D20-F20 -> 0
G21: =B21-D21-F21 -> 0
G22: =B22-D22-F22 -> 0
A23: ÖSSZESEN: | B23: =SUM(B5:B22) -> 487446735 | D23: =SUM(D5:D22) -> 6557476 | F23: =SUM(F5:F22) -> 61369768 | G23: =SUM(G5:G22) -> 67927244

Sheet 4.sz.mell.
A1: Felújítási kiadások előirányzata felújításonként
G2: ='3.sz.mell.'!G2 -> Forintban!
A3: Felújítás megnevezése | B3: Teljes költség | C3: Kivitelezés kezdési és befejezési éve | D3: =+'3.sz.mell.'!D3 -> Felhasználás 2017. XII. 31-ig | E3: =+CONCATENATE(LEFT(ÖSSZEFÜGGÉSEK!A6,4),". évi",CHAR(10),"módosított előirányzat") -> 2018. évi módosított előirányzat | F3: =+CONCATENATE("Teljesítés",CHAR(10),LEFT(ÖSSZEFÜGGÉSEK!A6,4),". VI. 30-ig") -> Teljesítés 2018. VI. 30-ig | G3: =+CONCATENATE("Összes teljesítés",CHAR(10),LEFT(ÖSSZEFÜGGÉSEK!A6,4),". VI. 30-ig") -> Összes teljesítés 2018. VI. 30-ig
A4: A | B4: B | C4: C | D4: D | E4: E | F4: F | G4: G=(D+F)
A5: Önkormányzat tulajdonában lévő épületek, építmények felújítása | B5: 1270000 | C5: 2018-2018
G6: =B6-D6-F6 -> 0
G7: =B7-D7-F7 -> 0
G8: =B8-D8-F8 -> 0
G9: =B9-D9-F9 -> 0
G10: =B10-D10-F10 -> 0
G11: =B11-D11-F11 -> 0
G12: =B12-D12-F12 -> 0
G13: =B13-D13-F13 -> 0
G14: =B14-D14-F14 -> 0
G15: =B15-D15-F15 -> 0
G16: =B16-D16-F16 -> 0
G17: =B17-D17-F17 -> 0
... G23: =B23-D23-F23 -> 0
A24: ÖSSZESEN: | B24: =SUM(B5:B23) -> 1270000 | D24: =SUM(D5:D23) -> 0 | F24: =SUM(F5:F23) -> 0 | G24: =SUM(G5:G23) -> 0

Sheet 5. sz. mell. 
A1: EU-s projekt neve, azonosítója:* | D1: KÖFOP-1.2.1-VEKOP-16-2016-00040 Csatlakozási konstrukció az önkormányzati ASP országos kiterjesztéséhez | N1: 5. melléklet
L2: ='4.sz.mell.'!G2 -> Forintban!
A3: Források | B3: Támogatási szerződés szerinti bevételek, kiadások | J3: Teljesítés
B4: Eredeti | C4: Módosított | D4: Évenkénti üteme
D5: Eredeti | E5: Módosított | F5: Eredeti | G5: Módosított | H5: Eredeti | I5: Módosított
B6: Összes bevétel, kiadás | D6: =+CONCATENATE(LEFT(ÖSSZEFÜGGÉSEK!A6,4),". előtt") -> 2018. előtt | F6: =+CONCATENATE(LEFT(ÖSSZEFÜGGÉSEK!A6,4),". VI.30.") -> 2018. VI.30. | H6: =+CONCATENATE(LEFT(ÖSSZEFÜGGÉSEK!A6,4),". után") -> 2018. után | J6: =+D6 -> 2018. előtt | K6: =+F6 -> 2018. VI.30. | L6: Összesen
A7: A | B7: B | C7: C | D7: D | E7: E | F7: F | G7: G | H7: H | I7: I | J7: J | K7: K | L7: L=(J+K) | M7: M=(L/C)
A8: Saját erő | L8: =+J8+K8 -> 0 | M8: =IF((C8<>0),ROUND((L8/C8)*100,1),"")
A9: - saját erőből központi támogatás | L9: =+J9+K9 -> 0 | M9: =IF((C9<>0),ROUND((L9/C9)*100,1),"")
A10: EU-s forrás | J10: 6000000 | L10: =+J10+K10 -> 6000000
A11: Társfinanszírozás | L11: =+J11+K11 -> 0 | M11: =IF((C11<>0),ROUND((L11/C11)*100,1),"")
A12: Hitel | L12: =+J12+K12 -> 0 | M12: =IF((C12<>0),ROUND((L12/C12)*100,1),"")
A13: Egyéb forrás | L13: =+J13+K13 -> 0 | M13: =IF((C13<>0),ROUND((L13/C13)*100,1),"")
L14: =+J14+K14 -> 0 | M14: =IF((C14<>0),ROUND((L14/C14)*100,1),"")
A15: Források összesen: | B15: =B8+SUM(B10:B14) -> 0 | C15: =C8+SUM(C10:C14) -> 0 | D15: =D8+SUM(D10:D14) -> 0 | E15: =E8+SUM(E10:E14) -> 0 | F15: =F8+SUM(F10:F14) -> 0 | G15: =G8+SUM(G10:G14) -> 0 | H15: =H8+SUM(H10:H14) -> 0 | I15: =I8+SUM(I10:I14) -> 0 | ... L15: =L8+SUM(L10:L14) -> 6000000 | M15: =IF((C15<>0),ROUND((L15/C15)*100,1),"")
A17: Kiadások, költségek
A18: Személyi jellegű | J18: 54141 | K18: 2814 | L18: =+J18+K18 -> 56955 | M18: =IF((C18<>0),ROUND((L18/C18)*100,1),"")
A19: Beruházások, beszerzések | J19: 3137948 | K19: 162052 | L19: =+J19+K19 -> 3300000 | M19: =IF((C19<>0),ROUND((L19/C19)*100,1),"")
A20: Szolgáltatások igénybe vétele | J20: 2400000 | L20: =+J20+K20 -> 2400000 | M20: =IF((C20<>0),ROUND((L20/C20)*100,1),"")
A21: Adminisztratív költségek | L21: =+J21+K21 -> 0 | M21: =IF((C21<>0),ROUND((L21/C21)*100,1),"")
L22: =+J22+K22 -> 0 | M22: =IF((C22<>0),ROUND((L22/C22)*100,1),"")
L23: =+J23+K23 -> 0 | M23: =IF((C23<>0),ROUND((L23/C23)*100,1),"")
A24: Kiadások összesen: | B24: =SUM(B18:B23) -> 0 | C24: =SUM(C18:C23) -> 0 | D24: =SUM(D18:D23) -> 0 | E24: =SUM(E18:E23) -> 0 | F24: =SUM(F18:F23) -> 0 | G24: =SUM(G18:G23) -> 0 | H24: =SUM(H18:H23) -> 0 | I24: =SUM(I18:I23) -> 0 | ... L24: =SUM(L18:L23) -> 5756955 | M24: =IF((C24<>0),ROUND((L24/C24)*100,1),"")
A25: * Amennyiben több projekt megvalósítása történi egy időben akkor azokat külön-külön, projektenként be kell mutatni!
A27: =+CONCATENATE("Önkormányzaton kívüli EU-s projekthez történő hozzájárulás ",LEFT(ÖSSZEFÜGGÉSEK!A6,4),". VI. 30. előirányzata és teljesítése") -> Önkormányzaton kívüli EU-s projekthez történő hozzájárulás 2018. VI. 30. előirányzata és teljesítése
L28: =L2 -> Forintban!
A29: Támogatott neve | K29: Eredeti ei. | L29: Módosított ei. | M29: Teljesítés
A32: Összesen: | K32: =SUM(K30:K31) -> 0 | L32: =SUM(L30:L31) -> 0 | M32: =SUM(M30:M31) -> 0
A33: EU-s projekt neve, azonosítója:* | D33: TOP-1.4.1-15-BO1-2016-00080 Óvoda és konyha fejlesztése Sajószögeden
L34: ='4.sz.mell.'!G37 -> 0
A35: Források | B35: Támogatási szerződés szerinti bevételek, kiadások | J35: Teljesítés
B36: Eredeti | C36: Módosított | D36: Évenkénti üteme
D37: Eredeti | E37: Módosított | F37: Eredeti | G37: Módosított | H37: Eredeti | I37: Módosított
B38: Összes bevétel, kiadás | D38: 2018. előtt | F38: 2018. VI.30. | H38: 2018. után | J38: =+D38 -> 2018. előtt | K38: =+F38 -> 2018. VI.30. | L38: Összesen
A39: A | B39: B | C39: C | D39: D | E39: E | F39: F | G39: G | H39: H | I39: I | J39: J | K39: K | L39: L=(J+K) | M39: M=(L/C)
A40: Saját erő | L40: =+J40+K40 -> 0 | M40: =IF((C40<>0),ROUND((L40/C40)*100,1),"")
A41: - saját erőből központi támogatás | L41: =+J41+K41 -> 0 | M41: =IF((C41<>0),ROUND((L41/C41)*100,1),"")
A42: EU-s forrás | E42: 160348571 | L42: =+J42+K42 -> 0 | M42: =IF((C42<>0),ROUND((L42/C42)*100,1),"")
A43: Társfinanszírozás | L43: =+J43+K43 -> 0 | M43: =IF((C43<>0),ROUND((L43/C43)*100,1),"")
A44: Hitel | L44: =+J44+K44 -> 0 | M44: =IF((C44<>0),ROUND((L44/C44)*100,1),"")
...

Sheet 6.1. sz. mell
E1: 6.1. melléklet
A2: Megnevezés | B2: Sajószöged Községi Önkormányzat | E2: 01
A3: Feladat megnevezése | B3: Összes bevétel, kiadás | E3: 01
E4: ='4.sz.mell.'!G2 -> Forintban!
A5: Száma | B5: Kiemelt előirányzat, előirányzat megnevezése | C5: Eredeti előirányzat | D5: Módosított előirányzat | E5: =+CONCATENATE("Teljesítés",CHAR(10),LEFT(ÖSSZEFÜGGÉSEK!A6,4),". VI. 30.") -> Teljesítés 2018. VI. 30.
A6: A | B6: B | C6: C | D6: D | E6: E
A7: Bevételek
A8: 1. | B8: Önkormányzat működési támogatásai (1.1.+…+.1.6.) | C8: =+C9+C10+C11+C12+C13+C14 -> 109212674 | D8: =+D9+D10+D11+D12+D13+D14 -> 0 | E8: =+E9+E10+E11+E12+E13+E14 -> 58133251
A9: 1.1. | B9: Helyi önkormányzatok működésének általános támogatása | C9: 30667486 | E9: 15981863
A10: 1.2. | B10: Önkormányzatok egyes köznevelési feladatainak támogatása | C10: 46445433 | E10: 23430554
A11: 1.3. | B11: Önkormányzatok szociális és gyermekjóléti feladatainak támogatása | C11: 29146265 | E11: 16083375
A12: 1.4. | B12: Önkormányzatok kulturális feladatainak támogatása | C12: 2697090 | E12: 1810816
A13: 1.5. | B13: Működési célú kvi támogatások és kiegészítő támogatások | C13: 256400 | E13: 826643
A14: 1.6. | B14: Elszámolásból származó bevételek
A15: 2. | B15: Működési célú támogatások államháztartáson belülről (2.1.+…+.2.5.) | C15: =+C16+C17+C18+C19+C20 -> 14608139 | D15: =+D16+D17+D18+D19+D20 -> 0 | E15: =+E16+E17+E18+E19+E20 -> 6660134
A16: 2.1. | B16: Elvonások és befizetések bevételei
A17: 2.2. | B17: Működési célú garancia- és kezességvállalásból megtérülések
A18: 2.3. | B18: Működési célú visszatérítendő támogatások, kölcsönök visszatérülése
A19: 2.4. | B19: Működési célú visszatérítendő támogatások, kölcsönök igénybevétele
A20: 2.5. | B20: Egyéb működési célú támogatások bevételei | C20: 14608139 | E20: 6660134
A21: 2.6. | B21: 2.5.-ből EU-s támogatás
A22: 3. | B22: Felhalmozási célú támogatások államháztartáson belülről (3.1.+…+3.5.) | C22: =+C23+C24+C25+C26+C27 -> 300655070 | D22: =+D23+D24+D25+D26+D27 -> 0 | E22: =+E23+E24+E25+E26+E27 -> 165934824
A23: 3.1. | B23: Felhalmozási célú önkormányzati támogatások
A24: 3.2. | B24: Felhalmozási célú garancia- és kezességvállalásból megtérülések
A25: 3.3. | B25: Felhalmozási célú visszatérítendő támogatások, kölcsönök visszatérülése
A26: 3.4. | B26: Felhalmozási célú visszatérítendő támogatások, kölcsönök igénybevétele
A27: 3.5. | B27: Egyéb felhalmozási célú támogatások bevételei | C27: 300655070 | E27: 165934824
A28: 3.6. | B28: 3.5.-ből EU-s támogatás
A29: 4. | B29: Közhatalmi bevételek (4.1.+…+4.7.) | C29: =SUM(C30:C36) -> 171790000 | D29: =SUM(D30:D36) -> 0 | E29: =SUM(E30:E36) -> 83698598
A30: 4.1. | B30: Építményadó és telekadó | C30: 101300000 | D30: =+D31+D32+D33 -> 0 | E30: 51422984
A31: 4.2. | B31: Idegenforgalmi adó
A32: 4.3. | B32: Iparűzési adó | C32: 62350000 | E32: 27249710
A33: 4.4. | B33: Talajterhelési díj | C33: 140000 | E33: 327860
A34: 4.5. | B34: Gépjárműadó | C34: 8000000 | E34: 4602144
A35: 4.6. | B35: Egyéb áruhasználati és szolgáltatási adók
A36: 4.7. | B36: Egyéb közhatalmi bevételek | E36: 95900
A37: 5. | B37: Működési bevételek (5.1.+…+ 5.11.) | C37: =SUM(C38:C48) -> 16881218 | D37: =SUM(D38:D48) -> 0 | E37: =SUM(E38:E48) -> 8197699
A38: 5.1. | B38: Készletértékesítés ellenértéke
A39: 5.2. | B39: Szolgáltatások ellenértéke | C39: 2028000 | E39: 973954
A40: 5.3. | B40: Közvetített szolgáltatások értéke | C40: 700000 | E40: 691349
...

Sheet 6.1.1. sz. mell
E1: 6.1.1. melléklet
A2: Megnevezés | B2: Sajószöged Községi Önkormányzat | E2: 01
A3: Feladat megnevezése | B3: Kötelező feladatok bevételei, kiadásai | E3: 02
E4: ='6.1. sz. mell'!E4 -> Forintban!
A5: Száma | B5: Kiemelt előirányzat, előirányzat megnevezése | C5: Eredeti előirányzat | D5: Módosított előirányzat | E5: =+CONCATENATE("Teljesítés",CHAR(10),LEFT(ÖSSZEFÜGGÉSEK!A6,4),". VI. 30.") -> Teljesítés 2018. VI. 30.
A6: A | B6: B | C6: C | D6: D | E6: E
A7: Bevételek
A8: 1. | B8: Önkormányzat működési támogatásai (1.1.+…+.1.6.) | C8: =+C9+C10+C11+C12+C13+C14 -> 109212674 | D8: =+D9+D10+D11+D12+D13+D14 -> 0 | E8: =+E9+E10+E11+E12+E13+E14 -> 58133251
A9: 1.1. | B9: Helyi önkormányzatok működésének általános támogatása | C9: 30667486 | E9: 15981863
A10: 1.2. | B10: Önkormányzatok egyes köznevelési feladatainak támogatása | C10: 46445433 | E10: 23430554
A11: 1.3. | B11: Önkormányzatok szociális és gyermekjóléti feladatainak támogatása | C11: 29146265 | E11: 16083375
A12: 1.4. | B12: Önkormányzatok kulturális feladatainak támogatása | C12: 2697090 | E12: 1810816
A13: 1.5. | B13: Működési célú kvi támogatások és kiegészítő támogatások | C13: 256400 | E13: 826643
A14: 1.6. | B14: Elszámolásból származó bevételek
A15: 2. | B15: Működési célú támogatások államháztartáson belülről (2.1.+…+.2.5.) | C15: =+C16+C17+C18+C19+C20 -> 14608139 | D15: =+D16+D17+D18+D19+D20 -> 0 | E15: =+E16+E17+E18+E19+E20 -> 6660134
A16: 2.1. | B16: Elvonások és befizetések bevételei
A17: 2.2. | B17: Működési célú garancia- és kezességvállalásból megtérülések
A18: 2.3. | B18: Működési célú visszatérítendő támogatások, kölcsönök visszatérülése
A19: 2.4. | B19: Működési célú visszatérítendő támogatások, kölcsönök igénybevétele
A20: 2.5. | B20: Egyéb működési célú támogatások bevételei | C20: 14608139 | E20: 6660134
A21: 2.6. | B21: 2.5.-ből EU-s támogatás
A22: 3. | B22: Felhalmozási célú támogatások államháztartáson belülről (3.1.+…+3.5.) | C22: =+C23+C24+C25+C26+C27 -> 300655070 | D22: =+D23+D24+D25+D26+D27 -> 0 | E22: =+E23+E24+E25+E26+E27 -> 165934824
A23: 3.1. | B23: Felhalmozási célú önkormányzati támogatások
A24: 3.2. | B24: Felhalmozási célú garancia- és kezességvállalásból megtérülések
A25: 3.3. | B25: Felhalmozási célú visszatérítendő támogatások, kölcsönök visszatérülése
A26: 3.4. | B26: Felhalmozási célú visszatérítendő támogatások, kölcsönök igénybevétele
A27: 3.5. | B27: Egyéb felhalmozási célú támogatások bevételei | C27: 300655070 | E27: 165934824
A28: 3.6. | B28: 3.5.-ből EU-s támogatás
A29: 4. | B29: Közhatalmi bevételek (4.1.+…+4.7.) | C29: =SUM(C30:C36) -> 171790000 | D29: =SUM(D30:D36) -> 0 | E29: =SUM(E30:E36) -> 83698598
A30: 4.1. | B30: Építményadó és telekadó | C30: 101300000 | D30: =+D31+D32+D33 -> 0 | E30: 51422984
A31: 4.2. | B31: Idegenforgalmi adó
A32: 4.3. | B32: Iparűzési adó | C32: 62350000 | E32: 27249710
A33: 4.4. | B33: Talajterhelési díj | C33: 140000 | E33: 327860
A34: 4.5. | B34: Gépjárműadó | C34: 8000000 | E34: 4602144
A35: 4.6. | B35: Egyéb áruhasználati és szolgáltatási adók
A36: 4.7. | B36: Egyéb közhatalmi bevételek | E36: 95900
A37: 5. | B37: Működési bevételek (5.1.+…+ 5.11.) | C37: =SUM(C38:C48) -> 16881218 | D37: =SUM(D38:D48) -> 0 | E37: =SUM(E38:E48) -> 8197699
A38: 5.1. | B38: Készletértékesítés ellenértéke
A39: 5.2. | B39: Szolgáltatások ellenértéke | C39: 2028000 | E39: 973954
A40: 5.3. | B40: Közvetített szolgáltatások értéke | C40: 700000 | E40: 691349
...

Sheet 6.1.2. sz. mell
E1: 6.1.2. melléklet
A2: Megnevezés | B2: Sajószöged Községi Önkormányzat | E2: 01
A3: Feladat megnevezése | B3: Önként vállalt feladatok bevételei, kiadásai | E3: 02
E4: ='6.1.1. sz. mell'!E4 -> Forintban!
A5: Száma | B5: Kiemelt előirányzat, előirányzat megnevezése | C5: Eredeti előirányzat | D5: Módosított előirányzat | E5: =+CONCATENATE("Teljesítés",CHAR(10),LEFT(ÖSSZEFÜGGÉSEK!A6,4),". VI. 30.") -> Teljesítés 2018. VI. 30.
A6: A | B6: B | C6: C | D6: D | E6: E
A7: Bevételek
A8: 1. | B8: Önkormányzat működési támogatásai (1.1.+…+.1.6.) | C8: =+C9+C10+C11+C12+C13+C14 -> 0 | D8: =+D9+D10+D11+D12+D13+D14 -> 0 | E8: =+E9+E10+E11+E12+E13+E14 -> 0
A9: 1.1. | B9: Helyi önkormányzatok működésének általános támogatása
A10: 1.2. | B10: Önkormányzatok egyes köznevelési feladatainak támogatása
A11: 1.3. | B11: Önkormányzatok szociális és gyermekjóléti feladatainak támogatása
A12: 1.4. | B12: Önkormányzatok kulturális feladatainak támogatása
A13: 1.5. | B13: Működési célú kvi támogatások és kiegészítő támogatások
A14: 1.6. | B14: Elszámolásból származó bevételek
A15: 2. | B15: Működési célú támogatások államháztartáson belülről (2.1.+…+.2.5.) | C15: =+C16+C17+C18+C19+C20 -> 0 | D15: =+D16+D17+D18+D19+D20 -> 0 | E15: =+E16+E17+E18+E19+E20 -> 0
A16: 2.1. | B16: Elvonások és befizetések bevételei
A17: 2.2. | B17: Működési célú garancia- és kezességvállalásból megtérülések
A18: 2.3. | B18: Működési célú visszatérítendő támogatások, kölcsönök visszatérülése
A19: 2.4. | B19: Működési célú visszatérítendő támogatások, kölcsönök igénybevétele
A20: 2.5. | B20: Egyéb működési célú támogatások bevételei
A21: 2.6. | B21: 2.5.-ből EU-s támogatás
A22: 3. | B22: Felhalmozási célú támogatások államháztartáson belülről (3.1.+…+3.5.) | C22: =+C23+C24+C25+C26+C27 -> 0 | D22: =+D23+D24+D25+D26+D27 -> 0 | E22: =+E23+E24+E25+E26+E27 -> 0
A23: 3.1. | B23: Felhalmozási célú önkormányzati támogatások
A24: 3.2. | B24: Felhalmozási célú garancia- és kezességvállalásból megtérülések
A25: 3.3. | B25: Felhalmozási célú visszatérítendő támogatások, kölcsönök visszatérülése
A26: 3.4. | B26: Felhalmozási célú visszatérítendő támogatások, kölcsönök igénybevétele
A27: 3.5. | B27: Egyéb felhalmozási célú támogatások bevételei
A28: 3.6. | B28: 3.5.-ből EU-s támogatás
A29: 4. | B29: Közhatalmi bevételek (4.1.+…+4.7.) | C29: =SUM(C30:C36) -> 0 | D29: =SUM(D30:D36) -> 0 | E29: =SUM(E30:E36) -> 0
A30: 4.1. | B30: Építményadó | C30: =+C31+C32+C33 -> 0 | D30: =+D31+D32+D33 -> 0 | E30: =+E31+E32+E33 -> 0
A31: 4.2. | B31: Idegenforgalmi adó
A32: 4.3. | B32: Iparűzési adó
A33: 4.4. | B33: Talajterhelési díj
A34: 4.5. | B34: Gépjárműadó
A35: 4.6. | B35: Egyéb áruhasználati és szolgáltatási adók
A36: 4.7. | B36: Egyéb közhatalmi bevételek
A37: 5. | B37: Működési bevételek (5.1.+…+ 5.11.) | C37: =SUM(C38:C48) -> 0 | D37: =SUM(D38:D48) -> 0 | E37: =SUM(E38:E48) -> 0
A38: 5.1. | B38: Készletértékesítés ellenértéke
A39: 5.2. | B39: Szolgáltatások ellenértéke
A40: 5.3. | B40: Közvetített szolgáltatások értéke
...

Sheet 6.1.3. sz. mell
E1: 6.1.3. melléklet
A2: Megnevezés | B2: Sajószöged Községi Önkormányzat | E2: 01
A3: Feladat megnevezése | B3: Államigazgatási feladatok bevételei, kiadásai | E3: 02
E4: ='6.1.2. sz. mell'!E4 -> Forintban!
A5: Száma | B5: Kiemelt előirányzat, előirányzat megnevezése | C5: Eredeti előirányzat | D5: Módosított előirányzat | E5: =+CONCATENATE("Teljesítés",CHAR(10),LEFT(ÖSSZEFÜGGÉSEK!A6,4),". VI. 30.") -> Teljesítés 2018. VI. 30.
A6: A | B6: B | C6: C | D6: D | E6: E
A7: Bevételek
A8: 1. | B8: Önkormányzat működési támogatásai (1.1.+…+.1.6.) | C8: =+C9+C10+C11+C12+C13+C14 -> 0 | D8: =+D9+D10+D11+D12+D13+D14 -> 0 | E8: =+E9+E10+E11+E12+E13+E14 -> 0
A9: 1.1. | B9: Helyi önkormányzatok működésének általános támogatása
A10: 1.2. | B10: Önkormányzatok egyes köznevelési feladatainak támogatása
A11: 1.3. | B11: Önkormányzatok szociális és gyermekjóléti feladatainak támogatása
A12: 1.4. | B12: Önkormányzatok kulturális feladatainak támogatása
A13: 1.5. | B13: Működési célú kvi támogatások és kiegészítő támogatások
A14: 1.6. | B14: Elszámolásból származó bevételek
A15: 2. | B15: Működési célú támogatások államháztartáson belülről (2.1.+…+.2.5.) | C15: =+C16+C17+C18+C19+C20 -> 0 | D15: =+D16+D17+D18+D19+D20 -> 0 | E15: =+E16+E17+E18+E19+E20 -> 0
A16: 2.1. | B16: Elvonások és befizetések bevételei
A17: 2.2. | B17: Működési célú garancia- és kezességvállalásból megtérülések
A18: 2.3. | B18: Működési célú visszatérítendő támogatások, kölcsönök visszatérülése
A19: 2.4. | B19: Működési célú visszatérítendő támogatások, kölcsönök igénybevétele
A20: 2.5. | B20: Egyéb működési célú támogatások bevételei
A21: 2.6. | B21: 2.5.-ből EU-s támogatás
A22: 3. | B22: Felhalmozási célú támogatások államháztartáson belülről (3.1.+…+3.5.) | C22: =+C23+C24+C25+C26+C27 -> 0 | D22: =+D23+D24+D25+D26+D27 -> 0 | E22: =+E23+E24+E25+E26+E27 -> 0
A23: 3.1. | B23: Felhalmozási célú önkormányzati támogatások
A24: 3.2. | B24: Felhalmozási célú garancia- és kezességvállalásból megtérülések
A25: 3.3. | B25: Felhalmozási célú visszatérítendő támogatások, kölcsönök visszatérülése
A26: 3.4. | B26: Felhalmozási célú visszatérítendő támogatások, kölcsönök igénybevétele
A27: 3.5. | B27: Egyéb felhalmozási célú támogatások bevételei
A28: 3.6. | B28: 3.5.-ből EU-s támogatás
A29: 4. | B29: Közhatalmi bevételek (4.1.+…+4.7.) | C29: =SUM(C30:C36) -> 0 | D29: =SUM(D30:D36) -> 0 | E29: =SUM(E30:E36) -> 0
A30: 4.1. | B30: Építményadó | C30: =+C31+C32+C33 -> 0 | D30: =+D31+D32+D33 -> 0 | E30: =+E31+E32+E33 -> 0
A31: 4.2. | B31: Idegenforgalmi adó
A32: 4.3. | B32: Iparűzési adó
A33: 4.4. | B33: Talajterhelési díj
A34: 4.5. | B34: Gépjárműadó
A35: 4.6. | B35: Egyéb áruhasználati és szolgáltatási adók
A36: 4.7. | B36: Egyéb közhatalmi bevételek
A37: 5. | B37: Működési bevételek (5.1.+…+ 5.11.) | C37: =SUM(C38:C48) -> 0 | D37: =SUM(D38:D48) -> 0 | E37: =SUM(E38:E48) -> 0
A38: 5.1. | B38: Készletértékesítés ellenértéke
A39: 5.2. | B39: Szolgáltatások ellenértéke
A40: 5.3. | B40: Közvetített szolgáltatások értéke
...

Sheet 6.2. sz. mell
E1: 6.2. melléklet
A2: Költségvetési szerv | B2: Sajószögedi Polgármesteri Hivatal | E2: 02
A3: Feladat megnevezése | B3: Összes bevétel, kiadás | E3: 01
E4: ='6.1.3. sz. mell'!E4 -> Forintban!
A5: Száma | B5: Kiemelt előirányzat, előirányzat megnevezése | C5: Eredeti előirányzat | D5: Módosított előirányzat | E5: =+CONCATENATE("Teljesítés",CHAR(10),LEFT(ÖSSZEFÜGGÉSEK!A6,4),". VI. 30.") -> Teljesítés 2018. VI. 30.
A6: A | B6: B | C6: C | D6: D | E6: E
A7: Bevételek
A8: 1. | B8: Működési bevételek (1.1.+…+1.11.) | C8: =SUM(C9:C19) -> 0 | D8: =SUM(D9:D19) -> 0 | E8: =SUM(E9:E19) -> 115951
A9: 1.1. | B9: Készletértékesítés ellenértéke
A10: 1.2. | B10: Szolgáltatások ellenértéke
A11: 1.3. | B11: Közvetített szolgáltatások értéke
A12: 1.4. | B12: Tulajdonosi bevételek
A13: 1.5. | B13: Ellátási díjak
A14: 1.6. | B14: Kiszámlázott általános forgalmi adó
A15: 1.7. | B15: Általános forgalmi adó visszatérülése
A16: 1.8. | B16: Kamatbevételek
A17: 1.9. | B17: Egyéb pénzügyi műveletek bevételei
A18: 1.10. | B18: Biztosító által fizetett kártérítés
A19: 1.11. | B19: Egyéb működési bevételek | E19: 115951
A20: 2. | B20: Működési célú támogatások államháztartáson belülről (2.1.+…+2.3.) | C20: =SUM(C21:C23) -> 0 | D20: =SUM(D21:D23) -> 0 | E20: =SUM(E21:E23) -> 788521
A21: 2.1. | B21: Elvonások és befizetések bevételei
A22: 2.2. | B22: Visszatérítendő támogatások, kölcsönök visszatérülése ÁH-n belülről
A23: 2.3. | B23: Egyéb működési célú támogatások bevételei államháztartáson belülről | E23: 788521
A24: 2.4. | B24: 2.3-ból EU támogatás
A25: 3. | B25: Közhatalmi bevételek | C25: 20000 | E25: 30000
A26: 4. | B26: Felhalmozási célú támogatások államháztartáson belülről (4.1.+…+4.3.) | C26: =+C27+C28+C29 -> 0 | D26: =+D27+D28+D29 -> 0 | E26: =+E27+E28+E29 -> 0
A27: 4.1. | B27: Felhalmozási célú önkormányzati támogatások
A28: 4.2. | B28: Visszatérítendő támogatások, kölcsönök visszatérülése ÁH-n belülről
A29: 4.3. | B29: Egyéb felhalmozási célú támogatások bevételei államháztartáson belülről
A30: 4.4. | B30: 4.3.-ból EU-s támogatás
A31: 5. | B31: Felhalmozási bevételek (5.1.+…+5.3.) | C31: =+C32+C33+C34 -> 0 | D31: =+D32+D33+D34 -> 0 | E31: =+E32+E33+E34 -> 0
A32: 5.1. | B32: Immateriális javak értékesítése
A33: 5.2. | B33: Ingatlanok értékesítése
A34: 5.3. | B34: Egyéb tárgyi eszközök értékesítése
A35: 6. | B35: Működési célú átvett pénzeszközök
A36: 7. | B36: Felhalmozási célú átvett pénzeszközök
A37: 8. | B37: Költségvetési bevételek összesen (1.+…+7.) | C37: =+C8+C20+C25+C26+C31+C35+C36 -> 20000 | D37: =+D8+D20+D25+D26+D31+D35+D36 -> 0 | E37: =+E8+E20+E25+E26+E31+E35+E36 -> 934472
A38: 9. | B38: Finanszírozási bevételek (9.1.+…+9.3.) | C38: =+C39+C40+C41 -> 58915793 | D38: =+D39+D40+D41 -> 0 | E38: =+E39+E40+E41 -> 29652837
A39: 9.1. | B39: Költségvetési maradvány igénybevétele | C39: 517641 | E39: 517631
A40: 9.2. | B40: Vállalkozási maradvány igénybevétele
...

Sheet 6.2.1. sz. mell
E1: 6.2.1. melléklet
A2: Költségvetési szerv | B2: Sajószögedi Polgármesteri Hivatal | E2: 02
A3: Feladat megnevezése | B3: Kötelező feladatok bevételei, kiadásai | E3: 02
E4: ='6.2. sz. mell'!E4 -> Forintban!
A5: Száma | B5: Kiemelt előirányzat, előirányzat megnevezése | C5: Eredeti előirányzat | D5: Módosított előirányzat | E5: =+CONCATENATE("Teljesítés",CHAR(10),LEFT(ÖSSZEFÜGGÉSEK!A6,4),". VI. 30.") -> Teljesítés 2018. VI. 30.
A6: A | B6: B | C6: C | D6: D | E6: E
A7: Bevételek
A8: 1. | B8: Működési bevételek (1.1.+…+1.11.) | C8: =SUM(C9:C19) -> 0 | D8: =SUM(D9:D19) -> 0 | E8: =SUM(E9:E19) -> 115951
A9: 1.1. | B9: Készletértékesítés ellenértéke
A10: 1.2. | B10: Szolgáltatások ellenértéke
A11: 1.3. | B11: Közvetített szolgáltatások értéke
A12: 1.4. | B12: Tulajdonosi bevételek
A13: 1.5. | B13: Ellátási díjak
A14: 1.6. | B14: Kiszámlázott általános forgalmi adó
A15: 1.7. | B15: Általános forgalmi adó visszatérülése
A16: 1.8. | B16: Kamatbevételek
A17: 1.9. | B17: Egyéb pénzügyi műveletek bevételei
A18: 1.10. | B18: Biztosító által fizetett kártérítés
A19: 1.11. | B19: Egyéb működési bevételek | E19: 115951
A20: 2. | B20: Működési célú támogatások államháztartáson belülről (2.1.+…+2.3.) | C20: =SUM(C21:C23) -> 0 | D20: =SUM(D21:D23) -> 0 | E20: =SUM(E21:E23) -> 788521
A21: 2.1. | B21: Elvonások és befizetések bevételei
A22: 2.2. | B22: Visszatérítendő támogatások, kölcsönök visszatérülése ÁH-n belülről
A23: 2.3. | B23: Egyéb működési célú támogatások bevételei államháztartáson belülről | E23: 788521
A24: 2.4. | B24: 2.3-ból EU támogatás
A25: 3. | B25: Közhatalmi bevételek | C25: 20000 | E25: 30000
A26: 4. | B26: Felhalmozási célú támogatások államháztartáson belülről (4.1.+…+4.3.) | C26: =+C27+C28+C29 -> 0 | D26: =+D27+D28+D29 -> 0 | E26: =+E27+E28+E29 -> 0
A27: 4.1. | B27: Felhalmozási célú önkormányzati támogatások
A28: 4.2. | B28: Visszatérítendő támogatások, kölcsönök visszatérülése ÁH-n belülről
A29: 4.3. | B29: Egyéb felhalmozási célú támogatások bevételei államháztartáson belülről
A30: 4.4. | B30: 4.3.-ból EU-s támogatás
A31: 5. | B31: Felhalmozási bevételek (5.1.+…+5.3.) | C31: =+C32+C33+C34 -> 0 | D31: =+D32+D33+D34 -> 0 | E31: =+E32+E33+E34 -> 0
A32: 5.1. | B32: Immateriális javak értékesítése
A33: 5.2. | B33: Ingatlanok értékesítése
A34: 5.3. | B34: Egyéb tárgyi eszközök értékesítése
A35: 6. | B35: Működési célú átvett pénzeszközök
A36: 7. | B36: Felhalmozási célú átvett pénzeszközök
A37: 8. | B37: Költségvetési bevételek összesen (1.+…+7.) | C37: =+C8+C20+C25+C26+C31+C35+C36 -> 20000 | D37: =+D8+D20+D25+D26+D31+D35+D36 -> 0 | E37: =+E8+E20+E25+E26+E31+E35+E36 -> 934472
A38: 9. | B38: Finanszírozási bevételek (9.1.+…+9.3.) | C38: =+C39+C40+C41 -> 58915793 | D38: =+D39+D40+D41 -> 0 | E38: =+E39+E40+E41 -> 29652837
A39: 9.1. | B39: Költségvetési maradvány igénybevétele | C39: 517641 | E39: 517631
A40: 9.2. | B40: Vállalkozási maradvány igénybevétele
...

Sheet 6.2.2. sz. mell
E1: 6.2.2. melléklet
A2: Költségvetési szerv | B2: Sajószögedi Polgármesteri Hivatal | E2: 02
A3: Feladat megnevezése | B3: Önként vállalt feladatok bevételei, kiadásai | E3: 03
E4: ='6.2.1. sz. mell'!E4 -> Forintban!
A5: Száma | B5: Kiemelt előirányzat, előirányzat megnevezése | C5: Eredeti előirányzat | D5: Módosított előirányzat | E5: =+CONCATENATE("Teljesítés",CHAR(10),LEFT(ÖSSZEFÜGGÉSEK!A6,4),". VI. 30.") -> Teljesítés 2018. VI. 30.
A6: A | B6: B | C6: C | D6: D | E6: E
A7: Bevételek
A8: 1. | B8: Működési bevételek (1.1.+…+1.11.) | C8: =SUM(C9:C19) -> 0 | D8: =SUM(D9:D19) -> 0 | E8: =SUM(E9:E19) -> 0
A9: 1.1. | B9: Készletértékesítés ellenértéke
A10: 1.2. | B10: Szolgáltatások ellenértéke
A11: 1.3. | B11: Közvetített szolgáltatások értéke
A12: 1.4. | B12: Tulajdonosi bevételek
A13: 1.5. | B13: Ellátási díjak
A14: 1.6. | B14: Kiszámlázott általános forgalmi adó
A15: 1.7. | B15: Általános forgalmi adó visszatérülése
A16: 1.8. | B16: Kamatbevételek
A17: 1.9. | B17: Egyéb pénzügyi műveletek bevételei
A18: 1.10. | B18: Biztosító által fizetett kártérítés
A19: 1.11. | B19: Egyéb működési bevételek
A20: 2. | B20: Működési célú támogatások államháztartáson belülről (2.1.+…+2.3.) | C20: =SUM(C21:C23) -> 0 | D20: =SUM(D21:D23) -> 0 | E20: =SUM(E21:E23) -> 0
A21: 2.1. | B21: Elvonások és befizetések bevételei
A22: 2.2. | B22: Visszatérítendő támogatások, kölcsönök visszatérülése ÁH-n belülről
A23: 2.3. | B23: Egyéb működési célú támogatások bevételei államháztartáson belülről
A24: 2.4. | B24: 2.3-ból EU támogatás
A25: 3. | B25: Közhatalmi bevételek
A26: 4. | B26: Felhalmozási célú támogatások államháztartáson belülről (4.1.+…+4.3.) | C26: =+C27+C28+C29 -> 0 | D26: =+D27+D28+D29 -> 0 | E26: =+E27+E28+E29 -> 0
A27: 4.1. | B27: Felhalmozási célú önkormányzati támogatások
A28: 4.2. | B28: Visszatérítendő támogatások, kölcsönök visszatérülése ÁH-n belülről
A29: 4.3. | B29: Egyéb felhalmozási célú támogatások bevételei államháztartáson belülről
A30: 4.4. | B30: 4.3.-ból EU-s támogatás
A31: 5. | B31: Felhalmozási bevételek (5.1.+…+5.3.) | C31: =+C32+C33+C34 -> 0 | D31: =+D32+D33+D34 -> 0 | E31: =+E32+E33+E34 -> 0
A32: 5.1. | B32: Immateriális javak értékesítése
A33: 5.2. | B33: Ingatlanok értékesítése
A34: 5.3. | B34: Egyéb tárgyi eszközök értékesítése
A35: 6. | B35: Működési célú átvett pénzeszközök
A36: 7. | B36: Felhalmozási célú átvett pénzeszközök
A37: 8. | B37: Költségvetési bevételek összesen (1.+…+7.) | C37: =+C8+C20+C25+C26+C31+C35+C36 -> 0 | D37: =+D8+D20+D25+D26+D31+D35+D36 -> 0 | E37: =+E8+E20+E25+E26+E31+E35+E36 -> 0
A38: 9. | B38: Finanszírozási bevételek (9.1.+…+9.3.) | C38: =+C39+C40+C41 -> 0 | D38: =+D39+D40+D41 -> 0 | E38: =+E39+E40+E41 -> 0
A39: 9.1. | B39: Költségvetési maradvány igénybevétele
A40: 9.2. | B40: Vállalkozási maradvány igénybevétele
...

Sheet 6.2.3. sz. mell
E1: 6.2.3. melléklet
