Workbook
Name _ftn1: '7.3. tájékoztató tábla'!$A$27
Name _ftnref1: '7.3. tájékoztató tábla'!$A$18

Sheet ÖSSZEFÜGGÉSEK
A1: Költségvetési rendelet űrlapjainak összefüggései:
A4: 2017. évi eredeti előirányzat BEVÉTELEK
A6: 1. sz. melléklet Bevételek táblázat C. oszlop 9 sora = | B6: 2.1. számú melléklet C. oszlop 13. sor + 2.2. számú melléklet C. oszlop 12. sor
A7: 1. sz. melléklet Bevételek táblázat C. oszlop 16 sora = | B7: 2.1. számú melléklet C. oszlop 22. sor + 2.2. számú melléklet C. oszlop 25. sor
A8: 1. sz. melléklet Bevételek táblázat C. oszlop 17 sora = | B8: 2.1. számú melléklet C. oszlop 23. sor + 2.2. számú melléklet C. oszlop 26. sor
A10: =+CONCATENATE(LEFT(A4,4),". évi módosított előirányzat BEVÉTELEK") -> 2017. évi módosított előirányzat BEVÉTELEK
A12: 1. sz. melléklet Bevételek táblázat D. oszlop 9 sora = | B12: 2.1. számú melléklet D. oszlop 13. sor + 2.2. számú melléklet D. oszlop 12. sor
A13: 1. sz. melléklet Bevételek táblázat D. oszlop 16 sora = | B13: 2.1. számú melléklet D. oszlop 22. sor + 2.2. számú melléklet D. oszlop 25. sor
A14: 1. sz. melléklet Bevételek táblázat D. oszlop 17 sora = | B14: 2.1. számú melléklet D. oszlop 23. sor + 2.2. számú melléklet D. oszlop 26. sor
A16: =+CONCATENATE(LEFT(A4,4),". évi teljesítés BEVÉTELEK") -> 2017. évi teljesítés BEVÉTELEK
A18: 1. sz. melléklet Bevételek táblázat E. oszlop 9 sora = | B18: 2.1. számú melléklet E. oszlop 13. sor + 2.2. számú melléklet E. oszlop 12. sor
A19: 1. sz. melléklet Bevételek táblázat E. oszlop 16 sora = | B19: 2.1. számú melléklet E. oszlop 22. sor + 2.2. számú melléklet E. oszlop 25. sor
A20: 1. sz. melléklet Bevételek táblázat E. oszlop 17 sora = | B20: 2.1. számú melléklet E. oszlop 23. sor + 2.2. számú melléklet E. oszlop 26. sor
A22: =+CONCATENATE(LEFT(A4,4),". évi eredeti előirányzat KIADÁSOK") -> 2017. évi eredeti előirányzat KIADÁSOK
A24: 1. sz. melléklet Kiadások táblázat C. oszlop 4 sora = | B24: 2.1. számú melléklet G. oszlop 13. sor + 2.2. számú melléklet G. oszlop 12. sor
A25: 1. sz. melléklet Kiadások táblázat C. oszlop 9 sora = | B25: 2.1. számú melléklet G. oszlop 22. sor + 2.2. számú melléklet G. oszlop 25. sor
A26: 1. sz. melléklet Kiadások táblázat C. oszlop 10 sora = | B26: 2.1. számú melléklet G. oszlop 23. sor + 2.2. számú melléklet G. oszlop 26. sor
A28: =+CONCATENATE(LEFT(A4,4),". évi módosított előirányzat KIADÁSOK") -> 2017. évi módosított előirányzat KIADÁSOK
A30: 1. sz. melléklet Kiadások táblázat D. oszlop 4 sora = | B30: 2.1. számú melléklet H. oszlop 13. sor + 2.2. számú melléklet H. oszlop 12. sor
A31: 1. sz. melléklet Kiadások táblázat D. oszlop 9 sora = | B31: 2.1. számú melléklet H. oszlop 22. sor + 2.2. számú melléklet H. oszlop 25. sor
A32: 1. sz. melléklet Kiadások táblázat D. oszlop 10 sora = | B32: 2.1. számú melléklet H. oszlop 23. sor + 2.2. számú melléklet H. oszlop 26. sor
A34: =+CONCATENATE(LEFT(A4,4),". évi teljesítés KIADÁSOK") -> 2017. évi teljesítés KIADÁSOK
A36: 1. sz. melléklet Kiadások táblázat E. oszlop 4 sora = | B36: 2.1. számú melléklet I. oszlop 13. sor + 2.2. számú melléklet I. oszlop 12. sor
A37: 1. sz. melléklet Kiadások táblázat E. oszlop 9 sora = | B37: 2.1. számú melléklet I. oszlop 22. sor + 2.2. számú melléklet I. oszlop 25. sor
A38: 1. sz. melléklet Kiadások táblázat E. oszlop 10 sora = | B38: 2.1. számú melléklet I. oszlop 23. sor + 2.2. számú melléklet I. oszlop 26. sor

Sheet 1.1.sz.mell.
A1: B E V É T E L E K
A2: 1. sz. táblázat | E2: Forintban!
A3: Sor- szám | B3: Bevételi jogcím | C3: =+CONCATENATE(LEFT(ÖSSZEFÜGGÉSEK!A4,4),". évi") -> 2017. évi
C4: Eredeti előirányzat | D4: Módosított előirányzat | E4: Teljesítés
A5: A | B5: B | C5: C | D5: D | E5: E
A6: 1. | B6: Önkormányzat működési támogatásai (1.1.+…+.1.6.) | C6: =SUM(C7:C12) -> 92207137 | D6: =SUM(D7:D12) -> 104021991 | E6: =SUM(E7:E12) -> 104021991
A7: 1.1. | B7: Helyi önkormányzatok működésének általános támogatása | C7: 30994697 | D7: 31994697 | E7: 31994697
A8: 1.2. | B8: Önkormányzatok egyes köznevelési feladatainak támogatása | C8: 28998310 | D8: 35984559 | E8: 35984559
A9: 1.3. | B9: Önkormányzatok szociális és gyermekjóléti feladatainak támogatása | C9: 29700430 | D9: 30290904 | E9: 30290904
A10: 1.4. | B10: Önkormányzatok kulturális feladatainak támogatása | C10: 2513700 | D10: 2975067 | E10: 2975067
A11: 1.5. | B11: Működési célú központosított előirányzatok | D11: 2609044 | E11: 2609044
A12: 1.6. | B12: Helyi önkormányzatok kiegészítő támogatásai | D12: 167720 | E12: 167720
A13: 2. | B13: Működési célú támogatások államháztartáson belülről (2.1.+…+.2.5.) | C13: =SUM(C14:C18) -> 16718160 | D13: =SUM(D14:D18) -> 18884943 | E13: =SUM(E14:E18) -> 18884943
A14: 2.1. | B14: Elvonások és befizetések bevételei
A15: 2.2. | B15: Működési célú garancia- és kezességvállalásból megtérülések
A16: 2.3. | B16: Működési célú visszatérítendő támogatások, kölcsönök visszatérülése
A17: 2.4. | B17: Működési célú visszatérítendő támogatások, kölcsönök igénybevétele
A18: 2.5. | B18: Egyéb működési célú támogatások bevételei | C18: 16718160 | D18: 18884943 | E18: 18884943
A19: 2.6. | B19: 2.5.-ből EU-s támogatás
A20: 3. | B20: Felhalmozási célú támogatások államháztartáson belülről (3.1.+…+3.5.) | C20: =SUM(C21:C25) -> 0 | D20: =SUM(D21:D25) -> 160348571 | E20: =SUM(E21:E25) -> 160348571
A21: 3.1. | B21: Felhalmozási célú önkormányzati támogatások
A22: 3.2. | B22: Felhalmozási célú garancia- és kezességvállalásból megtérülések
A23: 3.3. | B23: Felhalmozási célú visszatérítendő támogatások, kölcsönök visszatérülése
A24: 3.4. | B24: Felhalmozási célú visszatérítendő támogatások, kölcsönök igénybevétele
A25: 3.5. | B25: Egyéb felhalmozási célú támogatások bevételei | D25: 160348571 | E25: 160348571
A26: 3.6. | B26: 3.5.-ből EU-s támogatás | D26: 160348571 | E26: 160348571
A27: 4. | B27: Közhatalmi bevételek (4.1.+...+4.7.) | C27: =SUM(C28:C33) -> 113960000 | D27: =SUM(D28:D33) -> 175275260 | E27: =SUM(E28:E33) -> 162482205
A28: 4.1. | B28: Vagyoni tipusú adók | C28: 61300000 | D28: 75145498 | E28: 70849138
A29: 4.2. | B29: Idegenforgalmi adó
A30: 4.3. | B30: Iparűzési adó | C30: 45000000 | D30: 88849420 | E30: 83502044
A31: 4.5. | B31: Gépjárműadó | C31: 7500000 | D31: 9526565 | E31: 7440776
A32: 4.6. | B32: Egyéb áruhasználati és szolgáltatási adók | C32: 40000
A33: 4.7. | B33: Egyéb közhatalmi bevételek | C33: 120000 | D33: 1753777 | E33: 690247
A34: 5. | B34: Működési bevételek (5.1.+…+ 5.10.) | C34: =SUM(C35:C44) -> 26998078 | D34: =SUM(D35:D44) -> 43384492 | E34: =SUM(E35:E44) -> 37387988
A35: 5.1. | B35: Készletértékesítés ellenértéke
A36: 5.2. | B36: Szolgáltatások ellenértéke | C36: 1800000 | D36: 13740670 | E36: 13164311
A37: 5.3. | B37: Közvetített szolgáltatások értéke | C37: 700000 | D37: 1334806 | E37: 1334806
A38: 5.4. | B38: Tulajdonosi bevételek | D38: 8465556 | E38: 4684984
A39: 5.5. | B39: Ellátási díjak | C39: 19226048 | D39: 9859963 | E39: 9380127
A40: 5.6. | B40: Kiszámlázott általános forgalmi adó | C40: 5272030 | D40: 9879559 | E40: 8719822
...

Sheet 1.2.sz.mell.
A1: B E V É T E L E K
A2: 1. sz. táblázat | E2: ='1.1.sz.mell.'!E2 -> Forintban!
A3: Sor- szám | B3: Bevételi jogcím | C3: =+'1.1.sz.mell.'!C3:E3 -> 2017. évi
C4: Eredeti előirányzat | D4: Módosított előirányzat | E4: Teljesítés
A5: A | B5: B | C5: C | D5: D | E5: E
A6: 1. | B6: Önkormányzat működési támogatásai (1.1.+…+.1.6.) | C6: =SUM(C7:C12) -> 92207137 | D6: =SUM(D7:D12) -> 104021991 | E6: =SUM(E7:E12) -> 104021991
A7: 1.1. | B7: Helyi önkormányzatok működésének általános támogatása | C7: 30994697 | D7: 31994697 | E7: 31994697
A8: 1.2. | B8: Önkormányzatok egyes köznevelési feladatainak támogatása | C8: 28998310 | D8: 35984559 | E8: 35984559
A9: 1.3. | B9: Önkormányzatok szociális és gyermekjóléti feladatainak támogatása | C9: 29700430 | D9: 30290904 | E9: 30290904
A10: 1.4. | B10: Önkormányzatok kulturális feladatainak támogatása | C10: 2513700 | D10: 2975067 | E10: 2975067
A11: 1.5. | B11: Működési célú központosított előirányzatok | D11: 2609044 | E11: 2609044
A12: 1.6. | B12: Helyi önkormányzatok kiegészítő támogatásai | D12: 167720 | E12: 167720
A13: 2. | B13: Működési célú támogatások államháztartáson belülről (2.1.+…+.2.5.) | C13: =SUM(C14:C18) -> 16718160 | D13: =SUM(D14:D18) -> 18884943 | E13: =SUM(E14:E18) -> 18884943
A14: 2.1. | B14: Elvonások és befizetések bevételei
A15: 2.2. | B15: Működési célú garancia- és kezességvállalásból megtérülések
A16: 2.3. | B16: Működési célú visszatérítendő támogatások, kölcsönök visszatérülése
A17: 2.4. | B17: Működési célú visszatérítendő támogatások, kölcsönök igénybevétele
A18: 2.5. | B18: Egyéb működési célú támogatások bevételei | C18: 16718160 | D18: 18884943 | E18: 18884943
A19: 2.6. | B19: 2.5.-ből EU-s támogatás
A20: 3. | B20: Felhalmozási célú támogatások államháztartáson belülről (3.1.+…+3.5.) | C20: =SUM(C21:C25) -> 0 | D20: =SUM(D21:D25) -> 160348571 | E20: =SUM(E21:E25) -> 160348571
A21: 3.1. | B21: Felhalmozási célú önkormányzati támogatások
A22: 3.2. | B22: Felhalmozási célú garancia- és kezességvállalásból megtérülések
A23: 3.3. | B23: Felhalmozási célú visszatérítendő támogatások, kölcsönök visszatérülése
A24: 3.4. | B24: Felhalmozási célú visszatérítendő támogatások, kölcsönök igénybevétele
A25: 3.5. | B25: Egyéb felhalmozási célú támogatások bevételei | D25: 160348571 | E25: 160348571
A26: 3.6. | B26: 3.5.-ből EU-s támogatás | D26: 160348571 | E26: 160348571
A27: 4. | B27: Közhatalmi bevételek (4.1.+...+4.7.) | C27: =SUM(C28:C33) -> 113960000 | D27: =SUM(D28:D33) -> 175275260 | E27: =SUM(E28:E33) -> 162482205
A28: 4.1. | B28: Vagyoni tipusú adók | C28: 61300000 | D28: 75145498 | E28: 70849138
A29: 4.2. | B29: Idegenforgalmi adó
A30: 4.3. | B30: Iparűzési adó | C30: 45000000 | D30: 88849420 | E30: 83502044
A31: 4.5. | B31: Gépjárműadó | C31: 7500000 | D31: 9526565 | E31: 7440776
A32: 4.6. | B32: Egyéb áruhasználati és szolgáltatási adók | C32: 40000
A33: 4.7. | B33: Egyéb közhatalmi bevételek | C33: 120000 | D33: 1753777 | E33: 690247
A34: 5. | B34: Működési bevételek (5.1.+…+ 5.10.) | C34: =SUM(C35:C44) -> 26998078 | D34: =SUM(D35:D44) -> 43384492 | E34: =SUM(E35:E44) -> 37387988
A35: 5.1. | B35: Készletértékesítés ellenértéke
A36: 5.2. | B36: Szolgáltatások ellenértéke | C36: 1800000 | D36: 13740670 | E36: 13164311
A37: 5.3. | B37: Közvetített szolgáltatások értéke | C37: 700000 | D37: 1334806 | E37: 1334806
A38: 5.4. | B38: Tulajdonosi bevételek | D38: 8465556 | E38: 4684984
A39: 5.5. | B39: Ellátási díjak | C39: 19226048 | D39: 9859963 | E39: 9380127
A40: 5.6. | B40: Kiszámlázott általános forgalmi adó | C40: 5272030 | D40: 9879559 | E40: 8719822
...

Sheet 1.3.sz.mell.
A1: B E V É T E L E K
A2: 1. sz. táblázat | E2: ='1.2.sz.mell.'!E2 -> Forintban!
A3: Sor- szám | B3: Bevételi jogcím | C3: =+'1.1.sz.mell.'!C3:E3 -> 2017. évi
C4: Eredeti előirányzat | D4: Módosított előirányzat | E4: Teljesítés
A5: A | B5: B | C5: C | D5: D | E5: E
A6: 1. | B6: Önkormányzat működési támogatásai (1.1.+…+.1.6.) | C6: =SUM(C7:C12) -> 0 | D6: =SUM(D7:D12) -> 0 | E6: =SUM(E7:E12) -> 0
A7: 1.1. | B7: Helyi önkormányzatok működésének általános támogatása
A8: 1.2. | B8: Önkormányzatok egyes köznevelési feladatainak támogatása
A9: 1.3. | B9: Önkormányzatok szociális és gyermekjóléti feladatainak támogatása
A10: 1.4. | B10: Önkormányzatok kulturális feladatainak támogatása
A11: 1.5. | B11: Működési célú központosított előirányzatok
A12: 1.6. | B12: Helyi önkormányzatok kiegészítő támogatásai
A13: 2. | B13: Működési célú támogatások államháztartáson belülről (2.1.+…+.2.5.) | C13: =SUM(C14:C18) -> 0 | D13: =SUM(D14:D18) -> 0 | E13: =SUM(E14:E18) -> 0
A14: 2.1. | B14: Elvonások és befizetések bevételei
A15: 2.2. | B15: Működési célú garancia- és kezességvállalásból megtérülések
A16: 2.3. | B16: Működési célú visszatérítendő támogatások, kölcsönök visszatérülése
A17: 2.4. | B17: Működési célú visszatérítendő támogatások, kölcsönök igénybevétele
A18: 2.5. | B18: Egyéb működési célú támogatások bevételei
A19: 2.6. | B19: 2.5.-ből EU-s támogatás
A20: 3. | B20: Felhalmozási célú támogatások államháztartáson belülről (3.1.+…+3.5.) | C20: =SUM(C21:C25) -> 0 | D20: =SUM(D21:D25) -> 0 | E20: =SUM(E21:E25) -> 0
A21: 3.1. | B21: Felhalmozási célú önkormányzati támogatások
A22: 3.2. | B22: Felhalmozási célú garancia- és kezességvállalásból megtérülések
A23: 3.3. | B23: Felhalmozási célú visszatérítendő támogatások, kölcsönök visszatérülése
A24: 3.4. | B24: Felhalmozási célú visszatérítendő támogatások, kölcsönök igénybevétele
A25: 3.5. | B25: Egyéb felhalmozási célú támogatások bevételei
A26: 3.6. | B26: 3.5.-ből EU-s támogatás
A27: 4. | B27: Közhatalmi bevételek (4.1.+...+4.7.) | C27: =SUM(C28:C33) -> 0 | D27: =SUM(D28:D33) -> 0 | E27: =SUM(E28:E33) -> 0
A28: 4.1. | B28: Építményadó | D28: =+D29+D30 -> 0 | E28: =+E29+E30 -> 0
A29: 4.2. | B29: Idegenforgalmi adó
A30: 4.3. | B30: Iparűzési adó
A31: 4.5. | B31: Talajterhelési díj
A32: 4.6. | B32: Egyéb áruhasználati és szolgáltatási adók
A33: 4.7. | B33: Egyéb közhatalmi bevételek
A34: 5. | B34: Működési bevételek (5.1.+…+ 5.10.) | C34: =SUM(C35:C44) -> 0 | D34: =SUM(D35:D44) -> 0 | E34: =SUM(E35:E44) -> 0
A35: 5.1. | B35: Készletértékesítés ellenértéke
A36: 5.2. | B36: Szolgáltatások ellenértéke
A37: 5.3. | B37: Közvetített szolgáltatások értéke
A38: 5.4. | B38: Tulajdonosi bevételek
A39: 5.5. | B39: Ellátási díjak
A40: 5.6. | B40: Kiszámlázott általános forgalmi adó
...

Sheet 1.4.sz.mell.
A1: B E V É T E L E K
A2: 1. sz. táblázat | E2: ='1.3.sz.mell.'!E2 -> Forintban!
A3: Sor- szám | B3: Bevételi jogcím | C3: =+'1.1.sz.mell.'!C3:E3 -> 2017. évi
C4: Eredeti előirányzat | D4: Módosított előirányzat | E4: Teljesítés
A5: A | B5: B | C5: C | D5: D | E5: E
A6: 1. | B6: Önkormányzat működési támogatásai (1.1.+…+.1.6.) | C6: =SUM(C7:C12) -> 0 | D6: =SUM(D7:D12) -> 0 | E6: =SUM(E7:E12) -> 0
A7: 1.1. | B7: Helyi önkormányzatok működésének általános támogatása
A8: 1.2. | B8: Önkormányzatok egyes köznevelési feladatainak támogatása
A9: 1.3. | B9: Önkormányzatok szociális és gyermekjóléti feladatainak támogatása
A10: 1.4. | B10: Önkormányzatok kulturális feladatainak támogatása
A11: 1.5. | B11: Működési célú központosított előirányzatok
A12: 1.6. | B12: Helyi önkormányzatok kiegészítő támogatásai
A13: 2. | B13: Működési célú támogatások államháztartáson belülről (2.1.+…+.2.5.) | C13: =SUM(C14:C18) -> 0 | D13: =SUM(D14:D18) -> 0 | E13: =SUM(E14:E18) -> 0
A14: 2.1. | B14: Elvonások és befizetések bevételei
A15: 2.2. | B15: Működési célú garancia- és kezességvállalásból megtérülések
A16: 2.3. | B16: Működési célú visszatérítendő támogatások, kölcsönök visszatérülése
A17: 2.4. | B17: Működési célú visszatérítendő támogatások, kölcsönök igénybevétele
A18: 2.5. | B18: Egyéb működési célú támogatások bevételei
A19: 2.6. | B19: 2.5.-ből EU-s támogatás
A20: 3. | B20: Felhalmozási célú támogatások államháztartáson belülről (3.1.+…+3.5.) | C20: =SUM(C21:C25) -> 0 | D20: =SUM(D21:D25) -> 0 | E20: =SUM(E21:E25) -> 0
A21: 3.1. | B21: Felhalmozási célú önkormányzati támogatások
A22: 3.2. | B22: Felhalmozási célú garancia- és kezességvállalásból megtérülések
A23: 3.3. | B23: Felhalmozási célú visszatérítendő támogatások, kölcsönök visszatérülése
A24: 3.4. | B24: Felhalmozási célú visszatérítendő támogatások, kölcsönök igénybevétele
A25: 3.5. | B25: Egyéb felhalmozási célú támogatások bevételei
A26: 3.6. | B26: 3.5.-ből EU-s támogatás
A27: 4. | B27: Közhatalmi bevételek (4.1.+...+4.7.) | C27: =SUM(C28:C33) -> 0 | D27: =SUM(D28:D33) -> 0 | E27: =SUM(E28:E33) -> 0
A28: 4.1. | B28: Építményadó | D28: =+D29+D30 -> 0 | E28: =+E29+E30 -> 0
A29: 4.2. | B29: Idegenforgalmi adó
A30: 4.3. | B30: Iparűzési adó
A31: 4.5. | B31: Talajterhelési díj
A32: 4.6. | B32: Egyéb áruhasználati és szolgáltatási adók
A33: 4.7. | B33: Egyéb közhatalmi bevételek
A34: 5. | B34: Működési bevételek (5.1.+…+ 5.10.) | C34: =SUM(C35:C44) -> 0 | D34: =SUM(D35:D44) -> 0 | E34: =SUM(E35:E44) -> 0
A35: 5.1. | B35: Készletértékesítés ellenértéke
A36: 5.2. | B36: Szolgáltatások ellenértéke
A37: 5.3. | B37: Közvetített szolgáltatások értéke
A38: 5.4. | B38: Tulajdonosi bevételek
A39: 5.5. | B39: Ellátási díjak
A40: 5.6. | B40: Kiszámlázott általános forgalmi adó
...

Sheet 2.1.sz.mell  
B1: I. Működési célú bevételek és kiadások mérlege (Önkormányzati szinten) | J1: =+CONCATENATE("2.1. melléklet a ……/",LEFT('1.1.sz.mell.'!C3,4)+1,". (……) önkormányzati rendelethez") -> 2.1. melléklet a ……/2018. (……) önkormányzati rendelethez
I2: ='1.4.sz.mell.'!E2 -> Forintban!
A3: Sor- szám | B3: Bevételek | F3: Kiadások
B4: Megnevezés | C4: =+CONCATENATE(LEFT('1.1.sz.mell.'!C3,4),". évi eredeti előirányzat") -> 2017. évi eredeti előirányzat | D4: =+CONCATENATE(LEFT('1.1.sz.mell.'!C3,4),". évi módosított előirányzat") -> 2017. évi módosított előirányzat | E4: =+CONCATENATE(LEFT('1.1.sz.mell.'!C3,4),". évi teljesítés") -> 2017. évi teljesítés | F4: Megnevezés | G4: =+C4 -> 2017. évi eredeti előirányzat | H4: =+D4 -> 2017. évi módosított előirányzat | I4: =+E4 -> 2017. évi teljesítés
A5: A | B5: B | C5: C | D5: D | E5: E | F5: F | G5: G | H5: H | I5: I
A6: 1. | B6: Önkormányzatok működési támogatásai | C6: 92207137 | D6: 104021991 | E6: 104021991 | F6: Személyi juttatások | G6: 113513122 | H6: 120372071 | I6: 115359432
A7: 2. | B7: Működési célú támogatások államháztartáson belülről | C7: 16718160 | D7: 18884943 | E7: 18884943 | F7: Munkaadókat terhelő járulékok és szociális hozzájárulási adó | G7: 23477193 | H7: 26446494 | I7: 25481227
A8: 3. | B8: 2.-ból EU-s támogatás | F8: Dologi kiadások | G8: 121575270 | H8: 107627667 | I8: 105682724
A9: 4. | B9: Közhatalmi bevételek | C9: 113960000 | D9: 175275260 | E9: 162482205 | F9: Ellátottak pénzbeli juttatásai | G9: 10680000 | H9: 8703948 | I9: 8703948
A10: 5. | B10: Működési célú átvett pénzeszközök | D10: 333500 | E10: 333500 | F10: Egyéb működési célú kiadások | G10: 33560000 | H10: 35863548 | I10: 35793548
A11: 6. | B11: 5.-ből EU-s támogatás | F11: Tartalékok | G11: 2500000
A12: 7. | B12: Egyéb működési bevételek | C12: 26998078 | D12: 43384492 | E12: 37387988
A13: 8.
A14: 9.
A15: 10.
A16: 11.
A17: 12.
A18: 13. | B18: Költségvetési bevételek összesen (1.+2.+4.+5.+7.+…+12.) | C18: =+C6+C7+C9+C10+C12+C13+C14+C15+C16+C17 -> 249883375 | D18: =+D6+D7+D9+D10+D12+D13+D14+D15+D16+D17 -> 341900186 | E18: =+E6+E7+E9+E10+E12+E13+E14+E15+E16+E17 -> 323110627 | F18: Költségvetési kiadások összesen (1.+...+12.) | G18: =SUM(G6:G17) -> 305305585 | H18: =SUM(H6:H17) -> 299013728 | I18: =SUM(I6:I17) -> 291020879
A19: 14. | B19: Hiány belső finanszírozásának bevételei (15.+…+18. ) | C19: =+C20+C21+C22+C23 -> 53675559 | D19: =+D20+D21+D22+D23 -> 93182084 | E19: =+E20+E21+E22+E23 -> 96862942 | F19: Értékpapír vásárlása, visszavásárlása
A20: 15. | B20: Költségvetési maradvány igénybevétele | C20: 6981293 | D20: 9602042 | E20: 9602042 | F20: Likviditási célú hitelek törlesztése
A21: 16. | B21: Vállalkozási maradvány igénybevétele | F21: Rövid lejáratú hitelek törlesztése
A22: 17. | B22: ÁH-n belüli megelőlegezések | E22: 3680858 | F22: Hosszú lejáratú hitelek törlesztése
A23: 18. | B23: Egyéb belső finanszírozási bevételek | C23: 46694266 | D23: 83580042 | E23: 83580042 | F23: Kölcsön törlesztése
A24: 19. | B24: Hiány külső finanszírozásának bevételei (20.+…+21.) | C24: =+C25+C26 -> 0 | D24: =+D25+D26 -> 0 | E24: =+E25+E26 -> 0 | F24: Forgatási célú belföldi, külföldi értékpapírok vásárlása | H24: 75000000 | I24: 75000000
A25: 20. | B25: Likviditási célú hitelek, kölcsönök felvétele | F25: ÁH-n belüli megelőlegezések visszafizetése | H25: 3277299 | I25: 3277299
A26: 21. | B26: Értékpapírok bevételei
A27: 22. | B27: Működési célú finanszírozási bevételek összesen (14.+19.) | C27: =+C19+C24 -> 53675559 | D27: =+D19+D24 -> 93182084 | E27: =+E19+E24 -> 96862942 | F27: Működési célú finanszírozási kiadások összesen (14.+...+21.) | G27: =SUM(G19:G26) -> 0 | H27: =SUM(H19:H26) -> 78277299 | I27: =SUM(I19:I26) -> 78277299
A28: 23. | B28: BEVÉTEL ÖSSZESEN (13.+22.) | C28: =+C18+C27 -> 303558934 | D28: =+D18+D27 -> 435082270 | E28: =+E18+E27 -> 419973569 | F28: KIADÁSOK ÖSSZESEN (13.+22.) | G28: =+G18+G27 -> 305305585 | H28: =+H18+H27 -> 377291027 | I28: =+I18+I27 -> 369298178
A29: 24. | B29: Költségvetési hiány: | C29: =IF(C18-G18<0,G18-C18,"-") -> 55422210 | D29: =IF(D18-H18<0,H18-D18,"-") -> - | E29: =IF(E18-I18<0,I18-E18,"-") -> - | F29: Költségvetési többlet: | G29: =IF(C18-G18>0,C18-G18,"-") -> - | H29: =IF(D18-H18>0,D18-H18,"-") -> 42886458 | I29: =IF(E18-I18>0,E18-I18,"-") -> 32089748
A30: 25. | B30: Bruttó hiány: | C30: =IF(C28-G28<0,G28-C28,"-") -> 1746651 | D30: =IF(D28-H28<0,H28-D28,"-") -> - | E30: =IF(E28-I28<0,I28-E28,"-") -> - | F30: Bruttó többlet: | G30: =IF(C28-G28>0,C28-G28,"-") -> - | H30: =IF(D28-H28>0,D28-H28,"-") -> 57791243 | I30: =IF(E28-I28>0,E28-I28,"-") -> 50675391

Sheet 2.2.sz.mell  
B1: II. Felhalmozási célú bevételek és kiadások mérlege (Önkormányzati szinten) | J1: =+CONCATENATE("2.2. melléklet a ……/",LEFT('1.1.sz.mell.'!C3,4)+1,". (……) önkormányzati rendelethez") -> 2.2. melléklet a ……/2018. (……) önkormányzati rendelethez
I2: ='2.1.sz.mell '!I2 -> Forintban!
A3: Sor- szám | B3: Bevételek | F3: Kiadások
B4: Megnevezés | C4: =+'2.1.sz.mell '!C4 -> 2017. évi eredeti előirányzat | D4: =+'2.1.sz.mell '!D4 -> 2017. évi módosított előirányzat | E4: =+'2.1.sz.mell '!E4 -> 2017. évi teljesítés | F4: Megnevezés | G4: =+'2.1.sz.mell '!C4 -> 2017. évi eredeti előirányzat | H4: =+'2.1.sz.mell '!D4 -> 2017. évi módosított előirányzat | I4: =+'2.1.sz.mell '!E4 -> 2017. évi teljesítés
A5: A | B5: B | C5: C | D5: D | E5: E | F5: F | G5: G | H5: H | I5: I
A6: 1. | B6: Felhalmozási célú támogatások államháztartáson belülről | D6: 160348571 | E6: 160348571 | F6: Beruházások | G6: 6983349 | H6: 182340416 | I6: 19061845
A7: 2. | B7: 1.-ből EU-s támogatás | D7: 160348571 | E7: 160348571 | F7: 1.-ből EU-s forrásból megvalósuló beruházás | H7: 160348571
A8: 3. | B8: Felhalmozási bevételek | C8: 10000000 | D8: 8404650 | E8: 8404650 | F8: Felújítások | G8: 1270000 | H8: 41518298 | I8: 1931405
A9: 4. | B9: Felhalmozási célú átvett pénzeszközök átvétele | D9: 914250 | E9: 807597 | F9: 3.-ból EU-s forrásból megvalósuló felújítás
A10: 5. | B10: 4.-ből EU-s támogatás (közvetlen) | F10: Egyéb felhalmozási kiadások | H10: 3600000 | I10: 3600000
A11: 6. | B11: Egyéb felhalmozási célú bevételek
A12: 7.
A13: 8.
A14: 9.
A15: 10.
A16: 11. | F16: Tartalékok
A17: 12. | B17: Költségvetési bevételek összesen: (1.+3.+4.+6.+…+11.) | C17: =+C6+C8+C9+C11+C12+C13+C14+C15+C16 -> 10000000 | D17: =+D6+D8+D9+D11+D12+D13+D14+D15+D16 -> 169667471 | E17: =+E6+E8+E9+E11+E12+E13+E14+E15+E16 -> 169560818 | F17: Költségvetési kiadások összesen: (1.+3.+5.+...+11.) | G17: =+G6+G8+G10+G11+G12+G13+G14+G15+G16 -> 8253349 | H17: =+H6+H8+H10+H11+H12+H13+H14+H15+H16 -> 227458714 | I17: =+I6+I8+I10+I11+I12+I13+I14+I15+I16 -> 24593250
A18: 13. | B18: Hiány belső finanszírozás bevételei ( 14+…+18) | C18: =+C19+C20+C21+C22+C23 -> 0 | D18: =+D19+D20+D21+D22+D23 -> 0 | E18: =+E19+E20+E21+E22+E23 -> 0 | F18: Értékpapír vásárlása, visszavásárlása
A19: 14. | B19: Költségvetési maradvány igénybevétele | F19: Hitelek törlesztése
A20: 15. | B20: Vállalkozási maradvány igénybevétele | F20: Rövid lejáratú hitelek törlesztése
A21: 16. | B21: Betét visszavonásából származó bevétel | F21: Hosszú lejáratú hitelek törlesztése
A22: 17. | B22: Értékpapír értékesítése | F22: Kölcsön törlesztése
A23: 18. | B23: Egyéb belső finanszírozási bevételek | F23: Befektetési célú belföldi, külföldi értékpapírok vásárlása
A24: 19. | B24: Hiány külső finanszírozásának bevételei (20+…+24 ) | C24: =+C25+C26+C27+C28+C29 -> 0 | D24: =+D25+D26+D27+D28+D29 -> 0 | E24: =+E25+E26+E27+E28+E29 -> 0 | F24: Betét elhelyezése
A25: 20. | B25: Hosszú lejáratú hitelek, kölcsönök felvétele | F25: Pénzügyi lízing kiadásai
A26: 21. | B26: Likviditási célú hitelek, kölcsönök felvétele
A27: 22. | B27: Rövid lejáratú hitelek, kölcsönök felvétele
A28: 23. | B28: Értékpapírok kibocsátása
A29: 24. | B29: Egyéb külső finanszírozási bevételek
A30: 25. | B30: Felhalmozási célú finanszírozási bevételek összesen (13.+19.) | C30: =+C18+C24 -> 0 | D30: =+D18+D24 -> 0 | E30: =+E18+E24 -> 0 | F30: Felhalmozási célú finanszírozási kiadások összesen (13.+...+24.) | G30: =SUM(G18:G29) -> 0 | H30: =SUM(H18:H29) -> 0 | I30: =SUM(I18:I29) -> 0
A31: 26. | B31: BEVÉTEL ÖSSZESEN (12+25) | C31: =+C17+C30 -> 10000000 | D31: =+D17+D30 -> 169667471 | E31: =+E17+E30 -> 169560818 | F31: KIADÁSOK ÖSSZESEN (12+25) | G31: =+G17+G30 -> 8253349 | H31: =+H17+H30 -> 227458714 | I31: =+I17+I30 -> 24593250
A32: 27. | B32: Költségvetési hiány: | C32: =IF(C17-G17<0,G17-C17,"-") -> - | D32: =IF(D17-H17<0,H17-D17,"-") -> 57791243 | E32: =IF(E17-I17<0,I17-E17,"-") -> - | F32: Költségvetési többlet: | G32: =IF(C17-G17>0,C17-G17,"-") -> 1746651 | H32: =IF(D17-H17>0,D17-H17,"-") -> - | I32: =IF(E17-I17>0,E17-I17,"-") -> 144967568
A33: 28. | B33: Bruttó hiány: | C33: =IF(C31-G31<0,G31-C31,"-") -> - | D33: =IF(D31-H31<0,H31-D31,"-") -> 57791243 | E33: =IF(E31-I31<0,I31-E31,"-") -> - | F33: Bruttó többlet: | G33: =IF(C31-G31>0,C31-G31,"-") -> 1746651 | H33: =IF(D31-H31>0,D31-H31,"-") -> - | I33: =IF(E31-I31>0,E31-I31,"-") -> 144967568

Sheet ELLENŐRZÉS-1.sz.2.1.sz.2.2.sz.
A1: Költségvetési rendelet űrlapjainak összefüggései: | E1: ELTÉRÉS
A4: =+ÖSSZEFÜGGÉSEK!A4 -> 2017. évi eredeti előirányzat BEVÉTELEK
A6: 1. sz. melléklet Bevételek táblázat C. oszlop 9 sora = | B6: =+'1.1.sz.mell.'!C61 -> 259883375 | C6: 2.1. számú melléklet C. oszlop 13. sor + 2.2. számú melléklet C. oszlop 12. sor | D6: =+'2.1.sz.mell '!C18+'2.2.sz.mell '!C17 -> 259883375 | E6: =+B6-D6 -> 0
A7: 1. sz. melléklet Bevételek táblázat C. oszlop 16 sora = | B7: =+'1.1.sz.mell.'!C84 -> 53675559 | C7: 2.1. számú melléklet C. oszlop 22. sor + 2.2. számú melléklet C. oszlop 25. sor | D7: =+'2.1.sz.mell '!C27+'2.2.sz.mell '!C30 -> 53675559 | E7: =+B7-D7 -> 0
A8: 1. sz. melléklet Bevételek táblázat C. oszlop 17 sora = | B8: =+'1.1.sz.mell.'!C85 -> 313558934 | C8: 2.1. számú melléklet C. oszlop 23. sor + 2.2. számú melléklet C. oszlop 26. sor | D8: =+'2.1.sz.mell '!C28+'2.2.sz.mell '!C31 -> 313558934 | E8: =+B8-D8 -> 0
A10: =+ÖSSZEFÜGGÉSEK!A10 -> 2017. évi módosított előirányzat BEVÉTELEK
A12: 1. sz. melléklet Bevételek táblázat D. oszlop 9 sora = | B12: =+'1.1.sz.mell.'!D61 -> 511567657 | C12: 2.1. számú melléklet D. oszlop 13. sor + 2.2. számú melléklet D. oszlop 12. sor | D12: =+'2.1.sz.mell '!D18+'2.2.sz.mell '!D17 -> 511567657 | E12: =+B12-D12 -> 0
A13: 1. sz. melléklet Bevételek táblázat D. oszlop 16 sora = | B13: =+'1.1.sz.mell.'!D84 -> 93182084 | C13: 2.1. számú melléklet D. oszlop 22. sor + 2.2. számú melléklet D. oszlop 25. sor | D13: =+'2.1.sz.mell '!D27+'2.2.sz.mell '!D30 -> 93182084 | E13: =+B13-D13 -> 0
A14: 1. sz. melléklet Bevételek táblázat D. oszlop 17 sora = | B14: =+'1.1.sz.mell.'!D85 -> 604749741 | C14: 2.1. számú melléklet D. oszlop 23. sor + 2.2. számú melléklet D. oszlop 26. sor | D14: =+'2.1.sz.mell '!D28+'2.2.sz.mell '!D31 -> 604749741 | E14: =+B14-D14 -> 0
A16: =+ÖSSZEFÜGGÉSEK!A16 -> 2017. évi teljesítés BEVÉTELEK
A18: 1. sz. melléklet Bevételek táblázat E. oszlop 9 sora = | B18: =+'1.1.sz.mell.'!E61 -> 492671445 | C18: 2.1. számú melléklet E. oszlop 13. sor + 2.2. számú melléklet E. oszlop 12. sor | D18: =+'2.1.sz.mell '!E18+'2.2.sz.mell '!E17 -> 492671445 | E18: =+B18-D18 -> 0
A19: 1. sz. melléklet Bevételek táblázat E. oszlop 16 sora = | B19: =+'1.1.sz.mell.'!E84 -> 96862942 | C19: 2.1. számú melléklet E. oszlop 22. sor + 2.2. számú melléklet E. oszlop 25. sor | D19: =+'2.1.sz.mell '!E27+'2.2.sz.mell '!E30 -> 96862942 | E19: =+B19-D19 -> 0
A20: 1. sz. melléklet Bevételek táblázat E. oszlop 17 sora = | B20: =+'1.1.sz.mell.'!E85 -> 589534387 | C20: 2.1. számú melléklet E. oszlop 23. sor + 2.2. számú melléklet E. oszlop 26. sor | D20: =+'2.1.sz.mell '!E28+'2.2.sz.mell '!E31 -> 589534387 | E20: =+B20-D20 -> 0
A22: =+ÖSSZEFÜGGÉSEK!A22 -> 2017. évi eredeti előirányzat KIADÁSOK
A24: 1. sz. melléklet Kiadások táblázat C. oszlop 4 sora = | B24: =+'1.1.sz.mell.'!C125 -> 313558934 | C24: 2.1. számú melléklet G. oszlop 13. sor + 2.2. számú melléklet G. oszlop 12. sor | D24: =+'2.1.sz.mell '!G18+'2.2.sz.mell '!G17 -> 313558934 | E24: =+B24-D24 -> 0
A25: 1. sz. melléklet Kiadások táblázat C. oszlop 9 sora = | B25: =+'1.1.sz.mell.'!C145 -> 0 | C25: 2.1. számú melléklet G. oszlop 22. sor + 2.2. számú melléklet G. oszlop 25. sor | D25: =+'2.1.sz.mell '!G27+'2.2.sz.mell '!G30 -> 0 | E25: =+B25-D25 -> 0
A26: 1. sz. melléklet Kiadások táblázat C. oszlop 10 sora = | B26: =+'1.1.sz.mell.'!C146 -> 313558934 | C26: 2.1. számú melléklet G. oszlop 23. sor + 2.2. számú melléklet G. oszlop 26. sor | D26: =+'2.1.sz.mell '!G28+'2.2.sz.mell '!G31 -> 313558934 | E26: =+B26-D26 -> 0
A28: =+ÖSSZEFÜGGÉSEK!A28 -> 2017. évi módosított előirányzat KIADÁSOK
A30: 1. sz. melléklet Kiadások táblázat D. oszlop 4 sora = | B30: =+'1.1.sz.mell.'!D125 -> 526472442 | C30: 2.1. számú melléklet H. oszlop 13. sor + 2.2. számú melléklet H. oszlop 12. sor | D30: =+'2.1.sz.mell '!H18+'2.2.sz.mell '!H17 -> 526472442 | E30: =+B30-D30 -> 0
A31: 1. sz. melléklet Kiadások táblázat D. oszlop 9 sora = | B31: =+'1.1.sz.mell.'!D145 -> 78277299 | C31: 2.1. számú melléklet H. oszlop 22. sor + 2.2. számú melléklet H. oszlop 25. sor | D31: =+'2.1.sz.mell '!H27+'2.2.sz.mell '!H30 -> 78277299 | E31: =+B31-D31 -> 0
A32: 1. sz. melléklet Kiadások táblázat D. oszlop 10 sora = | B32: =+'1.1.sz.mell.'!D146 -> 604749741 | C32: 2.1. számú melléklet H. oszlop 23. sor + 2.2. számú melléklet H. oszlop 26. sor | D32: =+'2.1.sz.mell '!H28+'2.2.sz.mell '!H31 -> 604749741 | E32: =+B32-D32 -> 0
A34: =+ÖSSZEFÜGGÉSEK!A34 -> 2017. évi teljesítés KIADÁSOK
A36: 1. sz. melléklet Kiadások táblázat E. oszlop 4 sora = | B36: =+'1.1.sz.mell.'!E125 -> 315614129 | C36: 2.1. számú melléklet I. oszlop 13. sor + 2.2. számú melléklet I. oszlop 12. sor | D36: =+'2.1.sz.mell '!I18+'2.2.sz.mell '!I17 -> 315614129 | E36: =+B36-D36 -> 0
A37: 1. sz. melléklet Kiadások táblázat E. oszlop 9 sora = | B37: =+'1.1.sz.mell.'!E145 -> 78277299 | C37: 2.1. számú melléklet I. oszlop 22. sor + 2.2. számú melléklet I. oszlop 25. sor | D37: =+'2.1.sz.mell '!I27+'2.2.sz.mell '!I30 -> 78277299 | E37: =+B37-D37 -> 0
A38: 1. sz. melléklet Kiadások táblázat E. oszlop 10 sora = | B38: =+'1.1.sz.mell.'!E146 -> 393891428 | C38: 2.1. számú melléklet I. oszlop 23. sor + 2.2. számú melléklet I. oszlop 26. sor | D38: =+'2.1.sz.mell '!I28+'2.2.sz.mell '!I31 -> 393891428 | E38: =+B38-D38 -> 0

Sheet 3.sz.mell.
A1: Beruházási (felhalmozási) kiadások előirányzata beruházásonként | H1: =+CONCATENATE("3. melléklet a ……/",LEFT(ÖSSZEFÜGGÉSEK!A4,4)+1,". (……) önkormányzati rendelethez") -> 3. melléklet a ……/2018. (……) önkormányzati rendelethez
G2: ='2.2.sz.mell '!I2 -> Forintban!
A3: Beruházás megnevezése | B3: Teljes költség | C3: Kivitelezés kezdési és befejezési éve | D3: =+CONCATENATE("Felhasználás ",LEFT(ÖSSZEFÜGGÉSEK!A4,4)-1,". XII.31-ig") -> Felhasználás 2016. XII.31-ig | E3: =+CONCATENATE(LEFT(ÖSSZEFÜGGÉSEK!A4,4),". évi módosított előirányzat") -> 2017. évi módosított előirányzat | F3: =+CONCATENATE(LEFT(ÖSSZEFÜGGÉSEK!A4,4),". évi teljesítés") -> 2017. évi teljesítés | G3: =+CONCATENATE("Összes teljesítés ",LEFT(ÖSSZEFÜGGÉSEK!A4,4),". dec. 31-ig") -> Összes teljesítés 2017. dec. 31-ig
A4: A | B4: B | C4: C | D4: D | E4: E | F4: F | G4: G=(D+F)
A5: ÖNK immateriális javak beszerzése, létesítése | B5: 1016000 | C5: 2017 | E5: 1016000 | F5: 1016000 | G5: =+D5+F5 -> 1016000
A6: ÖNK ingatlanok beszerzése, létesítése | B6: 8218180 | C6: 2017 | E6: 8218180 | F6: 8218180 | G6: =+D6+F6 -> 8218180
A7: Óvoda felújítás - TOP | B7: 173524821 | C7: 2017-2018 | E7: 167088571 | F7: 3810000 | G7: =+D7+F7 -> 3810000
A8: Térfigyelő kamerarendszer beüzemelése | B8: 3665000 | C8: 2014-2017 | D8: 2636300 | E8: 0 | F8: 0
A9: Polgármesteri Hivatal udvar térkő lerakás | B9: 2286000 | C9: 2017 | E9: 2438140.3 | F9: 2438140.3 | G9: =+D9+F9 -> 2438140.3
A10: PH udvarra garázs építés | B10: 508000 | C10: 2017 | G10: =+D10+F10 -> 0
A11: ÖNK informatikai eszközök beszerzése, létesítése | B11: 132876.29 | C11: 2017 | E11: 132876.29 | F11: 132876.29 | G11: =+D11+F11 -> 132876.29
A12: ÖNK egyéb eszköz beszerzése, pótlása | B12: 658749 | C12: 2017 | E12: 1993841.6 | F12: 1993841.6 | G12: =+D12+F12 -> 1993841.6
A13: ÁMK egyéb tárgyi eszközök beszerzése, pótlása | B13: 1231900 | C13: 2017 | E13: 979953.83 | F13: 979953.83 | G13: =+D13+F13 -> 979953.83
A14: ÁMK informatikai tárgyi eszközök beszerzése, pótlása | B14: 142036.8 | E14: 142036.8 | F14: 142036.8 | G14: =+D14+F14 -> 142036.8
A15: PH informatikai eszköz beszerzése, pótlása | B15: 635000 | C15: 2017 | E15: 300482 | F15: 300482 | G15: =+D15+F15 -> 300482
A16: PH egyéb tárgyi eszköz beszerzése, pótlása | B16: 635000 | C16: 2017 | E16: 30334 | F16: 30334 | G16: =+D16+F16 -> 30334
G17: =+D17+F17 -> 0
G18: =+D18+F18 -> 0
G19: =+D19+F19 -> 0
G20: =+D20+F20 -> 0
G21: =+D21+F21 -> 0
G22: =+D22+F22 -> 0
G23: =+D23+F23 -> 0
A24: ÖSSZESEN: | B24: =SUM(B5:B23) -> 1.9265356e+08 | D24: =SUM(D5:D23) -> 2636300 | E24: =SUM(E5:E23) -> 1.8234042e+08 | F24: =SUM(F5:F23) -> 19061845 | G24: =SUM(G5:G23) -> 19061845

Sheet 4.sz.mell.
A1: Felújítási kiadások előirányzata felújításonként | H1: =+CONCATENATE("4. melléklet a ……/",LEFT(ÖSSZEFÜGGÉSEK!A4,4)+1,". (……) önkormányzati rendelethez") -> 4. melléklet a ……/2018. (……) önkormányzati rendelethez
G2: ='3.sz.mell.'!G2 -> Forintban!
A3: Felújítás megnevezése | B3: Teljes költség | C3: Kivitelezés kezdési és befejezési éve | D3: =+'3.sz.mell.'!D3 -> Felhasználás 2016. XII.31-ig | E3: =+'3.sz.mell.'!E3 -> 2017. évi módosított előirányzat | F3: =+'3.sz.mell.'!F3 -> 2017. évi teljesítés | G3: =+'3.sz.mell.'!G3 -> Összes teljesítés 2017. dec. 31-ig
A4: A | B4: B | C4: C | D4: D | E4: E | F4: F | G4: G=(D+F)
A5: ÖNK. Épületek szükségszerű felújítása | B5: 1270000 | C5: 2017 | E5: 1931405 | F5: 1931405 | G5: =+D5+F5 -> 1931405
A6: - Szabadidőpark közvilágítás korszerűsítés 450 000 | G6: =+D6+F6 -> 0
A7: - Óvoda vizesblokk felújítása 3. csop. 1 481 405 | G7: =+D7+F7 -> 0
A8: ÖNK épületek, építmények felújítása | B8: 41518298 | C8: 2017-2018 | E8: 41518298 | G8: =+D8+F8 -> 0
G9: =+D9+F9 -> 0
G10: =+D10+F10 -> 0
G11: =+D11+F11 -> 0
G12: =+D12+F12 -> 0
G13: =+D13+F13 -> 0
G14: =+D14+F14 -> 0
G15: =+D15+F15 -> 0
G16: =+D16+F16 -> 0
G17: =+D17+F17 -> 0
G18: =+D18+F18 -> 0
G19: =+D19+F19 -> 0
G20: =+D20+F20 -> 0
... G23: =+D23+F23 -> 0
A24: ÖSSZESEN: | B24: =SUM(B5:B23) -> 42788298 | D24: =SUM(D5:D23) -> 0 | E24: =SUM(E5:E23) -> 43449703 | F24: =SUM(F5:F23) -> 1931405 | G24: =SUM(G5:G23) -> 1931405

Sheet 5. sz. mell. 
A1: EU-s projekt neve, azonosítója: | N1: =+CONCATENATE("5. melléklet a ……/",LEFT(ÖSSZEFÜGGÉSEK!A4,4)+1,". (……) önkormányzati rendelethez ") -> 5. melléklet a ……/2018. (……) önkormányzati rendelethez
A2: KÖFOP-1-2-1-VEKOP-16- Csatlakozási konsrtukció az önkormányzati ASP rendszer országos kiterjesztéséhez | M2: ='4.sz.mell.'!G2 -> Forintban!
A3: Források | B3: Támogatási szerződés szerinti bevételek, kiadások | J3: Teljesítés
B4: Eredeti | C4: Módosított | D4: Évenkénti üteme
D5: Eredeti | E5: Módosított | F5: Eredeti | G5: Módosított | H5: Eredeti | I5: Módosított
B6: Összes bevétel, kiadás | D6: =+CONCATENATE(LEFT(ÖSSZEFÜGGÉSEK!A4,4),". előtt") -> 2017. előtt | F6: =+CONCATENATE(LEFT(ÖSSZEFÜGGÉSEK!A4,4),". évi") -> 2017. évi | H6: =+CONCATENATE(LEFT(ÖSSZEFÜGGÉSEK!A4,4),". után") -> 2017. után | J6: =+D6 -> 2017. előtt | K6: =+F6 -> 2017. évi | L6: Összesen | M6: =+CONCATENATE("Teljesítés %-a ",LEFT(ÖSSZEFÜGGÉSEK!A4,4),". XII. 31-ig") -> Teljesítés %-a 2017. XII. 31-ig
A7: A | B7: B | C7: C | D7: D | E7: E | F7: F | G7: G | H7: H | I7: I | J7: J | K7: K | L7: L=(J+K) | M7: M=(L/C)
A8: Saját erő | L8: =+J8+K8 -> 0 | M8: =IF((C8<>0),ROUND((L8/C8)*100,1),"")
A9: - saját erőből központi támogatás | L9: =+J9+K9 -> 0 | M9: =IF((C9<>0),ROUND((L9/C9)*100,1),"")
A10: EU-s forrás | E10: 6000000 | J10: 6000000 | L10: 6000000 | M10: 100
A11: Társfinanszírozás | L11: =+J11+K11 -> 0 | M11: =IF((C11<>0),ROUND((L11/C11)*100,1),"")
A12: Hitel | L12: =+J12+K12 -> 0 | M12: =IF((C12<>0),ROUND((L12/C12)*100,1),"")
A13: Egyéb forrás | L13: =+J13+K13 -> 0 | M13: =IF((C13<>0),ROUND((L13/C13)*100,1),"")
L14: =+J14+K14 -> 0 | M14: =IF((C14<>0),ROUND((L14/C14)*100,1),"")
A15: Források összesen: | B15: =B8+SUM(B10:B14) -> 0 | C15: =C8+SUM(C10:C14) -> 0 | D15: =D8+SUM(D10:D14) -> 0 | E15: =E8+SUM(E10:E14) -> 6000000 | F15: =F8+SUM(F10:F14) -> 0 | G15: =G8+SUM(G10:G14) -> 0 | H15: =H8+SUM(H10:H14) -> 0 | I15: =I8+SUM(I10:I14) -> 0 | ... L15: =L8+SUM(L10:L14) -> 6000000 | M15: =IF((C15<>0),ROUND((L15/C15)*100,1),"")
A17: Kiadások, költségek
A18: Személyi jellegű | G18: 50538 | K18: 50538 | L18: =+J18+K18 -> 50538 | M18: 0.84
A19: Beruházások, beszerzések | E19: 3294507 | G19: 111176 | J19: 3294507 | K19: 111176 | L19: =+J19+K19 -> 3405683 | M19: 56.76
A20: Szolgáltatások igénybe vétele | G20: 871200 | K20: 871200 | L20: =+J20+K20 -> 871200 | M20: 14.52
A21: Adminisztratív költségek | L21: =+J21+K21 -> 0 | M21: =IF((C21<>0),ROUND((L21/C21)*100,1),"")
L22: =+J22+K22 -> 0 | M22: =IF((C22<>0),ROUND((L22/C22)*100,1),"")
L23: =+J23+K23 -> 0 | M23: =IF((C23<>0),ROUND((L23/C23)*100,1),"")
A24: Kiadások összesen: | B24: =SUM(B18:B23) -> 0 | C24: =SUM(C18:C23) -> 0 | D24: =SUM(D18:D23) -> 0 | E24: =SUM(E18:E23) -> 3294507 | F24: =SUM(F18:F23) -> 0 | G24: =SUM(G18:G23) -> 1032914 | H24: =SUM(H18:H23) -> 0 | I24: =SUM(I18:I23) -> 0 | ... L24: =SUM(L18:L23) -> 4327421 | M24: 72.12
A25: * Amennyiben több projekt megvalósítása történi egy időben akkor azokat külön-külön, projektenként be kell mutatni!
A27: =+CONCATENATE("Önkormányzaton kívüli EU-s projekthez történő hozzájárulás ",LEFT(ÖSSZEFÜGGÉSEK!A4,4),". évi előirányzata és teljesítése") -> Önkormányzaton kívüli EU-s projekthez történő hozzájárulás 2017. évi előirányzata és teljesítése
L28: =M2 -> Forintban!
A29: Támogatott neve | K29: Eredeti ei. | L29: Módosított ei. | M29: Teljesítés
A32: Összesen: | K32: =SUM(K30:K31) -> 0 | L32: =SUM(L30:L31) -> 0 | M32: =SUM(M30:M31) -> 0
A34: EU-s projekt neve, azonosítója:
A35: TOP 1-4-1-15-Bo12016-00080 Óvoda és konyha fejlesztése Sajószögeden | M35: ='4.sz.mell.'!G36 -> 0
A36: Források | B36: Támogatási szerződés szerinti bevételek, kiadások | J36: Teljesítés
B37: Eredeti | C37: Módosított | D37: Évenkénti üteme
D38: Eredeti | E38: Módosított | F38: Eredeti | G38: Módosított | H38: Eredeti | I38: Módosított
B39: Összes bevétel, kiadás | D39: 2017. előtt | F39: 2017. évi | H39: 2017. után | J39: =+D39 -> 2017. előtt | K39: =+F39 -> 2017. évi | L39: Összesen | M39: =+CONCATENATE("Teljesítés %-a ",LEFT(ÖSSZEFÜGGÉSEK!A38,4),". XII. 31-ig") -> Teljesítés %-a 1. s. XII. 31-ig
A40: A | B40: B | C40: C | D40: D | E40: E | F40: F | G40: G | H40: H | I40: I | J40: J | K40: K | L40: L=(J+K) | M40: M=(L/C)
A41: Saját erő | L41: =+J41+K41 -> 0 | M41: =IF((C41<>0),ROUND((L41/C41)*100,1),"")
A42: - saját erőből központi támogatás | L42: =+J42+K42 -> 0 | M42: =IF((C42<>0),ROUND((L42/C42)*100,1),"")
A43: EU-s forrás | E43: 160348571 | H43: 13176250 | J43: 160348571 | L43: 160348571 | M43: 92
A44: Társfinanszírozás | L44: =+J44+K44 -> 0 | M44: =IF((C44<>0),ROUND((L44/C44)*100,1),"")
A45: Hitel | L45: =+J45+K45 -> 0 | M45: =IF((C45<>0),ROUND((L45/C45)*100,1),"")
...

Sheet 6.1. sz. mell
E1: =+CONCATENATE("6.1. melléklet a ……/",LEFT(ÖSSZEFÜGGÉSEK!A4,4)+1,". (……) önkormányzati rendelethez") -> 6.1. melléklet a ……/2018. (……) önkormányzati rendelethez
A2: Megnevezés | B2: Sajószöged Községi Önkormányzat | E2: 01
A3: Feladat megnevezése | B3: Összes bevétel, kiadás | E3: 01
E4: ='5. sz. mell. '!M2 -> Forintban!
A5: Száma | B5: Kiemelt előirányzat, előirányzat megnevezése | C5: Eredeti előirányzat | D5: Módosított előirányzat | E5: Teljesítés
A6: A | B6: B | C6: C | D6: D | E6: E
A7: Bevételek
A8: 1. | B8: Önkormányzat működési támogatásai (1.1.+…+.1.6.) | C8: =SUM(C9:C14) -> 92207137 | D8: =SUM(D9:D14) -> 104021991 | E8: =SUM(E9:E14) -> 104021991
A9: 1.1. | B9: Helyi önkormányzatok működésének általános támogatása | C9: 30994697 | D9: 31994697 | E9: 31994697
A10: 1.2. | B10: Önkormányzatok egyes köznevelési feladatainak támogatása | C10: 28998310 | D10: 35984559 | E10: 35984559
A11: 1.3. | B11: Önkormányzatok szociális és gyermekjóléti feladatainak támogatása | C11: 29700430 | D11: 30290904 | E11: 30290904
A12: 1.4. | B12: Önkormányzatok kulturális feladatainak támogatása | C12: 2513700 | D12: 2975067 | E12: 2975067
A13: 1.5. | B13: Működési célú központosított előirányzatok | D13: 2609044 | E13: 2609044
A14: 1.6. | B14: Helyi önkormányzatok kiegészítő támogatásai | D14: 167720 | E14: 167720
A15: 2. | B15: Működési célú támogatások államháztartáson belülről (2.1.+…+.2.5.) | C15: =SUM(C16:C20) -> 16718160 | D15: =SUM(D16:D20) -> 18884943 | E15: =SUM(E16:E20) -> 18884943
A16: 2.1. | B16: Elvonások és befizetések bevételei
A17: 2.2. | B17: Működési célú garancia- és kezességvállalásból megtérülések
A18: 2.3. | B18: Működési célú visszatérítendő támogatások, kölcsönök visszatérülése
A19: 2.4. | B19: Működési célú visszatérítendő támogatások, kölcsönök igénybevétele
A20: 2.5. | B20: Egyéb működési célú támogatások bevételei | C20: 16718160 | D20: 18884943 | E20: 18884943
A21: 2.6. | B21: 2.5.-ből EU-s támogatás
A22: 3. | B22: Felhalmozási célú támogatások államháztartáson belülről (3.1.+…+3.5.) | C22: =SUM(C23:C27) -> 0 | D22: =SUM(D23:D27) -> 160348571 | E22: =SUM(E23:E27) -> 160348571
A23: 3.1. | B23: Felhalmozási célú önkormányzati támogatások
A24: 3.2. | B24: Felhalmozási célú garancia- és kezességvállalásból megtérülések
A25: 3.3. | B25: Felhalmozási célú visszatérítendő támogatások, kölcsönök visszatérülése
A26: 3.4. | B26: Felhalmozási célú visszatérítendő támogatások, kölcsönök igénybevétele
A27: 3.5. | B27: Egyéb felhalmozási célú támogatások bevételei | D27: 160348571 | E27: 160348571
A28: 3.6. | B28: 3.5.-ből EU-s támogatás | D28: 160348571 | E28: 160348571
A29: 4. | B29: Közhatalmi bevételek (4.1.+...+4.7.) | C29: =SUM(C30:C35) -> 113940000 | D29: =SUM(D30:D35) -> 175249260 | E29: =SUM(E30:E35) -> 162456205
A30: 4.1. | B30: Vagyoni tipusú adók | C30: 61300000 | D30: 75145498 | E30: 70849138
A31: 4.2. | B31: Idegenforgalmi adó
A32: 4.3. | B32: Iparűzési adó | C32: 45000000 | D32: 88849420 | E32: 83502044
A33: 4.5. | B33: Gépjárműadó | C33: 7500000 | D33: 9526565 | E33: 7440776
A34: 4.6. | B34: Egyéb áruhasználati és szolgáltatási adók | C34: 40000
A35: 4.7. | B35: Egyéb közhatalmi bevételek | C35: 100000 | D35: 1727777 | E35: 664247
A36: 5. | B36: Működési bevételek (5.1.+…+ 5.10.) | C36: =SUM(C37:C46) -> 15588958 | D36: =SUM(D37:D46) -> 30839513 | E36: =SUM(E37:E46) -> 24884557
A37: 5.1. | B37: Készletértékesítés ellenértéke
A38: 5.2. | B38: Szolgáltatások ellenértéke | C38: 1700000 | D38: 4734097 | E38: 4180195
A39: 5.3. | B39: Közvetített szolgáltatások értéke | C39: 700000 | D39: 1334806 | E39: 1334806
A40: 5.4. | B40: Tulajdonosi bevételek | D40: 8465556 | E40: 4684984
...

Sheet 6.2. sz. mell
E1: =+CONCATENATE("6.2. melléklet a ……/",LEFT(ÖSSZEFÜGGÉSEK!A4,4)+1,". (……) önkormányzati rendelethez") -> 6.2. melléklet a ……/2018. (……) önkormányzati rendelethez
A2: Megnevezés | B2: Sajószöged Községi Önkormányzat | E2: 01
A3: Feladat megnevezése | B3: Kötelező feladatok | E3: 02
E4: ='6.1. sz. mell'!E4 -> Forintban!
A5: Száma | B5: Kiemelt előirányzat, előirányzat megnevezése | C5: Eredeti előirányzat | D5: Módosított előirányzat | E5: Teljesítés
A6: A | B6: B | C6: C | D6: D | E6: E
A7: Bevételek
A8: 1. | B8: Önkormányzat működési támogatásai (1.1.+…+.1.6.) | C8: =SUM(C9:C14) -> 92207137 | D8: =SUM(D9:D14) -> 104021991 | E8: =SUM(E9:E14) -> 104021991
A9: 1.1. | B9: Helyi önkormányzatok működésének általános támogatása | C9: 30994697 | D9: 31994697 | E9: 31994697
A10: 1.2. | B10: Önkormányzatok egyes köznevelési feladatainak támogatása | C10: 28998310 | D10: 35984559 | E10: 35984559
A11: 1.3. | B11: Önkormányzatok szociális és gyermekjóléti feladatainak támogatása | C11: 29700430 | D11: 30290904 | E11: 30290904
A12: 1.4. | B12: Önkormányzatok kulturális feladatainak támogatása | C12: 2513700 | D12: 2975067 | E12: 2975067
A13: 1.5. | B13: Működési célú központosított előirányzatok | D13: 2609044 | E13: 2609044
A14: 1.6. | B14: Helyi önkormányzatok kiegészítő támogatásai | D14: 167720 | E14: 167720
A15: 2. | B15: Működési célú támogatások államháztartáson belülről (2.1.+…+.2.5.) | C15: =SUM(C16:C20) -> 16718160 | D15: =SUM(D16:D20) -> 18884943 | E15: =SUM(E16:E20) -> 18884943
A16: 2.1. | B16: Elvonások és befizetések bevételei
A17: 2.2. | B17: Működési célú garancia- és kezességvállalásból megtérülések
A18: 2.3. | B18: Működési célú visszatérítendő támogatások, kölcsönök visszatérülése
A19: 2.4. | B19: Működési célú visszatérítendő támogatások, kölcsönök igénybevétele
A20: 2.5. | B20: Egyéb működési célú támogatások bevételei | C20: 16718160 | D20: 18884943 | E20: 18884943
A21: 2.6. | B21: 2.5.-ből EU-s támogatás
A22: 3. | B22: Felhalmozási célú támogatások államháztartáson belülről (3.1.+…+3.5.) | C22: =SUM(C23:C27) -> 0 | D22: =SUM(D23:D27) -> 160348571 | E22: =SUM(E23:E27) -> 160348571
A23: 3.1. | B23: Felhalmozási célú önkormányzati támogatások
A24: 3.2. | B24: Felhalmozási célú garancia- és kezességvállalásból megtérülések
A25: 3.3. | B25: Felhalmozási célú visszatérítendő támogatások, kölcsönök visszatérülése
A26: 3.4. | B26: Felhalmozási célú visszatérítendő támogatások, kölcsönök igénybevétele
A27: 3.5. | B27: Egyéb felhalmozási célú támogatások bevételei | D27: 160348571 | E27: 160348571
A28: 3.6. | B28: 3.5.-ből EU-s támogatás | D28: 160348571 | E28: 160348571
A29: 4. | B29: Közhatalmi bevételek (4.1.+...+4.7.) | C29: =SUM(C30:C35) -> 113940000 | D29: =SUM(D30:D35) -> 175249260 | E29: =SUM(E30:E35) -> 162456205
A30: 4.1. | B30: Vagyoni tipusú adók | C30: 61300000 | D30: 75145498 | E30: 70849138
A31: 4.2. | B31: Idegenforgalmi adó
A32: 4.3. | B32: Iparűzési adó | C32: 45000000 | D32: 88849420 | E32: 83502044
A33: 4.5. | B33: Gépjárműadó | C33: 7500000 | D33: 9526565 | E33: 7440776
A34: 4.6. | B34: Egyéb áruhasználati és szolgáltatási adók | C34: 40000
A35: 4.7. | B35: Egyéb közhatalmi bevételek | C35: 100000 | D35: 1727777 | E35: 664247
A36: 5. | B36: Működési bevételek (5.1.+…+ 5.10.) | C36: =SUM(C37:C46) -> 15588958 | D36: =SUM(D37:D46) -> 30839513 | E36: =SUM(E37:E46) -> 24884557
A37: 5.1. | B37: Készletértékesítés ellenértéke
A38: 5.2. | B38: Szolgáltatások ellenértéke | C38: 1700000 | D38: 4734097 | E38: 4180195
A39: 5.3. | B39: Közvetített szolgáltatások értéke | C39: 700000 | D39: 1334806 | E39: 1334806
A40: 5.4. | B40: Tulajdonosi bevételek | D40: 8465556 | E40: 4684984
...

Sheet 6.3. sz. mell
E1: =+CONCATENATE("6.3. melléklet a ……/",LEFT(ÖSSZEFÜGGÉSEK!A4,4)+1,". (……) önkormányzati rendelethez") -> 6.3. melléklet a ……/2018. (……) önkormányzati rendelethez
A2: Megnevezés | B2: Sajószöged Községi Önkormányzat | E2: 01
A3: Feladat megnevezése | B3: Önként vállalt feladatok | E3: 03
E4: ='6.2. sz. mell'!E4 -> Forintban!
A5: Száma | B5: Kiemelt előirányzat, előirányzat megnevezése | C5: Eredeti előirányzat | D5: Módosított előirányzat | E5: Teljesítés
A6: A | B6: B | C6: C | D6: D | E6: E
A7: Bevételek
A8: 1. | B8: Önkormányzat működési támogatásai (1.1.+…+.1.6.) | C8: =SUM(C9:C14) -> 0 | D8: =SUM(D9:D14) -> 0 | E8: =SUM(E9:E14) -> 0
A9: 1.1. | B9: Helyi önkormányzatok működésének általános támogatása
A10: 1.2. | B10: Önkormányzatok egyes köznevelési feladatainak támogatása
A11: 1.3. | B11: Önkormányzatok szociális és gyermekjóléti feladatainak támogatása
A12: 1.4. | B12: Önkormányzatok kulturális feladatainak támogatása
A13: 1.5. | B13: Működési célú központosított előirányzatok
A14: 1.6. | B14: Helyi önkormányzatok kiegészítő támogatásai
A15: 2. | B15: Működési célú támogatások államháztartáson belülről (2.1.+…+.2.5.) | C15: =SUM(C16:C20) -> 0 | D15: =SUM(D16:D20) -> 0 | E15: =SUM(E16:E20) -> 0
A16: 2.1. | B16: Elvonások és befizetések bevételei
A17: 2.2. | B17: Működési célú garancia- és kezességvállalásból megtérülések
A18: 2.3. | B18: Működési célú visszatérítendő támogatások, kölcsönök visszatérülése
A19: 2.4. | B19: Működési célú visszatérítendő támogatások, kölcsönök igénybevétele
A20: 2.5. | B20: Egyéb működési célú támogatások bevételei
A21: 2.6. | B21: 2.5.-ből EU-s támogatás
A22: 3. | B22: Felhalmozási célú támogatások államháztartáson belülről (3.1.+…+3.5.) | C22: =SUM(C23:C27) -> 0 | D22: =SUM(D23:D27) -> 0 | E22: =SUM(E23:E27) -> 0
A23: 3.1. | B23: Felhalmozási célú önkormányzati támogatások
A24: 3.2. | B24: Felhalmozási célú garancia- és kezességvállalásból megtérülések
A25: 3.3. | B25: Felhalmozási célú visszatérítendő támogatások, kölcsönök visszatérülése
A26: 3.4. | B26: Felhalmozási célú visszatérítendő támogatások, kölcsönök igénybevétele
A27: 3.5. | B27: Egyéb felhalmozási célú támogatások bevételei
A28: 3.6. | B28: 3.5.-ből EU-s támogatás
A29: 4. | B29: Közhatalmi bevételek (4.1.+...+4.7.) | C29: =SUM(C30:C35) -> 0 | D29: =SUM(D30:D35) -> 0 | E29: =SUM(E30:E35) -> 0
A30: 4.1. | B30: Építményadó | D30: =+D31+D32 -> 0 | E30: =+E31+E32 -> 0
A31: 4.2. | B31: Idegenforgalmi adó
A32: 4.3. | B32: Iparűzési adó
A33: 4.5. | B33: Talajterhelési díj
A34: 4.6. | B34: Egyéb áruhasználati és szolgáltatási adók
A35: 4.7. | B35: Egyéb közhatalmi bevételek
A36: 5. | B36: Működési bevételek (5.1.+…+ 5.10.) | C36: =SUM(C37:C46) -> 0 | D36: =SUM(D37:D46) -> 0 | E36: =SUM(E37:E46) -> 0
A37: 5.1. | B37: Készletértékesítés ellenértéke
A38: 5.2. | B38: Szolgáltatások ellenértéke
A39: 5.3. | B39: Közvetített szolgáltatások értéke
A40: 5.4. | B40: Tulajdonosi bevételek
...

Sheet 6.4. sz. mell
E1: =+CONCATENATE("6.4. melléklet a ……/",LEFT(ÖSSZEFÜGGÉSEK!A4,4)+1,". (……) önkormányzati rendelethez") -> 6.4. melléklet a ……/2018. (……) önkormányzati rendelethez
A2: Megnevezés | B2: Sajószöged Községi Önkormányzat | E2: 01
A3: Feladat megnevezése | B3: Államigazgatási feladatok | E3: 04
E4: ='6.3. sz. mell'!E4 -> Forintban!
A5: Száma | B5: Kiemelt előirányzat, előirányzat megnevezése | C5: Eredeti előirányzat | D5: Módosított előirányzat | E5: Teljesítés
A6: A | B6: B | C6: C | D6: D | E6: E
A7: Bevételek
A8: 1. | B8: Önkormányzat működési támogatásai (1.1.+…+.1.6.) | C8: =SUM(C9:C14) -> 0 | D8: =SUM(D9:D14) -> 0 | E8: =SUM(E9:E14) -> 0
A9: 1.1. | B9: Helyi önkormányzatok működésének általános támogatása
A10: 1.2. | B10: Önkormányzatok egyes köznevelési feladatainak támogatása
A11: 1.3. | B11: Önkormányzatok szociális és gyermekjóléti feladatainak támogatása
A12: 1.4. | B12: Önkormányzatok kulturális feladatainak támogatása
A13: 1.5. | B13: Működési célú központosított előirányzatok
A14: 1.6. | B14: Helyi önkormányzatok kiegészítő támogatásai
A15: 2. | B15: Működési célú támogatások államháztartáson belülről (2.1.+…+.2.5.) | C15: =SUM(C16:C20) -> 0 | D15: =SUM(D16:D20) -> 0 | E15: =SUM(E16:E20) -> 0
A16: 2.1. | B16: Elvonások és befizetések bevételei
A17: 2.2. | B17: Működési célú garancia- és kezességvállalásból megtérülések
A18: 2.3. | B18: Működési célú visszatérítendő támogatások, kölcsönök visszatérülése
A19: 2.4. | B19: Működési célú visszatérítendő támogatások, kölcsönök igénybevétele
A20: 2.5. | B20: Egyéb működési célú támogatások bevételei
A21: 2.6. | B21: 2.5.-ből EU-s támogatás
A22: 3. | B22: Felhalmozási célú támogatások államháztartáson belülről (3.1.+…+3.5.) | C22: =SUM(C23:C27) -> 0 | D22: =SUM(D23:D27) -> 0 | E22: =SUM(E23:E27) -> 0
A23: 3.1. | B23: Felhalmozási célú önkormányzati támogatások
A24: 3.2. | B24: Felhalmozási célú garancia- és kezességvállalásból megtérülések
A25: 3.3. | B25: Felhalmozási célú visszatérítendő támogatások, kölcsönök visszatérülése
A26: 3.4. | B26: Felhalmozási célú visszatérítendő támogatások, kölcsönök igénybevétele
A27: 3.5. | B27: Egyéb felhalmozási célú támogatások bevételei
A28: 3.6. | B28: 3.5.-ből EU-s támogatás
A29: 4. | B29: Közhatalmi bevételek (4.1.+...+4.7.) | C29: =SUM(C30:C35) -> 0 | D29: =SUM(D30:D35) -> 0 | E29: =SUM(E30:E35) -> 0
A30: 4.1. | B30: Építményadó | D30: =+D31+D32 -> 0 | E30: =+E31+E32 -> 0
A31: 4.2. | B31: Idegenforgalmi adó
A32: 4.3. | B32: Iparűzési adó
A33: 4.5. | B33: Talajterhelési díj
A34: 4.6. | B34: Egyéb áruhasználati és szolgáltatási adók
A35: 4.7. | B35: Egyéb közhatalmi bevételek
A36: 5. | B36: Működési bevételek (5.1.+…+ 5.10.) | C36: =SUM(C37:C46) -> 0 | D36: =SUM(D37:D46) -> 0 | E36: =SUM(E37:E46) -> 0
A37: 5.1. | B37: Készletértékesítés ellenértéke
A38: 5.2. | B38: Szolgáltatások ellenértéke
A39: 5.3. | B39: Közvetített szolgáltatások értéke
A40: 5.4. | B40: Tulajdonosi bevételek
...

Sheet 7.1. sz. mell
E1: =+CONCATENATE("7.1. melléklet a ……/",LEFT(ÖSSZEFÜGGÉSEK!A4,4)+1,". (……) önkormányzati rendelethez") -> 7.1. melléklet a ……/2018. (……) önkormányzati rendelethez
A2: Költségvetési szerv megnevezése | B2: Sajószögedi Polgármesteri Hivatal | E2: 02
A3: Feladat megnevezése | B3: Összes bevétel, kiadás | E3: 01
E4: ='6.4. sz. mell'!E4 -> Forintban!
A5: Száma | B5: Kiemelt előirányzat, előirányzat megnevezése | C5: Eredeti előirányzat | D5: Módosított előirányzat | E5: Teljesítés
A6: A | B6: B | C6: C | D6: D | E6: E
A7: Bevételek
A8: 1. | B8: Működési bevételek (1.1.+…+1.10.) | C8: =SUM(C9:C18) -> 0 | D8: =SUM(D9:D18) -> 14461 | E8: =SUM(E9:E18) -> 14461
A9: 1.1. | B9: Készletértékesítés ellenértéke
A10: 1.2. | B10: Szolgáltatások ellenértéke
A11: 1.3. | B11: Közvetített szolgáltatások értéke
A12: 1.4. | B12: Tulajdonosi bevételek
A13: 1.5. | B13: Ellátási díjak
A14: 1.6. | B14: Kiszámlázott általános forgalmi adó
A15: 1.7. | B15: Általános forgalmi adó visszatérülése
A16: 1.8. | B16: Kamatbevételek | D16: 10 | E16: 10
A17: 1.9. | B17: Egyéb pénzügyi műveletek bevételei
A18: 1.10. | B18: Egyéb működési bevételek | D18: 14451 | E18: 14451
A19: 2. | B19: Működési célú támogatások államháztartáson belülről (2.1.+…+2.3.) | C19: =SUM(C20:C22) -> 0 | D19: =SUM(D20:D22) -> 0 | E19: =SUM(E20:E22) -> 0
A20: 2.1. | B20: Elvonások és befizetések bevételei
A21: 2.2. | B21: Visszatérítendő támogatások, kölcsönök visszatérülése ÁH-n belülről
A22: 2.3. | B22: Egyéb működési célú támogatások bevételei államháztartáson belülről
A23: 2.4. | B23: - 2.3-ból EU-s támogatás
A24: 3. | B24: Közhatalmi bevételek | C24: 20000 | D24: 26000 | E24: 26000
A25: 4. | B25: Felhalmozási célú támogatások államháztartáson belülről (4.1.+4.2.) | C25: =SUM(C26:C27) -> 0 | D25: =SUM(D26:D27) -> 0 | E25: =SUM(E26:E27) -> 0
A26: 4.1. | B26: Visszatérítendő támogatások, kölcsönök visszatérülése ÁH-n belülről
A27: 4.2. | B27: Egyéb felhalmozási célú támogatások bevételei államháztartáson belülről
A28: 4.3. | B28: - 4.2-ből EU-s támogatás
A29: 5. | B29: Felhalmozási bevételek (5.1.+…+5.3.) | C29: =SUM(C30:C32) -> 0 | D29: =SUM(D30:D32) -> 0 | E29: =SUM(E30:E32) -> 0
A30: 5.1. | B30: Immateriális javak értékesítése
A31: 5.2. | B31: Ingatlanok értékesítése
A32: 5.3. | B32: Egyéb tárgyi eszközök értékesítése
A33: 6. | B33: Működési célú átvett pénzeszközök
A34: 7. | B34: Felhalmozási célú átvett pénzeszközök
A35: 8. | B35: KÖLTSÉGVETÉSI BEVÉTELEK ÖSSZESEN: (1.+…+7.) | C35: =+C8+C19+C24+C25+C29+C33+C34 -> 20000 | D35: =+D8+D19+D24+D25+D29+D33+D34 -> 40461 | E35: =+E8+E19+E24+E25+E29+E33+E34 -> 40461
A36: 9. | B36: Finanszírozási bevételek (9.1.+…+9.3.) | C36: =+C37+C38+C39 -> 0 | D36: =+D37+D38+D39 -> 0 | E36: =+E37+E38+E39 -> 0
A37: 9.1. | B37: Költségvetési maradvány igénybevétele
A38: 9.2. | B38: Vállalkozási maradvány igénybevétele
A39: 9.3. | B39: Irányító szervi (önkormányzati) támogatás (intézményfinanszírozás)
A40: 10. | B40: BEVÉTELEK ÖSSZESEN: (8.+9.) | C40: =+C35+C36 -> 20000 | D40: =+D35+D36 -> 40461 | E40: =+E35+E36 -> 40461
...

Sheet 7.2. sz. mell
E1: =+CONCATENATE("7.2. melléklet a ……/",LEFT(ÖSSZEFÜGGÉSEK!A4,4)+1,". (……) önkormányzati rendelethez") -> 7.2. melléklet a ……/2018. (……) önkormányzati rendelethez
A2: Költségvetési szerv megnevezése | B2: Sajószögedi Polgármesteri Hivatal | E2: 02
A3: Feladat megnevezése | B3: Kötelező feladatok | E3: 02
E4: ='7.1. sz. mell'!E4 -> Forintban!
A5: Száma | B5: Kiemelt előirányzat, előirányzat megnevezése | C5: Eredeti előirányzat | D5: Módosított előirányzat | E5: Teljesítés
A6: A | B6: B | C6: C | D6: D | E6: E
A7: Bevételek
A8: 1. | B8: Működési bevételek (1.1.+…+1.10.) | C8: =SUM(C9:C18) -> 0 | D8: =SUM(D9:D18) -> 14461 | E8: =SUM(E9:E18) -> 14461
A9: 1.1. | B9: Készletértékesítés ellenértéke
A10: 1.2. | B10: Szolgáltatások ellenértéke
A11: 1.3. | B11: Közvetített szolgáltatások értéke
A12: 1.4. | B12: Tulajdonosi bevételek
A13: 1.5. | B13: Ellátási díjak
A14: 1.6. | B14: Kiszámlázott általános forgalmi adó
A15: 1.7. | B15: Általános forgalmi adó visszatérülése
A16: 1.8. | B16: Kamatbevételek | D16: 10 | E16: 10
A17: 1.9. | B17: Egyéb pénzügyi műveletek bevételei
A18: 1.10. | B18: Egyéb működési bevételek | D18: 14451 | E18: 14451
A19: 2. | B19: Működési célú támogatások államháztartáson belülről (2.1.+…+2.3.) | C19: =SUM(C20:C22) -> 0 | D19: =SUM(D20:D22) -> 0 | E19: =SUM(E20:E22) -> 0
A20: 2.1. | B20: Elvonások és befizetések bevételei
A21: 2.2. | B21: Visszatérítendő támogatások, kölcsönök visszatérülése ÁH-n belülről
A22: 2.3. | B22: Egyéb működési célú támogatások bevételei államháztartáson belülről
A23: 2.4. | B23: - 2.3-ból EU-s támogatás
A24: 3. | B24: Közhatalmi bevételek | C24: 20000 | D24: 26000 | E24: 26000
A25: 4. | B25: Felhalmozási célú támogatások államháztartáson belülről (4.1.+4.2.) | C25: =SUM(C26:C27) -> 0 | D25: =SUM(D26:D27) -> 0 | E25: =SUM(E26:E27) -> 0
A26: 4.1. | B26: Visszatérítendő támogatások, kölcsönök visszatérülése ÁH-n belülről
A27: 4.2. | B27: Egyéb felhalmozási célú támogatások bevételei államháztartáson belülről
A28: 4.3. | B28: - 4.2-ből EU-s támogatás
A29: 5. | B29: Felhalmozási bevételek (5.1.+…+5.3.) | C29: =SUM(C30:C32) -> 0 | D29: =SUM(D30:D32) -> 0 | E29: =SUM(E30:E32) -> 0
A30: 5.1. | B30: Immateriális javak értékesítése
A31: 5.2. | B31: Ingatlanok értékesítése
A32: 5.3. | B32: Egyéb tárgyi eszközök értékesítése
A33: 6. | B33: Működési célú átvett pénzeszközök
A34: 7. | B34: Felhalmozási célú átvett pénzeszközök
A35: 8. | B35: KÖLTSÉGVETÉSI BEVÉTELEK ÖSSZESEN: (1.+…+7.) | C35: =+C8+C19+C24+C25+C29+C33+C34 -> 20000 | D35: =+D8+D19+D24+D25+D29+D33+D34 -> 40461 | E35: =+E8+E19+E24+E25+E29+E33+E34 -> 40461
A36: 9. | B36: Finanszírozási bevételek (9.1.+…+9.3.) | C36: =+C37+C38+C39 -> 0 | D36: =+D37+D38+D39 -> 0 | E36: =+E37+E38+E39 -> 0
A37: 9.1. | B37: Költségvetési maradvány igénybevétele
A38: 9.2. | B38: Vállalkozási maradvány igénybevétele
A39: 9.3. | B39: Irányító szervi (önkormányzati) támogatás (intézményfinanszírozás)
A40: 10. | B40: BEVÉTELEK ÖSSZESEN: (8.+9.) | C40: =+C35+C36 -> 20000 | D40: =+D35+D36 -> 40461 | E40: =+E35+E36 -> 40461
...

Sheet 7.3. sz. mell
E1: =+CONCATENATE("7.3. melléklet a ……/",LEFT(ÖSSZEFÜGGÉSEK!A4,4)+1,". (……) önkormányzati rendelethez") -> 7.3. melléklet a ……/2018. (……) önkormányzati rendelethez
A2: Költségvetési szerv megnevezése | B2: Sajószögedi Polgármesteri Hivatal | E2: 02
A3: Feladat megnevezése | B3: Önként vállalt feladatok | E3: 03
E4: ='7.2. sz. mell'!E4 -> Forintban!
A5: Száma | B5: Kiemelt előirányzat, előirányzat megnevezése | C5: Eredeti előirányzat | D5: Módosított előirányzat | E5: Teljesítés
A6: A | B6: B | C6: C | D6: D | E6: E
A7: Bevételek
A8: 1. | B8: Működési bevételek (1.1.+…+1.10.) | C8: =SUM(C9:C18) -> 0 | D8: =SUM(D9:D18) -> 0 | E8: =SUM(E9:E18) -> 0
A9: 1.1. | B9: Készletértékesítés ellenértéke
A10: 1.2. | B10: Szolgáltatások ellenértéke
A11: 1.3. | B11: Közvetített szolgáltatások értéke
A12: 1.4. | B12: Tulajdonosi bevételek
A13: 1.5. | B13: Ellátási díjak
A14: 1.6. | B14: Kiszámlázott általános forgalmi adó
A15: 1.7. | B15: Általános forgalmi adó visszatérülése
A16: 1.8. | B16: Kamatbevételek
A17: 1.9. | B17: Egyéb pénzügyi műveletek bevételei
A18: 1.10. | B18: Egyéb működési bevételek
