Workbook
Name _ftn1: '7.3. tájékoztató tábla'!$A$27
Name _ftnref1: '7.3. tájékoztató tábla'!$A$18

Sheet ÖSSZEFÜGGÉSEK
A1: Költségvetési rendelet űrlapjainak összefüggései:
A4: 2017. évi eredeti előirányzat BEVÉTELEK
A6: 1. sz. melléklet Bevételek táblázat C. oszlop 9 sora = | B6: 2.1. számú melléklet C. oszlop 13. sor + 2.2. számú melléklet C. oszlop 12. sor
A7: 1. sz. melléklet Bevételek táblázat C. oszlop 16 sora = | B7: 2.1. számú melléklet C. oszlop 22. sor + 2.2. számú melléklet C. oszlop 25. sor
A8: 1. sz. melléklet Bevételek táblázat C. oszlop 17 sora = | B8: 2.1. számú melléklet C. oszlop 23. sor + 2.2. számú melléklet C. oszlop 26. sor
A10: =+CONCATENATE(LEFT(A4,4),". évi módosított előirányzat BEVÉTELEK") -> 2017. évi módosított előirányzat BEVÉTELEK
A12: 1. sz. melléklet Bevételek táblázat D. oszlop 9 sora = | B12: 2.1. számú melléklet D. oszlop 13. sor + 2.2. számú melléklet D. oszlop 12. sor
A13: 1. sz. melléklet Bevételek táblázat D. oszlop 16 sora = | B13: 2.1. számú melléklet D. oszlop 22. sor + 2.2. számú melléklet D. oszlop 25. sor
A14: 1. sz. melléklet Bevételek táblázat D. oszlop 17 sora = | B14: 2.1. számú melléklet D. oszlop 23. sor + 2.2. számú melléklet D. oszlop 26. sor
A16: =+CONCATENATE(LEFT(A4,4),". évi teljesítés BEVÉTELEK") -> 2017. évi teljesítés BEVÉTELEK
A18: 1. sz. melléklet Bevételek táblázat E. oszlop 9 sora = | B18: 2.1. számú melléklet E. oszlop 13. sor + 2.2. számú melléklet E. oszlop 12. sor
A19: 1. sz. melléklet Bevételek táblázat E. oszlop 16 sora = | B19: 2.1. számú melléklet E. oszlop 22. sor + 2.2. számú melléklet E. oszlop 25. sor
A20: 1. sz. melléklet Bevételek táblázat E. oszlop 17 sora = | B20: 2.1. számú melléklet E. oszlop 23. sor + 2.2. számú melléklet E. oszlop 26. sor
A22: =+CONCATENATE(LEFT(A4,4),". évi eredeti előirányzat KIADÁSOK") -> 2017. évi eredeti előirányzat KIADÁSOK
A24: 1. sz. melléklet Kiadások táblázat C. oszlop 4 sora = | B24: 2.1. számú melléklet G. oszlop 13. sor + 2.2. számú melléklet G. oszlop 12. sor
A25: 1. sz. melléklet Kiadások táblázat C. oszlop 9 sora = | B25: 2.1. számú melléklet G. oszlop 22. sor + 2.2. számú melléklet G. oszlop 25. sor
A26: 1. sz. melléklet Kiadások táblázat C. oszlop 10 sora = | B26: 2.1. számú melléklet G. oszlop 23. sor + 2.2. számú melléklet G. oszlop 26. sor
A28: =+CONCATENATE(LEFT(A4,4),". évi módosított előirányzat KIADÁSOK") -> 2017. évi módosított előirányzat KIADÁSOK
A30: 1. sz. melléklet Kiadások táblázat D. oszlop 4 sora = | B30: 2.1. számú melléklet H. oszlop 13. sor + 2.2. számú melléklet H. oszlop 12. sor
A31: 1. sz. melléklet Kiadások táblázat D. oszlop 9 sora = | B31: 2.1. számú melléklet H. oszlop 22. sor + 2.2. számú melléklet H. oszlop 25. sor
A32: 1. sz. melléklet Kiadások táblázat D. oszlop 10 sora = | B32: 2.1. számú melléklet H. oszlop 23. sor + 2.2. számú melléklet H. oszlop 26. sor
A34: =+CONCATENATE(LEFT(A4,4),". évi teljesítés KIADÁSOK") -> 2017. évi teljesítés KIADÁSOK
A36: 1. sz. melléklet Kiadások táblázat E. oszlop 4 sora = | B36: 2.1. számú melléklet I. oszlop 13. sor + 2.2. számú melléklet I. oszlop 12. sor
A37: 1. sz. melléklet Kiadások táblázat E. oszlop 9 sora = | B37: 2.1. számú melléklet I. oszlop 22. sor + 2.2. számú melléklet I. oszlop 25. sor
A38: 1. sz. melléklet Kiadások táblázat E. oszlop 10 sora = | B38: 2.1. számú melléklet I. oszlop 23. sor + 2.2. számú melléklet I. oszlop 26. sor

Sheet 1.1.sz.mell.
A1: B E V É T E L E K
A2: 1. sz. táblázat | E2: Forintban!
A3: Sor- szám | B3: Bevételi jogcím | C3: =+CONCATENATE(LEFT(ÖSSZEFÜGGÉSEK!A4,4),". évi") -> 2017. évi
C4: Eredeti előirányzat | D4: Módosított előirányzat | E4: Teljesítés
A5: A | B5: B | C5: C | D5: D | E5: E
A6: 1. | B6: Önkormányzat működési támogatásai (1.1.+…+.1.6.) | C6: =SUM(C7:C12) -> 92207137 | D6: =SUM(D7:D12) -> 104021991 | E6: =SUM(E7:E12) -> 104021991
A7: 1.1. | B7: Helyi önkormányzatok működésének általános támogatása | C7: 30994697 | D7: 31994697 | E7: 31994697
A8: 1.2. | B8: Önkormányzatok egyes köznevelési feladatainak támogatása | C8: 28998310 | D8: 35984559 | E8: 35984559
A9: 1.3. | B9: Önkormányzatok szociális és gyermekjóléti feladatainak támogatása | C9: 29700430 | D9: 30290904 | E9: 30290904
A10: 1.4. | B10: Önkormányzatok kulturális feladatainak támogatása | C10: 2513700 | D10: 2975067 | E10: 2975067
A11: 1.5. | B11: Működési célú központosított előirányzatok | D11: 2609044 | E11: 2609044
A12: 1.6. | B12: Helyi önkormányzatok kiegészítő támogatásai | D12: 167720 | E12: 167720
A13: 2. | B13: Működési célú támogatások államháztartáson belülről (2.1.+…+.2.5.) | C13: =SUM(C14:C18) -> 16718160 | D13: =SUM(D14:D18) -> 18884943 | E13: =SUM(E14:E18) -> 18884943
A14: 2.1. | B14: Elvonások és befizetések bevételei
A15: 2.2. | B15: Működési célú garancia- és kezességvállalásból megtérülések
A16: 2.3. | B16: Működési célú visszatérítendő támogatások, kölcsönök visszatérülése
A17: 2.4. | B17: Működési célú visszatérítendő támogatások, kölcsönök igénybevétele
A18: 2.5. | B18: Egyéb működési célú támogatások bevételei | C18: 16718160 | D18: 18884943 | E18: 18884943
A19: 2.6. | B19: 2.5.-ből EU-s támogatás
A20: 3. | B20: Felhalmozási célú támogatások államháztartáson belülről (3.1.+…+3.5.) | C20: =SUM(C21:C25) -> 0 | D20: =SUM(D21:D25) -> 160348571 | E20: =SUM(E21:E25) -> 160348571
A21: 3.1. | B21: Felhalmozási célú önkormányzati támogatások
A22: 3.2. | B22: Felhalmozási célú garancia- és kezességvállalásból megtérülések
A23: 3.3. | B23: Felhalmozási célú visszatérítendő támogatások, kölcsönök visszatérülése
A24: 3.4. | B24: Felhalmozási célú visszatérítendő támogatások, kölcsönök igénybevétele
A25: 3.5. | B25: Egyéb felhalmozási célú támogatások bevételei | D25: 160348571 | E25: 160348571
A26: 3.6. | B26: 3.5.-ből EU-s támogatás | D26: 160348571 | E26: 160348571
A27: 4. | B27: Közhatalmi bevételek (4.1.+...+4.7.) | C27: =SUM(C28:C33) -> 113960000 | D27: =SUM(D28:D33) -> 175275260 | E27: =SUM(E28:E33) -> 162482205
A28: 4.1. | B28: Vagyoni tipusú adók | C28: 61300000 | D28: 75145498 | E28: 70849138
A29: 4.2. | B29: Idegenforgalmi adó
A30: 4.3. | B30: Iparűzési adó | C30: 45000000 | D30: 88849420 | E30: 83502044
A31: 4.5. | B31: Gépjárműadó | C31: 7500000 | D31: 9526565 | E31: 7440776
A32: 4.6. | B32: Egyéb áruhasználati és szolgáltatási adók | C32: 40000
A33: 4.7. | B33: Egyéb közhatalmi bevételek | C33: 120000 | D33: 1753777 | E33: 690247
A34: 5. | B34: Működési bevételek (5.1.+…+ 5.10.) | C34: =SUM(C35:C44) -> 26998078 | D34: =SUM(D35:D44) -> 43384492 | E34: =SUM(E35:E44) -> 37387988
A35: 5.1. | B35: Készletértékesítés ellenértéke
A36: 5.2. | B36: Szolgáltatások ellenértéke | C36: 1800000 | D36: 13740670 | E36: 13164311
A37: 5.3. | B37: Közvetített szolgáltatások értéke | C37: 700000 | D37: 1334806 | E37: 1334806
A38: 5.4. | B38: Tulajdonosi bevételek | D38: 8465556 | E38: 4684984
A39: 5.5. | B39: Ellátási díjak | C39: 19226048 | D39: 9859963 | E39: 9380127
A40: 5.6. | B40: Kiszámlázott általános forgalmi adó | C40: 5272030 | D40: 9879559 | E40: 8719822
A41: 5.7. | B41: Általános forgalmi adó visszatérítése
A42: 5.8. | B42: Kamatbevételek | D42: 20553 | E42: 20553
A43: 5.9. | B43: Egyéb pénzügyi műveletek bevételei
A44: 5.10. | B44: Egyéb működési bevételek | D44: 83385 | E44: 83385
A45: 6. | B45: Felhalmozási bevételek (6.1.+…+6.5.) | C45: =SUM(C46:C50) -> 10000000 | D45: =SUM(D46:D50) -> 8404650 | E45: =SUM(E46:E50) -> 8404650
A46: 6.1. | B46: Immateriális javak értékesítése
A47: 6.2. | B47: Ingatlanok értékesítése | C47: 10000000 | D47: 8404650 | E47: 8404650
A48: 6.3. | B48: Egyéb tárgyi eszközök értékesítése
A49: 6.4. | B49: Részesedések értékesítése
A50: 6.5. | B50: Részesedések megszűnéséhez kapcsolódó bevételek
A51: 7. | B51: Működési célú átvett pénzeszközök (7.1. + … + 7.3.) | C51: =SUM(C52:C54) -> 0 | D51: =SUM(D52:D54) -> 333500 | E51: =SUM(E52:E54) -> 333500
A52: 7.1. | B52: Működési célú garancia- és kezességvállalásból megtérülések ÁH-n kívülről
A53: 7.2. | B53: Működési célú visszatérítendő támogatások, kölcsönök visszatér. ÁH-n kívülről
A54: 7.3. | B54: Egyéb működési célú átvett pénzeszköz | D54: 333500 | E54: 333500
A55: 7.4. | B55: 7.3.-ból EU-s támogatás (közvetlen)
A56: 8. | B56: Felhalmozási célú átvett pénzeszközök (8.1.+8.2.+8.3.) | C56: =SUM(C57:C59) -> 0 | D56: =SUM(D57:D59) -> 914250 | E56: =SUM(E57:E59) -> 807597
A57: 8.1. | B57: Felhalm. célú garancia- és kezességvállalásból megtérülések ÁH-n kívülről
A58: 8.2. | B58: Felhalm. célú visszatérítendő támogatások, kölcsönök visszatér. ÁH-n kívülről | D58: 914250 | E58: 807597
A59: 8.3. | B59: Egyéb felhalmozási célú átvett pénzeszköz
A60: 8.4. | B60: 8.3.-ból EU-s támogatás (közvetlen)
A61: 9. | B61: KÖLTSÉGVETÉSI BEVÉTELEK ÖSSZESEN: (1+…+8) | C61: =+C6+C13+C20+C27+C34+C45+C51+C56 -> 259883375 | D61: =+D6+D13+D20+D27+D34+D45+D51+D56 -> 511567657 | E61: =+E6+E13+E20+E27+E34+E45+E51+E56 -> 492671445
A62: 10. | B62: Hitel-, kölcsönfelvétel államháztartáson kívülről (10.1.+10.3.) | C62: =+C63+C64+C65 -> 0 | D62: =+D63+D64+D65 -> 0 | E62: =+E63+E64+E65 -> 0
A63: 10.1. | B63: Hosszú lejáratú hitelek, kölcsönök felvétele
A64: 10.2. | B64: Likviditási célú hitelek, kölcsönök felvétele pénzügyi vállalkozástól
A65: 10.3. | B65: Rövid lejáratú hitelek, kölcsönök felvétele
A66: 11. | B66: Belföldi értékpapírok bevételei (11.1. +…+ 11.4.) | C66: =+C67+C68+C69+C70 -> 46694266 | D66: =+D67+D68+D69+D70 -> 83580042 | E66: =+E67+E68+E69+E70 -> 83580042
A67: 11.1. | B67: Forgatási célú belföldi értékpapírok beváltása, értékesítése | C67: 46694266 | D67: 83580042 | E67: 83580042
A68: 11.2. | B68: Éven belüli lejáratú belföldi értékpapírok kibocsátása
A69: 11.3. | B69: Befektetési célú belföldi értékpapírok beváltása, értékesítése
A70: 11.4. | B70: Éven túli lejáratú belföldi értékpapírok kibocsátása
A71: 12. | B71: Maradvány igénybevétele (12.1. + 12.2.) | C71: =+C72+C73 -> 6981293 | D71: =+D72+D73 -> 9602042 | E71: =+E72+E73 -> 9602042
A72: 12.1. | B72: Előző év költségvetési maradványának igénybevétele | C72: 6981293 | D72: 9602042 | E72: 9602042
A73: 12.2. | B73: Előző év vállalkozási maradványának igénybevétele
A74: 13. | B74: Belföldi finanszírozás bevételei (13.1. + … + 13.3.) | C74: =+C75+C76+C77 -> 0 | D74: =+D75+D76+D77 -> 0 | E74: =+E75+E76+E77 -> 3680858
A75: 13.1. | B75: Államháztartáson belüli megelőlegezések | E75: 3680858
A76: 13.2. | B76: Államháztartáson belüli megelőlegezések törlesztése
A77: 13.3. | B77: Lejötött betétek megszüntetése
A78: 14. | B78: Külföldi finanszírozás bevételei (14.1.+…14.4.) | C78: =+C79+C80+C81+C82 -> 0 | D78: =+D79+D80+D81+D82 -> 0 | E78: =+E79+E80+E81+E82 -> 0
A79: 14.1. | B79: Forgatási célú külföldi értékpapírok beváltása, értékesítése
A80: 14.2. | B80: Befektetési célú külföldi értékpapírok beváltása, értékesítése
A81: 14.3. | B81: Külföldi értékpapírok kibocsátása
A82: 14.4. | B82: Külföldi hitelek, kölcsönök felvétele
A83: 15. | B83: Adóssághoz nem kapcsolódó származékos ügyletek bevételei
A84: 16. | B84: FINANSZÍROZÁSI BEVÉTELEK ÖSSZESEN: (10. + … +15.) | C84: =+C62+C66+C71+C74+C78+C83 -> 53675559 | D84: =+D62+D66+D71+D74+D78+D83 -> 93182084 | E84: =+E62+E66+E71+E74+E78+E83 -> 96862942
A85: 17. | B85: KÖLTSÉGVETÉSI ÉS FINANSZÍROZÁSI BEVÉTELEK ÖSSZESEN: (9+16) | C85: =+C61+C84 -> 313558934 | D85: =+D61+D84 -> 604749741 | E85: =+E61+E84 -> 589534387
A87: K I A D Á S O K
A88: 2. sz. táblázat | E88: =E2 -> Forintban!
A89: Sor- szám | B89: Kiadási jogcím | C89: =+C3 -> 2017. évi
C90: Eredeti előirányzat | D90: Módosított előirányzat | E90: Teljesítés
A91: A | B91: B | C91: C | D91: D | E91: E
A92: 1. | B92: Működési költségvetés kiadásai (1.1+…+1.5.) | C92: =SUM(C93:C97) -> 302805585 | D92: =SUM(D93:D97) -> 299013728 | E92: =SUM(E93:E97) -> 291020879
A93: 1.1. | B93: Személyi juttatások | C93: 113513122 | D93: 120372071 | E93: 115359432
A94: 1.2. | B94: Munkaadókat terhelő járulékok és szociális hozzájárulási adó | C94: 23477193 | D94: 26446494 | E94: 25481227
A95: 1.3. | B95: Dologi kiadások | C95: 121575270 | D95: 107627667 | E95: 105682724
A96: 1.4. | B96: Ellátottak pénzbeli juttatásai | C96: 10680000 | D96: 8703948 | E96: 8703948
A97: 1.5 | B97: Egyéb működési célú kiadások | C97: 33560000 | D97: 35863548 | E97: 35793548
A98: 1.6. | B98: - az 1.5-ből: - Elvonások és befizetések | D98: 977678 | E98: 977678
A99: 1.7. | B99: - Garancia- és kezességvállalásból kifizetés ÁH-n belülre
A100: 1.8. | B100: -Visszatérítendő támogatások, kölcsönök nyújtása ÁH-n belülre
A101: 1.9. | B101: - Visszatérítendő támogatások, kölcsönök törlesztése ÁH-n belülre
...

Sheet 1.2.sz.mell.
A1: B E V É T E L E K
A2: 1. sz. táblázat | E2: ='1.1.sz.mell.'!E2 -> Forintban!
A3: Sor- szám | B3: Bevételi jogcím | C3: =+'1.1.sz.mell.'!C3:E3 -> 2017. évi
C4: Eredeti előirányzat | D4: Módosított előirányzat | E4: Teljesítés
A5: A | B5: B | C5: C | D5: D | E5: E
A6: 1. | B6: Önkormányzat működési támogatásai (1.1.+…+.1.6.) | C6: =SUM(C7:C12) -> 92207137 | D6: =SUM(D7:D12) -> 104021991 | E6: =SUM(E7:E12) -> 104021991
A7: 1.1. | B7: Helyi önkormányzatok működésének általános támogatása | C7: 30994697 | D7: 31994697 | E7: 31994697
A8: 1.2. | B8: Önkormányzatok egyes köznevelési feladatainak támogatása | C8: 28998310 | D8: 35984559 | E8: 35984559
A9: 1.3. | B9: Önkormányzatok szociális és gyermekjóléti feladatainak támogatása | C9: 29700430 | D9: 30290904 | E9: 30290904
A10: 1.4. | B10: Önkormányzatok kulturális feladatainak támogatása | C10: 2513700 | D10: 2975067 | E10: 2975067
A11: 1.5. | B11: Működési célú központosított előirányzatok | D11: 2609044 | E11: 2609044
A12: 1.6. | B12: Helyi önkormányzatok kiegészítő támogatásai | D12: 167720 | E12: 167720
A13: 2. | B13: Működési célú támogatások államháztartáson belülről (2.1.+…+.2.5.) | C13: =SUM(C14:C18) -> 16718160 | D13: =SUM(D14:D18) -> 18884943 | E13: =SUM(E14:E18) -> 18884943
A14: 2.1. | B14: Elvonások és befizetések bevételei
A15: 2.2. | B15: Működési célú garancia- és kezességvállalásból megtérülések
A16: 2.3. | B16: Működési célú visszatérítendő támogatások, kölcsönök visszatérülése
A17: 2.4. | B17: Működési célú visszatérítendő támogatások, kölcsönök igénybevétele
A18: 2.5. | B18: Egyéb működési célú támogatások bevételei | C18: 16718160 | D18: 18884943 | E18: 18884943
A19: 2.6. | B19: 2.5.-ből EU-s támogatás
A20: 3. | B20: Felhalmozási célú támogatások államháztartáson belülről (3.1.+…+3.5.) | C20: =SUM(C21:C25) -> 0 | D20: =SUM(D21:D25) -> 160348571 | E20: =SUM(E21:E25) -> 160348571
A21: 3.1. | B21: Felhalmozási célú önkormányzati támogatások
A22: 3.2. | B22: Felhalmozási célú garancia- és kezességvállalásból megtérülések
A23: 3.3. | B23: Felhalmozási célú visszatérítendő támogatások, kölcsönök visszatérülése
A24: 3.4. | B24: Felhalmozási célú visszatérítendő támogatások, kölcsönök igénybevétele
A25: 3.5. | B25: Egyéb felhalmozási célú támogatások bevételei | D25: 160348571 | E25: 160348571
A26: 3.6. | B26: 3.5.-ből EU-s támogatás | D26: 160348571 | E26: 160348571
A27: 4. | B27: Közhatalmi bevételek (4.1.+...+4.7.) | C27: =SUM(C28:C33) -> 113960000 | D27: =SUM(D28:D33) -> 175275260 | E27: =SUM(E28:E33) -> 162482205
A28: 4.1. | B28: Vagyoni tipusú adók | C28: 61300000 | D28: 75145498 | E28: 70849138
A29: 4.2. | B29: Idegenforgalmi adó
A30: 4.3. | B30: Iparűzési adó | C30: 45000000 | D30: 88849420 | E30: 83502044
A31: 4.5. | B31: Gépjárműadó | C31: 7500000 | D31: 9526565 | E31: 7440776
A32: 4.6. | B32: Egyéb áruhasználati és szolgáltatási adók | C32: 40000
A33: 4.7. | B33: Egyéb közhatalmi bevételek | C33: 120000 | D33: 1753777 | E33: 690247
A34: 5. | B34: Működési bevételek (5.1.+…+ 5.10.) | C34: =SUM(C35:C44) -> 26998078 | D34: =SUM(D35:D44) -> 43384492 | E34: =SUM(E35:E44) -> 37387988
A35: 5.1. | B35: Készletértékesítés ellenértéke
A36: 5.2. | B36: Szolgáltatások ellenértéke | C36: 1800000 | D36: 13740670 | E36: 13164311
A37: 5.3. | B37: Közvetített szolgáltatások értéke | C37: 700000 | D37: 1334806 | E37: 1334806
A38: 5.4. | B38: Tulajdonosi bevételek | D38: 8465556 | E38: 4684984
A39: 5.5. | B39: Ellátási díjak | C39: 19226048 | D39: 9859963 | E39: 9380127
A40: 5.6. | B40: Kiszámlázott általános forgalmi adó | C40: 5272030 | D40: 9879559 | E40: 8719822
A41: 5.7. | B41: Általános forgalmi adó visszatérítése
A42: 5.8. | B42: Kamatbevételek | D42: 20553 | E42: 20553
A43: 5.9. | B43: Egyéb pénzügyi műveletek bevételei
A44: 5.10. | B44: Egyéb működési bevételek | D44: 83385 | E44: 83385
A45: 6. | B45: Felhalmozási bevételek (6.1.+…+6.5.) | C45: =SUM(C46:C50) -> 10000000 | D45: =SUM(D46:D50) -> 8404650 | E45: =SUM(E46:E50) -> 8404650
A46: 6.1. | B46: Immateriális javak értékesítése
A47: 6.2. | B47: Ingatlanok értékesítése | C47: 10000000 | D47: 8404650 | E47: 8404650
A48: 6.3. | B48: Egyéb tárgyi eszközök értékesítése
A49: 6.4. | B49: Részesedések értékesítése
A50: 6.5. | B50: Részesedések megszűnéséhez kapcsolódó bevételek
A51: 7. | B51: Működési célú átvett pénzeszközök (7.1. + … + 7.3.) | C51: =SUM(C52:C54) -> 0 | D51: =SUM(D52:D54) -> 333500 | E51: =SUM(E52:E54) -> 333500
A52: 7.1. | B52: Működési célú garancia- és kezességvállalásból megtérülések ÁH-n kívülről
A53: 7.2. | B53: Működési célú visszatérítendő támogatások, kölcsönök visszatér. ÁH-n kívülről
A54: 7.3. | B54: Egyéb működési célú átvett pénzeszköz | D54: 333500 | E54: 333500
A55: 7.4. | B55: 7.3.-ból EU-s támogatás (közvetlen)
A56: 8. | B56: Felhalmozási célú átvett pénzeszközök (8.1.+8.2.+8.3.) | C56: =SUM(C57:C59) -> 0 | D56: =SUM(D57:D59) -> 914250 | E56: =SUM(E57:E59) -> 807597
A57: 8.1. | B57: Felhalm. célú garancia- és kezességvállalásból megtérülések ÁH-n kívülről
A58: 8.2. | B58: Felhalm. célú visszatérítendő támogatások, kölcsönök visszatér. ÁH-n kívülről | D58: 914250 | E58: 807597
A59: 8.3. | B59: Egyéb felhalmozási célú átvett pénzeszköz
A60: 8.4. | B60: 8.3.-ból EU-s támogatás (közvetlen)
A61: 9. | B61: KÖLTSÉGVETÉSI BEVÉTELEK ÖSSZESEN: (1+…+8) | C61: =+C6+C13+C20+C27+C34+C45+C51+C56 -> 259883375 | D61: =+D6+D13+D20+D27+D34+D45+D51+D56 -> 511567657 | E61: =+E6+E13+E20+E27+E34+E45+E51+E56 -> 492671445
A62: 10. | B62: Hitel-, kölcsönfelvétel államháztartáson kívülről (10.1.+10.3.) | C62: =+C63+C64+C65 -> 0 | D62: =+D63+D64+D65 -> 0 | E62: =+E63+E64+E65 -> 0
A63: 10.1. | B63: Hosszú lejáratú hitelek, kölcsönök felvétele
A64: 10.2. | B64: Likviditási célú hitelek, kölcsönök felvétele pénzügyi vállalkozástól
A65: 10.3. | B65: Rövid lejáratú hitelek, kölcsönök felvétele
A66: 11. | B66: Belföldi értékpapírok bevételei (11.1. +…+ 11.4.) | C66: =+C67+C68+C69+C70 -> 46694266 | D66: =+D67+D68+D69+D70 -> 83580042 | E66: =+E67+E68+E69+E70 -> 83580042
A67: 11.1. | B67: Forgatási célú belföldi értékpapírok beváltása, értékesítése | C67: 46694266 | D67: 83580042 | E67: 83580042
A68: 11.2. | B68: Éven belüli lejáratú belföldi értékpapírok kibocsátása
A69: 11.3. | B69: Befektetési célú belföldi értékpapírok beváltása, értékesítése
A70: 11.4. | B70: Éven túli lejáratú belföldi értékpapírok kibocsátása
A71: 12. | B71: Maradvány igénybevétele (12.1. + 12.2.) | C71: =+C72+C73 -> 6981293 | D71: =+D72+D73 -> 9602042 | E71: =+E72+E73 -> 9602042
A72: 12.1. | B72: Előző év költségvetési maradványának igénybevétele | C72: 6981293 | D72: 9602042 | E72: 9602042
A73: 12.2. | B73: Előző év vállalkozási maradványának igénybevétele
A74: 13. | B74: Belföldi finanszírozás bevételei (13.1. + … + 13.3.) | C74: =+C75+C76+C77 -> 0 | D74: =+D75+D76+D77 -> 0 | E74: =+E75+E76+E77 -> 3680858
A75: 13.1. | B75: Államháztartáson belüli megelőlegezések | E75: 3680858
A76: 13.2. | B76: Államháztartáson belüli megelőlegezések törlesztése
A77: 13.3. | B77: Lejötött betétek megszüntetése
A78: 14. | B78: Külföldi finanszírozás bevételei (14.1.+…14.4.) | C78: =+C79+C80+C81+C82 -> 0 | D78: =+D79+D80+D81+D82 -> 0 | E78: =+E79+E80+E81+E82 -> 0
A79: 14.1. | B79: Forgatási célú külföldi értékpapírok beváltása, értékesítése
A80: 14.2. | B80: Befektetési célú külföldi értékpapírok beváltása, értékesítése
A81: 14.3. | B81: Külföldi értékpapírok kibocsátása
A82: 14.4. | B82: Külföldi hitelek, kölcsönök felvétele
A83: 15. | B83: Adóssághoz nem kapcsolódó származékos ügyletek bevételei
A84: 16. | B84: FINANSZÍROZÁSI BEVÉTELEK ÖSSZESEN: (10. + … +15.) | C84: =+C62+C66+C71+C74+C78+C83 -> 53675559 | D84: =+D62+D66+D71+D74+D78+D83 -> 93182084 | E84: =+E62+E66+E71+E74+E78+E83 -> 96862942
A85: 17. | B85: KÖLTSÉGVETÉSI ÉS FINANSZÍROZÁSI BEVÉTELEK ÖSSZESEN: (9+16) | C85: =+C61+C84 -> 313558934 | D85: =+D61+D84 -> 604749741 | E85: =+E61+E84 -> 589534387
A87: K I A D Á S O K
A88: 2. sz. táblázat | E88: =E2 -> Forintban!
A89: Sor- szám | B89: Kiadási jogcím | C89: =+C3 -> 2017. évi
C90: Eredeti előirányzat | D90: Módosított előirányzat | E90: Teljesítés
A91: A | B91: B | C91: C | D91: D | E91: E
A92: 1. | B92: Működési költségvetés kiadásai (1.1+…+1.5.) | C92: =SUM(C93:C97) -> 302805585 | D92: =SUM(D93:D97) -> 299013728 | E92: =SUM(E93:E97) -> 291020879
A93: 1.1. | B93: Személyi juttatások | C93: 113513122 | D93: 120372071 | E93: 115359432
A94: 1.2. | B94: Munkaadókat terhelő járulékok és szociális hozzájárulási adó | C94: 23477193 | D94: 26446494 | E94: 25481227
A95: 1.3. | B95: Dologi kiadások | C95: 121575270 | D95: 107627667 | E95: 105682724
A96: 1.4. | B96: Ellátottak pénzbeli juttatásai | C96: 10680000 | D96: 8703948 | E96: 8703948
A97: 1.5 | B97: Egyéb működési célú kiadások | C97: 33560000 | D97: 35863548 | E97: 35793548
A98: 1.6. | B98: - az 1.5-ből: - Elvonások és befizetések | D98: 977678 | E98: 977678
A99: 1.7. | B99: - Garancia- és kezességvállalásból kifizetés ÁH-n belülre
A100: 1.8. | B100: -Visszatérítendő támogatások, kölcsönök nyújtása ÁH-n belülre
A101: 1.9. | B101: - Visszatérítendő támogatások, kölcsönök törlesztése ÁH-n belülre
...

Sheet 1.3.sz.mell.
A1: B E V É T E L E K
A2: 1. sz. táblázat | E2: ='1.2.sz.mell.'!E2 -> Forintban!
A3: Sor- szám | B3: Bevételi jogcím | C3: =+'1.1.sz.mell.'!C3:E3 -> 2017. évi
C4: Eredeti előirányzat | D4: Módosított előirányzat | E4: Teljesítés
A5: A | B5: B | C5: C | D5: D | E5: E
A6: 1. | B6: Önkormányzat működési támogatásai (1.1.+…+.1.6.) | C6: =SUM(C7:C12) -> 0 | D6: =SUM(D7:D12) -> 0 | E6: =SUM(E7:E12) -> 0
A7: 1.1. | B7: Helyi önkormányzatok működésének általános támogatása
A8: 1.2. | B8: Önkormányzatok egyes köznevelési feladatainak támogatása
A9: 1.3. | B9: Önkormányzatok szociális és gyermekjóléti feladatainak támogatása
A10: 1.4. | B10: Önkormányzatok kulturális feladatainak támogatása
A11: 1.5. | B11: Működési célú központosított előirányzatok
A12: 1.6. | B12: Helyi önkormányzatok kiegészítő támogatásai
A13: 2. | B13: Működési célú támogatások államháztartáson belülről (2.1.+…+.2.5.) | C13: =SUM(C14:C18) -> 0 | D13: =SUM(D14:D18) -> 0 | E13: =SUM(E14:E18) -> 0
A14: 2.1. | B14: Elvonások és befizetések bevételei
A15: 2.2. | B15: Működési célú garancia- és kezességvállalásból megtérülések
A16: 2.3. | B16: Működési célú visszatérítendő támogatások, kölcsönök visszatérülése
A17: 2.4. | B17: Működési célú visszatérítendő támogatások, kölcsönök igénybevétele
A18: 2.5. | B18: Egyéb működési célú támogatások bevételei
A19: 2.6. | B19: 2.5.-ből EU-s támogatás
A20: 3. | B20: Felhalmozási célú támogatások államháztartáson belülről (3.1.+…+3.5.) | C20: =SUM(C21:C25) -> 0 | D20: =SUM(D21:D25) -> 0 | E20: =SUM(E21:E25) -> 0
A21: 3.1. | B21: Felhalmozási célú önkormányzati támogatások
A22: 3.2. | B22: Felhalmozási célú garancia- és kezességvállalásból megtérülések
A23: 3.3. | B23: Felhalmozási célú visszatérítendő támogatások, kölcsönök visszatérülése
A24: 3.4. | B24: Felhalmozási célú visszatérítendő támogatások, kölcsönök igénybevétele
A25: 3.5. | B25: Egyéb felhalmozási célú támogatások bevételei
A26: 3.6. | B26: 3.5.-ből EU-s támogatás
A27: 4. | B27: Közhatalmi bevételek (4.1.+...+4.7.) | C27: =SUM(C28:C33) -> 0 | D27: =SUM(D28:D33) -> 0 | E27: =SUM(E28:E33) -> 0
A28: 4.1. | B28: Építményadó | D28: =+D29+D30 -> 0 | E28: =+E29+E30 -> 0
A29: 4.2. | B29: Idegenforgalmi adó
A30: 4.3. | B30: Iparűzési adó
A31: 4.5. | B31: Talajterhelési díj
A32: 4.6. | B32: Egyéb áruhasználati és szolgáltatási adók
A33: 4.7. | B33: Egyéb közhatalmi bevételek
A34: 5. | B34: Működési bevételek (5.1.+…+ 5.10.) | C34: =SUM(C35:C44) -> 0 | D34: =SUM(D35:D44) -> 0 | E34: =SUM(E35:E44) -> 0
A35: 5.1. | B35: Készletértékesítés ellenértéke
A36: 5.2. | B36: Szolgáltatások ellenértéke
A37: 5.3. | B37: Közvetített szolgáltatások értéke
A38: 5.4. | B38: Tulajdonosi bevételek
A39: 5.5. | B39: Ellátási díjak
A40: 5.6. | B40: Kiszámlázott általános forgalmi adó
A41: 5.7. | B41: Általános forgalmi adó visszatérítése
A42: 5.8. | B42: Kamatbevételek
A43: 5.9. | B43: Egyéb pénzügyi műveletek bevételei
A44: 5.10. | B44: Egyéb működési bevételek
A45: 6. | B45: Felhalmozási bevételek (6.1.+…+6.5.) | C45: =SUM(C46:C50) -> 0 | D45: =SUM(D46:D50) -> 0 | E45: =SUM(E46:E50) -> 0
A46: 6.1. | B46: Immateriális javak értékesítése
A47: 6.2. | B47: Ingatlanok értékesítése
A48: 6.3. | B48: Egyéb tárgyi eszközök értékesítése
A49: 6.4. | B49: Részesedések értékesítése
A50: 6.5. | B50: Részesedések megszűnéséhez kapcsolódó bevételek
A51: 7. | B51: Működési célú átvett pénzeszközök (7.1. + … + 7.3.) | C51: =SUM(C52:C54) -> 0 | D51: =SUM(D52:D54) -> 0 | E51: =SUM(E52:E54) -> 0
A52: 7.1. | B52: Működési célú garancia- és kezességvállalásból megtérülések ÁH-n kívülről
A53: 7.2. | B53: Működési célú visszatérítendő támogatások, kölcsönök visszatér. ÁH-n kívülről
A54: 7.3. | B54: Egyéb működési célú átvett pénzeszköz
A55: 7.4. | B55: 7.3.-ból EU-s támogatás (közvetlen)
A56: 8. | B56: Felhalmozási célú átvett pénzeszközök (8.1.+8.2.+8.3.) | C56: =SUM(C57:C59) -> 0 | D56: =SUM(D57:D59) -> 0 | E56: =SUM(E57:E59) -> 0
A57: 8.1. | B57: Felhalm. célú garancia- és kezességvállalásból megtérülések ÁH-n kívülről
A58: 8.2. | B58: Felhalm. célú visszatérítendő támogatások, kölcsönök visszatér. ÁH-n kívülről
A59: 8.3. | B59: Egyéb felhalmozási célú átvett pénzeszköz
A60: 8.4. | B60: 8.3.-ból EU-s támogatás (közvetlen)
A61: 9. | B61: KÖLTSÉGVETÉSI BEVÉTELEK ÖSSZESEN: (1+…+8) | C61: =+C6+C13+C20+C27+C34+C45+C51+C56 -> 0 | D61: =+D6+D13+D20+D27+D34+D45+D51+D56 -> 0 | E61: =+E6+E13+E20+E27+E34+E45+E51+E56 -> 0
A62: 10. | B62: Hitel-, kölcsönfelvétel államháztartáson kívülről (10.1.+10.3.) | C62: =+C63+C64+C65 -> 0 | D62: =+D63+D64+D65 -> 0 | E62: =+E63+E64+E65 -> 0
A63: 10.1. | B63: Hosszú lejáratú hitelek, kölcsönök felvétele
A64: 10.2. | B64: Likviditási célú hitelek, kölcsönök felvétele pénzügyi vállalkozástól
A65: 10.3. | B65: Rövid lejáratú hitelek, kölcsönök felvétele
A66: 11. | B66: Belföldi értékpapírok bevételei (11.1. +…+ 11.4.) | C66: =+C67+C68+C69+C70 -> 0 | D66: =+D67+D68+D69+D70 -> 0 | E66: =+E67+E68+E69+E70 -> 0
A67: 11.1. | B67: Forgatási célú belföldi értékpapírok beváltása, értékesítése
A68: 11.2. | B68: Éven belüli lejáratú belföldi értékpapírok kibocsátása
A69: 11.3. | B69: Befektetési célú belföldi értékpapírok beváltása, értékesítése
A70: 11.4. | B70: Éven túli lejáratú belföldi értékpapírok kibocsátása
A71: 12. | B71: Maradvány igénybevétele (12.1. + 12.2.) | C71: =+C72+C73 -> 0 | D71: =+D72+D73 -> 0 | E71: =+E72+E73 -> 0
A72: 12.1. | B72: Előző év költségvetési maradványának igénybevétele
A73: 12.2. | B73: Előző év vállalkozási maradványának igénybevétele
A74: 13. | B74: Belföldi finanszírozás bevételei (13.1. + … + 13.3.) | C74: =+C75+C76+C77 -> 0 | D74: =+D75+D76+D77 -> 0 | E74: =+E75+E76+E77 -> 0
A75: 13.1. | B75: Államháztartáson belüli megelőlegezések
A76: 13.2. | B76: Államháztartáson belüli megelőlegezések törlesztése
A77: 13.3. | B77: Lejötött betétek megszüntetése
A78: 14. | B78: Külföldi finanszírozás bevételei (14.1.+…14.4.) | C78: =+C79+C80+C81+C82 -> 0 | D78: =+D79+D80+D81+D82 -> 0 | E78: =+E79+E80+E81+E82 -> 0
A79: 14.1. | B79: Forgatási célú külföldi értékpapírok beváltása, értékesítése
A80: 14.2. | B80: Befektetési célú külföldi értékpapírok beváltása, értékesítése
A81: 14.3. | B81: Külföldi értékpapírok kibocsátása
A82: 14.4. | B82: Külföldi hitelek, kölcsönök felvétele
A83: 15. | B83: Adóssághoz nem kapcsolódó származékos ügyletek bevételei
A84: 16. | B84: FINANSZÍROZÁSI BEVÉTELEK ÖSSZESEN: (10. + … +15.) | C84: =+C62+C66+C71+C74+C78+C83 -> 0 | D84: =+D62+D66+D71+D74+D78+D83 -> 0 | E84: =+E62+E66+E71+E74+E78+E83 -> 0
A85: 17. | B85: KÖLTSÉGVETÉSI ÉS FINANSZÍROZÁSI BEVÉTELEK ÖSSZESEN: (9+16) | C85: =+C61+C84 -> 0 | D85: =+D61+D84 -> 0 | E85: =+E61+E84 -> 0
A87: K I A D Á S O K
A88: 2. sz. táblázat | E88: =E2 -> Forintban!
A89: Sor- szám | B89: Kiadási jogcím | C89: =+C3 -> 2017. évi
C90: Eredeti előirányzat | D90: Módosított előirányzat | E90: Teljesítés
A91: A | B91: B | C91: C | D91: D | E91: E
A92: 1. | B92: Működési költségvetés kiadásai (1.1+…+1.5.) | C92: =SUM(C93:C97) -> 0 | D92: =SUM(D93:D97) -> 0 | E92: =SUM(E93:E97) -> 0
A93: 1.1. | B93: Személyi juttatások
A94: 1.2. | B94: Munkaadókat terhelő járulékok és szociális hozzájárulási adó
A95: 1.3. | B95: Dologi kiadások
A96: 1.4. | B96: Ellátottak pénzbeli juttatásai
A97: 1.5 | B97: Egyéb működési célú kiadások
A98: 1.6. | B98: - az 1.5-ből: - Elvonások és befizetések
A99: 1.7. | B99: - Garancia- és kezességvállalásból kifizetés ÁH-n belülre
A100: 1.8. | B100: -Visszatérítendő támogatások, kölcsönök nyújtása ÁH-n belülre
A101: 1.9. | B101: - Visszatérítendő támogatások, kölcsönök törlesztése ÁH-n belülre
...

Sheet 1.4.sz.mell.
A1: B E V É T E L E K
A2: 1. sz. táblázat | E2: ='1.3.sz.mell.'!E2 -> Forintban!
A3: Sor- szám | B3: Bevételi jogcím | C3: =+'1.1.sz.mell.'!C3:E3 -> 2017. évi
C4: Eredeti előirányzat | D4: Módosított előirányzat | E4: Teljesítés
A5: A | B5: B | C5: C | D5: D | E5: E
A6: 1. | B6: Önkormányzat működési támogatásai (1.1.+…+.1.6.) | C6: =SUM(C7:C12) -> 0 | D6: =SUM(D7:D12) -> 0 | E6: =SUM(E7:E12) -> 0
A7: 1.1. | B7: Helyi önkormányzatok működésének általános támogatása
A8: 1.2. | B8: Önkormányzatok egyes köznevelési feladatainak támogatása
A9: 1.3. | B9: Önkormányzatok szociális és gyermekjóléti feladatainak támogatása
A10: 1.4. | B10: Önkormányzatok kulturális feladatainak támogatása
A11: 1.5. | B11: Működési célú központosított előirányzatok
A12: 1.6. | B12: Helyi önkormányzatok kiegészítő támogatásai
A13: 2. | B13: Működési célú támogatások államháztartáson belülről (2.1.+…+.2.5.) | C13: =SUM(C14:C18) -> 0 | D13: =SUM(D14:D18) -> 0 | E13: =SUM(E14:E18) -> 0
A14: 2.1. | B14: Elvonások és befizetések bevételei
A15: 2.2. | B15: Működési célú garancia- és kezességvállalásból megtérülések
A16: 2.3. | B16: Működési célú visszatérítendő támogatások, kölcsönök visszatérülése
A17: 2.4. | B17: Működési célú visszatérítendő támogatások, kölcsönök igénybevétele
A18: 2.5. | B18: Egyéb működési célú támogatások bevételei
A19: 2.6. | B19: 2.5.-ből EU-s támogatás
A20: 3. | B20: Felhalmozási célú támogatások államháztartáson belülről (3.1.+…+3.5.) | C20: =SUM(C21:C25) -> 0 | D20: =SUM(D21:D25) -> 0 | E20: =SUM(E21:E25) -> 0
A21: 3.1. | B21: Felhalmozási célú önkormányzati támogatások
A22: 3.2. | B22: Felhalmozási célú garancia- és kezességvállalásból megtérülések
A23: 3.3. | B23: Felhalmozási célú visszatérítendő támogatások, kölcsönök visszatérülése
A24: 3.4. | B24: Felhalmozási célú visszatérítendő támogatások, kölcsönök igénybevétele
A25: 3.5. | B25: Egyéb felhalmozási célú támogatások bevételei
A26: 3.6. | B26: 3.5.-ből EU-s támogatás
A27: 4. | B27: Közhatalmi bevételek (4.1.+...+4.7.) | C27: =SUM(C28:C33) -> 0 | D27: =SUM(D28:D33) -> 0 | E27: =SUM(E28:E33) -> 0
A28: 4.1. | B28: Építményadó | D28: =+D29+D30 -> 0 | E28: =+E29+E30 -> 0
A29: 4.2. | B29: Idegenforgalmi adó
A30: 4.3. | B30: Iparűzési adó
A31: 4.5. | B31: Talajterhelési díj
A32: 4.6. | B32: Egyéb áruhasználati és szolgáltatási adók
A33: 4.7. | B33: Egyéb közhatalmi bevételek
A34: 5. | B34: Működési bevételek (5.1.+…+ 5.10.) | C34: =SUM(C35:C44) -> 0 | D34: =SUM(D35:D44) -> 0 | E34: =SUM(E35:E44) -> 0
A35: 5.1. | B35: Készletértékesítés ellenértéke
A36: 5.2. | B36: Szolgáltatások ellenértéke
A37: 5.3. | B37: Közvetített szolgáltatások értéke
A38: 5.4. | B38: Tulajdonosi bevételek
A39: 5.5. | B39: Ellátási díjak
A40: 5.6. | B40: Kiszámlázott általános forgalmi adó
A41: 5.7. | B41: Általános forgalmi adó visszatérítése
A42: 5.8. | B42: Kamatbevételek
A43: 5.9. | B43: Egyéb pénzügyi műveletek bevételei
A44: 5.10. | B44: Egyéb működési bevételek
A45: 6. | B45: Felhalmozási bevételek (6.1.+…+6.5.) | C45: =SUM(C46:C50) -> 0 | D45: =SUM(D46:D50) -> 0 | E45: =SUM(E46:E50) -> 0
A46: 6.1. | B46: Immateriális javak értékesítése
A47: 6.2. | B47: Ingatlanok értékesítése
A48: 6.3. | B48: Egyéb tárgyi eszközök értékesítése
A49: 6.4. | B49: Részesedések értékesítése
A50: 6.5. | B50: Részesedések megszűnéséhez kapcsolódó bevételek
A51: 7. | B51: Működési célú átvett pénzeszközök (7.1. + … + 7.3.) | C51: =SUM(C52:C54) -> 0 | D51: =SUM(D52:D54) -> 0 | E51: =SUM(E52:E54) -> 0
A52: 7.1. | B52: Működési célú garancia- és kezességvállalásból megtérülések ÁH-n kívülről
A53: 7.2. | B53: Működési célú visszatérítendő támogatások, kölcsönök visszatér. ÁH-n kívülről
A54: 7.3. | B54: Egyéb működési célú átvett pénzeszköz
A55: 7.4. | B55: 7.3.-ból EU-s támogatás (közvetlen)
A56: 8. | B56: Felhalmozási célú átvett pénzeszközök (8.1.+8.2.+8.3.) | C56: =SUM(C57:C59) -> 0 | D56: =SUM(D57:D59) -> 0 | E56: =SUM(E57:E59) -> 0
A57: 8.1. | B57: Felhalm. célú garancia- és kezességvállalásból megtérülések ÁH-n kívülről
A58: 8.2. | B58: Felhalm. célú visszatérítendő támogatások, kölcsönök visszatér. ÁH-n kívülről
A59: 8.3. | B59: Egyéb felhalmozási célú átvett pénzeszköz
A60: 8.4. | B60: 8.3.-ból EU-s támogatás (közvetlen)
A61: 9. | B61: KÖLTSÉGVETÉSI BEVÉTELEK ÖSSZESEN: (1+…+8) | C61: =+C6+C13+C20+C27+C34+C45+C51+C56 -> 0 | D61: =+D6+D13+D20+D27+D34+D45+D51+D56 -> 0 | E61: =+E6+E13+E20+E27+E34+E45+E51+E56 -> 0
A62: 10. | B62: Hitel-, kölcsönfelvétel államháztartáson kívülről (10.1.+10.3.) | C62: =+C63+C64+C65 -> 0 | D62: =+D63+D64+D65 -> 0 | E62: =+E63+E64+E65 -> 0
A63: 10.1. | B63: Hosszú lejáratú hitelek, kölcsönök felvétele
A64: 10.2. | B64: Likviditási célú hitelek, kölcsönök felvétele pénzügyi vállalkozástól
A65: 10.3. | B65: Rövid lejáratú hitelek, kölcsönök felvétele
A66: 11. | B66: Belföldi értékpapírok bevételei (11.1. +…+ 11.4.) | C66: =+C67+C68+C69+C70 -> 0 | D66: =+D67+D68+D69+D70 -> 0 | E66: =+E67+E68+E69+E70 -> 0
A67: 11.1. | B67: Forgatási célú belföldi értékpapírok beváltása, értékesítése
A68: 11.2. | B68: Éven belüli lejáratú belföldi értékpapírok kibocsátása
A69: 11.3. | B69: Befektetési célú belföldi értékpapírok beváltása, értékesítése
A70: 11.4. | B70: Éven túli lejáratú belföldi értékpapírok kibocsátása
A71: 12. | B71: Maradvány igénybevétele (12.1. + 12.2.) | C71: =+C72+C73 -> 0 | D71: =+D72+D73 -> 0 | E71: =+E72+E73 -> 0
A72: 12.1. | B72: Előző év költségvetési maradványának igénybevétele
A73: 12.2. | B73: Előző év vállalkozási maradványának igénybevétele
A74: 13. | B74: Belföldi finanszírozás bevételei (13.1. + … + 13.3.) | C74: =+C75+C76+C77 -> 0 | D74: =+D75+D76+D77 -> 0 | E74: =+E75+E76+E77 -> 0
A75: 13.1. | B75: Államháztartáson belüli megelőlegezések
A76: 13.2. | B76: Államháztartáson belüli megelőlegezések törlesztése
A77: 13.3. | B77: Lejötött betétek megszüntetése
A78: 14. | B78: Külföldi finanszírozás bevételei (14.1.+…14.4.) | C78: =+C79+C80+C81+C82 -> 0 | D78: =+D79+D80+D81+D82 -> 0 | E78: =+E79+E80+E81+E82 -> 0
A79: 14.1. | B79: Forgatási célú külföldi értékpapírok beváltása, értékesítése
A80: 14.2. | B80: Befektetési célú külföldi értékpapírok beváltása, értékesítése
A81: 14.3. | B81: Külföldi értékpapírok kibocsátása
A82: 14.4. | B82: Külföldi hitelek, kölcsönök felvétele
A83: 15. | B83: Adóssághoz nem kapcsolódó származékos ügyletek bevételei
A84: 16. | B84: FINANSZÍROZÁSI BEVÉTELEK ÖSSZESEN: (10. + … +15.) | C84: =+C62+C66+C71+C74+C78+C83 -> 0 | D84: =+D62+D66+D71+D74+D78+D83 -> 0 | E84: =+E62+E66+E71+E74+E78+E83 -> 0
A85: 17. | B85: KÖLTSÉGVETÉSI ÉS FINANSZÍROZÁSI BEVÉTELEK ÖSSZESEN: (9+16) | C85: =+C61+C84 -> 0 | D85: =+D61+D84 -> 0 | E85: =+E61+E84 -> 0
A87: K I A D Á S O K
A88: 2. sz. táblázat | E88: =E2 -> Forintban!
A89: Sor- szám | B89: Kiadási jogcím | C89: =+C3 -> 2017. évi
C90: Eredeti előirányzat | D90: Módosított előirányzat | E90: Teljesítés
A91: A | B91: B | C91: C | D91: D | E91: E
A92: 1. | B92: Működési költségvetés kiadásai (1.1+…+1.5.) | C92: =SUM(C93:C97) -> 0 | D92: =SUM(D93:D97) -> 0 | E92: =SUM(E93:E97) -> 0
A93: 1.1. | B93: Személyi juttatások
A94: 1.2. | B94: Munkaadókat terhelő járulékok és szociális hozzájárulási adó
A95: 1.3. | B95: Dologi kiadások
A96: 1.4. | B96: Ellátottak pénzbeli juttatásai
A97: 1.5 | B97: Egyéb működési célú kiadások
A98: 1.6. | B98: - az 1.5-ből: - Elvonások és befizetések
A99: 1.7. | B99: - Garancia- és kezességvállalásból kifizetés ÁH-n belülre
A100: 1.8. | B100: -Visszatérítendő támogatások, kölcsönök nyújtása ÁH-n belülre
A101: 1.9. | B101: - Visszatérítendő támogatások, kölcsönök törlesztése ÁH-n belülre
...

Sheet 2.1.sz.mell  
B1: I. Működési célú bevételek és kiadások mérlege (Önkormányzati szinten) | J1: =+CONCATENATE("2.1. melléklet a ……/",LEFT('1.1.sz.mell.'!C3,4)+1,". (……) önkormányzati rendelethez") -> 2.1. melléklet a ……/2018. (……) önkormányzati rendelethez
I2: ='1.4.sz.mell.'!E2 -> Forintban!
A3: Sor- szám | B3: Bevételek | F3: Kiadások
B4: Megnevezés | C4: =+CONCATENATE(LEFT('1.1.sz.mell.'!C3,4),". évi eredeti előirányzat") -> 2017. évi eredeti előirányzat | D4: =+CONCATENATE(LEFT('1.1.sz.mell.'!C3,4),". évi módosított előirányzat") -> 2017. évi módosított előirányzat | E4: =+CONCATENATE(LEFT('1.1.sz.mell.'!C3,4),". évi teljesítés") -> 2017. évi teljesítés | F4: Megnevezés | G4: =+C4 -> 2017. évi eredeti előirányzat | H4: =+D4 -> 2017. évi módosított előirányzat | I4: =+E4 -> 2017. évi teljesítés
A5: A | B5: B | C5: C | D5: D | E5: E | F5: F | G5: G | H5: H | I5: I
A6: 1. | B6: Önkormányzatok működési támogatásai | C6: 92207137 | D6: 104021991 | E6: 104021991 | F6: Személyi juttatások | G6: 113513122 | H6: 120372071 | I6: 115359432
A7: 2. | B7: Működési célú támogatások államháztartáson belülről | C7: 16718160 | D7: 18884943 | E7: 18884943 | F7: Munkaadókat terhelő járulékok és szociális hozzájárulási adó | G7: 23477193 | H7: 26446494 | I7: 25481227
A8: 3. | B8: 2.-ból EU-s támogatás | F8: Dologi kiadások | G8: 121575270 | H8: 107627667 | I8: 105682724
A9: 4. | B9: Közhatalmi bevételek | C9: 113960000 | D9: 175275260 | E9: 162482205 | F9: Ellátottak pénzbeli juttatásai | G9: 10680000 | H9: 8703948 | I9: 8703948
A10: 5. | B10: Működési célú átvett pénzeszközök | D10: 333500 | E10: 333500 | F10: Egyéb működési célú kiadások | G10: 33560000 | H10: 35863548 | I10: 35793548
A11: 6. | B11: 5.-ből EU-s támogatás | F11: Tartalékok | G11: 2500000
A12: 7. | B12: Egyéb működési bevételek | C12: 26998078 | D12: 43384492 | E12: 37387988
A13: 8.
A14: 9.
A15: 10.
A16: 11.
A17: 12.
A18: 13. | B18: Költségvetési bevételek összesen (1.+2.+4.+5.+7.+…+12.) | C18: =+C6+C7+C9+C10+C12+C13+C14+C15+C16+C17 -> 249883375 | D18: =+D6+D7+D9+D10+D12+D13+D14+D15+D16+D17 -> 341900186 | E18: =+E6+E7+E9+E10+E12+E13+E14+E15+E16+E17 -> 323110627 | F18: Költségvetési kiadások összesen (1.+...+12.) | G18: =SUM(G6:G17) -> 305305585 | H18: =SUM(H6:H17) -> 299013728 | I18: =SUM(I6:I17) -> 291020879
A19: 14. | B19: Hiány belső finanszírozásának bevételei (15.+…+18. ) | C19: =+C20+C21+C22+C23 -> 53675559 | D19: =+D20+D21+D22+D23 -> 93182084 | E19: =+E20+E21+E22+E23 -> 96862942 | F19: Értékpapír vásárlása, visszavásárlása
A20: 15. | B20: Költségvetési maradvány igénybevétele | C20: 6981293 | D20: 9602042 | E20: 9602042 | F20: Likviditási célú hitelek törlesztése
A21: 16. | B21: Vállalkozási maradvány igénybevétele | F21: Rövid lejáratú hitelek törlesztése
A22: 17. | B22: ÁH-n belüli megelőlegezések | E22: 3680858 | F22: Hosszú lejáratú hitelek törlesztése
A23: 18. | B23: Egyéb belső finanszírozási bevételek | C23: 46694266 | D23: 83580042 | E23: 83580042 | F23: Kölcsön törlesztése
A24: 19. | B24: Hiány külső finanszírozásának bevételei (20.+…+21.) | C24: =+C25+C26 -> 0 | D24: =+D25+D26 -> 0 | E24: =+E25+E26 -> 0 | F24: Forgatási célú belföldi, külföldi értékpapírok vásárlása | H24: 75000000 | I24: 75000000
A25: 20. | B25: Likviditási célú hitelek, kölcsönök felvétele | F25: ÁH-n belüli megelőlegezések visszafizetése | H25: 3277299 | I25: 3277299
A26: 21. | B26: Értékpapírok bevételei
A27: 22. | B27: Működési célú finanszírozási bevételek összesen (14.+19.) | C27: =+C19+C24 -> 53675559 | D27: =+D19+D24 -> 93182084 | E27: =+E19+E24 -> 96862942 | F27: Működési célú finanszírozási kiadások összesen (14.+...+21.) | G27: =SUM(G19:G26) -> 0 | H27: =SUM(H19:H26) -> 78277299 | I27: =SUM(I19:I26) -> 78277299
A28: 23. | B28: BEVÉTEL ÖSSZESEN (13.+22.) | C28: =+C18+C27 -> 303558934 | D28: =+D18+D27 -> 435082270 | E28: =+E18+E27 -> 419973569 | F28: KIADÁSOK ÖSSZESEN (13.+22.) | G28: =+G18+G27 -> 305305585 | H28: =+H18+H27 -> 377291027 | I28: =+I18+I27 -> 369298178
A29: 24. | B29: Költségvetési hiány: | C29: =IF(C18-G18<0,G18-C18,"-") -> 55422210 | D29: =IF(D18-H18<0,H18-D18,"-") -> - | E29: =IF(E18-I18<0,I18-E18,"-") -> - | F29: Költségvetési többlet: | G29: =IF(C18-G18>0,C18-G18,"-") -> - | H29: =IF(D18-H18>0,D18-H18,"-") -> 42886458 | I29: =IF(E18-I18>0,E18-I18,"-") -> 32089748
A30: 25. | B30: Bruttó hiány: | C30: =IF(C28-G28<0,G28-C28,"-") -> 1746651 | D30: =IF(D28-H28<0,H28-D28,"-") -> - | E30: =IF(E28-I28<0,I28-E28,"-") -> - | F30: Bruttó többlet: | G30: =IF(C28-G28>0,C28-G28,"-") -> - | H30: =IF(D28-H28>0,D28-H28,"-") -> 57791243 | I30: =IF(E28-I28>0,E28-I28,"-") -> 50675391

Sheet 2.2.sz.mell  
B1: II. Felhalmozási célú bevételek és kiadások mérlege (Önkormányzati szinten) | J1: =+CONCATENATE("2.2. melléklet a ……/",LEFT('1.1.sz.mell.'!C3,4)+1,". (……) önkormányzati rendelethez") -> 2.2. melléklet a ……/2018. (……) önkormányzati rendelethez
I2: ='2.1.sz.mell '!I2 -> Forintban!
A3: Sor- szám | B3: Bevételek | F3: Kiadások
B4: Megnevezés | C4: =+'2.1.sz.mell '!C4 -> 2017. évi eredeti előirányzat | D4: =+'2.1.sz.mell '!D4 -> 2017. évi módosított előirányzat | E4: =+'2.1.sz.mell '!E4 -> 2017. évi teljesítés | F4: Megnevezés | G4: =+'2.1.sz.mell '!C4 -> 2017. évi eredeti előirányzat | H4: =+'2.1.sz.mell '!D4 -> 2017. évi módosított előirányzat | I4: =+'2.1.sz.mell '!E4 -> 2017. évi teljesítés
A5: A | B5: B | C5: C | D5: D | E5: E | F5: F | G5: G | H5: H | I5: I
A6: 1. | B6: Felhalmozási célú támogatások államháztartáson belülről | D6: 160348571 | E6: 160348571 | F6: Beruházások | G6: 6983349 | H6: 182340416 | I6: 19061845
A7: 2. | B7: 1.-ből EU-s támogatás | D7: 160348571 | E7: 160348571 | F7: 1.-ből EU-s forrásból megvalósuló beruházás | H7: 160348571
A8: 3. | B8: Felhalmozási bevételek | C8: 10000000 | D8: 8404650 | E8: 8404650 | F8: Felújítások | G8: 1270000 | H8: 41518298 | I8: 1931405
A9: 4. | B9: Felhalmozási célú átvett pénzeszközök átvétele | D9: 914250 | E9: 807597 | F9: 3.-ból EU-s forrásból megvalósuló felújítás
A10: 5. | B10: 4.-ből EU-s támogatás (közvetlen) | F10: Egyéb felhalmozási kiadások | H10: 3600000 | I10: 3600000
A11: 6. | B11: Egyéb felhalmozási célú bevételek
A12: 7.
A13: 8.
A14: 9.
A15: 10.
A16: 11. | F16: Tartalékok
A17: 12. | B17: Költségvetési bevételek összesen: (1.+3.+4.+6.+…+11.) | C17: =+C6+C8+C9+C11+C12+C13+C14+C15+C16 -> 10000000 | D17: =+D6+D8+D9+D11+D12+D13+D14+D15+D16 -> 169667471 | E17: =+E6+E8+E9+E11+E12+E13+E14+E15+E16 -> 169560818 | F17: Költségvetési kiadások összesen: (1.+3.+5.+...+11.) | G17: =+G6+G8+G10+G11+G12+G13+G14+G15+G16 -> 8253349 | H17: =+H6+H8+H10+H11+H12+H13+H14+H15+H16 -> 227458714 | I17: =+I6+I8+I10+I11+I12+I13+I14+I15+I16 -> 24593250
A18: 13. | B18: Hiány belső finanszírozás bevételei ( 14+…+18) | C18: =+C19+C20+C21+C22+C23 -> 0 | D18: =+D19+D20+D21+D22+D23 -> 0 | E18: =+E19+E20+E21+E22+E23 -> 0 | F18: Értékpapír vásárlása, visszavásárlása
A19: 14. | B19: Költségvetési maradvány igénybevétele | F19: Hitelek törlesztése
A20: 15. | B20: Vállalkozási maradvány igénybevétele | F20: Rövid lejáratú hitelek törlesztése
A21: 16. | B21: Betét visszavonásából származó bevétel | F21: Hosszú lejáratú hitelek törlesztése
A22: 17. | B22: Értékpapír értékesítése | F22: Kölcsön törlesztése
A23: 18. | B23: Egyéb belső finanszírozási bevételek | F23: Befektetési célú belföldi, külföldi értékpapírok vásárlása
A24: 19. | B24: Hiány külső finanszírozásának bevételei (20+…+24 ) | C24: =+C25+C26+C27+C28+C29 -> 0 | D24: =+D25+D26+D27+D28+D29 -> 0 | E24: =+E25+E26+E27+E28+E29 -> 0 | F24: Betét elhelyezése
A25: 20. | B25: Hosszú lejáratú hitelek, kölcsönök felvétele | F25: Pénzügyi lízing kiadásai
A26: 21. | B26: Likviditási célú hitelek, kölcsönök felvétele
A27: 22. | B27: Rövid lejáratú hitelek, kölcsönök felvétele
A28: 23. | B28: Értékpapírok kibocsátása
A29: 24. | B29: Egyéb külső finanszírozási bevételek
A30: 25. | B30: Felhalmozási célú finanszírozási bevételek összesen (13.+19.) | C30: =+C18+C24 -> 0 | D30: =+D18+D24 -> 0 | E30: =+E18+E24 -> 0 | F30: Felhalmozási célú finanszírozási kiadások összesen (13.+...+24.) | G30: =SUM(G18:G29) -> 0 | H30: =SUM(H18:H29) -> 0 | I30: =SUM(I18:I29) -> 0
A31: 26. | B31: BEVÉTEL ÖSSZESEN (12+25) | C31: =+C17+C30 -> 10000000 | D31: =+D17+D30 -> 169667471 | E31: =+E17+E30 -> 169560818 | F31: KIADÁSOK ÖSSZESEN (12+25) | G31: =+G17+G30 -> 8253349 | H31: =+H17+H30 -> 227458714 | I31: =+I17+I30 -> 24593250
A32: 27. | B32: Költségvetési hiány: | C32: =IF(C17-G17<0,G17-C17,"-") -> - | D32: =IF(D17-H17<0,H17-D17,"-") -> 57791243 | E32: =IF(E17-I17<0,I17-E17,"-") -> - | F32: Költségvetési többlet: | G32: =IF(C17-G17>0,C17-G17,"-") -> 1746651 | H32: =IF(D17-H17>0,D17-H17,"-") -> - | I32: =IF(E17-I17>0,E17-I17,"-") -> 144967568
A33: 28. | B33: Bruttó hiány: | C33: =IF(C31-G31<0,G31-C31,"-") -> - | D33: =IF(D31-H31<0,H31-D31,"-") -> 57791243 | E33: =IF(E31-I31<0,I31-E31,"-") -> - | F33: Bruttó többlet: | G33: =IF(C31-G31>0,C31-G31,"-") -> 1746651 | H33: =IF(D31-H31>0,D31-H31,"-") -> - | I33: =IF(E31-I31>0,E31-I31,"-") -> 144967568

Sheet ELLENŐRZÉS-1.sz.2.1.sz.2.2.sz.
A1: Költségvetési rendelet űrlapjainak összefüggései: | E1: ELTÉRÉS
A4: =+ÖSSZEFÜGGÉSEK!A4 -> 2017. évi eredeti előirányzat BEVÉTELEK
A6: 1. sz. melléklet Bevételek táblázat C. oszlop 9 sora = | B6: =+'1.1.sz.mell.'!C61 -> 259883375 | C6: 2.1. számú melléklet C. oszlop 13. sor + 2.2. számú melléklet C. oszlop 12. sor | D6: =+'2.1.sz.mell '!C18+'2.2.sz.mell '!C17 -> 259883375 | E6: =+B6-D6 -> 0
A7: 1. sz. melléklet Bevételek táblázat C. oszlop 16 sora = | B7: =+'1.1.sz.mell.'!C84 -> 53675559 | C7: 2.1. számú melléklet C. oszlop 22. sor + 2.2. számú melléklet C. oszlop 25. sor | D7: =+'2.1.sz.mell '!C27+'2.2.sz.mell '!C30 -> 53675559 | E7: =+B7-D7 -> 0
A8: 1. sz. melléklet Bevételek táblázat C. oszlop 17 sora = | B8: =+'1.1.sz.mell.'!C85 -> 313558934 | C8: 2.1. számú melléklet C. oszlop 23. sor + 2.2. számú melléklet C. oszlop 26. sor | D8: =+'2.1.sz.mell '!C28+'2.2.sz.mell '!C31 -> 313558934 | E8: =+B8-D8 -> 0
A10: =+ÖSSZEFÜGGÉSEK!A10 -> 2017. évi módosított előirányzat BEVÉTELEK
A12: 1. sz. melléklet Bevételek táblázat D. oszlop 9 sora = | B12: =+'1.1.sz.mell.'!D61 -> 511567657 | C12: 2.1. számú melléklet D. oszlop 13. sor + 2.2. számú melléklet D. oszlop 12. sor | D12: =+'2.1.sz.mell '!D18+'2.2.sz.mell '!D17 -> 511567657 | E12: =+B12-D12 -> 0
A13: 1. sz. melléklet Bevételek táblázat D. oszlop 16 sora = | B13: =+'1.1.sz.mell.'!D84 -> 93182084 | C13: 2.1. számú melléklet D. oszlop 22. sor + 2.2. számú melléklet D. oszlop 25. sor | D13: =+'2.1.sz.mell '!D27+'2.2.sz.mell '!D30 -> 93182084 | E13: =+B13-D13 -> 0
A14: 1. sz. melléklet Bevételek táblázat D. oszlop 17 sora = | B14: =+'1.1.sz.mell.'!D85 -> 604749741 | C14: 2.1. számú melléklet D. oszlop 23. sor + 2.2. számú melléklet D. oszlop 26. sor | D14: =+'2.1.sz.mell '!D28+'2.2.sz.mell '!D31 -> 604749741 | E14: =+B14-D14 -> 0
A16: =+ÖSSZEFÜGGÉSEK!A16 -> 2017. évi teljesítés BEVÉTELEK
A18: 1. sz. melléklet Bevételek táblázat E. oszlop 9 sora = | B18: =+'1.1.sz.mell.'!E61 -> 492671445 | C18: 2.1. számú melléklet E. oszlop 13. sor + 2.2. számú melléklet E. oszlop 12. sor | D18: =+'2.1.sz.mell '!E18+'2.2.sz.mell '!E17 -> 492671445 | E18: =+B18-D18 -> 0
A19: 1. sz. melléklet Bevételek táblázat E. oszlop 16 sora = | B19: =+'1.1.sz.mell.'!E84 -> 96862942 | C19: 2.1. számú melléklet E. oszlop 22. sor + 2.2. számú melléklet E. oszlop 25. sor | D19: =+'2.1.sz.mell '!E27+'2.2.sz.mell '!E30 -> 96862942 | E19: =+B19-D19 -> 0
A20: 1. sz. melléklet Bevételek táblázat E. oszlop 17 sora = | B20: =+'1.1.sz.mell.'!E85 -> 589534387 | C20: 2.1. számú melléklet E. oszlop 23. sor + 2.2. számú melléklet E. oszlop 26. sor | D20: =+'2.1.sz.mell '!E28+'2.2.sz.mell '!E31 -> 589534387 | E20: =+B20-D20 -> 0
A22: =+ÖSSZEFÜGGÉSEK!A22 -> 2017. évi eredeti előirányzat KIADÁSOK
A24: 1. sz. melléklet Kiadások táblázat C. oszlop 4 sora = | B24: =+'1.1.sz.mell.'!C125 -> 313558934 | C24: 2.1. számú melléklet G. oszlop 13. sor + 2.2. számú melléklet G. oszlop 12. sor | D24: =+'2.1.sz.mell '!G18+'2.2.sz.mell '!G17 -> 313558934 | E24: =+B24-D24 -> 0
A25: 1. sz. melléklet Kiadások táblázat C. oszlop 9 sora = | B25: =+'1.1.sz.mell.'!C145 -> 0 | C25: 2.1. számú melléklet G. oszlop 22. sor + 2.2. számú melléklet G. oszlop 25. sor | D25: =+'2.1.sz.mell '!G27+'2.2.sz.mell '!G30 -> 0 | E25: =+B25-D25 -> 0
A26: 1. sz. melléklet Kiadások táblázat C. oszlop 10 sora = | B26: =+'1.1.sz.mell.'!C146 -> 313558934 | C26: 2.1. számú melléklet G. oszlop 23. sor + 2.2. számú melléklet G. oszlop 26. sor | D26: =+'2.1.sz.mell '!G28+'2.2.sz.mell '!G31 -> 313558934 | E26: =+B26-D26 -> 0
A28: =+ÖSSZEFÜGGÉSEK!A28 -> 2017. évi módosított előirányzat KIADÁSOK
A30: 1. sz. melléklet Kiadások táblázat D. oszlop 4 sora = | B30: =+'1.1.sz.mell.'!D125 -> 526472442 | C30: 2.1. számú melléklet H. oszlop 13. sor + 2.2. számú melléklet H. oszlop 12. sor | D30: =+'2.1.sz.mell '!H18+'2.2.sz.mell '!H17 -> 526472442 | E30: =+B30-D30 -> 0
A31: 1. sz. melléklet Kiadások táblázat D. oszlop 9 sora = | B31: =+'1.1.sz.mell.'!D145 -> 78277299 | C31: 2.1. számú melléklet H. oszlop 22. sor + 2.2. számú melléklet H. oszlop 25. sor | D31: =+'2.1.sz.mell '!H27+'2.2.sz.mell '!H30 -> 78277299 | E31: =+B31-D31 -> 0
A32: 1. sz. melléklet Kiadások táblázat D. oszlop 10 sora = | B32: =+'1.1.sz.mell.'!D146 -> 604749741 | C32: 2.1. számú melléklet H. oszlop 23. sor + 2.2. számú melléklet H. oszlop 26. sor | D32: =+'2.1.sz.mell '!H28+'2.2.sz.mell '!H31 -> 604749741 | E32: =+B32-D32 -> 0
A34: =+ÖSSZEFÜGGÉSEK!A34 -> 2017. évi teljesítés KIADÁSOK
A36: 1. sz. melléklet Kiadások táblázat E. oszlop 4 sora = | B36: =+'1.1.sz.mell.'!E125 -> 315614129 | C36: 2.1. számú melléklet I. oszlop 13. sor + 2.2. számú melléklet I. oszlop 12. sor | D36: =+'2.1.sz.mell '!I18+'2.2.sz.mell '!I17 -> 315614129 | E36: =+B36-D36 -> 0
A37: 1. sz. melléklet Kiadások táblázat E. oszlop 9 sora = | B37: =+'1.1.sz.mell.'!E145 -> 78277299 | C37: 2.1. számú melléklet I. oszlop 22. sor + 2.2. számú melléklet I. oszlop 25. sor | D37: =+'2.1.sz.mell '!I27+'2.2.sz.mell '!I30 -> 78277299 | E37: =+B37-D37 -> 0
A38: 1. sz. melléklet Kiadások táblázat E. oszlop 10 sora = | B38: =+'1.1.sz.mell.'!E146 -> 393891428 | C38: 2.1. számú melléklet I. oszlop 23. sor + 2.2. számú melléklet I. oszlop 26. sor | D38: =+'2.1.sz.mell '!I28+'2.2.sz.mell '!I31 -> 393891428 | E38: =+B38-D38 -> 0

Sheet 3.sz.mell.
A1: Beruházási (felhalmozási) kiadások előirányzata beruházásonként | H1: =+CONCATENATE("3. melléklet a ……/",LEFT(ÖSSZEFÜGGÉSEK!A4,4)+1,". (……) önkormányzati rendelethez") -> 3. melléklet a ……/2018. (……) önkormányzati rendelethez
G2: ='2.2.sz.mell '!I2 -> Forintban!
A3: Beruházás megnevezése | B3: Teljes költség | C3: Kivitelezés kezdési és befejezési éve | D3: =+CONCATENATE("Felhasználás ",LEFT(ÖSSZEFÜGGÉSEK!A4,4)-1,". XII.31-ig") -> Felhasználás 2016. XII.31-ig | E3: =+CONCATENATE(LEFT(ÖSSZEFÜGGÉSEK!A4,4),". évi módosított előirányzat") -> 2017. évi módosított előirányzat | F3: =+CONCATENATE(LEFT(ÖSSZEFÜGGÉSEK!A4,4),". évi teljesítés") -> 2017. évi teljesítés | G3: =+CONCATENATE("Összes teljesítés ",LEFT(ÖSSZEFÜGGÉSEK!A4,4),". dec. 31-ig") -> Összes teljesítés 2017. dec. 31-ig
A4: A | B4: B | C4: C | D4: D | E4: E | F4: F | G4: G=(D+F)
A5: ÖNK immateriális javak beszerzése, létesítése | B5: 1016000 | C5: 2017 | E5: 1016000 | F5: 1016000 | G5: =+D5+F5 -> 1016000
A6: ÖNK ingatlanok beszerzése, létesítése | B6: 8218180 | C6: 2017 | E6: 8218180 | F6: 8218180 | G6: =+D6+F6 -> 8218180
A7: Óvoda felújítás - TOP | B7: 173524821 | C7: 2017-2018 | E7: 167088571 | F7: 3810000 | G7: =+D7+F7 -> 3810000
A8: Térfigyelő kamerarendszer beüzemelése | B8: 3665000 | C8: 2014-2017 | D8: 2636300 | E8: 0 | F8: 0
A9: Polgármesteri Hivatal udvar térkő lerakás | B9: 2286000 | C9: 2017 | E9: 2438140.3 | F9: 2438140.3 | G9: =+D9+F9 -> 2438140.3
A10: PH udvarra garázs építés | B10: 508000 | C10: 2017 | G10: =+D10+F10 -> 0
A11: ÖNK informatikai eszközök beszerzése, létesítése | B11: 132876.29 | C11: 2017 | E11: 132876.29 | F11: 132876.29 | G11: =+D11+F11 -> 132876.29
A12: ÖNK egyéb eszköz beszerzése, pótlása | B12: 658749 | C12: 2017 | E12: 1993841.6 | F12: 1993841.6 | G12: =+D12+F12 -> 1993841.6
A13: ÁMK egyéb tárgyi eszközök beszerzése, pótlása | B13: 1231900 | C13: 2017 | E13: 979953.83 | F13: 979953.83 | G13: =+D13+F13 -> 979953.83
A14: ÁMK informatikai tárgyi eszközök beszerzése, pótlása | B14: 142036.8 | E14: 142036.8 | F14: 142036.8 | G14: =+D14+F14 -> 142036.8
A15: PH informatikai eszköz beszerzése, pótlása | B15: 635000 | C15: 2017 | E15: 300482 | F15: 300482 | G15: =+D15+F15 -> 300482
A16: PH egyéb tárgyi eszköz beszerzése, pótlása | B16: 635000 | C16: 2017 | E16: 30334 | F16: 30334 | G16: =+D16+F16 -> 30334
G17: =+D17+F17 -> 0
G18: =+D18+F18 -> 0
G19: =+D19+F19 -> 0
G20: =+D20+F20 -> 0
G21: =+D21+F21 -> 0
G22: =+D22+F22 -> 0
G23: =+D23+F23 -> 0
A24: ÖSSZESEN: | B24: =SUM(B5:B23) -> 1.9265356e+08 | D24: =SUM(D5:D23) -> 2636300 | E24: =SUM(E5:E23) -> 1.8234042e+08 | F24: =SUM(F5:F23) -> 19061845 | G24: =SUM(G5:G23) -> 19061845

Sheet 4.sz.mell.
A1: Felújítási kiadások előirányzata felújításonként | H1: =+CONCATENATE("4. melléklet a ……/",LEFT(ÖSSZEFÜGGÉSEK!A4,4)+1,". (……) önkormányzati rendelethez") -> 4. melléklet a ……/2018. (……) önkormányzati rendelethez
G2: ='3.sz.mell.'!G2 -> Forintban!
A3: Felújítás megnevezése | B3: Teljes költség | C3: Kivitelezés kezdési és befejezési éve | D3: =+'3.sz.mell.'!D3 -> Felhasználás 2016. XII.31-ig | E3: =+'3.sz.mell.'!E3 -> 2017. évi módosított előirányzat | F3: =+'3.sz.mell.'!F3 -> 2017. évi teljesítés | G3: =+'3.sz.mell.'!G3 -> Összes teljesítés 2017. dec. 31-ig
A4: A | B4: B | C4: C | D4: D | E4: E | F4: F | G4: G=(D+F)
A5: ÖNK. Épületek szükségszerű felújítása | B5: 1270000 | C5: 2017 | E5: 1931405 | F5: 1931405 | G5: =+D5+F5 -> 1931405
A6: - Szabadidőpark közvilágítás korszerűsítés 450 000 | G6: =+D6+F6 -> 0
A7: - Óvoda vizesblokk felújítása 3. csop. 1 481 405 | G7: =+D7+F7 -> 0
A8: ÖNK épületek, építmények felújítása | B8: 41518298 | C8: 2017-2018 | E8: 41518298 | G8: =+D8+F8 -> 0
G9: =+D9+F9 -> 0
G10: =+D10+F10 -> 0
G11: =+D11+F11 -> 0
G12: =+D12+F12 -> 0
G13: =+D13+F13 -> 0
G14: =+D14+F14 -> 0
G15: =+D15+F15 -> 0
G16: =+D16+F16 -> 0
G17: =+D17+F17 -> 0
G18: =+D18+F18 -> 0
G19: =+D19+F19 -> 0
G20: =+D20+F20 -> 0
... G23: =+D23+F23 -> 0
A24: ÖSSZESEN: | B24: =SUM(B5:B23) -> 42788298 | D24: =SUM(D5:D23) -> 0 | E24: =SUM(E5:E23) -> 43449703 | F24: =SUM(F5:F23) -> 1931405 | G24: =SUM(G5:G23) -> 1931405

Sheet 5. sz. mell. 
A1: EU-s projekt neve, azonosítója: | N1: =+CONCATENATE("5. melléklet a ……/",LEFT(ÖSSZEFÜGGÉSEK!A4,4)+1,". (……) önkormányzati rendelethez ") -> 5. melléklet a ……/2018. (……) önkormányzati rendelethez
A2: KÖFOP-1-2-1-VEKOP-16- Csatlakozási konsrtukció az önkormányzati ASP rendszer országos kiterjesztéséhez | M2: ='4.sz.mell.'!G2 -> Forintban!
A3: Források | B3: Támogatási szerződés szerinti bevételek, kiadások | J3: Teljesítés
B4: Eredeti | C4: Módosított | D4: Évenkénti üteme
D5: Eredeti | E5: Módosított | F5: Eredeti | G5: Módosított | H5: Eredeti | I5: Módosított
B6: Összes bevétel, kiadás | D6: =+CONCATENATE(LEFT(ÖSSZEFÜGGÉSEK!A4,4),". előtt") -> 2017. előtt | F6: =+CONCATENATE(LEFT(ÖSSZEFÜGGÉSEK!A4,4),". évi") -> 2017. évi | H6: =+CONCATENATE(LEFT(ÖSSZEFÜGGÉSEK!A4,4),". után") -> 2017. után | J6: =+D6 -> 2017. előtt | K6: =+F6 -> 2017. évi | L6: Összesen | M6: =+CONCATENATE("Teljesítés %-a ",LEFT(ÖSSZEFÜGGÉSEK!A4,4),". XII. 31-ig") -> Teljesítés %-a 2017. XII. 31-ig
A7: A | B7: B | C7: C | D7: D | E7: E | F7: F | G7: G | H7: H | I7: I | J7: J | K7: K | L7: L=(J+K) | M7: M=(L/C)
A8: Saját erő | L8: =+J8+K8 -> 0 | M8: =IF((C8<>0),ROUND((L8/C8)*100,1),"")
A9: - saját erőből központi támogatás | L9: =+J9+K9 -> 0 | M9: =IF((C9<>0),ROUND((L9/C9)*100,1),"")
A10: EU-s forrás | E10: 6000000 | J10: 6000000 | L10: 6000000 | M10: 100
A11: Társfinanszírozás | L11: =+J11+K11 -> 0 | M11: =IF((C11<>0),ROUND((L11/C11)*100,1),"")
A12: Hitel | L12: =+J12+K12 -> 0 | M12: =IF((C12<>0),ROUND((L12/C12)*100,1),"")
A13: Egyéb forrás | L13: =+J13+K13 -> 0 | M13: =IF((C13<>0),ROUND((L13/C13)*100,1),"")
L14: =+J14+K14 -> 0 | M14: =IF((C14<>0),ROUND((L14/C14)*100,1),"")
A15: Források összesen: | B15: =B8+SUM(B10:B14) -> 0 | C15: =C8+SUM(C10:C14) -> 0 | D15: =D8+SUM(D10:D14) -> 0 | E15: =E8+SUM(E10:E14) -> 6000000 | F15: =F8+SUM(F10:F14) -> 0 | G15: =G8+SUM(G10:G14) -> 0 | H15: =H8+SUM(H10:H14) -> 0 | I15: =I8+SUM(I10:I14) -> 0 | ... L15: =L8+SUM(L10:L14) -> 6000000 | M15: =IF((C15<>0),ROUND((L15/C15)*100,1),"")
A17: Kiadások, költségek
A18: Személyi jellegű | G18: 50538 | K18: 50538 | L18: =+J18+K18 -> 50538 | M18: 0.84
A19: Beruházások, beszerzések | E19: 3294507 | G19: 111176 | J19: 3294507 | K19: 111176 | L19: =+J19+K19 -> 3405683 | M19: 56.76
A20: Szolgáltatások igénybe vétele | G20: 871200 | K20: 871200 | L20: =+J20+K20 -> 871200 | M20: 14.52
A21: Adminisztratív költségek | L21: =+J21+K21 -> 0 | M21: =IF((C21<>0),ROUND((L21/C21)*100,1),"")
L22: =+J22+K22 -> 0 | M22: =IF((C22<>0),ROUND((L22/C22)*100,1),"")
L23: =+J23+K23 -> 0 | M23: =IF((C23<>0),ROUND((L23/C23)*100,1),"")
A24: Kiadások összesen: | B24: =SUM(B18:B23) -> 0 | C24: =SUM(C18:C23) -> 0 | D24: =SUM(D18:D23) -> 0 | E24: =SUM(E18:E23) -> 3294507 | F24: =SUM(F18:F23) -> 0 | G24: =SUM(G18:G23) -> 1032914 | H24: =SUM(H18:H23) -> 0 | I24: =SUM(I18:I23) -> 0 | ... L24: =SUM(L18:L23) -> 4327421 | M24: 72.12
A25: * Amennyiben több projekt megvalósítása történi egy időben akkor azokat külön-külön, projektenként be kell mutatni!
A27: =+CONCATENATE("Önkormányzaton kívüli EU-s projekthez történő hozzájárulás ",LEFT(ÖSSZEFÜGGÉSEK!A4,4),". évi előirányzata és teljesítése") -> Önkormányzaton kívüli EU-s projekthez történő hozzájárulás 2017. évi előirányzata és teljesítése
L28: =M2 -> Forintban!
A29: Támogatott neve | K29: Eredeti ei. | L29: Módosított ei. | M29: Teljesítés
A32: Összesen: | K32: =SUM(K30:K31) -> 0 | L32: =SUM(L30:L31) -> 0 | M32: =SUM(M30:M31) -> 0
A34: EU-s projekt neve, azonosítója:
A35: TOP 1-4-1-15-Bo12016-00080 Óvoda és konyha fejlesztése Sajószögeden | M35: ='4.sz.mell.'!G36 -> 0
A36: Források | B36: Támogatási szerződés szerinti bevételek, kiadások | J36: Teljesítés
B37: Eredeti | C37: Módosított | D37: Évenkénti üteme
D38: Eredeti | E38: Módosított | F38: Eredeti | G38: Módosított | H38: Eredeti | I38: Módosított
B39: Összes bevétel, kiadás | D39: 2017. előtt | F39: 2017. évi | H39: 2017. után | J39: =+D39 -> 2017. előtt | K39: =+F39 -> 2017. évi | L39: Összesen | M39: =+CONCATENATE("Teljesítés %-a ",LEFT(ÖSSZEFÜGGÉSEK!A38,4),". XII. 31-ig") -> Teljesítés %-a 1. s. XII. 31-ig
A40: A | B40: B | C40: C | D40: D | E40: E | F40: F | G40: G | H40: H | I40: I | J40: J | K40: K | L40: L=(J+K) | M40: M=(L/C)
A41: Saját erő | L41: =+J41+K41 -> 0 | M41: =IF((C41<>0),ROUND((L41/C41)*100,1),"")
A42: - saját erőből központi támogatás | L42: =+J42+K42 -> 0 | M42: =IF((C42<>0),ROUND((L42/C42)*100,1),"")
A43: EU-s forrás | E43: 160348571 | H43: 13176250 | J43: 160348571 | L43: 160348571 | M43: 92
A44: Társfinanszírozás | L44: =+J44+K44 -> 0 | M44: =IF((C44<>0),ROUND((L44/C44)*100,1),"")
A45: Hitel | L45: =+J45+K45 -> 0 | M45: =IF((C45<>0),ROUND((L45/C45)*100,1),"")
A46: Egyéb forrás | L46: =+J46+K46 -> 0 | M46: =IF((C46<>0),ROUND((L46/C46)*100,1),"")
L47: =+J47+K47 -> 0 | M47: =IF((C47<>0),ROUND((L47/C47)*100,1),"")
A48: Források összesen: | B48: =B41+SUM(B43:B47) -> 0 | C48: =C41+SUM(C43:C47) -> 0 | D48: =D41+SUM(D43:D47) -> 0 | E48: =E41+SUM(E43:E47) -> 160348571 | F48: =F41+SUM(F43:F47) -> 0 | G48: =G41+SUM(G43:G47) -> 0 | H48: =H41+SUM(H43:H47) -> 13176250 | I48: =I41+SUM(I43:I47) -> 0 | ... L48: =L41+SUM(L43:L47) -> 160348571 | M48: =IF((C48<>0),ROUND((L48/C48)*100,1),"")
A50: Kiadások, költségek
A51: Személyi jellegű | L51: =+J51+K51 -> 0
A52: Beruházások, beszerzések | G52: 3810000 | H52: 169714821 | K52: 3810000 | L52: =+J52+K52 -> 3810000 | M52: 2.37
A53: Szolgáltatások igénybe vétele | L53: =+J53+K53 -> 0
A54: Adminisztratív költségek | L54: =+J54+K54 -> 0 | M54: =IF((C54<>0),ROUND((L54/C54)*100,1),"")
L55: =+J55+K55 -> 0 | M55: =IF((C55<>0),ROUND((L55/C55)*100,1),"")
L56: =+J56+K56 -> 0 | M56: =IF((C56<>0),ROUND((L56/C56)*100,1),"")
A57: Kiadások összesen: | B57: =SUM(B51:B56) -> 0 | C57: =SUM(C51:C56) -> 0 | D57: =SUM(D51:D56) -> 0 | E57: =SUM(E51:E56) -> 0 | F57: =SUM(F51:F56) -> 0 | G57: =SUM(G51:G56) -> 3810000 | H57: =SUM(H51:H56) -> 169714821 | I57: =SUM(I51:I56) -> 0 | ... L57: =SUM(L51:L56) -> 3810000
A58: * Amennyiben több projekt megvalósítása történi egy időben akkor azokat külön-külön, projektenként be kell mutatni!
A59: =+CONCATENATE("Önkormányzaton kívüli EU-s projekthez történő hozzájárulás 2017. évi előirányzata és teljesítése") -> Önkormányzaton kívüli EU-s projekthez történő hozzájárulás 2017. évi előirányzata és teljesítése
L60: =M35 -> 0
A61: Támogatott neve | K61: Eredeti ei. | L61: Módosított ei. | M61: Teljesítés
A64: Összesen: | K64: =SUM(K62:K63) -> 0 | L64: =SUM(L62:L63) -> 0 | M64: =SUM(M62:M63) -> 0

Sheet 6.1. sz. mell
E1: =+CONCATENATE("6.1. melléklet a ……/",LEFT(ÖSSZEFÜGGÉSEK!A4,4)+1,". (……) önkormányzati rendelethez") -> 6.1. melléklet a ……/2018. (……) önkormányzati rendelethez
A2: Megnevezés | B2: Sajószöged Községi Önkormányzat | E2: 01
A3: Feladat megnevezése | B3: Összes bevétel, kiadás | E3: 01
E4: ='5. sz. mell. '!M2 -> Forintban!
A5: Száma | B5: Kiemelt előirányzat, előirányzat megnevezése | C5: Eredeti előirányzat | D5: Módosított előirányzat | E5: Teljesítés
A6: A | B6: B | C6: C | D6: D | E6: E
A7: Bevételek
A8: 1. | B8: Önkormányzat működési támogatásai (1.1.+…+.1.6.) | C8: =SUM(C9:C14) -> 92207137 | D8: =SUM(D9:D14) -> 104021991 | E8: =SUM(E9:E14) -> 104021991
A9: 1.1. | B9: Helyi önkormányzatok működésének általános támogatása | C9: 30994697 | D9: 31994697 | E9: 31994697
A10: 1.2. | B10: Önkormányzatok egyes köznevelési feladatainak támogatása | C10: 28998310 | D10: 35984559 | E10: 35984559
A11: 1.3. | B11: Önkormányzatok szociális és gyermekjóléti feladatainak támogatása | C11: 29700430 | D11: 30290904 | E11: 30290904
A12: 1.4. | B12: Önkormányzatok kulturális feladatainak támogatása | C12: 2513700 | D12: 2975067 | E12: 2975067
A13: 1.5. | B13: Működési célú központosított előirányzatok | D13: 2609044 | E13: 2609044
A14: 1.6. | B14: Helyi önkormányzatok kiegészítő támogatásai | D14: 167720 | E14: 167720
A15: 2. | B15: Működési célú támogatások államháztartáson belülről (2.1.+…+.2.5.) | C15: =SUM(C16:C20) -> 16718160 | D15: =SUM(D16:D20) -> 18884943 | E15: =SUM(E16:E20) -> 18884943
A16: 2.1. | B16: Elvonások és befizetések bevételei
A17: 2.2. | B17: Működési célú garancia- és kezességvállalásból megtérülések
A18: 2.3. | B18: Működési célú visszatérítendő támogatások, kölcsönök visszatérülése
A19: 2.4. | B19: Működési célú visszatérítendő támogatások, kölcsönök igénybevétele
A20: 2.5. | B20: Egyéb működési célú támogatások bevételei | C20: 16718160 | D20: 18884943 | E20: 18884943
A21: 2.6. | B21: 2.5.-ből EU-s támogatás
A22: 3. | B22: Felhalmozási célú támogatások államháztartáson belülről (3.1.+…+3.5.) | C22: =SUM(C23:C27) -> 0 | D22: =SUM(D23:D27) -> 160348571 | E22: =SUM(E23:E27) -> 160348571
A23: 3.1. | B23: Felhalmozási célú önkormányzati támogatások
A24: 3.2. | B24: Felhalmozási célú garancia- és kezességvállalásból megtérülések
A25: 3.3. | B25: Felhalmozási célú visszatérítendő támogatások, kölcsönök visszatérülése
A26: 3.4. | B26: Felhalmozási célú visszatérítendő támogatások, kölcsönök igénybevétele
A27: 3.5. | B27: Egyéb felhalmozási célú támogatások bevételei | D27: 160348571 | E27: 160348571
A28: 3.6. | B28: 3.5.-ből EU-s támogatás | D28: 160348571 | E28: 160348571
A29: 4. | B29: Közhatalmi bevételek (4.1.+...+4.7.) | C29: =SUM(C30:C35) -> 113940000 | D29: =SUM(D30:D35) -> 175249260 | E29: =SUM(E30:E35) -> 162456205
A30: 4.1. | B30: Vagyoni tipusú adók | C30: 61300000 | D30: 75145498 | E30: 70849138
A31: 4.2. | B31: Idegenforgalmi adó
A32: 4.3. | B32: Iparűzési adó | C32: 45000000 | D32: 88849420 | E32: 83502044
A33: 4.5. | B33: Gépjárműadó | C33: 7500000 | D33: 9526565 | E33: 7440776
A34: 4.6. | B34: Egyéb áruhasználati és szolgáltatási adók | C34: 40000
A35: 4.7. | B35: Egyéb közhatalmi bevételek | C35: 100000 | D35: 1727777 | E35: 664247
A36: 5. | B36: Működési bevételek (5.1.+…+ 5.10.) | C36: =SUM(C37:C46) -> 15588958 | D36: =SUM(D37:D46) -> 30839513 | E36: =SUM(E37:E46) -> 24884557
A37: 5.1. | B37: Készletértékesítés ellenértéke
A38: 5.2. | B38: Szolgáltatások ellenértéke | C38: 1700000 | D38: 4734097 | E38: 4180195
A39: 5.3. | B39: Közvetített szolgáltatások értéke | C39: 700000 | D39: 1334806 | E39: 1334806
A40: 5.4. | B40: Tulajdonosi bevételek | D40: 8465556 | E40: 4684984
A41: 5.5. | B41: Ellátási díjak | C41: 10257448 | D41: 8960775 | E41: 8491197
A42: 5.6. | B42: Kiszámlázott általános forgalmi adó | C42: 2931510 | D42: 7279302 | E42: 6128398
A43: 5.7. | B43: Általános forgalmi adó visszatérítése
A44: 5.8. | B44: Kamatbevételek | D44: 20543 | E44: 20543
A45: 5.9. | B45: Egyéb pénzügyi műveletek bevételei
A46: 5.10. | B46: Egyéb működési bevételek | D46: 44434 | E46: 44434
A47: 6. | B47: Felhalmozási bevételek (6.1.+…+6.5.) | C47: =SUM(C48:C52) -> 10000000 | D47: =SUM(D48:D52) -> 8404650 | E47: =SUM(E48:E52) -> 8404650
A48: 6.1. | B48: Immateriális javak értékesítése
A49: 6.2. | B49: Ingatlanok értékesítése | C49: 10000000 | D49: 8404650 | E49: 8404650
A50: 6.3. | B50: Egyéb tárgyi eszközök értékesítése
A51: 6.4. | B51: Részesedések értékesítése
A52: 6.5. | B52: Részesedések megszűnéséhez kapcsolódó bevételek
A53: 7. | B53: Működési célú átvett pénzeszközök (7.1. + … + 7.3.) | C53: =SUM(C54:C56) -> 0 | D53: =SUM(D54:D56) -> 100000 | E53: =SUM(E54:E56) -> 100000
A54: 7.1. | B54: Működési célú garancia- és kezességvállalásból megtérülések ÁH-n kívülről
A55: 7.2. | B55: Működési célú visszatérítendő támogatások, kölcsönök visszatér. ÁH-n kívülről
A56: 7.3. | B56: Egyéb működési célú átvett pénzeszköz | D56: 100000 | E56: 100000
A57: 7.4. | B57: 7.3.-ból EU-s támogatás (közvetlen)
A58: 8. | B58: Felhalmozási célú átvett pénzeszközök (8.1.+8.2.+8.3.) | C58: =SUM(C59:C61) -> 0 | D58: =SUM(D59:D61) -> 914250 | E58: =SUM(E59:E61) -> 807597
A59: 8.1. | B59: Felhalm. célú garancia- és kezességvállalásból megtérülések ÁH-n kívülről
A60: 8.2. | B60: Felhalm. célú visszatérítendő tám., kölcsönök visszatér. ÁH-n kívülről | D60: 914250 | E60: 807597
A61: 8.3. | B61: Egyéb felhalmozási célú átvett pénzeszköz
A62: 8.4. | B62: 8.3.-ból EU-s támogatás (közvetlen)
A63: 9. | B63: KÖLTSÉGVETÉSI BEVÉTELEK ÖSSZESEN: (1+…+8) | C63: =+C8+C15+C22+C29+C36+C47+C53+C58 -> 248454255 | D63: =+D8+D15+D22+D29+D36+D47+D53+D58 -> 498763178 | E63: =+E8+E15+E22+E29+E36+E47+E53+E58 -> 479908514
A64: 10. | B64: Hitel-, kölcsönfelvétel államháztartáson kívülről (10.1.+10.3.) | C64: =SUM(C65:C67) -> 0 | D64: =SUM(D65:D67) -> 0 | E64: =SUM(E65:E67) -> 0
A65: 10.1. | B65: Hosszú lejáratú hitelek, kölcsönök felvétele
A66: 10.2. | B66: Likviditási célú hitelek, kölcsönök felvétele pénzügyi vállalkozástól
A67: 10.3. | B67: Rövid lejáratú hitelek, kölcsönök felvétele
A68: 11. | B68: Belföldi értékpapírok bevételei (11.1. +…+ 11.4.) | C68: =SUM(C69:C72) -> 46694266 | D68: =SUM(D69:D72) -> 83580042 | E68: =SUM(E69:E72) -> 83580042
A69: 11.1. | B69: Forgatási célú belföldi értékpapírok beváltása, értékesítése | C69: 46694266 | D69: 83580042 | E69: 83580042
A70: 11.2. | B70: Éven belüli lejáratú belföldi értékpapírok kibocsátása
A71: 11.3. | B71: Befektetési célú belföldi értékpapírok beváltása, értékesítése
A72: 11.4. | B72: Éven túli lejáratú belföldi értékpapírok kibocsátása
A73: 12. | B73: Maradvány igénybevétele (12.1. + 12.2.) | C73: =SUM(C74:C75) -> 6292251 | D73: =SUM(D74:D75) -> 8688160 | E73: =SUM(E74:E75) -> 8688160
A74: 12.1. | B74: Előző év költségvetési maradványának igénybevétele | C74: 6292251 | D74: 8688160 | E74: 8688160
A75: 12.2. | B75: Előző év vállalkozási maradványának igénybevétele
A76: 13. | B76: Belföldi finanszírozás bevételei (13.1. + … + 13.3.) | C76: =SUM(C77:C79) -> 0 | D76: =SUM(D77:D79) -> 0 | E76: =SUM(E77:E79) -> 3680858
A77: 13.1. | B77: Államháztartáson belüli megelőlegezések | E77: 3680858
A78: 13.2. | B78: Államháztartáson belüli megelőlegezések törlesztése
A79: 13.3. | B79: Lejötött betétek megszüntetése
A80: 14. | B80: Külföldi finanszírozás bevételei (14.1.+…14.4.) | C80: =SUM(C81:C84) -> 0 | D80: =SUM(D81:D84) -> 0 | E80: =SUM(E81:E84) -> 0
A81: 14.1. | B81: Forgatási célú külföldi értékpapírok beváltása, értékesítése
A82: 14.2. | B82: Befektetési célú külföldi értékpapírok beváltása, értékesítése
A83: 14.3. | B83: Külföldi értékpapírok kibocsátása
A84: 14.4. | B84: Külföldi hitelek, kölcsönök felvétele
A85: 15. | B85: Adóssághoz nem kapcsolódó származékos ügyletek bevételei
A86: 16. | B86: FINANSZÍROZÁSI BEVÉTELEK ÖSSZESEN: (10. + … +15.) | C86: =+C64+C68+C73+C76+C80+C85 -> 52986517 | D86: =+D64+D68+D73+D76+D80+D85 -> 92268202 | E86: =+E64+E68+E73+E76+E80+E85 -> 95949060
A87: 17. | B87: BEVÉTELEK ÖSSZESEN: (9+16) | C87: =+C63+C86 -> 301440772 | D87: =+D63+D86 -> 591031380 | E87: =+E63+E86 -> 575857574
A90: Kiadások
A91: 1. | B91: Működési költségvetés kiadásai (1.1+…+1.5.) | C91: =SUM(C92:C96) -> 157491190 | D91: =SUM(D92:D96) -> 154880731 | E91: =SUM(E92:E96) -> 148832825
A92: 1.1. | B92: Személyi juttatások | C92: 40551970 | D92: 42803133 | E92: 37790494
A93: 1.2. | B93: Munkaadókat terhelő járulékok és szociális hozzájárulási adó | C93: 7262276 | D93: 8202686 | E93: 7237419
A94: 1.3. | B94: Dologi kiadások | C94: 65436944 | D94: 59307416 | E94: 59307416
A95: 1.4. | B95: Ellátottak pénzbeli juttatásai | C95: 10680000 | D95: 8703948 | E95: 8703948
A96: 1.5 | B96: Egyéb működési célú kiadások | C96: 33560000 | D96: 35863548 | E96: 35793548
A97: 1.6. | B97: - az 1.5-ből: - Elvonások és befizetések | D97: 977678 | E97: 977678
A98: 1.7. | B98: - Garancia- és kezességvállalásból kifizetés ÁH-n belülre
A99: 1.8. | B99: -Visszatérítendő támogatások, kölcsönök nyújtása ÁH-n belülre
A100: 1.9. | B100: - Visszatérítendő támogatások, kölcsönök törlesztése ÁH-n belülre
A101: 1.10. | B101: - Egyéb működési célú támogatások ÁH-n belülre | C101: 2080000 | D101: 2230612 | E101: 2230612
A102: 1.11. | B102: - Garancia és kezességvállalásból kifizetés ÁH-n kívülre
...

Sheet 6.2. sz. mell
E1: =+CONCATENATE("6.2. melléklet a ……/",LEFT(ÖSSZEFÜGGÉSEK!A4,4)+1,". (……) önkormányzati rendelethez") -> 6.2. melléklet a ……/2018. (……) önkormányzati rendelethez
A2: Megnevezés | B2: Sajószöged Községi Önkormányzat | E2: 01
A3: Feladat megnevezése | B3: Kötelező feladatok | E3: 02
E4: ='6.1. sz. mell'!E4 -> Forintban!
A5: Száma | B5: Kiemelt előirányzat, előirányzat megnevezése | C5: Eredeti előirányzat | D5: Módosított előirányzat | E5: Teljesítés
A6: A | B6: B | C6: C | D6: D | E6: E
A7: Bevételek
A8: 1. | B8: Önkormányzat működési támogatásai (1.1.+…+.1.6.) | C8: =SUM(C9:C14) -> 92207137 | D8: =SUM(D9:D14) -> 104021991 | E8: =SUM(E9:E14) -> 104021991
A9: 1.1. | B9: Helyi önkormányzatok működésének általános támogatása | C9: 30994697 | D9: 31994697 | E9: 31994697
A10: 1.2. | B10: Önkormányzatok egyes köznevelési feladatainak támogatása | C10: 28998310 | D10: 35984559 | E10: 35984559
A11: 1.3. | B11: Önkormányzatok szociális és gyermekjóléti feladatainak támogatása | C11: 29700430 | D11: 30290904 | E11: 30290904
A12: 1.4. | B12: Önkormányzatok kulturális feladatainak támogatása | C12: 2513700 | D12: 2975067 | E12: 2975067
A13: 1.5. | B13: Működési célú központosított előirányzatok | D13: 2609044 | E13: 2609044
A14: 1.6. | B14: Helyi önkormányzatok kiegészítő támogatásai | D14: 167720 | E14: 167720
A15: 2. | B15: Működési célú támogatások államháztartáson belülről (2.1.+…+.2.5.) | C15: =SUM(C16:C20) -> 16718160 | D15: =SUM(D16:D20) -> 18884943 | E15: =SUM(E16:E20) -> 18884943
A16: 2.1. | B16: Elvonások és befizetések bevételei
A17: 2.2. | B17: Működési célú garancia- és kezességvállalásból megtérülések
A18: 2.3. | B18: Működési célú visszatérítendő támogatások, kölcsönök visszatérülése
A19: 2.4. | B19: Működési célú visszatérítendő támogatások, kölcsönök igénybevétele
A20: 2.5. | B20: Egyéb működési célú támogatások bevételei | C20: 16718160 | D20: 18884943 | E20: 18884943
A21: 2.6. | B21: 2.5.-ből EU-s támogatás
A22: 3. | B22: Felhalmozási célú támogatások államháztartáson belülről (3.1.+…+3.5.) | C22: =SUM(C23:C27) -> 0 | D22: =SUM(D23:D27) -> 160348571 | E22: =SUM(E23:E27) -> 160348571
A23: 3.1. | B23: Felhalmozási célú önkormányzati támogatások
A24: 3.2. | B24: Felhalmozási célú garancia- és kezességvállalásból megtérülések
A25: 3.3. | B25: Felhalmozási célú visszatérítendő támogatások, kölcsönök visszatérülése
A26: 3.4. | B26: Felhalmozási célú visszatérítendő támogatások, kölcsönök igénybevétele
A27: 3.5. | B27: Egyéb felhalmozási célú támogatások bevételei | D27: 160348571 | E27: 160348571
A28: 3.6. | B28: 3.5.-ből EU-s támogatás | D28: 160348571 | E28: 160348571
A29: 4. | B29: Közhatalmi bevételek (4.1.+...+4.7.) | C29: =SUM(C30:C35) -> 113940000 | D29: =SUM(D30:D35) -> 175249260 | E29: =SUM(E30:E35) -> 162456205
A30: 4.1. | B30: Vagyoni tipusú adók | C30: 61300000 | D30: 75145498 | E30: 70849138
A31: 4.2. | B31: Idegenforgalmi adó
A32: 4.3. | B32: Iparűzési adó | C32: 45000000 | D32: 88849420 | E32: 83502044
A33: 4.5. | B33: Gépjárműadó | C33: 7500000 | D33: 9526565 | E33: 7440776
A34: 4.6. | B34: Egyéb áruhasználati és szolgáltatási adók | C34: 40000
A35: 4.7. | B35: Egyéb közhatalmi bevételek | C35: 100000 | D35: 1727777 | E35: 664247
A36: 5. | B36: Működési bevételek (5.1.+…+ 5.10.) | C36: =SUM(C37:C46) -> 15588958 | D36: =SUM(D37:D46) -> 30839513 | E36: =SUM(E37:E46) -> 24884557
A37: 5.1. | B37: Készletértékesítés ellenértéke
A38: 5.2. | B38: Szolgáltatások ellenértéke | C38: 1700000 | D38: 4734097 | E38: 4180195
A39: 5.3. | B39: Közvetített szolgáltatások értéke | C39: 700000 | D39: 1334806 | E39: 1334806
A40: 5.4. | B40: Tulajdonosi bevételek | D40: 8465556 | E40: 4684984
A41: 5.5. | B41: Ellátási díjak | C41: 10257448 | D41: 8960775 | E41: 8491197
A42: 5.6. | B42: Kiszámlázott általános forgalmi adó | C42: 2931510 | D42: 7279302 | E42: 6128398
A43: 5.7. | B43: Általános forgalmi adó visszatérítése
A44: 5.8. | B44: Kamatbevételek | D44: 20543 | E44: 20543
A45: 5.9. | B45: Egyéb pénzügyi műveletek bevételei
A46: 5.10. | B46: Egyéb működési bevételek | D46: 44434 | E46: 44434
A47: 6. | B47: Felhalmozási bevételek (6.1.+…+6.5.) | C47: =SUM(C48:C52) -> 10000000 | D47: =SUM(D48:D52) -> 8404650 | E47: =SUM(E48:E52) -> 8404650
A48: 6.1. | B48: Immateriális javak értékesítése
A49: 6.2. | B49: Ingatlanok értékesítése | C49: 10000000 | D49: 8404650 | E49: 8404650
A50: 6.3. | B50: Egyéb tárgyi eszközök értékesítése
A51: 6.4. | B51: Részesedések értékesítése
A52: 6.5. | B52: Részesedések megszűnéséhez kapcsolódó bevételek
A53: 7. | B53: Működési célú átvett pénzeszközök (7.1. + … + 7.3.) | C53: =SUM(C54:C56) -> 0 | D53: =SUM(D54:D56) -> 100000 | E53: =SUM(E54:E56) -> 100000
A54: 7.1. | B54: Működési célú garancia- és kezességvállalásból megtérülések ÁH-n kívülről
A55: 7.2. | B55: Működési célú visszatérítendő támogatások, kölcsönök visszatér. ÁH-n kívülről
A56: 7.3. | B56: Egyéb működési célú átvett pénzeszköz | D56: 100000 | E56: 100000
A57: 7.4. | B57: 7.3.-ból EU-s támogatás (közvetlen)
A58: 8. | B58: Felhalmozási célú átvett pénzeszközök (8.1.+8.2.+8.3.) | C58: =SUM(C59:C61) -> 0 | D58: =SUM(D59:D61) -> 914250 | E58: =SUM(E59:E61) -> 807597
A59: 8.1. | B59: Felhalm. célú garancia- és kezességvállalásból megtérülések ÁH-n kívülről
A60: 8.2. | B60: Felhalm. célú visszatérítendő tám., kölcsönök visszatér. ÁH-n kívülről | D60: 914250 | E60: 807597
A61: 8.3. | B61: Egyéb felhalmozási célú átvett pénzeszköz
A62: 8.4. | B62: 8.3.-ból EU-s támogatás (közvetlen)
A63: 9. | B63: KÖLTSÉGVETÉSI BEVÉTELEK ÖSSZESEN: (1+…+8) | C63: =+C8+C15+C22+C29+C36+C47+C53+C58 -> 248454255 | D63: =+D8+D15+D22+D29+D36+D47+D53+D58 -> 498763178 | E63: =+E8+E15+E22+E29+E36+E47+E53+E58 -> 479908514
A64: 10. | B64: Hitel-, kölcsönfelvétel államháztartáson kívülről (10.1.+10.3.) | C64: =SUM(C65:C67) -> 0 | D64: =SUM(D65:D67) -> 0 | E64: =SUM(E65:E67) -> 0
A65: 10.1. | B65: Hosszú lejáratú hitelek, kölcsönök felvétele
A66: 10.2. | B66: Likviditási célú hitelek, kölcsönök felvétele pénzügyi vállalkozástól
A67: 10.3. | B67: Rövid lejáratú hitelek, kölcsönök felvétele
A68: 11. | B68: Belföldi értékpapírok bevételei (11.1. +…+ 11.4.) | C68: =SUM(C69:C72) -> 46694266 | D68: =SUM(D69:D72) -> 83580042 | E68: =SUM(E69:E72) -> 83580042
A69: 11.1. | B69: Forgatási célú belföldi értékpapírok beváltása, értékesítése | C69: 46694266 | D69: 83580042 | E69: 83580042
A70: 11.2. | B70: Éven belüli lejáratú belföldi értékpapírok kibocsátása
A71: 11.3. | B71: Befektetési célú belföldi értékpapírok beváltása, értékesítése
A72: 11.4. | B72: Éven túli lejáratú belföldi értékpapírok kibocsátása
A73: 12. | B73: Maradvány igénybevétele (12.1. + 12.2.) | C73: =SUM(C74:C75) -> 6292251 | D73: =SUM(D74:D75) -> 8688160 | E73: =SUM(E74:E75) -> 8688160
A74: 12.1. | B74: Előző év költségvetési maradványának igénybevétele | C74: 6292251 | D74: 8688160 | E74: 8688160
A75: 12.2. | B75: Előző év vállalkozási maradványának igénybevétele
A76: 13. | B76: Belföldi finanszírozás bevételei (13.1. + … + 13.3.) | C76: =SUM(C77:C79) -> 0 | D76: =SUM(D77:D79) -> 0 | E76: =SUM(E77:E79) -> 3680858
A77: 13.1. | B77: Államháztartáson belüli megelőlegezések | E77: 3680858
A78: 13.2. | B78: Államháztartáson belüli megelőlegezések törlesztése
A79: 13.3. | B79: Lejötött betétek megszüntetése
A80: 14. | B80: Külföldi finanszírozás bevételei (14.1.+…14.4.) | C80: =SUM(C81:C84) -> 0 | D80: =SUM(D81:D84) -> 0 | E80: =SUM(E81:E84) -> 0
A81: 14.1. | B81: Forgatási célú külföldi értékpapírok beváltása, értékesítése
A82: 14.2. | B82: Befektetési célú külföldi értékpapírok beváltása, értékesítése
A83: 14.3. | B83: Külföldi értékpapírok kibocsátása
A84: 14.4. | B84: Külföldi hitelek, kölcsönök felvétele
A85: 15. | B85: Adóssághoz nem kapcsolódó származékos ügyletek bevételei
A86: 16. | B86: FINANSZÍROZÁSI BEVÉTELEK ÖSSZESEN: (10. + … +15.) | C86: =+C64+C68+C73+C76+C80+C85 -> 52986517 | D86: =+D64+D68+D73+D76+D80+D85 -> 92268202 | E86: =+E64+E68+E73+E76+E80+E85 -> 95949060
A87: 17. | B87: BEVÉTELEK ÖSSZESEN: (9+16) | C87: =+C63+C86 -> 301440772 | D87: =+D63+D86 -> 591031380 | E87: =+E63+E86 -> 575857574
A90: Kiadások
A91: 1. | B91: Működési költségvetés kiadásai (1.1+…+1.5.) | C91: =SUM(C92:C96) -> 157491190 | D91: =SUM(D92:D96) -> 154880731 | E91: =SUM(E92:E96) -> 148832825
A92: 1.1. | B92: Személyi juttatások | C92: 40551970 | D92: 42803133 | E92: 37790494
A93: 1.2. | B93: Munkaadókat terhelő járulékok és szociális hozzájárulási adó | C93: 7262276 | D93: 8202686 | E93: 7237419
A94: 1.3. | B94: Dologi kiadások | C94: 65436944 | D94: 59307416 | E94: 59307416
A95: 1.4. | B95: Ellátottak pénzbeli juttatásai | C95: 10680000 | D95: 8703948 | E95: 8703948
A96: 1.5 | B96: Egyéb működési célú kiadások | C96: 33560000 | D96: 35863548 | E96: 35793548
A97: 1.6. | B97: - az 1.5-ből: - Elvonások és befizetések | D97: 977678 | E97: 977678
A98: 1.7. | B98: - Garancia- és kezességvállalásból kifizetés ÁH-n belülre
A99: 1.8. | B99: -Visszatérítendő támogatások, kölcsönök nyújtása ÁH-n belülre
A100: 1.9. | B100: - Visszatérítendő támogatások, kölcsönök törlesztése ÁH-n belülre
A101: 1.10. | B101: - Egyéb működési célú támogatások ÁH-n belülre | C101: 2080000 | D101: 2230612 | E101: 2230612
A102: 1.11. | B102: - Garancia és kezességvállalásból kifizetés ÁH-n kívülre
...

Sheet 6.3. sz. mell
E1: =+CONCATENATE("6.3. melléklet a ……/",LEFT(ÖSSZEFÜGGÉSEK!A4,4)+1,". (……) önkormányzati rendelethez") -> 6.3. melléklet a ……/2018. (……) önkormányzati rendelethez
A2: Megnevezés | B2: Sajószöged Községi Önkormányzat | E2: 01
A3: Feladat megnevezése | B3: Önként vállalt feladatok | E3: 03
E4: ='6.2. sz. mell'!E4 -> Forintban!
A5: Száma | B5: Kiemelt előirányzat, előirányzat megnevezése | C5: Eredeti előirányzat | D5: Módosított előirányzat | E5: Teljesítés
A6: A | B6: B | C6: C | D6: D | E6: E
A7: Bevételek
A8: 1. | B8: Önkormányzat működési támogatásai (1.1.+…+.1.6.) | C8: =SUM(C9:C14) -> 0 | D8: =SUM(D9:D14) -> 0 | E8: =SUM(E9:E14) -> 0
A9: 1.1. | B9: Helyi önkormányzatok működésének általános támogatása
A10: 1.2. | B10: Önkormányzatok egyes köznevelési feladatainak támogatása
A11: 1.3. | B11: Önkormányzatok szociális és gyermekjóléti feladatainak támogatása
A12: 1.4. | B12: Önkormányzatok kulturális feladatainak támogatása
A13: 1.5. | B13: Működési célú központosított előirányzatok
A14: 1.6. | B14: Helyi önkormányzatok kiegészítő támogatásai
A15: 2. | B15: Működési célú támogatások államháztartáson belülről (2.1.+…+.2.5.) | C15: =SUM(C16:C20) -> 0 | D15: =SUM(D16:D20) -> 0 | E15: =SUM(E16:E20) -> 0
A16: 2.1. | B16: Elvonások és befizetések bevételei
A17: 2.2. | B17: Működési célú garancia- és kezességvállalásból megtérülések
A18: 2.3. | B18: Működési célú visszatérítendő támogatások, kölcsönök visszatérülése
A19: 2.4. | B19: Működési célú visszatérítendő támogatások, kölcsönök igénybevétele
A20: 2.5. | B20: Egyéb működési célú támogatások bevételei
A21: 2.6. | B21: 2.5.-ből EU-s támogatás
A22: 3. | B22: Felhalmozási célú támogatások államháztartáson belülről (3.1.+…+3.5.) | C22: =SUM(C23:C27) -> 0 | D22: =SUM(D23:D27) -> 0 | E22: =SUM(E23:E27) -> 0
A23: 3.1. | B23: Felhalmozási célú önkormányzati támogatások
A24: 3.2. | B24: Felhalmozási célú garancia- és kezességvállalásból megtérülések
A25: 3.3. | B25: Felhalmozási célú visszatérítendő támogatások, kölcsönök visszatérülése
A26: 3.4. | B26: Felhalmozási célú visszatérítendő támogatások, kölcsönök igénybevétele
A27: 3.5. | B27: Egyéb felhalmozási célú támogatások bevételei
A28: 3.6. | B28: 3.5.-ből EU-s támogatás
A29: 4. | B29: Közhatalmi bevételek (4.1.+...+4.7.) | C29: =SUM(C30:C35) -> 0 | D29: =SUM(D30:D35) -> 0 | E29: =SUM(E30:E35) -> 0
A30: 4.1. | B30: Építményadó | D30: =+D31+D32 -> 0 | E30: =+E31+E32 -> 0
A31: 4.2. | B31: Idegenforgalmi adó
A32: 4.3. | B32: Iparűzési adó
A33: 4.5. | B33: Talajterhelési díj
A34: 4.6. | B34: Egyéb áruhasználati és szolgáltatási adók
A35: 4.7. | B35: Egyéb közhatalmi bevételek
A36: 5. | B36: Működési bevételek (5.1.+…+ 5.10.) | C36: =SUM(C37:C46) -> 0 | D36: =SUM(D37:D46) -> 0 | E36: =SUM(E37:E46) -> 0
A37: 5.1. | B37: Készletértékesítés ellenértéke
A38: 5.2. | B38: Szolgáltatások ellenértéke
A39: 5.3. | B39: Közvetített szolgáltatások értéke
A40: 5.4. | B40: Tulajdonosi bevételek
A41: 5.5. | B41: Ellátási díjak
A42: 5.6. | B42: Kiszámlázott általános forgalmi adó
A43: 5.7. | B43: Általános forgalmi adó visszatérítése
A44: 5.8. | B44: Kamatbevételek
A45: 5.9. | B45: Egyéb pénzügyi műveletek bevételei
A46: 5.10. | B46: Egyéb működési bevételek
A47: 6. | B47: Felhalmozási bevételek (6.1.+…+6.5.) | C47: =SUM(C48:C52) -> 0 | D47: =SUM(D48:D52) -> 0 | E47: =SUM(E48:E52) -> 0
A48: 6.1. | B48: Immateriális javak értékesítése
A49: 6.2. | B49: Ingatlanok értékesítése
A50: 6.3. | B50: Egyéb tárgyi eszközök értékesítése
A51: 6.4. | B51: Részesedések értékesítése
A52: 6.5. | B52: Részesedések megszűnéséhez kapcsolódó bevételek
A53: 7. | B53: Működési célú átvett pénzeszközök (7.1. + … + 7.3.) | C53: =SUM(C54:C56) -> 0 | D53: =SUM(D54:D56) -> 0 | E53: =SUM(E54:E56) -> 0
A54: 7.1. | B54: Működési célú garancia- és kezességvállalásból megtérülések ÁH-n kívülről
A55: 7.2. | B55: Működési célú visszatérítendő támogatások, kölcsönök visszatér. ÁH-n kívülről
A56: 7.3. | B56: Egyéb működési célú átvett pénzeszköz
A57: 7.4. | B57: 7.3.-ból EU-s támogatás (közvetlen)
A58: 8. | B58: Felhalmozási célú átvett pénzeszközök (8.1.+8.2.+8.3.) | C58: =SUM(C59:C61) -> 0 | D58: =SUM(D59:D61) -> 0 | E58: =SUM(E59:E61) -> 0
A59: 8.1. | B59: Felhalm. célú garancia- és kezességvállalásból megtérülések ÁH-n kívülről
A60: 8.2. | B60: Felhalm. célú visszatérítendő tám., kölcsönök visszatér. ÁH-n kívülről
A61: 8.3. | B61: Egyéb felhalmozási célú átvett pénzeszköz
A62: 8.4. | B62: 8.3.-ból EU-s támogatás (közvetlen)
A63: 9. | B63: KÖLTSÉGVETÉSI BEVÉTELEK ÖSSZESEN: (1+…+8) | C63: =+C8+C15+C22+C29+C36+C47+C53+C58 -> 0 | D63: =+D8+D15+D22+D29+D36+D47+D53+D58 -> 0 | E63: =+E8+E15+E22+E29+E36+E47+E53+E58 -> 0
A64: 10. | B64: Hitel-, kölcsönfelvétel államháztartáson kívülről (10.1.+10.3.) | C64: =SUM(C65:C67) -> 0 | D64: =SUM(D65:D67) -> 0 | E64: =SUM(E65:E67) -> 0
A65: 10.1. | B65: Hosszú lejáratú hitelek, kölcsönök felvétele
A66: 10.2. | B66: Likviditási célú hitelek, kölcsönök felvétele pénzügyi vállalkozástól
A67: 10.3. | B67: Rövid lejáratú hitelek, kölcsönök felvétele
A68: 11. | B68: Belföldi értékpapírok bevételei (11.1. +…+ 11.4.) | C68: =SUM(C69:C72) -> 0 | D68: =SUM(D69:D72) -> 0 | E68: =SUM(E69:E72) -> 0
A69: 11.1. | B69: Forgatási célú belföldi értékpapírok beváltása, értékesítése
A70: 11.2. | B70: Éven belüli lejáratú belföldi értékpapírok kibocsátása
A71: 11.3. | B71: Befektetési célú belföldi értékpapírok beváltása, értékesítése
A72: 11.4. | B72: Éven túli lejáratú belföldi értékpapírok kibocsátása
A73: 12. | B73: Maradvány igénybevétele (12.1. + 12.2.) | C73: =SUM(C74:C75) -> 0 | D73: =SUM(D74:D75) -> 0 | E73: =SUM(E74:E75) -> 0
A74: 12.1. | B74: Előző év költségvetési maradványának igénybevétele
A75: 12.2. | B75: Előző év vállalkozási maradványának igénybevétele
A76: 13. | B76: Belföldi finanszírozás bevételei (13.1. + … + 13.3.) | C76: =SUM(C77:C79) -> 0 | D76: =SUM(D77:D79) -> 0 | E76: =SUM(E77:E79) -> 0
A77: 13.1. | B77: Államháztartáson belüli megelőlegezések
A78: 13.2. | B78: Államháztartáson belüli megelőlegezések törlesztése
A79: 13.3. | B79: Lejötött betétek megszüntetése
A80: 14. | B80: Külföldi finanszírozás bevételei (14.1.+…14.4.) | C80: =SUM(C81:C84) -> 0 | D80: =SUM(D81:D84) -> 0 | E80: =SUM(E81:E84) -> 0
A81: 14.1. | B81: Forgatási célú külföldi értékpapírok beváltása, értékesítése
A82: 14.2. | B82: Befektetési célú külföldi értékpapírok beváltása, értékesítése
A83: 14.3. | B83: Külföldi értékpapírok kibocsátása
A84: 14.4. | B84: Külföldi hitelek, kölcsönök felvétele
A85: 15. | B85: Adóssághoz nem kapcsolódó származékos ügyletek bevételei
A86: 16. | B86: FINANSZÍROZÁSI BEVÉTELEK ÖSSZESEN: (10. + … +15.) | C86: =+C64+C68+C73+C76+C80+C85 -> 0 | D86: =+D64+D68+D73+D76+D80+D85 -> 0 | E86: =+E64+E68+E73+E76+E80+E85 -> 0
A87: 17. | B87: BEVÉTELEK ÖSSZESEN: (9+16) | C87: =+C63+C86 -> 0 | D87: =+D63+D86 -> 0 | E87: =+E63+E86 -> 0
A90: Kiadások
A91: 1. | B91: Működési költségvetés kiadásai (1.1+…+1.5.) | C91: =SUM(C92:C96) -> 0 | D91: =SUM(D92:D96) -> 0 | E91: =SUM(E92:E96) -> 0
A92: 1.1. | B92: Személyi juttatások
A93: 1.2. | B93: Munkaadókat terhelő járulékok és szociális hozzájárulási adó
A94: 1.3. | B94: Dologi kiadások
A95: 1.4. | B95: Ellátottak pénzbeli juttatásai
A96: 1.5 | B96: Egyéb működési célú kiadások
A97: 1.6. | B97: - az 1.5-ből: - Elvonások és befizetések
A98: 1.7. | B98: - Garancia- és kezességvállalásból kifizetés ÁH-n belülre
A99: 1.8. | B99: -Visszatérítendő támogatások, kölcsönök nyújtása ÁH-n belülre
A100: 1.9. | B100: - Visszatérítendő támogatások, kölcsönök törlesztése ÁH-n belülre
A101: 1.10. | B101: - Egyéb működési célú támogatások ÁH-n belülre
A102: 1.11. | B102: - Garancia és kezességvállalásból kifizetés ÁH-n kívülre
...

Sheet 6.4. sz. mell
E1: =+CONCATENATE("6.4. melléklet a ……/",LEFT(ÖSSZEFÜGGÉSEK!A4,4)+1,". (……) önkormányzati rendelethez") -> 6.4. melléklet a ……/2018. (……) önkormányzati rendelethez
A2: Megnevezés | B2: Sajószöged Községi Önkormányzat | E2: 01
A3: Feladat megnevezése | B3: Államigazgatási feladatok | E3: 04
E4: ='6.3. sz. mell'!E4 -> Forintban!
A5: Száma | B5: Kiemelt előirányzat, előirányzat megnevezése | C5: Eredeti előirányzat | D5: Módosított előirányzat | E5: Teljesítés
A6: A | B6: B | C6: C | D6: D | E6: E
A7: Bevételek
A8: 1. | B8: Önkormányzat működési támogatásai (1.1.+…+.1.6.) | C8: =SUM(C9:C14) -> 0 | D8: =SUM(D9:D14) -> 0 | E8: =SUM(E9:E14) -> 0
A9: 1.1. | B9: Helyi önkormányzatok működésének általános támogatása
A10: 1.2. | B10: Önkormányzatok egyes köznevelési feladatainak támogatása
A11: 1.3. | B11: Önkormányzatok szociális és gyermekjóléti feladatainak támogatása
A12: 1.4. | B12: Önkormányzatok kulturális feladatainak támogatása
A13: 1.5. | B13: Működési célú központosított előirányzatok
A14: 1.6. | B14: Helyi önkormányzatok kiegészítő támogatásai
A15: 2. | B15: Működési célú támogatások államháztartáson belülről (2.1.+…+.2.5.) | C15: =SUM(C16:C20) -> 0 | D15: =SUM(D16:D20) -> 0 | E15: =SUM(E16:E20) -> 0
A16: 2.1. | B16: Elvonások és befizetések bevételei
A17: 2.2. | B17: Működési célú garancia- és kezességvállalásból megtérülések
A18: 2.3. | B18: Működési célú visszatérítendő támogatások, kölcsönök visszatérülése
A19: 2.4. | B19: Működési célú visszatérítendő támogatások, kölcsönök igénybevétele
A20: 2.5. | B20: Egyéb működési célú támogatások bevételei
A21: 2.6. | B21: 2.5.-ből EU-s támogatás
A22: 3. | B22: Felhalmozási célú támogatások államháztartáson belülről (3.1.+…+3.5.) | C22: =SUM(C23:C27) -> 0 | D22: =SUM(D23:D27) -> 0 | E22: =SUM(E23:E27) -> 0
A23: 3.1. | B23: Felhalmozási célú önkormányzati támogatások
A24: 3.2. | B24: Felhalmozási célú garancia- és kezességvállalásból megtérülések
A25: 3.3. | B25: Felhalmozási célú visszatérítendő támogatások, kölcsönök visszatérülése
A26: 3.4. | B26: Felhalmozási célú visszatérítendő támogatások, kölcsönök igénybevétele
A27: 3.5. | B27: Egyéb felhalmozási célú támogatások bevételei
A28: 3.6. | B28: 3.5.-ből EU-s támogatás
A29: 4. | B29: Közhatalmi bevételek (4.1.+...+4.7.) | C29: =SUM(C30:C35) -> 0 | D29: =SUM(D30:D35) -> 0 | E29: =SUM(E30:E35) -> 0
A30: 4.1. | B30: Építményadó | D30: =+D31+D32 -> 0 | E30: =+E31+E32 -> 0
A31: 4.2. | B31: Idegenforgalmi adó
A32: 4.3. | B32: Iparűzési adó
A33: 4.5. | B33: Talajterhelési díj
A34: 4.6. | B34: Egyéb áruhasználati és szolgáltatási adók
A35: 4.7. | B35: Egyéb közhatalmi bevételek
A36: 5. | B36: Működési bevételek (5.1.+…+ 5.10.) | C36: =SUM(C37:C46) -> 0 | D36: =SUM(D37:D46) -> 0 | E36: =SUM(E37:E46) -> 0
A37: 5.1. | B37: Készletértékesítés ellenértéke
A38: 5.2. | B38: Szolgáltatások ellenértéke
A39: 5.3. | B39: Közvetített szolgáltatások értéke
A40: 5.4. | B40: Tulajdonosi bevételek
A41: 5.5. | B41: Ellátási díjak
A42: 5.6. | B42: Kiszámlázott általános forgalmi adó
A43: 5.7. | B43: Általános forgalmi adó visszatérítése
A44: 5.8. | B44: Kamatbevételek
A45: 5.9. | B45: Egyéb pénzügyi műveletek bevételei
A46: 5.10. | B46: Egyéb működési bevételek
A47: 6. | B47: Felhalmozási bevételek (6.1.+…+6.5.) | C47: =SUM(C48:C52) -> 0 | D47: =SUM(D48:D52) -> 0 | E47: =SUM(E48:E52) -> 0
A48: 6.1. | B48: Immateriális javak értékesítése
A49: 6.2. | B49: Ingatlanok értékesítése
A50: 6.3. | B50: Egyéb tárgyi eszközök értékesítése
A51: 6.4. | B51: Részesedések értékesítése
A52: 6.5. | B52: Részesedések megszűnéséhez kapcsolódó bevételek
A53: 7. | B53: Működési célú átvett pénzeszközök (7.1. + … + 7.3.) | C53: =SUM(C54:C56) -> 0 | D53: =SUM(D54:D56) -> 0 | E53: =SUM(E54:E56) -> 0
A54: 7.1. | B54: Működési célú garancia- és kezességvállalásból megtérülések ÁH-n kívülről
A55: 7.2. | B55: Működési célú visszatérítendő támogatások, kölcsönök visszatér. ÁH-n kívülről
A56: 7.3. | B56: Egyéb működési célú átvett pénzeszköz
A57: 7.4. | B57: 7.3.-ból EU-s támogatás (közvetlen)
A58: 8. | B58: Felhalmozási célú átvett pénzeszközök (8.1.+8.2.+8.3.) | C58: =SUM(C59:C61) -> 0 | D58: =SUM(D59:D61) -> 0 | E58: =SUM(E59:E61) -> 0
A59: 8.1. | B59: Felhalm. célú garancia- és kezességvállalásból megtérülések ÁH-n kívülről
A60: 8.2. | B60: Felhalm. célú visszatérítendő tám., kölcsönök visszatér. ÁH-n kívülről
A61: 8.3. | B61: Egyéb felhalmozási célú átvett pénzeszköz
A62: 8.4. | B62: 8.3.-ból EU-s támogatás (közvetlen)
A63: 9. | B63: KÖLTSÉGVETÉSI BEVÉTELEK ÖSSZESEN: (1+…+8) | C63: =+C8+C15+C22+C29+C36+C47+C53+C58 -> 0 | D63: =+D8+D15+D22+D29+D36+D47+D53+D58 -> 0 | E63: =+E8+E15+E22+E29+E36+E47+E53+E58 -> 0
A64: 10. | B64: Hitel-, kölcsönfelvétel államháztartáson kívülről (10.1.+10.3.) | C64: =SUM(C65:C67) -> 0 | D64: =SUM(D65:D67) -> 0 | E64: =SUM(E65:E67) -> 0
A65: 10.1. | B65: Hosszú lejáratú hitelek, kölcsönök felvétele
A66: 10.2. | B66: Likviditási célú hitelek, kölcsönök felvétele pénzügyi vállalkozástól
A67: 10.3. | B67: Rövid lejáratú hitelek, kölcsönök felvétele
A68: 11. | B68: Belföldi értékpapírok bevételei (11.1. +…+ 11.4.) | C68: =SUM(C69:C72) -> 0 | D68: =SUM(D69:D72) -> 0 | E68: =SUM(E69:E72) -> 0
A69: 11.1. | B69: Forgatási célú belföldi értékpapírok beváltása, értékesítése
A70: 11.2. | B70: Éven belüli lejáratú belföldi értékpapírok kibocsátása
A71: 11.3. | B71: Befektetési célú belföldi értékpapírok beváltása, értékesítése
A72: 11.4. | B72: Éven túli lejáratú belföldi értékpapírok kibocsátása
A73: 12. | B73: Maradvány igénybevétele (12.1. + 12.2.) | C73: =SUM(C74:C75) -> 0 | D73: =SUM(D74:D75) -> 0 | E73: =SUM(E74:E75) -> 0
A74: 12.1. | B74: Előző év költségvetési maradványának igénybevétele
A75: 12.2. | B75: Előző év vállalkozási maradványának igénybevétele
A76: 13. | B76: Belföldi finanszírozás bevételei (13.1. + … + 13.3.) | C76: =SUM(C77:C79) -> 0 | D76: =SUM(D77:D79) -> 0 | E76: =SUM(E77:E79) -> 0
A77: 13.1. | B77: Államháztartáson belüli megelőlegezések
A78: 13.2. | B78: Államháztartáson belüli megelőlegezések törlesztése
A79: 13.3. | B79: Lejötött betétek megszüntetése
A80: 14. | B80: Külföldi finanszírozás bevételei (14.1.+…14.4.) | C80: =SUM(C81:C84) -> 0 | D80: =SUM(D81:D84) -> 0 | E80: =SUM(E81:E84) -> 0
A81: 14.1. | B81: Forgatási célú külföldi értékpapírok beváltása, értékesítése
A82: 14.2. | B82: Befektetési célú külföldi értékpapírok beváltása, értékesítése
A83: 14.3. | B83: Külföldi értékpapírok kibocsátása
A84: 14.4. | B84: Külföldi hitelek, kölcsönök felvétele
A85: 15. | B85: Adóssághoz nem kapcsolódó származékos ügyletek bevételei
A86: 16. | B86: FINANSZÍROZÁSI BEVÉTELEK ÖSSZESEN: (10. + … +15.) | C86: =+C64+C68+C73+C76+C80+C85 -> 0 | D86: =+D64+D68+D73+D76+D80+D85 -> 0 | E86: =+E64+E68+E73+E76+E80+E85 -> 0
A87: 17. | B87: BEVÉTELEK ÖSSZESEN: (9+16) | C87: =+C63+C86 -> 0 | D87: =+D63+D86 -> 0 | E87: =+E63+E86 -> 0
A90: Kiadások
A91: 1. | B91: Működési költségvetés kiadásai (1.1+…+1.5.) | C91: =SUM(C92:C96) -> 0 | D91: =SUM(D92:D96) -> 0 | E91: =SUM(E92:E96) -> 0
A92: 1.1. | B92: Személyi juttatások
A93: 1.2. | B93: Munkaadókat terhelő járulékok és szociális hozzájárulási adó
A94: 1.3. | B94: Dologi kiadások
A95: 1.4. | B95: Ellátottak pénzbeli juttatásai
A96: 1.5 | B96: Egyéb működési célú kiadások
A97: 1.6. | B97: - az 1.5-ből: - Elvonások és befizetések
A98: 1.7. | B98: - Garancia- és kezességvállalásból kifizetés ÁH-n belülre
A99: 1.8. | B99: -Visszatérítendő támogatások, kölcsönök nyújtása ÁH-n belülre
A100: 1.9. | B100: - Visszatérítendő támogatások, kölcsönök törlesztése ÁH-n belülre
A101: 1.10. | B101: - Egyéb működési célú támogatások ÁH-n belülre
A102: 1.11. | B102: - Garancia és kezességvállalásból kifizetés ÁH-n kívülre
...

Sheet 7.1. sz. mell
E1: =+CONCATENATE("7.1. melléklet a ……/",LEFT(ÖSSZEFÜGGÉSEK!A4,4)+1,". (……) önkormányzati rendelethez") -> 7.1. melléklet a ……/2018. (……) önkormányzati rendelethez
A2: Költségvetési szerv megnevezése | B2: Sajószögedi Polgármesteri Hivatal | E2: 02
A3: Feladat megnevezése | B3: Összes bevétel, kiadás | E3: 01
E4: ='6.4. sz. mell'!E4 -> Forintban!
A5: Száma | B5: Kiemelt előirányzat, előirányzat megnevezése | C5: Eredeti előirányzat | D5: Módosított előirányzat | E5: Teljesítés
A6: A | B6: B | C6: C | D6: D | E6: E
A7: Bevételek
A8: 1. | B8: Működési bevételek (1.1.+…+1.10.) | C8: =SUM(C9:C18) -> 0 | D8: =SUM(D9:D18) -> 14461 | E8: =SUM(E9:E18) -> 14461
A9: 1.1. | B9: Készletértékesítés ellenértéke
A10: 1.2. | B10: Szolgáltatások ellenértéke
A11: 1.3. | B11: Közvetített szolgáltatások értéke
A12: 1.4. | B12: Tulajdonosi bevételek
A13: 1.5. | B13: Ellátási díjak
A14: 1.6. | B14: Kiszámlázott általános forgalmi adó
A15: 1.7. | B15: Általános forgalmi adó visszatérülése
A16: 1.8. | B16: Kamatbevételek | D16: 10 | E16: 10
A17: 1.9. | B17: Egyéb pénzügyi műveletek bevételei
A18: 1.10. | B18: Egyéb működési bevételek | D18: 14451 | E18: 14451
A19: 2. | B19: Működési célú támogatások államháztartáson belülről (2.1.+…+2.3.) | C19: =SUM(C20:C22) -> 0 | D19: =SUM(D20:D22) -> 0 | E19: =SUM(E20:E22) -> 0
A20: 2.1. | B20: Elvonások és befizetések bevételei
A21: 2.2. | B21: Visszatérítendő támogatások, kölcsönök visszatérülése ÁH-n belülről
A22: 2.3. | B22: Egyéb működési célú támogatások bevételei államháztartáson belülről
A23: 2.4. | B23: - 2.3-ból EU-s támogatás
A24: 3. | B24: Közhatalmi bevételek | C24: 20000 | D24: 26000 | E24: 26000
A25: 4. | B25: Felhalmozási célú támogatások államháztartáson belülről (4.1.+4.2.) | C25: =SUM(C26:C27) -> 0 | D25: =SUM(D26:D27) -> 0 | E25: =SUM(E26:E27) -> 0
A26: 4.1. | B26: Visszatérítendő támogatások, kölcsönök visszatérülése ÁH-n belülről
A27: 4.2. | B27: Egyéb felhalmozási célú támogatások bevételei államháztartáson belülről
A28: 4.3. | B28: - 4.2-ből EU-s támogatás
A29: 5. | B29: Felhalmozási bevételek (5.1.+…+5.3.) | C29: =SUM(C30:C32) -> 0 | D29: =SUM(D30:D32) -> 0 | E29: =SUM(E30:E32) -> 0
A30: 5.1. | B30: Immateriális javak értékesítése
A31: 5.2. | B31: Ingatlanok értékesítése
A32: 5.3. | B32: Egyéb tárgyi eszközök értékesítése
A33: 6. | B33: Működési célú átvett pénzeszközök
A34: 7. | B34: Felhalmozási célú átvett pénzeszközök
A35: 8. | B35: KÖLTSÉGVETÉSI BEVÉTELEK ÖSSZESEN: (1.+…+7.) | C35: =+C8+C19+C24+C25+C29+C33+C34 -> 20000 | D35: =+D8+D19+D24+D25+D29+D33+D34 -> 40461 | E35: =+E8+E19+E24+E25+E29+E33+E34 -> 40461
A36: 9. | B36: Finanszírozási bevételek (9.1.+…+9.3.) | C36: =+C37+C38+C39 -> 0 | D36: =+D37+D38+D39 -> 0 | E36: =+E37+E38+E39 -> 0
A37: 9.1. | B37: Költségvetési maradvány igénybevétele
A38: 9.2. | B38: Vállalkozási maradvány igénybevétele
A39: 9.3. | B39: Irányító szervi (önkormányzati) támogatás (intézményfinanszírozás)
A40: 10. | B40: BEVÉTELEK ÖSSZESEN: (8.+9.) | C40: =+C35+C36 -> 20000 | D40: =+D35+D36 -> 40461 | E40: =+E35+E36 -> 40461
A43: Kiadások
A44: 1. | B44: Működési költségvetés kiadásai (1.1+…+1.5.) | C44: =SUM(C45:C49) -> 51428976 | D44: =SUM(D45:D49) -> 52942375 | E44: =SUM(E45:E49) -> 52424744
A45: 1.1. | B45: Személyi juttatások | C45: 31719500 | D45: 34368019 | E45: 34368019
A46: 1.2. | B46: Munkaadókat terhelő járulékok és szociális hozzájárulási adó | C46: 7187276 | D46: 8088552 | E46: 8088552
A47: 1.3. | B47: Dologi kiadások | C47: 12522200 | D47: 10485804 | E47: 9968173
A48: 1.4. | B48: Ellátottak pénzbeli juttatásai
A49: 1.5. | B49: Egyéb működési célú kiadások
A50: 2. | B50: Felhalmozási költségvetés kiadásai (2.1.+…+2.3.) | C50: =SUM(C51:C53) -> 1270000 | D50: =SUM(D51:D53) -> 330817 | E50: =SUM(E51:E53) -> 330817
A51: 2.1. | B51: Beruházások | C51: 1270000 | D51: 330817 | E51: 330817
A52: 2.2. | B52: Felújítások
A53: 2.3. | B53: Egyéb fejlesztési célú kiadások
A54: 2.4. | B54: - 2.3-ból EU-s forrásból tám. megvalósuló programok, projektek kiadásai
A55: 3. | B55: KIADÁSOK ÖSSZESEN: (1.+2.) | C55: =+C44+C50 -> 52698976 | D55: =+D44+D50 -> 53273192 | E55: =+E44+E50 -> 52755561
A57: Éves tényleges állományi létszám (fő)
A58: Közfoglalkoztatottak tényleges állományi létszáma (fő)

Sheet 7.2. sz. mell
E1: =+CONCATENATE("7.2. melléklet a ……/",LEFT(ÖSSZEFÜGGÉSEK!A4,4)+1,". (……) önkormányzati rendelethez") -> 7.2. melléklet a ……/2018. (……) önkormányzati rendelethez
A2: Költségvetési szerv megnevezése | B2: Sajószögedi Polgármesteri Hivatal | E2: 02
A3: Feladat megnevezése | B3: Kötelező feladatok | E3: 02
E4: ='7.1. sz. mell'!E4 -> Forintban!
A5: Száma | B5: Kiemelt előirányzat, előirányzat megnevezése | C5: Eredeti előirányzat | D5: Módosított előirányzat | E5: Teljesítés
A6: A | B6: B | C6: C | D6: D | E6: E
A7: Bevételek
A8: 1. | B8: Működési bevételek (1.1.+…+1.10.) | C8: =SUM(C9:C18) -> 0 | D8: =SUM(D9:D18) -> 14461 | E8: =SUM(E9:E18) -> 14461
A9: 1.1. | B9: Készletértékesítés ellenértéke
A10: 1.2. | B10: Szolgáltatások ellenértéke
A11: 1.3. | B11: Közvetített szolgáltatások értéke
A12: 1.4. | B12: Tulajdonosi bevételek
A13: 1.5. | B13: Ellátási díjak
A14: 1.6. | B14: Kiszámlázott általános forgalmi adó
A15: 1.7. | B15: Általános forgalmi adó visszatérülése
A16: 1.8. | B16: Kamatbevételek | D16: 10 | E16: 10
A17: 1.9. | B17: Egyéb pénzügyi műveletek bevételei
A18: 1.10. | B18: Egyéb működési bevételek | D18: 14451 | E18: 14451
A19: 2. | B19: Működési célú támogatások államháztartáson belülről (2.1.+…+2.3.) | C19: =SUM(C20:C22) -> 0 | D19: =SUM(D20:D22) -> 0 | E19: =SUM(E20:E22) -> 0
A20: 2.1. | B20: Elvonások és befizetések bevételei
A21: 2.2. | B21: Visszatérítendő támogatások, kölcsönök visszatérülése ÁH-n belülről
A22: 2.3. | B22: Egyéb működési célú támogatások bevételei államháztartáson belülről
A23: 2.4. | B23: - 2.3-ból EU-s támogatás
A24: 3. | B24: Közhatalmi bevételek | C24: 20000 | D24: 26000 | E24: 26000
A25: 4. | B25: Felhalmozási célú támogatások államháztartáson belülről (4.1.+4.2.) | C25: =SUM(C26:C27) -> 0 | D25: =SUM(D26:D27) -> 0 | E25: =SUM(E26:E27) -> 0
A26: 4.1. | B26: Visszatérítendő támogatások, kölcsönök visszatérülése ÁH-n belülről
A27: 4.2. | B27: Egyéb felhalmozási célú támogatások bevételei államháztartáson belülről
A28: 4.3. | B28: - 4.2-ből EU-s támogatás
A29: 5. | B29: Felhalmozási bevételek (5.1.+…+5.3.) | C29: =SUM(C30:C32) -> 0 | D29: =SUM(D30:D32) -> 0 | E29: =SUM(E30:E32) -> 0
A30: 5.1. | B30: Immateriális javak értékesítése
A31: 5.2. | B31: Ingatlanok értékesítése
A32: 5.3. | B32: Egyéb tárgyi eszközök értékesítése
A33: 6. | B33: Működési célú átvett pénzeszközök
A34: 7. | B34: Felhalmozási célú átvett pénzeszközök
A35: 8. | B35: KÖLTSÉGVETÉSI BEVÉTELEK ÖSSZESEN: (1.+…+7.) | C35: =+C8+C19+C24+C25+C29+C33+C34 -> 20000 | D35: =+D8+D19+D24+D25+D29+D33+D34 -> 40461 | E35: =+E8+E19+E24+E25+E29+E33+E34 -> 40461
A36: 9. | B36: Finanszírozási bevételek (9.1.+…+9.3.) | C36: =+C37+C38+C39 -> 0 | D36: =+D37+D38+D39 -> 0 | E36: =+E37+E38+E39 -> 0
A37: 9.1. | B37: Költségvetési maradvány igénybevétele
A38: 9.2. | B38: Vállalkozási maradvány igénybevétele
A39: 9.3. | B39: Irányító szervi (önkormányzati) támogatás (intézményfinanszírozás)
A40: 10. | B40: BEVÉTELEK ÖSSZESEN: (8.+9.) | C40: =+C35+C36 -> 20000 | D40: =+D35+D36 -> 40461 | E40: =+E35+E36 -> 40461
A43: Kiadások
A44: 1. | B44: Működési költségvetés kiadásai (1.1+…+1.5.) | C44: =SUM(C45:C49) -> 51428976 | D44: =SUM(D45:D49) -> 52942375 | E44: =SUM(E45:E49) -> 52424744
A45: 1.1. | B45: Személyi juttatások | C45: 31719500 | D45: 34368019 | E45: 34368019
A46: 1.2. | B46: Munkaadókat terhelő járulékok és szociális hozzájárulási adó | C46: 7187276 | D46: 8088552 | E46: 8088552
A47: 1.3. | B47: Dologi kiadások | C47: 12522200 | D47: 10485804 | E47: 9968173
A48: 1.4. | B48: Ellátottak pénzbeli juttatásai
A49: 1.5. | B49: Egyéb működési célú kiadások
A50: 2. | B50: Felhalmozási költségvetés kiadásai (2.1.+…+2.3.) | C50: =SUM(C51:C53) -> 1270000 | D50: =SUM(D51:D53) -> 330817 | E50: =SUM(E51:E53) -> 330817
A51: 2.1. | B51: Beruházások | C51: 1270000 | D51: 330817 | E51: 330817
A52: 2.2. | B52: Felújítások
A53: 2.3. | B53: Egyéb fejlesztési célú kiadások
A54: 2.4. | B54: - 2.3-ból EU-s forrásból tám. megvalósuló programok, projektek kiadásai
A55: 3. | B55: KIADÁSOK ÖSSZESEN: (1.+2.) | C55: =+C44+C50 -> 52698976 | D55: =+D44+D50 -> 53273192 | E55: =+E44+E50 -> 52755561
A57: Éves tényleges állományi létszám (fő)
A58: Közfoglalkoztatottak tényleges állományi létszáma (fő)

Sheet 7.3. sz. mell
E1: =+CONCATENATE("7.3. melléklet a ……/",LEFT(ÖSSZEFÜGGÉSEK!A4,4)+1,". (……) önkormányzati rendelethez") -> 7.3. melléklet a ……/2018. (……) önkormányzati rendelethez
A2: Költségvetési szerv megnevezése | B2: Sajószögedi Polgármesteri Hivatal | E2: 02
A3: Feladat megnevezése | B3: Önként vállalt feladatok | E3: 03
E4: ='7.2. sz. mell'!E4 -> Forintban!
A5: Száma | B5: Kiemelt előirányzat, előirányzat megnevezése | C5: Eredeti előirányzat | D5: Módosított előirányzat | E5: Teljesítés
A6: A | B6: B | C6: C | D6: D | E6: E
A7: Bevételek
A8: 1. | B8: Működési bevételek (1.1.+…+1.10.) | C8: =SUM(C9:C18) -> 0 | D8: =SUM(D9:D18) -> 0 | E8: =SUM(E9:E18) -> 0
A9: 1.1. | B9: Készletértékesítés ellenértéke
A10: 1.2. | B10: Szolgáltatások ellenértéke
A11: 1.3. | B11: Közvetített szolgáltatások értéke
A12: 1.4. | B12: Tulajdonosi bevételek
A13: 1.5. | B13: Ellátási díjak
A14: 1.6. | B14: Kiszámlázott általános forgalmi adó
A15: 1.7. | B15: Általános forgalmi adó visszatérülése
A16: 1.8. | B16: Kamatbevételek
A17: 1.9. | B17: Egyéb pénzügyi műveletek bevételei
A18: 1.10. | B18: Egyéb működési bevételek
A19: 2. | B19: Működési célú támogatások államháztartáson belülről (2.1.+…+2.3.) | C19: =SUM(C20:C22) -> 0 | D19: =SUM(D20:D22) -> 0 | E19: =SUM(E20:E22) -> 0
A20: 2.1. | B20: Elvonások és befizetések bevételei
A21: 2.2. | B21: Visszatérítendő támogatások, kölcsönök visszatérülése ÁH-n belülről
A22: 2.3. | B22: Egyéb működési célú támogatások bevételei államháztartáson belülről
A23: 2.4. | B23: - 2.3-ból EU-s támogatás
A24: 3. | B24: Közhatalmi bevételek
A25: 4. | B25: Felhalmozási célú támogatások államháztartáson belülről (4.1.+4.2.) | C25: =SUM(C26:C27) -> 0 | D25: =SUM(D26:D27) -> 0 | E25: =SUM(E26:E27) -> 0
A26: 4.1. | B26: Visszatérítendő támogatások, kölcsönök visszatérülése ÁH-n belülről
A27: 4.2. | B27: Egyéb felhalmozási célú támogatások bevételei államháztartáson belülről
A28: 4.3. | B28: - 4.2-ből EU-s támogatás
A29: 5. | B29: Felhalmozási bevételek (5.1.+…+5.3.) | C29: =SUM(C30:C32) -> 0 | D29: =SUM(D30:D32) -> 0 | E29: =SUM(E30:E32) -> 0
A30: 5.1. | B30: Immateriális javak értékesítése
A31: 5.2. | B31: Ingatlanok értékesítése
A32: 5.3. | B32: Egyéb tárgyi eszközök értékesítése
A33: 6. | B33: Működési célú átvett pénzeszközök
A34: 7. | B34: Felhalmozási célú átvett pénzeszközök
A35: 8. | B35: KÖLTSÉGVETÉSI BEVÉTELEK ÖSSZESEN: (1.+…+7.) | C35: =+C8+C19+C24+C25+C29+C33+C34 -> 0 | D35: =+D8+D19+D24+D25+D29+D33+D34 -> 0 | E35: =+E8+E19+E24+E25+E29+E33+E34 -> 0
A36: 9. | B36: Finanszírozási bevételek (9.1.+…+9.3.) | C36: =+C37+C38+C39 -> 0 | D36: =+D37+D38+D39 -> 0 | E36: =+E37+E38+E39 -> 0
A37: 9.1. | B37: Költségvetési maradvány igénybevétele
A38: 9.2. | B38: Vállalkozási maradvány igénybevétele
A39: 9.3. | B39: Irányító szervi (önkormányzati) támogatás (intézményfinanszírozás)
A40: 10. | B40: BEVÉTELEK ÖSSZESEN: (8.+9.) | C40: =+C35+C36 -> 0 | D40: =+D35+D36 -> 0 | E40: =+E35+E36 -> 0
A43: Kiadások
A44: 1. | B44: Működési költségvetés kiadásai (1.1+…+1.5.) | C44: =SUM(C45:C49) -> 0 | D44: =SUM(D45:D49) -> 0 | E44: =SUM(E45:E49) -> 0
A45: 1.1. | B45: Személyi juttatások
A46: 1.2. | B46: Munkaadókat terhelő járulékok és szociális hozzájárulási adó
A47: 1.3. | B47: Dologi kiadások
A48: 1.4. | B48: Ellátottak pénzbeli juttatásai
A49: 1.5. | B49: Egyéb működési célú kiadások
A50: 2. | B50: Felhalmozási költségvetés kiadásai (2.1.+…+2.3.) | C50: =SUM(C51:C53) -> 0 | D50: =SUM(D51:D53) -> 0 | E50: =SUM(E51:E53) -> 0
A51: 2.1. | B51: Beruházások
A52: 2.2. | B52: Felújítások
A53: 2.3. | B53: Egyéb fejlesztési célú kiadások
A54: 2.4. | B54: - 2.3-ból EU-s forrásból tám. megvalósuló programok, projektek kiadásai
A55: 3. | B55: KIADÁSOK ÖSSZESEN: (1.+2.) | C55: =+C44+C50 -> 0 | D55: =+D44+D50 -> 0 | E55: =+E44+E50 -> 0
A57: Éves tényleges állományi létszám (fő)
A58: Közfoglalkoztatottak tényleges állományi létszáma (fő)

Sheet 7.4. sz. mell
E1: =+CONCATENATE("7.4. melléklet a ……/",LEFT(ÖSSZEFÜGGÉSEK!A4,4)+1,". (……) önkormányzati rendelethez") -> 7.4. melléklet a ……/2018. (……) önkormányzati rendelethez
A2: Költségvetési szerv megnevezése | B2: Sajószögedi Polgármesteri Hivatal | E2: 02
A3: Feladat megnevezése | B3: Államigazgatási feladatok | E3: 04
E4: ='7.3. sz. mell'!E4 -> Forintban!
A5: Száma | B5: Kiemelt előirányzat, előirányzat megnevezése | C5: Eredeti előirányzat | D5: Módosított előirányzat | E5: Teljesítés
A6: A | B6: B | C6: C | D6: D | E6: E
A7: Bevételek
A8: 1. | B8: Működési bevételek (1.1.+…+1.10.) | C8: =SUM(C9:C18) -> 0 | D8: =SUM(D9:D18) -> 0 | E8: =SUM(E9:E18) -> 0
A9: 1.1. | B9: Készletértékesítés ellenértéke
A10: 1.2. | B10: Szolgáltatások ellenértéke
A11: 1.3. | B11: Közvetített szolgáltatások értéke
A12: 1.4. | B12: Tulajdonosi bevételek
A13: 1.5. | B13: Ellátási díjak
A14: 1.6. | B14: Kiszámlázott általános forgalmi adó
A15: 1.7. | B15: Általános forgalmi adó visszatérülése
A16: 1.8. | B16: Kamatbevételek
A17: 1.9. | B17: Egyéb pénzügyi műveletek bevételei
A18: 1.10. | B18: Egyéb működési bevételek
A19: 2. | B19: Működési célú támogatások államháztartáson belülről (2.1.+…+2.3.) | C19: =SUM(C20:C22) -> 0 | D19: =SUM(D20:D22) -> 0 | E19: =SUM(E20:E22) -> 0
A20: 2.1. | B20: Elvonások és befizetések bevételei
A21: 2.2. | B21: Visszatérítendő támogatások, kölcsönök visszatérülése ÁH-n belülről
A22: 2.3. | B22: Egyéb működési célú támogatások bevételei államháztartáson belülről
A23: 2.4. | B23: - 2.3-ból EU-s támogatás
A24: 3. | B24: Közhatalmi bevételek
A25: 4. | B25: Felhalmozási célú támogatások államháztartáson belülről (4.1.+4.2.) | C25: =SUM(C26:C27) -> 0 | D25: =SUM(D26:D27) -> 0 | E25: =SUM(E26:E27) -> 0
A26: 4.1. | B26: Visszatérítendő támogatások, kölcsönök visszatérülése ÁH-n belülről
A27: 4.2. | B27: Egyéb felhalmozási célú támogatások bevételei államháztartáson belülről
A28: 4.3. | B28: - 4.2-ből EU-s támogatás
A29: 5. | B29: Felhalmozási bevételek (5.1.+…+5.3.) | C29: =SUM(C30:C32) -> 0 | D29: =SUM(D30:D32) -> 0 | E29: =SUM(E30:E32) -> 0
A30: 5.1. | B30: Immateriális javak értékesítése
A31: 5.2. | B31: Ingatlanok értékesítése
A32: 5.3. | B32: Egyéb tárgyi eszközök értékesítése
A33: 6. | B33: Működési célú átvett pénzeszközök
A34: 7. | B34: Felhalmozási célú átvett pénzeszközök
A35: 8. | B35: KÖLTSÉGVETÉSI BEVÉTELEK ÖSSZESEN: (1.+…+7.) | C35: =+C8+C19+C24+C25+C29+C33+C34 -> 0 | D35: =+D8+D19+D24+D25+D29+D33+D34 -> 0 | E35: =+E8+E19+E24+E25+E29+E33+E34 -> 0
A36: 9. | B36: Finanszírozási bevételek (9.1.+…+9.3.) | C36: =+C37+C38+C39 -> 0 | D36: =+D37+D38+D39 -> 0 | E36: =+E37+E38+E39 -> 0
A37: 9.1. | B37: Költségvetési maradvány igénybevétele
A38: 9.2. | B38: Vállalkozási maradvány igénybevétele
A39: 9.3. | B39: Irányító szervi (önkormányzati) támogatás (intézményfinanszírozás)
A40: 10. | B40: BEVÉTELEK ÖSSZESEN: (8.+9.) | C40: =+C35+C36 -> 0 | D40: =+D35+D36 -> 0 | E40: =+E35+E36 -> 0
A43: Kiadások
A44: 1. | B44: Működési költségvetés kiadásai (1.1+…+1.5.) | C44: =SUM(C45:C49) -> 0 | D44: =SUM(D45:D49) -> 0 | E44: =SUM(E45:E49) -> 0
A45: 1.1. | B45: Személyi juttatások
A46: 1.2. | B46: Munkaadókat terhelő járulékok és szociális hozzájárulási adó
A47: 1.3. | B47: Dologi kiadások
A48: 1.4. | B48: Ellátottak pénzbeli juttatásai
A49: 1.5. | B49: Egyéb működési célú kiadások
A50: 2. | B50: Felhalmozási költségvetés kiadásai (2.1.+…+2.3.) | C50: =SUM(C51:C53) -> 0 | D50: =SUM(D51:D53) -> 0 | E50: =SUM(E51:E53) -> 0
A51: 2.1. | B51: Beruházások
A52: 2.2. | B52: Felújítások
A53: 2.3. | B53: Egyéb fejlesztési célú kiadások
A54: 2.4. | B54: - 2.3-ból EU-s forrásból tám. megvalósuló programok, projektek kiadásai
A55: 3. | B55: KIADÁSOK ÖSSZESEN: (1.+2.) | C55: =+C44+C50 -> 0 | D55: =+D44+D50 -> 0 | E55: =+E44+E50 -> 0
A57: Éves tényleges állományi létszám (fő)
A58: Közfoglalkoztatottak tényleges állományi létszáma (fő)

Sheet 8.1. sz. mell.
E1: =+CONCATENATE("8.1. melléklet a ……/",LEFT(ÖSSZEFÜGGÉSEK!A4,4)+1,". (……) önkormányzati rendelethez") -> 8.1. melléklet a ……/2018. (……) önkormányzati rendelethez
A2: Költségvetési szerv megnevezése | B2: Sajószögedi Általános Művelődési Központ | E2: 03
A3: Feladat megnevezése | B3: Összes bevétel, kiadás | E3: 01
E4: ='7.4. sz. mell'!E4 -> Forintban!
A5: Száma | B5: Kiemelt előirányzat, előirányzat megnevezése | C5: Eredeti előirányzat | D5: Módosított előirányzat | E5: Teljesítés
A6: A | B6: B | C6: C | D6: D | E6: E
A7: Bevételek
A8: 1. | B8: Működési bevételek (1.1.+…+1.10.) | C8: =SUM(C9:C18) -> 11409120 | D8: =SUM(D9:D18) -> 12530518 | E8: =SUM(E9:E18) -> 12488970
A9: 1.1. | B9: Készletértékesítés ellenértéke
A10: 1.2. | B10: Szolgáltatások ellenértéke | C10: 100000 | D10: 9006567 | E10: 8984110
A11: 1.3. | B11: Közvetített szolgáltatások értéke
A12: 1.4. | B12: Tulajdonosi bevételek
A13: 1.5. | B13: Ellátási díjak | C13: 8968600 | D13: 899188 | E13: 888930
A14: 1.6. | B14: Kiszámlázott általános forgalmi adó | C14: 2340520 | D14: 2600257 | E14: 2591424
A15: 1.7. | B15: Általános forgalmi adó visszatérülése
A16: 1.8. | B16: Kamatbevételek | D16: 6 | E16: 6
A17: 1.9. | B17: Egyéb pénzügyi műveletek bevételei
A18: 1.10. | B18: Egyéb működési bevételek | D18: 24500 | E18: 24500
A19: 2. | B19: Működési célú támogatások államháztartáson belülről (2.1.+…+2.3.) | C19: =SUM(C20:C22) -> 0 | D19: =SUM(D20:D22) -> 0 | E19: =SUM(E20:E22) -> 0
A20: 2.1. | B20: Elvonások és befizetések bevételei
A21: 2.2. | B21: Visszatérítendő támogatások, kölcsönök visszatérülése ÁH-n belülről
A22: 2.3. | B22: Egyéb működési célú támogatások bevételei államháztartáson belülről
A23: 2.4. | B23: - 2.3.-ból EU-s támogatás
A24: 3. | B24: Közhatalmi bevételek
A25: 4. | B25: Felhalmozási célú támogatások államháztartáson belülről (4.1.+4.2.) | C25: =+C26+C27 -> 0 | D25: =+D26+D27 -> 0 | E25: =+E26+E27 -> 0
A26: 4.1. | B26: Visszatérítendő támogatások, kölcsönök visszatérülése ÁH-n belülről
A27: 4.2. | B27: Egyéb felhalmozási célú támogatások bevételei államháztartáson belülről
A28: 4.3. | B28: - 4.2.-ből EU-s támogatás
A29: 5. | B29: Felhalmozási bevételek (5.1.+…+5.3.) | C29: =+C30+C31+C32 -> 0 | D29: =+D30+D31+D32 -> 0 | E29: =+E30+E31+E32 -> 0
A30: 5.1. | B30: Immateriális javak értékesítése
A31: 5.2. | B31: Ingatlanok értékesítése
A32: 5.3. | B32: Egyéb tárgyi eszközök értékesítése
A33: 6. | B33: Működési célú átvett pénzeszközök | D33: 233500 | E33: 233500
A34: 7. | B34: Felhalmozási célú átvett pénzeszközök
A35: 8. | B35: Költségvetési bevételek összesen (1.+…+7.) | C35: =+C8+C19+C24+C25+C29+C33+C34 -> 11409120 | D35: =+D8+D19+D24+D25+D29+D33+D34 -> 12764018 | E35: =+E8+E19+E24+E25+E29+E33+E34 -> 12722470
A36: 9. | B36: Finanszírozási bevételek (9.1.+…+9.3.) | C36: =+C37+C38+C39 -> 83708199 | D36: =+D37+D38+D39 -> 79548595 | E36: =+E37+E38+E39 -> 79548595
A37: 9.1. | B37: Költségvetési maradvány igénybevétele | C37: 151432 | D37: 151365 | E37: 151365
A38: 9.2. | B38: Vállalkozási maradvány igénybevétele
A39: 9.3. | B39: Irányító szervi (önkormányzati) támogatás (intézményfinanszírozás) | C39: 83556767 | D39: 79397230 | E39: 79397230
A40: 10. | B40: BEVÉTELEK ÖSSZESEN: (8.+9.) | C40: =+C35+C36 -> 95117319 | D40: =+D35+D36 -> 92312613 | E40: =+E35+E36 -> 92271065
A43: Kiadások
A44: 1. | B44: Működési költségvetés kiadásai (1.1+…+1.5.) | C44: =SUM(C45:C49) -> 93885419 | D44: =SUM(D45:D49) -> 91190622 | E44: =SUM(E45:E49) -> 89763310
A45: 1.1. | B45: Személyi juttatások | C45: 41241652 | D45: 43200919 | E45: 43200919
A46: 1.2. | B46: Munkaadókat terhelő járulékok és szociális hozzájárulási adó | C46: 9027641 | D46: 10155256 | E46: 10155256
A47: 1.3. | B47: Dologi kiadások | C47: 43616126 | D47: 37834447 | E47: 36407135
A48: 1.4. | B48: Ellátottak pénzbeli juttatásai
A49: 1.5. | B49: Egyéb működési célú kiadások
A50: 2. | B50: Felhalmozási költségvetés kiadásai (2.1.+…+2.3.) | C50: =SUM(C51:C53) -> 1231900 | D50: =SUM(D51:D53) -> 1121991 | E50: =SUM(E51:E53) -> 1121991
A51: 2.1. | B51: Beruházások | C51: 1231900 | D51: 1121991 | E51: 1121991
A52: 2.2. | B52: Felújítások
A53: 2.3. | B53: Egyéb fejlesztési célú kiadások
A54: 2.4. | B54: - 2.3.-ból EU-s forrásból tám. megvalósuló programok, projektek kiadásai
A55: 3. | B55: KIADÁSOK ÖSSZESEN: (1.+2.) | C55: =+C44+C50 -> 95117319 | D55: =+D44+D50 -> 92312613 | E55: =+E44+E50 -> 90885301
A57: Éves tényleges állományi létszám (fő)
A58: Közfoglalkoztatottak tényleges állományi létszáma (fő)

Sheet 8.1.1. sz. mell.
E1: =+CONCATENATE("8.1.1. melléklet a ……/",LEFT(ÖSSZEFÜGGÉSEK!A4,4)+1,". (……) önkormányzati rendelethez") -> 8.1.1. melléklet a ……/2018. (……) önkormányzati rendelethez
A2: Költségvetési szerv megnevezése | B2: Sajószögedi Általános Művelődési Központ | E2: 03
A3: Feladat megnevezése | B3: Kötelező feladatok | E3: 02
E4: ='8.1. sz. mell.'!E4 -> Forintban!
A5: Száma | B5: Kiemelt előirányzat, előirányzat megnevezése | C5: Eredeti előirányzat | D5: Módosított előirányzat | E5: Teljesítés
A6: A | B6: B | C6: C | D6: D | E6: E
A7: Bevételek
A8: 1. | B8: Működési bevételek (1.1.+…+1.10.) | C8: =SUM(C9:C18) -> 22818240 | D8: =SUM(D9:D18) -> 25036536 | E8: =SUM(E9:E18) -> 24953440
A9: 1. | B9: Működési bevételek (1.1.+…+1.10.) | C9: =SUM(C10:C19) -> 11409120 | D9: =SUM(D10:D19) -> 12530518 | E9: =SUM(E10:E19) -> 12488970
A10: 1.1. | B10: Készletértékesítés ellenértéke
A11: 1.2. | B11: Szolgáltatások ellenértéke | C11: 100000 | D11: 9006567 | E11: 8984110
A12: 1.3. | B12: Közvetített szolgáltatások értéke
A13: 1.4. | B13: Tulajdonosi bevételek
A14: 1.5. | B14: Ellátási díjak | C14: 8968600 | D14: 899188 | E14: 888930
A15: 1.6. | B15: Kiszámlázott általános forgalmi adó | C15: 2340520 | D15: 2600257 | E15: 2591424
A16: 1.7. | B16: Általános forgalmi adó visszatérülése
A17: 1.8. | B17: Kamatbevételek | D17: 6 | E17: 6
A18: 1.9. | B18: Egyéb pénzügyi műveletek bevételei
A19: 1.10. | B19: Egyéb működési bevételek | D19: 24500 | E19: 24500
A20: 2. | B20: Működési célú támogatások államháztartáson belülről (2.1.+…+2.3.) | C20: =SUM(C21:C23) -> 0 | D20: =SUM(D21:D23) -> 0 | E20: =SUM(E21:E23) -> 0
A21: 2.1. | B21: Elvonások és befizetések bevételei
A22: 2.2. | B22: Visszatérítendő támogatások, kölcsönök visszatérülése ÁH-n belülről
A23: 2.3. | B23: Egyéb működési célú támogatások bevételei államháztartáson belülről
A24: 2.4. | B24: - 2.3.-ból EU-s támogatás
A25: 3. | B25: Közhatalmi bevételek
A26: 4. | B26: Felhalmozási célú támogatások államháztartáson belülről (4.1.+4.2.) | C26: =+C27+C28 -> 0 | D26: =+D27+D28 -> 0 | E26: =+E27+E28 -> 0
A27: 4.1. | B27: Visszatérítendő támogatások, kölcsönök visszatérülése ÁH-n belülről
A28: 4.2. | B28: Egyéb felhalmozási célú támogatások bevételei államháztartáson belülről
A29: 4.3. | B29: - 4.2.-ből EU-s támogatás
A30: 5. | B30: Felhalmozási bevételek (5.1.+…+5.3.) | C30: =+C31+C32+C33 -> 0 | D30: =+D31+D32+D33 -> 0 | E30: =+E31+E32+E33 -> 0
A31: 5.1. | B31: Immateriális javak értékesítése
A32: 5.2. | B32: Ingatlanok értékesítése
A33: 5.3. | B33: Egyéb tárgyi eszközök értékesítése
A34: 6. | B34: Működési célú átvett pénzeszközök | D34: 233500 | E34: 233500
A35: 7. | B35: Felhalmozási célú átvett pénzeszközök
A36: 8. | B36: Költségvetési bevételek összesen (1.+…+7.) | C36: =+C9+C20+C25+C26+C30+C34+C35 -> 11409120 | D36: =+D9+D20+D25+D26+D30+D34+D35 -> 12764018 | E36: =+E9+E20+E25+E26+E30+E34+E35 -> 12722470
A37: 9. | B37: Finanszírozási bevételek (9.1.+…+9.3.) | C37: =+C38+C39+C40 -> 83708199 | D37: =+D38+D39+D40 -> 79548595 | E37: =+E38+E39+E40 -> 79548595
A38: 9.1. | B38: Költségvetési maradvány igénybevétele | C38: 151432 | D38: 151365 | E38: 151365
A39: 9.2. | B39: Vállalkozási maradvány igénybevétele
A40: 9.3. | B40: Irányító szervi (önkormányzati) támogatás (intézményfinanszírozás) | C40: 83556767 | D40: 79397230 | E40: 79397230
A41: 10. | B41: BEVÉTELEK ÖSSZESEN: (8.+9.) | C41: =+C36+C37 -> 95117319 | D41: =+D36+D37 -> 92312613 | E41: =+E36+E37 -> 92271065
A43: Kiadások
A44: 1. | B44: Működési költségvetés kiadásai (1.1+…+1.5.) | C44: =SUM(C45:C49) -> 93885419 | D44: =SUM(D45:D49) -> 91190622 | E44: =SUM(E45:E49) -> 89763310
A45: 1.1. | B45: Személyi juttatások | C45: 41241652 | D45: 43200919 | E45: 43200919
A46: 1.2. | B46: Munkaadókat terhelő járulékok és szociális hozzájárulási adó | C46: 9027641 | D46: 10155256 | E46: 10155256
A47: 1.3. | B47: Dologi kiadások | C47: 43616126 | D47: 37834447 | E47: 36407135
A48: 1.4. | B48: Ellátottak pénzbeli juttatásai
A49: 1.5. | B49: Egyéb működési célú kiadások
A50: 2. | B50: Felhalmozási költségvetés kiadásai (2.1.+…+2.3.) | C50: =SUM(C51:C53) -> 1231900 | D50: =SUM(D51:D53) -> 1121991 | E50: =SUM(E51:E53) -> 1121991
A51: 2.1. | B51: Beruházások | C51: 1231900 | D51: 1121991 | E51: 1121991
A52: 2.2. | B52: Felújítások
A53: 2.3. | B53: Egyéb fejlesztési célú kiadások
A54: 2.4. | B54: - 2.3.-ból EU-s forrásból tám. megvalósuló programok, projektek kiadásai
A55: 3. | B55: KIADÁSOK ÖSSZESEN: (1.+2.) | C55: =+C44+C50 -> 95117319 | D55: =+D44+D50 -> 92312613 | E55: =+E44+E50 -> 90885301
A57: Éves tényleges állományi létszám (fő)
A58: Közfoglalkoztatottak tényleges állományi létszáma (fő)

Sheet 8.1.2. sz. mell.
E1: =+CONCATENATE("8.1.2. melléklet a ……/",LEFT(ÖSSZEFÜGGÉSEK!A4,4)+1,". (……) önkormányzati rendelethez") -> 8.1.2. melléklet a ……/2018. (……) önkormányzati rendelethez
A2: Költségvetési szerv megnevezése | B2: Sajószögedi Általános Művelődési Központ | E2: 03
A3: Feladat megnevezése | B3: Önként vállalt feladatok | E3: 03
E4: ='8.1.1. sz. mell.'!E4 -> Forintban!
A5: Száma | B5: Kiemelt előirányzat, előirányzat megnevezése | C5: Eredeti előirányzat | D5: Módosított előirányzat | E5: Teljesítés
A6: A | B6: B | C6: C | D6: D | E6: E
A7: Bevételek
A8: 1. | B8: Működési bevételek (1.1.+…+1.10.) | C8: =SUM(C9:C18) -> 0 | D8: =SUM(D9:D18) -> 0 | E8: =SUM(E9:E18) -> 0
A9: 1.1. | B9: Készletértékesítés ellenértéke
A10: 1.2. | B10: Szolgáltatások ellenértéke
A11: 1.3. | B11: Közvetített szolgáltatások értéke
A12: 1.4. | B12: Tulajdonosi bevételek
A13: 1.5. | B13: Ellátási díjak
A14: 1.6. | B14: Kiszámlázott általános forgalmi adó
A15: 1.7. | B15: Általános forgalmi adó visszatérülése
A16: 1.8. | B16: Kamatbevételek
A17: 1.9. | B17: Egyéb pénzügyi műveletek bevételei
A18: 1.10. | B18: Egyéb működési bevételek
A19: 2. | B19: Működési célú támogatások államháztartáson belülről (2.1.+…+2.3.) | C19: =SUM(C20:C22) -> 0 | D19: =SUM(D20:D22) -> 0 | E19: =SUM(E20:E22) -> 0
A20: 2.1. | B20: Elvonások és befizetések bevételei
A21: 2.2. | B21: Visszatérítendő támogatások, kölcsönök visszatérülése ÁH-n belülről
A22: 2.3. | B22: Egyéb működési célú támogatások bevételei államháztartáson belülről
A23: 2.4. | B23: - 2.3.-ból EU-s támogatás
A24: 3. | B24: Közhatalmi bevételek
A25: 4. | B25: Felhalmozási célú támogatások államháztartáson belülről (4.1.+4.2.) | C25: =+C26+C27 -> 0 | D25: =+D26+D27 -> 0 | E25: =+E26+E27 -> 0
A26: 4.1. | B26: Visszatérítendő támogatások, kölcsönök visszatérülése ÁH-n belülről
A27: 4.2. | B27: Egyéb felhalmozási célú támogatások bevételei államháztartáson belülről
A28: 4.3. | B28: - 4.2.-ből EU-s támogatás
A29: 5. | B29: Felhalmozási bevételek (5.1.+…+5.3.) | C29: =+C30+C31+C32 -> 0 | D29: =+D30+D31+D32 -> 0 | E29: =+E30+E31+E32 -> 0
A30: 5.1. | B30: Immateriális javak értékesítése
A31: 5.2. | B31: Ingatlanok értékesítése
A32: 5.3. | B32: Egyéb tárgyi eszközök értékesítése
A33: 6. | B33: Működési célú átvett pénzeszközök
A34: 7. | B34: Felhalmozási célú átvett pénzeszközök
A35: 8. | B35: Költségvetési bevételek összesen (1.+…+7.) | C35: =+C8+C19+C24+C25+C29+C33+C34 -> 0 | D35: =+D8+D19+D24+D25+D29+D33+D34 -> 0 | E35: =+E8+E19+E24+E25+E29+E33+E34 -> 0
A36: 9. | B36: Finanszírozási bevételek (9.1.+…+9.3.) | C36: =+C37+C38+C39 -> 0 | D36: =+D37+D38+D39 -> 0 | E36: =+E37+E38+E39 -> 0
A37: 9.1. | B37: Költségvetési maradvány igénybevétele
A38: 9.2. | B38: Vállalkozási maradvány igénybevétele
A39: 9.3. | B39: Irányító szervi (önkormányzati) támogatás (intézményfinanszírozás)
A40: 10. | B40: BEVÉTELEK ÖSSZESEN: (8.+9.) | C40: =+C35+C36 -> 0 | D40: =+D35+D36 -> 0 | E40: =+E35+E36 -> 0
A43: Kiadások
A44: 1. | B44: Működési költségvetés kiadásai (1.1+…+1.5.) | C44: =SUM(C45:C49) -> 0 | D44: =SUM(D45:D49) -> 0 | E44: =SUM(E45:E49) -> 0
A45: 1.1. | B45: Személyi juttatások
A46: 1.2. | B46: Munkaadókat terhelő járulékok és szociális hozzájárulási adó
A47: 1.3. | B47: Dologi kiadások
A48: 1.4. | B48: Ellátottak pénzbeli juttatásai
A49: 1.5. | B49: Egyéb működési célú kiadások
A50: 2. | B50: Felhalmozási költségvetés kiadásai (2.1.+…+2.3.) | C50: =SUM(C51:C53) -> 0 | D50: =SUM(D51:D53) -> 0 | E50: =SUM(E51:E53) -> 0
A51: 2.1. | B51: Beruházások
A52: 2.2. | B52: Felújítások
A53: 2.3. | B53: Egyéb fejlesztési célú kiadások
A54: 2.4. | B54: - 2.3.-ból EU-s forrásból tám. megvalósuló programok, projektek kiadásai
A55: 3. | B55: KIADÁSOK ÖSSZESEN: (1.+2.) | C55: =+C44+C50 -> 0 | D55: =+D44+D50 -> 0 | E55: =+E44+E50 -> 0
A57: Éves tényleges állományi létszám (fő)
A58: Közfoglalkoztatottak tényleges állományi létszáma (fő)

Sheet 8.1.3. sz. mell.
E1: =+CONCATENATE("8.1.3. melléklet a ……/",LEFT(ÖSSZEFÜGGÉSEK!A4,4)+1,". (……) önkormányzati rendelethez") -> 8.1.3. melléklet a ……/2018. (……) önkormányzati rendelethez
A2: Költségvetési szerv megnevezése | B2: Sajószögedi Általános Művelődési Központ | E2: 03
A3: Feladat megnevezése | B3: Államigazgatási feladatok | E3: 04
E4: ='8.1.2. sz. mell.'!E4 -> Forintban!
A5: Száma | B5: Kiemelt előirányzat, előirányzat megnevezése | C5: Eredeti előirányzat | D5: Módosított előirányzat | E5: Teljesítés
A6: A | B6: B | C6: C | D6: D | E6: E
A7: Bevételek
A8: 1. | B8: Működési bevételek (1.1.+…+1.10.) | C8: =SUM(C9:C18) -> 0 | D8: =SUM(D9:D18) -> 0 | E8: =SUM(E9:E18) -> 0
A9: 1.1. | B9: Készletértékesítés ellenértéke
A10: 1.2. | B10: Szolgáltatások ellenértéke
A11: 1.3. | B11: Közvetített szolgáltatások értéke
A12: 1.4. | B12: Tulajdonosi bevételek
A13: 1.5. | B13: Ellátási díjak
A14: 1.6. | B14: Kiszámlázott általános forgalmi adó
A15: 1.7. | B15: Általános forgalmi adó visszatérülése
A16: 1.8. | B16: Kamatbevételek
A17: 1.9. | B17: Egyéb pénzügyi műveletek bevételei
A18: 1.10. | B18: Egyéb működési bevételek
A19: 2. | B19: Működési célú támogatások államháztartáson belülről (2.1.+…+2.3.) | C19: =SUM(C20:C22) -> 0 | D19: =SUM(D20:D22) -> 0 | E19: =SUM(E20:E22) -> 0
A20: 2.1. | B20: Elvonások és befizetések bevételei
A21: 2.2. | B21: Visszatérítendő támogatások, kölcsönök visszatérülése ÁH-n belülről
A22: 2.3. | B22: Egyéb működési célú támogatások bevételei államháztartáson belülről
A23: 2.4. | B23: - 2.3.-ból EU-s támogatás
A24: 3. | B24: Közhatalmi bevételek
A25: 4. | B25: Felhalmozási célú támogatások államháztartáson belülről (4.1.+4.2.) | C25: =+C26+C27 -> 0 | D25: =+D26+D27 -> 0 | E25: =+E26+E27 -> 0
A26: 4.1. | B26: Visszatérítendő támogatások, kölcsönök visszatérülése ÁH-n belülről
A27: 4.2. | B27: Egyéb felhalmozási célú támogatások bevételei államháztartáson belülről
A28: 4.3. | B28: - 4.2.-ből EU-s támogatás
A29: 5. | B29: Felhalmozási bevételek (5.1.+…+5.3.) | C29: =+C30+C31+C32 -> 0 | D29: =+D30+D31+D32 -> 0 | E29: =+E30+E31+E32 -> 0
A30: 5.1. | B30: Immateriális javak értékesítése
A31: 5.2. | B31: Ingatlanok értékesítése
A32: 5.3. | B32: Egyéb tárgyi eszközök értékesítése
A33: 6. | B33: Működési célú átvett pénzeszközök
A34: 7. | B34: Felhalmozási célú átvett pénzeszközök
A35: 8. | B35: Költségvetési bevételek összesen (1.+…+7.) | C35: =+C8+C19+C24+C25+C29+C33+C34 -> 0 | D35: =+D8+D19+D24+D25+D29+D33+D34 -> 0 | E35: =+E8+E19+E24+E25+E29+E33+E34 -> 0
A36: 9. | B36: Finanszírozási bevételek (9.1.+…+9.3.) | C36: =+C37+C38+C39 -> 0 | D36: =+D37+D38+D39 -> 0 | E36: =+E37+E38+E39 -> 0
A37: 9.1. | B37: Költségvetési maradvány igénybevétele
A38: 9.2. | B38: Vállalkozási maradvány igénybevétele
A39: 9.3. | B39: Irányító szervi (önkormányzati) támogatás (intézményfinanszírozás)
A40: 10. | B40: BEVÉTELEK ÖSSZESEN: (8.+9.) | C40: =+C35+C36 -> 0 | D40: =+D35+D36 -> 0 | E40: =+E35+E36 -> 0
A43: Kiadások
A44: 1. | B44: Működési költségvetés kiadásai (1.1+…+1.5.) | C44: =SUM(C45:C49) -> 0 | D44: =SUM(D45:D49) -> 0 | E44: =SUM(E45:E49) -> 0
A45: 1.1. | B45: Személyi juttatások
A46: 1.2. | B46: Munkaadókat terhelő járulékok és szociális hozzájárulási adó
A47: 1.3. | B47: Dologi kiadások
A48: 1.4. | B48: Ellátottak pénzbeli juttatásai
A49: 1.5. | B49: Egyéb működési célú kiadások
A50: 2. | B50: Felhalmozási költségvetés kiadásai (2.1.+…+2.3.) | C50: =SUM(C51:C53) -> 0 | D50: =SUM(D51:D53) -> 0 | E50: =SUM(E51:E53) -> 0
A51: 2.1. | B51: Beruházások
A52: 2.2. | B52: Felújítások
A53: 2.3. | B53: Egyéb fejlesztési célú kiadások
A54: 2.4. | B54: - 2.3.-ból EU-s forrásból tám. megvalósuló programok, projektek kiadásai
A55: 3. | B55: KIADÁSOK ÖSSZESEN: (1.+2.) | C55: =+C44+C50 -> 0 | D55: =+D44+D50 -> 0 | E55: =+E44+E50 -> 0
A57: Éves tényleges állományi létszám (fő)
A58: Közfoglalkoztatottak tényleges állományi létszáma (fő)

Sheet 9. sz. mell
G1: 9. sz. melléklet
A2: Sor-szám | B2: Költségvetési szerv neve | C2: Költségvetési maradvány összege | D2: Elvonás (-) | E2: Intézményt megillető maradvány
E3: Jóváhagyott | F3: Jóváhagyott-ból működési | G3: Jóváhagyott-ból felhalmozási
A4: A | B4: B | C4: C | D4: D | E4: E=(C-D) | F4: F | G4: G
A5: 1. | B5: Sajószögedi Polgármesteri Hivatal | C5: 517631 | E5: =C5+D5 -> 517631 | F5: 517631
A6: 2. | B6: Sajószögedi Általános Művelődési Központ | C6: 1385764 | E6: =C6+D6 -> 1385764 | F6: 1385764
A7: 3. | E7: =C7+D7 -> 0
A8: 4. | E8: =C8+D8 -> 0
A9: 5. | E9: =C9+D9 -> 0
A10: 6. | E10: =C10+D10 -> 0
A11: 7. | E11: =C11+D11 -> 0
A12: 8. | E12: =C12+D12 -> 0
A13: 9. | E13: =C13+D13 -> 0
A14: 10. | E14: =C14+D14 -> 0
A15: 11. | E15: =C15+D15 -> 0
A16: 12. | E16: =C16+D16 -> 0
A17: 13. | E17: =C17+D17 -> 0
A18: 14. | E18: =C18+D18 -> 0
... A29: 25. | E29: =C29+D29 -> 0
A30: 26.
A31: 27. | E31: =C31+D31 -> 0
A32: 28. | E32: =C32+D32 -> 0
A33: 29. | E33: =C33+D33 -> 0
A34: 30. | E34: =C34+D34 -> 0
A35: 31. | E35: =C35+D35 -> 0
A36: Összesen: | C36: =SUM(C5:C35) -> 1903395 | D36: =SUM(D5:D35) -> 0 | E36: =SUM(E5:E35) -> 1903395 | F36: =SUM(F5:F35) -> 1903395 | G36: =SUM(G5:G35) -> 0

Sheet 1.tájékoztató
A1: B E V É T E L E K
A2: 1. sz. táblázat | E2: ='9. sz. mell'!G1 -> 9. sz. melléklet
A3: Sor- szám | B3: Bevételi jogcím | C3: =+CONCATENATE(LEFT(ÖSSZEFÜGGÉSEK!A4,4)-1,". évi tény") -> 2016. évi tény | D3: =+CONCATENATE(LEFT(ÖSSZEFÜGGÉSEK!A4,4),". évi") -> 2017. évi
D4: Módosított előirányzat | E4: Teljesítés
A5: A | B5: B | C5: C | D5: E | E5: F
A6: 1. | B6: Önkormányzat működési támogatásai (1.1.+…+.1.6.) | C6: =+C7+C8+C9+C10+C11+C12 -> 75519365 | D6: =+D7+D8+D9+D10+D11+D12 -> 104021991 | E6: =+E7+E8+E9+E10+E11+E12 -> 104021991
A7: 1.1. | B7: Helyi önkormányzatok működésének általános támogatása | C7: 20129106 | D7: 31994697 | E7: 31994697
A8: 1.2. | B8: Önkormányzatok egyes köznevelési feladatainak támogatása | C8: 26445800 | D8: 35984559 | E8: 35984559
A9: 1.3. | B9: Önkormányzatok szociális és gyermekjóléti feladatainak támogatása | C9: 24500716 | D9: 30290904 | E9: 30290904
A10: 1.4. | B10: Önkormányzatok kulturális feladatainak támogatása | C10: 2644990 | D10: 2975067 | E10: 2975067
A11: 1.5. | B11: Működési célú központosított előirányzatok | C11: 1794129 | D11: 2609044 | E11: 2609044
A12: 1.6. | B12: Helyi önkormányzatok kiegészítő támogatásai | C12: 4624 | D12: 167720 | E12: 167720
A13: 2. | B13: Működési célú támogatások államháztartáson belülről (2.1.+…+.2.5.) | C13: =+C14+C15+C16+C17+C18 -> 22722438 | D13: =+D14+D15+D16+D17+D18 -> 18884943 | E13: =+E14+E15+E16+E17+E18 -> 18844943
A14: 2.1. | B14: Elvonások és befizetések bevételei
A15: 2.2. | B15: Működési célú garancia- és kezességvállalásból megtérülések
A16: 2.3. | B16: Működési célú visszatérítendő támogatások, kölcsönök visszatérülése
A17: 2.4. | B17: Működési célú visszatérítendő támogatások, kölcsönök igénybevétele
A18: 2.5. | B18: Egyéb működési célú támogatások bevételei | C18: 22722438 | D18: 18884943 | E18: 18844943
A19: 2.6. | B19: 2.5.-ből EU-s támogatás
A20: 3. | B20: Felhalmozási célú támogatások államháztartáson belülről (3.1.+…+3.5.) | C20: =+C21+C22+C23+C24+C25 -> 6000000 | D20: =+D21+D22+D23+D24+D25 -> 160348571 | E20: =+E21+E22+E23+E24+E25 -> 160348571
A21: 3.1. | B21: Felhalmozási célú önkormányzati támogatások | C21: 6000000
A22: 3.2. | B22: Felhalmozási célú garancia- és kezességvállalásból megtérülések
A23: 3.3. | B23: Felhalmozási célú visszatérítendő támogatások, kölcsönök visszatérülése
A24: 3.4. | B24: Felhalmozási célú visszatérítendő támogatások, kölcsönök igénybevétele
A25: 3.5. | B25: Egyéb felhalmozási célú támogatások bevételei | D25: 160348571 | E25: 160348571
A26: 3.6. | B26: 3.5.-ből EU-s támogatás | D26: 160348571 | E26: 160348571
A27: 4. | B27: Közhatalmi bevételek (4.1.+...+4.7.) | C27: =SUM(C28:C33) -> 133181150 | D27: =SUM(D28:D33) -> 175275260 | E27: =SUM(E28:E33) -> 162482205
A28: 4.1. | B28: Építményadó | C28: 43362595 | D28: 75145498 | E28: 70849138
A29: 4.2. | B29: Idegenforgalmi adó
A30: 4.3. | B30: Iparűzési adó | C30: 81124886 | D30: 88849420 | E30: 83502044
A31: 4.5. | B31: Gépjárműadó | C31: 8349286 | D31: 9526565 | E31: 7440776
A32: 4.6. | B32: Egyéb áruhasználati és szolgáltatási adók
A33: 4.7. | B33: Egyéb közhatalmi bevételek | C33: 344383 | D33: 1753777 | E33: 690247
A34: 5. | B34: Működési bevételek (5.1.+…+ 5.10.) | C34: =SUM(C35:C44) -> 31650308 | D34: =SUM(D35:D44) -> 43384492 | E34: =SUM(E35:E44) -> 37387988
A35: 5.1. | B35: Készletértékesítés ellenértéke
A36: 5.2. | B36: Szolgáltatások ellenértéke | C36: 5522630 | D36: 13740670 | E36: 13164311
A37: 5.3. | B37: Közvetített szolgáltatások értéke | C37: 777810 | D37: 1334806 | E37: 1334806
A38: 5.4. | B38: Tulajdonosi bevételek | C38: 10234855 | D38: 8465556 | E38: 4684984
A39: 5.5. | B39: Ellátási díjak | C39: 9257731 | D39: 9859963 | E39: 9380127
A40: 5.6. | B40: Kiszámlázott általános forgalmi adó | C40: 5572189 | D40: 9879559 | E40: 8719822
A41: 5.7. | B41: Általános forgalmi adó visszatérítése
A42: 5.8. | B42: Kamatbevételek | C42: 70236 | D42: 20553 | E42: 20553
A43: 5.9. | B43: Egyéb pénzügyi műveletek bevételei
A44: 5.10. | B44: Egyéb működési bevételek | C44: 214857 | D44: 83385 | E44: 83385
A45: 6. | B45: Felhalmozási bevételek (6.1.+…+6.5.) | C45: =SUM(C46:C50) -> 2150000 | D45: =SUM(D46:D50) -> 8404650 | E45: =SUM(E46:E50) -> 8404650
A46: 6.1. | B46: Immateriális javak értékesítése
A47: 6.2. | B47: Ingatlanok értékesítése | C47: 2150000 | D47: 8404650 | E47: 8404650
A48: 6.3. | B48: Egyéb tárgyi eszközök értékesítése
A49: 6.4. | B49: Részesedések értékesítése
A50: 6.5. | B50: Részesedések megszűnéséhez kapcsolódó bevételek
A51: 7. | B51: Működési célú átvett pénzeszközök (7.1. + … + 7.3.) | C51: =SUM(C52:C54) -> 520000 | D51: =SUM(D52:D54) -> 333500 | E51: =SUM(E52:E54) -> 333500
A52: 7.1. | B52: Működési célú garancia- és kezességvállalásból megtérülések ÁH-n kívülről
A53: 7.2. | B53: Működési célú visszatérítendő támogatások kölcsönök visszatér. ÁH-n kívülről
A54: 7.3. | B54: Egyéb működési célú átvett pénzeszköz | C54: 520000 | D54: 333500 | E54: 333500
A55: 7.4. | B55: 7.3.-ból EU-s támogatás (közvetlen)
A56: 8. | B56: Felhalmozási célú átvett pénzeszközök (8.1.+8.2.+8.3.) | C56: =SUM(C57:C59) -> 583430 | D56: =SUM(D57:D59) -> 914250 | E56: =SUM(E57:E59) -> 807597
A57: 8.1. | B57: Felhalm. célú garancia- és kezességvállalásból megtérülések ÁH-n kívülről
A58: 8.2. | B58: Felhalm. célú visszatérítendő támogatások kölcsönök visszatér. ÁH-n kívülről | C58: 583430 | D58: 914250 | E58: 807597
A59: 8.3. | B59: Egyéb felhalmozási célú átvett pénzeszköz
A60: 8.4. | B60: 8.3.-ból EU-s támogatás (közvetlen)
A61: 9. | B61: KÖLTSÉGVETÉSI BEVÉTELEK ÖSSZESEN: (1+…+8) | C61: =+C6+C13+C20+C27+C34+C45+C51+C56 -> 272326691 | D61: =+D6+D13+D20+D27+D34+D45+D51+D56 -> 511567657 | E61: =+E6+E13+E20+E27+E34+E45+E51+E56 -> 492631445
A62: 10. | B62: Hitel-, kölcsönfelvétel államháztartáson kívülről (10.1.+…+10.3.) | C62: =SUM(C63:C65) -> 0 | D62: =SUM(D63:D65) -> 0 | E62: =SUM(E63:E65) -> 0
A63: 10.1. | B63: Hosszú lejáratú hitelek, kölcsönök felvétele
A64: 10.2. | B64: Likviditási célú hitelek, kölcsönök felvétele pénzügyi vállalkozástól
A65: 10.3. | B65: Rövid lejáratú hitelek, kölcsönök felvétele
A66: 11. | B66: Belföldi értékpapírok bevételei (11.1. +…+ 11.4.) | C66: =SUM(C67:C70) -> 115945929 | D66: =SUM(D67:D70) -> 83580042 | E66: =SUM(E67:E70) -> 83580042
A67: 11.1. | B67: Forgatási célú belföldi értékpapírok beváltása, értékesítése | C67: 115945929 | D67: 83580042 | E67: 83580042
A68: 11.2. | B68: Éven belüli lejáratú belföldi értékpapírok kibocsátása
A69: 11.3. | B69: Befektetési célú belföldi értékpapírok beváltása, értékesítése
A70: 11.4. | B70: Éven túli lejáratú belföldi értékpapírok kibocsátása
A71: 12. | B71: Maradvány igénybevétele (12.1. + 12.2.) | C71: =SUM(C72:C73) -> 9928171 | D71: =SUM(D72:D73) -> 9602042 | E71: =SUM(E72:E73) -> 9602042
A72: 12.1. | B72: Előző év költségvetési maradványának igénybevétele | C72: 9928171 | D72: 9602042 | E72: 9602042
A73: 12.2. | B73: Előző év vállalkozási maradványának igénybevétele
A74: 13. | B74: Belföldi finanszírozás bevételei (13.1. + … + 13.3.) | C74: =SUM(C75:C77) -> 3277299 | D74: =SUM(D75:D77) -> 0 | E74: =SUM(E75:E77) -> 3680858
A75: 13.1. | B75: Államháztartáson belüli megelőlegezések | C75: 3277299 | E75: 3680858
A76: 13.2. | B76: Államháztartáson belüli megelőlegezések törlesztése
A77: 13.3. | B77: Lejötött betétek megszüntetése
A78: 14. | B78: Külföldi finanszírozás bevételei (14.1.+…14.4.) | C78: =SUM(C79:C82) -> 0 | D78: =SUM(D79:D82) -> 0 | E78: =SUM(E79:E82) -> 0
A79: 14.1. | B79: Forgatási célú külföldi értékpapírok beváltása, értékesítése
A80: 14.2. | B80: Befektetési célú külföldi értékpapírok beváltása, értékesítése
A81: 14.3. | B81: Külföldi értékpapírok kibocsátása
A82: 14.4. | B82: Külföldi hitelek, kölcsönök felvétele
A83: 15. | B83: Adóssághoz nem kapcsolódó származékos ügyletek bevételei
A84: 16. | B84: FINANSZÍROZÁSI BEVÉTELEK ÖSSZESEN: (10. + … +15.) | C84: =+C62+C66+C71+C74+C78+C83 -> 129151399 | D84: =+D62+D66+D71+D74+D78+D83 -> 93182084 | E84: =+E62+E66+E71+E74+E78+E83 -> 96862942
A85: 17. | B85: KÖLTSÉGVETÉSI ÉS FINANSZÍROZÁSI BEVÉTELEK ÖSSZESEN: (9+16) | C85: =+C61+C84 -> 401478090 | D85: =+D61+D84 -> 604749741 | E85: =+E61+E84 -> 589494387
A86: K I A D Á S O K
A87: 2. sz. táblázat | E87: =E2 -> 9. sz. melléklet
A88: Sor- szám | B88: Kiadási jogcím | C88: =+C3 -> 2016. évi tény | D88: =+D3 -> 2017. évi
D89: Módosított előirányzat | E89: Teljesítés
A90: A | B90: B | C90: C | D90: E | E90: F
A91: 1. | B91: Működési költségvetés kiadásai (1.1+…+1.5.) | C91: =SUM(C92:C96) -> 277010051 | D91: =+D92+D93+D94+D95+D96 -> 299013728 | E91: =+E92+E93+E94+E95+E96 -> 291020879
A92: 1.1. | B92: Személyi juttatások | C92: 105299578 | D92: 120372071 | E92: 115359432
A93: 1.2. | B93: Munkaadókat terhelő járulékok és szociális hozzájárulási adó | C93: 26988909 | D93: 26446494 | E93: 25481227
A94: 1.3. | B94: Dologi kiadások | C94: 99526084 | D94: 107627667 | E94: 105682724
A95: 1.4. | B95: Ellátottak pénzbeli juttatásai | C95: 10203003 | D95: 8703948 | E95: 8703948
A96: 1.5 | B96: Egyéb működési célú kiadások | C96: 34992477 | D96: 35863548 | E96: 35793548
A97: 1.6. | B97: - az 1.5-ből: - Elvonások és befizetések | C97: 408831 | D97: 977678 | E97: 977678
A98: 1.7. | B98: - Garancia- és kezességvállalásból kifizetés ÁH-n belülre
A99: 1.8. | B99: -Visszatérítendő támogatások, kölcsönök nyújtása ÁH-n belülre | C99: 1784240 | D99: 2230612 | E99: 2230612
A100: 1.9. | B100: - Visszatérítendő támogatások, kölcsönök törlesztése ÁH-n belülre
...

Sheet 2. tájékoztató tábla
J1: ='1.tájékoztató'!E2 -> 9. sz. melléklet | K1: =+CONCATENATE("2. tájékoztató tábla a ......../",LEFT(ÖSSZEFÜGGÉSEK!A4,4)+1,". (........) önkormányzati rendelethez") -> 2. tájékoztató tábla a ......../2018. (........) önkormányzati rendelethez
A2: Sor- szám | B2: Kötelezettség jogcíme | C2: Kötelezettség- vállalás éve | D2: Összes vállalt kötelezettség | E2: =+CONCATENATE(LEFT(ÖSSZEFÜGGÉSEK!A4,4),". évi teljesítés") -> 2017. évi teljesítés | F2: Kötelezettségek a következő években | J2: Még fennálló kötelezettség
F3: =+CONCATENATE(LEFT(ÖSSZEFÜGGÉSEK!A4,4)+1,".") -> 2018. | G3: =+CONCATENATE(LEFT(ÖSSZEFÜGGÉSEK!A4,4)+2,".") -> 2019. | H3: =+CONCATENATE(LEFT(ÖSSZEFÜGGÉSEK!A4,4)+3,".") -> 2020. | I3: =+CONCATENATE(LEFT(ÖSSZEFÜGGÉSEK!A4,4)+3,". után") -> 2020. után
A4: A | B4: B | C4: C | D4: D | E4: E | F4: F | G4: G | H4: H | I4: I | J4: J=(F+…+I)
A5: 1. | B5: Működési célú hiteltörlesztés (tőke+kamat) | D5: =SUM(D6:D7) -> 0 | E5: =SUM(E6:E7) -> 0 | F5: =SUM(F6:F7) -> 0 | G5: =SUM(G6:G7) -> 0 | H5: =SUM(H6:H7) -> 0 | I5: =SUM(I6:I7) -> 0 | J5: =SUM(F5:I5) -> 0
A6: 2. | B6: NEMLEGES! | J6: =SUM(F6:I6) -> 0
A7: 3. | B7: ............................ | J7: =SUM(F7:I7) -> 0
A8: 4. | B8: Felhalmozási célú hiteltörlesztés (tőke+kamat) | D8: =SUM(D9:D10) -> 0 | E8: =SUM(E9:E10) -> 0 | F8: =SUM(F9:F10) -> 0 | G8: =SUM(G9:G10) -> 0 | H8: =SUM(H9:H10) -> 0 | I8: =SUM(I9:I10) -> 0 | J8: =SUM(F8:I8) -> 0
A9: 5. | B9: ............................ | J9: =SUM(F9:I9) -> 0
A10: 6. | B10: ............................ | J10: =SUM(F10:I10) -> 0
A11: 7. | B11: Beruházás feladatonként | D11: =SUM(D12:D12) -> 0 | E11: =SUM(E12:E12) -> 0 | F11: =SUM(F12:F12) -> 0 | G11: =SUM(G12:G12) -> 0 | H11: =SUM(H12:H12) -> 0 | I11: =SUM(I12:I12) -> 0 | J11: =SUM(F11:I11) -> 0
A12: 8. | B12: ............................ | J12: =SUM(F12:I12) -> 0
A13: 9. | B13: Felújítás célonként | D13: =SUM(D14:D14) -> 0 | E13: =SUM(E14:E14) -> 0 | F13: =SUM(F14:F14) -> 0 | G13: =SUM(G14:G14) -> 0 | H13: =SUM(H14:H14) -> 0 | I13: =SUM(I14:I14) -> 0 | J13: =SUM(F13:I13) -> 0
A14: 10. | B14: ............................ | J14: =SUM(F14:I14) -> 0
A15: 11. | B15: Egyéb | D15: =SUM(D16:D17) -> 0 | E15: =SUM(E16:E17) -> 0 | F15: =SUM(F16:F17) -> 0 | G15: =SUM(G16:G17) -> 0 | H15: =SUM(H16:H17) -> 0 | I15: =SUM(I16:I17) -> 0 | J15: =SUM(F15:I15) -> 0
A16: 12. | B16: ............................ | J16: =SUM(F16:I16) -> 0
A17: 13. | B17: ............................ | J17: =SUM(F17:I17) -> 0
A18: 14. | B18: Összesen (1+4+7+9+11) | D18: =D5+D8+D11+D13+D15 -> 0 | E18: =E5+E8+E11+E13+E15 -> 0 | F18: =F5+F8+F11+F13+F15 -> 0 | G18: =G5+G8+G11+G13+G15 -> 0 | H18: =H5+H8+H11+H13+H15 -> 0 | I18: =I5+I8+I11+I13+I15 -> 0 | J18: =J5+J8+J11+J13+J15 -> 0

Sheet 3. tájékoztató tábla
H1: ='2. tájékoztató tábla'!J1 -> 9. sz. melléklet | I1: =+CONCATENATE("3. tájékoztató tábla a ......../",LEFT(ÖSSZEFÜGGÉSEK!A4,4)+1,". (........) önkormányzati rendelethez") -> 3. tájékoztató tábla a ......../2018. (........) önkormányzati rendelethez
A2: Sor- szám | B2: Hitel, kölcsön | C2: Kölcsön- nyújtás éve | D2: Lejárat éve | E2: =+CONCATENATE("Hitel, kölcsön állomány ",LEFT(ÖSSZEFÜGGÉSEK!A4,4),". dec. 31-én") -> Hitel, kölcsön állomány 2017. dec. 31-én | F2: Hitel, kölcsön állomány december 31-én | H2: =+CONCATENATE(LEFT(ÖSSZEFÜGGÉSEK!A4,4)+2,". után") -> 2019. után
F3: =+CONCATENATE(LEFT(ÖSSZEFÜGGÉSEK!A4,4)+1,".") -> 2018. | G3: =+CONCATENATE(LEFT(ÖSSZEFÜGGÉSEK!A4,4)+2,".") -> 2019.
A4: A | B4: B | C4: C | D4: D | E4: E | F4: F | G4: G | H4: H
A5: 1. | B5: Rövid lejáratú | E5: =SUM(E6:E11) -> 0 | F5: =SUM(F6:F11) -> 0 | G5: =SUM(G6:G11) -> 0 | H5: =SUM(H6:H11) -> 0
A6: 2. | B6: NEMLEGES!
A7: 3. | B7: ............................
A8: 4. | B8: ............................
A9: 5. | B9: ............................
A10: 6. | B10: ............................
A11: 7. | B11: ............................
A12: 8. | B12: Hosszú lejáratú | E12: =SUM(E13:E18) -> 0 | F12: =SUM(F13:F18) -> 0 | G12: =SUM(G13:G18) -> 0 | H12: =SUM(H13:H18) -> 0
A13: 9. | B13: ............................
A14: 10. | B14: ............................
A15: 11. | B15: ............................
A16: 12. | B16: ............................
A17: 13. | B17: ............................
A18: 14. | B18: ............................
A19: 15. | B19: Összesen (1+8) | E19: =E5+E12 -> 0 | F19: =F5+F12 -> 0 | G19: =G5+G12 -> 0 | H19: =H5+H12 -> 0

Sheet 4. tájékoztató tábla
A1: =+CONCATENATE("Adósság állomány alakulása lejárat, eszközök, bel- és külföldi hitelezők szerinti bontásban ",CHAR(10),LEFT(ÖSSZEFÜGGÉSEK!A4,4),". december 31-én") -> Adósság állomány alakulása lejárat, eszközök, bel- és külföldi hitelezők szerinti bontásban 2017. december 31-én | J1: =+CONCATENATE("4. tájékoztató tábla a ......../",LEFT(ÖSSZEFÜGGÉSEK!A4,4)+1,". (........) önkormányzati rendelethez") -> 4. tájékoztató tábla a ......../2018. (........) önkormányzati rendelethez
H2: ='3. tájékoztató tábla'!H1 -> 9. sz. melléklet
A3: Sor-szám | B3: Adósságállomány eszközök szerint | C3: Nem lejárt | D3: Lejárt | I3: Nem lejárt, lejárt összes tartozás
D4: 1-90 nap közötti | E4: 91-180 nap közötti | F4: 181-360 nap közötti | G4: 360 napon túli | H4: Összes lejárt tartozás
A5: A | B5: B | C5: C | D5: D | E5: E | F5: F | G5: G | H5: H=(D+…+G) | I5: I=(C+H)
A6: I. Belföldi hitelezők
A7: 1. | B7: Adóhatósággal szembeni tartozások | H7: =SUM(D7:G7) -> 0 | I7: =C7+H7 -> 0
A8: 2. | B8: Központi költségvetéssel szemben fennálló tartozás | C8: 3680858 | H8: =SUM(D8:G8) -> 0 | I8: =C8+H8 -> 3680858
A9: 3. | B9: Elkülönített állami pénzalapokkal szembeni tartozás | H9: =SUM(D9:G9) -> 0 | I9: =C9+H9 -> 0
A10: 4. | B10: TB alapokkal szembeni tartozás | H10: =SUM(D10:G10) -> 0 | I10: =C10+H10 -> 0
A11: 5. | B11: Tartozásállomány önkormányzatok és intézmények felé | H11: =SUM(D11:G11) -> 0 | I11: =C11+H11 -> 0
A12: 6. | B12: Szállítói tartozás | H12: =SUM(D12:G12) -> 0 | I12: =C12+H12 -> 0
A13: 7. | B13: Egyéb adósság | H13: =SUM(D13:G13) -> 0 | I13: =C13+H13 -> 0
A14: Belföldi összesen: | C14: =SUM(C7:C13) -> 3680858 | D14: =SUM(D7:D13) -> 0 | E14: =SUM(E7:E13) -> 0 | F14: =SUM(F7:F13) -> 0 | G14: =SUM(G7:G13) -> 0 | H14: =SUM(H7:H13) -> 0 | I14: =SUM(I7:I13) -> 3680858
A15: II. Külföldi hitelezők
A16: 1. | B16: Külföldi szállítók | H16: =SUM(D16:G16) -> 0 | I16: =C16+H16 -> 0
A17: 2. | B17: Egyéb adósság | H17: =SUM(D17:G17) -> 0 | I17: =C17+H17 -> 0
A18: Külföldi összesen: | C18: =SUM(C16:C17) -> 0 | D18: =SUM(D16:D17) -> 0 | E18: =SUM(E16:E17) -> 0 | F18: =SUM(F16:F17) -> 0 | G18: =SUM(G16:G17) -> 0 | H18: =SUM(H16:H17) -> 0 | I18: =SUM(I16:I17) -> 0
A19: Adósságállomány mindösszesen: | C19: =C14+C18 -> 3680858 | D19: =D14+D18 -> 0 | E19: =E14+E18 -> 0 | F19: =F14+F18 -> 0 | G19: =G14+G18 -> 0 | H19: =H14+H18 -> 0 | I19: 3680858

Sheet 5. tájékoztató tábla
D1: ='3. tájékoztató tábla'!H1 -> 9. sz. melléklet
A2: Sor-szám | B2: Bevételi jogcím | C2: Tervezett | D2: Tényleges
A3: A | B3: B | C3: C | D3: D
A4: 1. | B4: Ellátottak térítési díjának méltányosságból történő elengedése
A5: 2. | B5: Ellátottak kártérítésének méltányosságból történő elengedése
A6: 3. | B6: Lakosság részére lakásépítéshez nyújtott kölcsön elengedése
A7: 4. | B7: Lakosság részére lakásfelújításhoz nyújtott kölcsön elengedése
A8: 5. | B8: Helyi adóból biztosított kedvezmény, mentesség összesen
A9: 6. | B9: -ebből: Építményadó
A10: 7. | B10: Telekadó
A11: 8. | B11: Magánszemélyek kommunális adója
A12: 9. | B12: Idegenforgalmi adó tartózkodás után
A13: 10. | B13: Idegenforgalmi adó épület után
A14: 11. | B14: Iparűzési adó állandó jelleggel végzett iparűzési tevékenység után
A15: 12. | B15: Gépjárműadóból biztosított kedvezmény, mentesség
... A18: 15. | B18: Egyéb kedvezmény
A19: 16. | B19: Egyéb kölcsön elengedése (első lakáshoz jutók kölcsöne utolsó év) | D19: 160000
A20: 17.
A21: 18.
A22: 19.
A23: 20.
A24: 21.
A25: 22.
A26: 23.
A27: 24.
A28: 25.
A29: 26. | B29: Összesen: | C29: =+C4+C5+C6+C7+C8+C15+C16+C17+C18+C19+C20+C21+C22+C23+C24+C25+C26+C27+C28 -> 0 | D29: =+D4+D5+D6+D7+D8+D15+D16+D17+D18+D19+D20+D21+D22+D23+D24+D25+D26+D27+D28 -> 160000
B30: A helyi adókból biztosított kedvezményeket, mentességeket, adónemenként kell feltüntetni.

Sheet 6. tájékoztató tábla
E1: ='5. tájékoztató tábla'!D1 -> 9. sz. melléklet
A2: Sor- szám | B2: Támogatott szervezet neve | C2: Támogatás célja | D2: Tervezett (E Ft) | E2: Tényleges (E Ft)
A3: 1. | B3: Adria - Vitium Esélyegyenlőség Alapítvány | C3: működési támogatás | D3: 10000 | E3: 10000
A4: 2. | B4: Apránként az Aprókért Kh. Egyesület | C4: működési támogatás | D4: 5000 | E4: 5000
A5: 3. | B5: Búzavirág Népdalkör | C5: működési támogatás | D5: 50000 | E5: 50000
A6: 4. | B6: Bursa Hungarica támogatás | C6: háztatástok támogatása | D6: 515000 | E6: 515000
A7: 5. | B7: Fürge Ujjak Kézimunka Klub | C7: működési támogatás | D7: 70000 | E7: 70000
A8: 6. | B8: Görög Katolikus Egyházközösség | C8: működési támogatás | D8: 300000 | E8: 300000
A9: 7. | B9: Országos Egyesület a Mosolyért | C9: működési támogatás | D9: 40000 | E9: 40000
A10: 8. | B10: Polgárőr Egyesület Sajószöged | C10: működési támogatás | D10: 1630000 | E10: 1630000
A11: 9. | B11: Rendelőintézet Tiszaújváros | C11: ügyeleti hozzájárulás | D11: 1998612 | E11: 1998612
A12: 10. | B12: Sajószöged Községi Testedző Kör | C12: működési támogatás | D12: 3850000 | E12: 3850000
A13: 11. | B13: Sajószöged Önk. Községzemeltetési Kft. | C13: működési támogatás | D13: 25577328 | E13: 25577328
A14: 12. | B14: Szivárvány Nyugdíjas Klub | C14: működési támogatás | D14: 50000 | E14: 50000
... A16: 14. | B16: Tiszaújvárosi Humánszolgáltató Központ | C16: jelzőrendszeres HSNY | D16: 232000 | E16: 232000
A17: 15.
A18: 16.
A19: 17.
A20: 18.
A21: 19.
A22: 20.
A23: 21.
A24: 22.
A25: 23.
A26: 24.
A27: 25.
A28: 26.
... A35: 33.
A36: Összesen: | D36: =SUM(D3:D35) -> 34815870 | E36: =SUM(E3:E35) -> 34815870

Sheet 7.1. tájékoztató tábla
A1: =+CONCATENATE("VAGYONKIMUTATÁS",CHAR(10),"a könyvviteli mérlegben értékkel szereplő eszközökről",CHAR(10),LEFT(ÖSSZEFÜGGÉSEK!A4,4),".") -> VAGYONKIMUTATÁS a könyvviteli mérlegben értékkel szereplő eszközökről 2017.
C2: ='6. tájékoztató tábla'!E1 -> 9. sz. melléklet
A3: ESZKÖZÖK | B3: Sorszám | C3: Bruttó | D3: Könyv szerinti | E3: Becsült
C5: állományi érték
A6: A | B6: B | C6: C | D6: D | E6: E
A7: I. Immateriális javak | B7: 01. | C7: 6717994 | D7: 992016
A8: II. Tárgyi eszközök (03+08+13+18+23) | B8: 02. | C8: =+C9+C14+C19+C24+C29 -> 1224543872 | D8: =+D9+D14+D19+D24+D29 -> 913154866 | E8: =+E9+E14+E19+E24+E29 -> 0
A9: 1. Ingatlanok és kapcsolódó vagyoni értékű jogok (04+05+06+07) | B9: 03. | C9: =+C10+C11+C12+C13 -> 1182167582 | D9: =+D10+D11+D12+D13 -> 902800431 | E9: =+E10+E11+E12+E13 -> 0
A10: 1.1. Forgalomképtelen ingatlanok és kapcsolódó vagyoni értékű jogok | B10: 04. | C10: 800111688 | D10: 639044292
A11: 1.2. Nemzetgazdasági szempontból kiemelt jelentőségű ingatlanok és kapcsolódó vagyoni értékű jogok | B11: 05.
A12: 1.3. Korlátozottan forgalomképes ingatlanok és kapcsolódó vagyoni értékű jogok | B12: 06. | C12: 338343854 | D12: 223060255
A13: 1.4. Üzleti ingatlanok és kapcsolódó vagyoni értékű jogok | B13: 07. | C13: 43712040 | D13: 40695884
A14: 2. Gépek, berendezések, felszerelések, járművek (09+10+11+12) | B14: 08. | C14: =+C15+C16+C17+C18 -> 37213197 | D14: =+D15+D16+D17+D18 -> 5191342 | E14: =+E15+E16+E17+E18 -> 0
A15: 2.1. Forgalomképtelen gépek, berendezések, felszerelések, járművek | B15: 09.
A16: 2.2. Nemzetgazdasági szempontból kiemelt jelentőségű gépek, berendezések, felszerelések, járművek | B16: 10.
A17: 2.3. Korlátozottan forgalomképes gépek, berendezések, felszerelések, járművek | B17: 11. | C17: 14202450 | D17: 1662762
A18: 2.4. Üzleti gépek, berendezések, felszerelések, járművek | B18: 12. | C18: 23010747 | D18: 3528580
A19: 3. Tenyészállatok (14+15+16+17) | B19: 13. | C19: =+C20+C21+C22+C23 -> 0 | D19: =+D20+D21+D22+D23 -> 0 | E19: =+E20+E21+E22+E23 -> 0
A20: 3.1. Forgalomképtelen tenyészállatok | B20: 14.
A21: 3.2. Nemzetgazdasági szempontból kiemelt jelentőségű tenyészállatok | B21: 15.
A22: 3.3. Korlátozottan forgalomképes tenyészállatok | B22: 16.
A23: 3.4. Üzleti tenyészállatok | B23: 17.
A24: 4. Beruházások, felújítások (19+20+21+22) | B24: 18. | C24: =+C25+C26+C27+C28 -> 5163093 | D24: =+D25+D26+D27+D28 -> 5163093 | E24: =+E25+E26+E27+E28 -> 0
A25: 4.1. Forgalomképtelen beruházások, felújítások | B25: 19. | C25: 3000000 | D25: 3000000
A26: 4.2. Nemzetgazdasági szempontból kiemelt jelentőségű beruházások, felújítások | B26: 20.
A27: 4.3. Korlátozottan forgalomképes beruházások, felújítások | B27: 21. | C27: 2163093 | D27: 2163093
A28: 4.4. Üzleti beruházások, felújítások | B28: 22.
A29: 5. Tárgyi eszközök értékhelyesbítése (24+25+26+27) | B29: 23. | C29: =+C30+C31+C32+C33 -> 0 | D29: =+D30+D31+D32+D33 -> 0 | E29: =+E30+E31+E32+E33 -> 0
A30: 5.1. Forgalomképtelen tárgyi eszközök értékhelyesbítése | B30: 24.
A31: 5.2. Nemzetgazdasági szempontból kiemelt jelentőségű tárgyi eszközök értékhelyesbítése | B31: 25.
A32: 5.3. Korlátozottan forgalomképes tárgyi eszközök értékhelyesbítése | B32: 26.
A33: 5.4. Üzleti tárgyi eszközök értékhelyesbítése | B33: 27.
A34: III. Befektetett pénzügyi eszközök (29+34+39) | B34: 28. | C34: =+C35+C40+C45 -> 34693806 | D34: =+D35+D40+D45 -> 32369311 | E34: =+E35+E40+E45 -> 0
A35: 1. Tartós részesedések (30+31+32+33) | B35: 29. | C35: =+C36+C37+C38+C39 -> 34693806 | D35: =+D36+D37+D38+D39 -> 32369311 | E35: =+E36+E37+E38+E39 -> 0
A36: 1.1. Forgalomképtelen tartós részesedések | B36: 30. | C36: 34693806 | D36: 32369311
A37: 1.2. Nemzetgazdasági szempontból kiemelt jelentőségű tartós részesedések | B37: 31.
A38: 1.3. Korlátozottan forgalomképes tartós részesedések | B38: 32.
A39: 1.4. Üzleti tartós részesedések | B39: 33.
A40: 2. Tartós hitelviszonyt megtestesítő értékpapírok (35+36+37+38) | B40: 34. | C40: =+C41+C42+C43+C44 -> 0 | D40: =+D41+D42+D43+D44 -> 0 | E40: =+E41+E42+E43+E44 -> 0
A41: 2.1. Forgalomképtelen tartós hitelviszonyt megtestesítő értékpapírok | B41: 35.
A42: 2.2. Nemzetgazdasági szempontból kiemelt jelentőségű tartós hitelviszonyt megtestesítő értékpapírok | B42: 36.
A43: 2.3. Korlátozottan forgalomképes tartós hitelviszonyt megtestesítő értékpapírok | B43: 37.
A44: 2.4. Üzleti tartós hitelviszonyt megtestesítő értékpapírok | B44: 38.
A45: 3. Befektetett pénzügyi eszközök értékhelyesbítése (40+41+42+43) | B45: 39. | C45: =+C46+C47+C48+C49 -> 0 | D45: =+D46+D47+D48+D49 -> 0 | E45: =+E46+E47+E48+E49 -> 0
A46: 3.1. Forgalomképtelen befektetett pénzügyi eszközök értékhelyesbítése | B46: 40.
A47: 3.2. Nemzetgazdasági szempontból kiemelt jelentőségű befektetett pénzügyi eszközök értékhelyesbítése | B47: 41.
A48: 3.3. Korlátozottan forgalomképes befektetett pénzügyi eszközök értékhelyesbítése | B48: 42.
A49: 3.4. Üzleti befektetett pénzügyi eszközök értékhelyesbítése | B49: 43.
A50: IV. Koncesszióba, vagyonkezelésbe adott eszközök | B50: 44. | C50: 780236187 | D50: 501788151
A51: A) NEMZETI VAGYONBA TARTOZÓ BEFEKTETETT ESZKÖZÖK (01+02+28+44) | B51: 45. | C51: =+C7+C8+C34+C50 -> 2046191859 | D51: =+D7+D8+D34+D50 -> 1448304344 | E51: =+E7+E8+E34+E50 -> 0
A52: I. Készletek | B52: 46. | C52: 296192 | D52: 296192
A53: II. Értékpapírok | B53: 47. | C53: 42705806 | D53: 42705806
A54: B) NEMZETI VAGYONBA TARTOZÓ FORGÓESZKÖZÖK (46+47) | B54: 48. | C54: =+C52+C53 -> 43001998 | D54: =+D52+D53 -> 43001998 | E54: =+E52+E53 -> 0
A55: I. Lekötött bankbetétek | B55: 49.
A56: II. Pénztárak, csekkek, betétkönyvek | B56: 50. | C56: 733900 | D56: 733900
A57: III. Forintszámlák | B57: 51. | C57: 193409440 | D57: 193409440
A58: IV. Devizaszámlák | B58: 52.
A59: C) PÉNZESZKÖZÖK (49+50+51+52) | B59: 53. | C59: =+C55+C56+C57+C58 -> 194143340 | D59: =+D55+D56+D57+D58 -> 194143340 | E59: =+E55+E56+E57+E58 -> 0
A60: I. Költségvetési évben esedékes követelések | B60: 54. | C60: 18876200 | D60: 18876200
A61: II. Költségvetési évet követően esedékes követelések | B61: 55. | C61: 5142105 | D61: 5142105
A62: III. Követelés jellegű sajátos elszámolások | B62: 56. | C62: 698919 | D62: 698919
A63: D) KÖVETELÉSEK (54+55+56) | B63: 57. | C63: =+C60+C61+C62 -> 24717224 | D63: =+D60+D61+D62 -> 24717224 | E63: =+E60+E61+E62 -> 0
A64: I. December havi illetmények, munkabérek elszámolása | B64: 58.
A65: II. Utalványok, bérletek és más hasonló, készpénz-helyettesítő fizetési eszköznek nem minősülő eszközök elszámolásai | B65: 59. | C65: 25000 | D65: 25000
A66: III. Más előzetesen felszámított levonható általános forgalmi adó | B66: 60. | C66: -285275 | D66: -285275
A67: E) EGYÉB SAJÁTOS ESZKÖZOLDALI ELSZÁMOLÁSOK (58+59+60) | B67: 61. | C67: =C66+C65+C64 -> -260275 | D67: =D66+D65+D64 -> -260275 | E67: =E64+E65+E66 -> 0
A68: F) AKTÍV IDŐBELI ELHATÁROLÁSOK | B68: 62.
A69: ESZKÖZÖK ÖSSZESEN (45+48+53+57+61+62) | B69: 63. | C69: =+C51+C54+C59+C63+C67+C68 -> 2307794146 | D69: =+D51+D54+D59+D63+D67+D68 -> 1709906631 | E69: =+E51+E54+E59+E63+E67+E68 -> 0

Sheet 7.2. tájékoztató tábla
A1: VAGYONKIMUTATÁS a könyvviteli mérlegben értékkel szereplő forrásokról
A2: =+CONCATENATE(LEFT(ÖSSZEFÜGGÉSEK!A4,4),". év") -> 2017. év
B4: ='6. tájékoztató tábla'!E1 -> 9. sz. melléklet
A5: FORRÁSOK | B5: Sorszám | C5: állományi érték
A7: A | B7: B | C7: C
A8: I. Nemzeti vagyon induláskori értéke | B8: 01. | C8: 2270272000
A9: II. Nemzeti vagyon változásai | B9: 02. | C9: -129087393
A10: III. Egyéb eszközök induláskori értéke és változásai | B10: 03. | C10: 3765151
A11: IV. Felhalmozott eredmény | B11: 04. | C11: -665599131
A12: V. Eszközök értékhelyesbítésének forrása | B12: 05.
A13: VI. Mérleg szerinti eredmény | B13: 06. | C13: 51293331
A14: G) SAJÁT TŐKE (01+….+06) | B14: 07. | C14: =+C8+C9+C10+C11+C12+C13 -> 1530643958
A15: I. Költségvetési évben esedékes kötelezettségek | B15: 08. | C15: 278576
A16: II. Költségvetési évet követően esedékes kötelezettségek | B16: 09. | C16: 3680858
A17: III. Kötelezettség jellegű sajátos elszámolások | B17: 10. | C17: 3094340
A18: H) KÖTELEZETTSÉGEK (08+09+10) | B18: 11. | C18: =+C15+C16+C17 -> 7053774
A19: I) KINCSTÁRI SZÁMLAVEZETÉSSEL KAPCSOLATOS ELSZÁMOLÁSOK | B19: 12.
A20: J) PASSZÍV IDŐBELI ELHATÁROLÁSOK | B20: 13. | C20: 172208899
A21: FORRÁSOK ÖSSZESEN (07+11+12+13) | B21: 14. | C21: =+C14+C18+C19+C20 -> 1709906631

Sheet 7.3. tájékoztató tábla
A1: =+CONCATENATE("VAGYONKIMUTATÁS",CHAR(10),"az érték nélkül nyilvántartott eszközökről",CHAR(10),LEFT(ÖSSZEFÜGGÉSEK!A4,4),".") -> VAGYONKIMUTATÁS az érték nélkül nyilvántartott eszközökről 2017.
A3: Megnevezés | B3: Sorszám | C3: Mennyiség (db) | D3: Értéke (Ft)
A4: A | B4: B | C4: C | D4: D
A5: A | B5: B | C5: C | D5: D
A6: „0”-ra leírt eszközök | B6: 1. | C6: 10 | D6: 13636318
A7: Használatban lévő kisértékű immateriális javak | B7: 2.
A8: Használatban lévő kisértékű tárgyi eszközök | B8: 3.
A9: Készletek | B9: 4.
A10: 01 számlacsoportban nyilvántartott befektetett eszközök (6+…+9) | B10: 5. | D10: =+D11+D12+D13+D14 -> 225779721
A11: Államháztartáson belüli vagyonkezelésbe adott eszközök | B11: 6. | C11: 36 | D11: 225779721
A12: Bérbe vett befektetett eszközök | B12: 7.
A13: Letétbe, bizományba, üzemeltetésre átvett befektetett eszközök | B13: 8.
A14: PPP konstrukcióban használt befektetett eszközök | B14: 9.
A15: 02 számlacsoportban nyilvántartott készletek (11+…+13) | B15: 10. | D15: =+D16+D17+D18 -> 0
A16: Bérbe vett készletek | B16: 11.
A17: Letétbe bizományba átvett készletek | B17: 12.
A18: Intervenciós készletek | B18: 13.
A19: Gyűjtemény, régészeti lelet* (15+…+17) | B19: 14. | D19: =+D20+D21+D22 -> 0
A20: Közgyűjtemény | B20: 15.
A21: Saját gyűjteményben nyilvántartott kulturális javak | B21: 16.
A22: Régészeti lelet | B22: 17.
A23: Egyéb érték nélkül nyilvántartott eszközök | B23: 18.
B24: 19.
B25: 20.
B26: 21.
B27: 22.
B28: 23.
B29: 24.
B30: 25.
B31: 26.
B32: 27.
B33: 28.
B34: 29.
B35: 30.
... B38: 33.
A39: Összesen (1+…+4)+5+10+14+(18+…+31): | D39: =+D6+D7+D8+D9+D10+D15+D19+D23+D24+D25+D26+D27+D28+D29+D30+D31+D32+D33+D34+D35+D36+D37+D38 -> 239416039

Sheet 7.4. tájékoztató tábla
A1: =+CONCATENATE("VAGYONKIMUTATÁS",CHAR(10),"a függő követelésekről éa kötelezettségekről, a biztos (jövőbeni) követelésekről",CHAR(10),LEFT(ÖSSZEFÜGGÉSEK!A4,4),".") -> VAGYONKIMUTATÁS a függő követelésekről éa kötelezettségekről, a biztos (jövőbeni) követelésekről 2017.
A3: Megnevezés | B3: Sorszám | C3: Nyilvántartott függő követelések, kötelezettségek (db) | D3: Értéke (Ft)
A4: A | B4: B | C4: C | D4: D
A5: Támogatási célú előlegekkel kapcsolatos elszámolási követelések | B5: 1.
A6: Egyéb függő követelések | B6: 2.
A7: Biztos (jövőbeni) követelések | B7: 3.
A8: Függő és biztos (jövőbeni) követelések (1+…+3) | B8: 4. | D8: =+D5+D6+D7 -> 0
A9: Kezességgel-, garanciavállalással kapcsolatos függő kötelezettségek | B9: 5.
A10: Peres ügyekkel kapcsolatos függő kötelezettségek | B10: 6.
A11: El nem ismert tartozások | B11: 7.
A12: Támogatási célú előlegekkel kapcsolatos elszámolási kötelezettségek | B12: 8.
A13: Egyéb függő kötelezettségek | B13: 9.
A14: Függő kötelezettségek (5+…+9) | B14: 10. | D14: =+D9+D10+D11+D12+D13 -> 0
B15: 11.
B16: 12.
B17: 13.
B18: 14.
B19: 15.
B20: 16.
B21: 17.
B22: 18.
B23: 19.
B24: 20.
B25: 21.
B26: 22.
... B37: 33.
A38: Összesen (4+10)+(11+…+33): | D38: =+D8+D14+SUM(D15:D37) -> 0

Sheet 8. tájékoztató tábla
F1: =+CONCATENATE("8. tájékoztató tábla a ......../",LEFT(ÖSSZEFÜGGÉSEK!A4,4)+1,". (........) önkormányzati rendelethez") -> 8. tájékoztató tábla a ......../2018. (........) önkormányzati rendelethez
A2: =+CONCATENATE("A Sajószöged Községi Önkormányzat tulajdonában álló gazdálkodó szervezetek működéséből származó",CHAR(10),"kötelezettségek és részesedések alakulása a ",LEFT(ÖSSZEFÜGGÉSEK!A4,4),". évben") -> A Sajószöged Községi Önkormányzat tulajdonában álló gazdálkodó szervezetek működéséből származó kötelezettségek és részesedések alakulása a 2017. évben
A4: Sorszám | B4: Gazdálkodó szervezet megnevezése | C4: Részesedés mértéke (%-ban) | D4: Részesedés összege (Ft-ban) | E4: Működésből származó kötelezettségek összege XII. 31-én (Ft-ban)
A5: 1. | B5: Sajószöged Önkormányzat Községüzemeltetési Kft. | C5: 1 | D5: 3700000 | E5: 1310000
A6: 2.
A7: 3.
A8: 4.
A9: 5.
A10: 6.
A11: 7.
A12: 8.
A13: 9.
A14: 10.
A15: 11.
A16: 12.
A17: 13.
... A21: 17.
A22: ÖSSZESEN: | D22: =IF(SUM(D5:D21)=0,"",SUM(D5:D21)) -> 3700000 | E22: =IF(SUM(E5:E21)=0,"",SUM(E5:E21)) -> 1310000

Sheet 9. tájékoztató tábla
C1: =+CONCATENATE("9. sz. tájékoztató tábla a ……./",LEFT(ÖSSZEFÜGGÉSEK!A4,4)+1,".(………) önkormányzati rendelethez") -> 9. sz. tájékoztató tábla a ……./2018.(………) önkormányzati rendelethez
A3: PÉNZESZKÖZÖK VÁLTOZÁSÁNAK LEVEZETÉSE
A5: Sor-szám | B5: Megnevezés | C5: Összeg (Ft )
A6: 1. | B6: =+CONCATENATE("Pénzkészlet ",LEFT(ÖSSZEFÜGGÉSEK!A4,4),". január 1-jén",CHAR(10),"ebből:") -> Pénzkészlet 2017. január 1-jén ebből: | C6: =C7+C8 -> 7362740
A7: 2. | B7:  Bankszámlák egyenlege | C7: 6985340
A8: 3. | B8:  Pénztárak és betétkönyvek egyenlege | C8: 377400
A9: 4. | B9: Bevételek ( + ) | C9: 589534387
A10: 5. | B10: Kiadások ( - ) | C10: 393891428
A11: 6. | B11: Egyéb korrekciós tételek (+,-) | C11: -8862359
A12: 7. | B12: =+CONCATENATE("Záró pénzkészlet ",LEFT(ÖSSZEFÜGGÉSEK!A4,4),". december 31-én",CHAR(10),"ebből:") -> Záró pénzkészlet 2017. december 31-én ebből: | C12: =C6+C9-C10+C11 -> 194143340
A13: 8. | B13:  Bankszámlák egyenlege | C13: 193409440
A14: 9. | B14:  Pénztárak és betétkönyvek egyenlege | C14: 733900

Sheet Munka1
