Workbook

Sheet ÖSSZEFÜGGÉSEK
A1: Költségvetési rendelet módosítás űrlapjainak összefüggései:
A6: 2017. évi eredeti előirányzat BEVÉTELEK
A9: 1.1. sz. melléklet Bevételek táblázat C. oszlop 9 sora = | B9: 2.1. számú melléklet C. oszlop 13. sor + 2.2. számú melléklet C. oszlop 12. sor
A10: 1.1 sz. melléklet Bevételek táblázat C. oszlop 17 sora = | B10: 2.1. számú melléklet C. oszlop 24. sor + 2.2. számú melléklet C. oszlop 25. sor
A11: 1.1 sz. melléklet Bevételek táblázat C. oszlop 18 sora = | B11: 2.1. számú melléklet C. oszlop 25. sor + 2.2. számú melléklet C. oszlop 26. sor
A13: =+CONCATENATE(LEFT(A6,4),". évi előirányzat módosítások BEVÉTELEK") -> 2017. évi előirányzat módosítások BEVÉTELEK
A15: 1.1. sz. melléklet Bevételek táblázat D. oszlop 9 sora = | B15: 2.1. számú melléklet D. oszlop 13. sor + 2.2. számú melléklet D. oszlop 12. sor
A16: 1.1. sz. melléklet Bevételek táblázat D. oszlop 17 sora = | B16: 2.1. számú melléklet D. oszlop 24. sor + 2.2. számú melléklet D. oszlop 25. sor
A17: 1.1. sz. melléklet Bevételek táblázat D. oszlop 18 sora = | B17: 2.1. számú melléklet D. oszlop 25. sor + 2.2. számú melléklet D. oszlop 26. sor
A19: =+CONCATENATE(LEFT(A6,4),". módosítás utáni módosított előrirányzatok BEVÉTELEK") -> 2017. módosítás utáni módosított előrirányzatok BEVÉTELEK
A21: 1.1. sz. melléklet Bevételek táblázat E. oszlop 9 sora = | B21: 2.1. számú melléklet E. oszlop 13. sor + 2.2. számú melléklet E. oszlop 12. sor
A22: 1.1. sz. melléklet Bevételek táblázat E. oszlop 17 sora = | B22: 2.1. számú melléklet E. oszlop 24. sor + 2.2. számú melléklet E. oszlop 25. sor
A23: 1.1. sz. melléklet Bevételek táblázat E. oszlop 18 sora = | B23: 2.1. számú melléklet E. oszlop 25. sor + 2.2. számú melléklet E. oszlop 26. sor
A25: =+CONCATENATE(LEFT(A6,4),". évi eredeti előirányzat KIADÁSOK") -> 2017. évi eredeti előirányzat KIADÁSOK
A27: 1.1.sz. melléklet Kiadások táblázat C. oszlop 3 sora = | B27: 2.1. számú melléklet G. oszlop 13. sor + 2.2. számú melléklet G. oszlop 12. sor
A28: 1.1. sz. melléklet Kiadások táblázat C. oszlop 10 sora = | B28: 2.1. számú melléklet G. oszlop 24. sor + 2.2. számú melléklet G. oszlop 25. sor
A29: 1.1. sz. melléklet Kiadások táblázat C. oszlop 11 sora = | B29: 2.1. számú melléklet G. oszlop 25. sor + 2.2. számú melléklet G. oszlop 26. sor
A31: =+CONCATENATE(LEFT(A6,4),". évi előirányzat módosítások KIADÁSOK") -> 2017. évi előirányzat módosítások KIADÁSOK
A33: 1.1. sz. melléklet Kiadások táblázat D. oszlop 3 sora = | B33: 2.1. számú melléklet H. oszlop 13. sor + 2.2. számú melléklet H. oszlop 12. sor
A34: 1.1. sz. melléklet Kiadások táblázat D. oszlop 10 sora = | B34: 2.1. számú melléklet H. oszlop 24. sor + 2.2. számú melléklet H. oszlop 25. sor
A35: 1.1. sz. melléklet Kiadások táblázat D. oszlop 11 sora = | B35: 2.1. számú melléklet H. oszlop 25. sor + 2.2. számú melléklet H. oszlop 26. sor
A37: =+CONCATENATE(LEFT(A6,4),". módosítás utáni módosított előirányzatok KIADÁSOK") -> 2017. módosítás utáni módosított előirányzatok KIADÁSOK
A39: 1.1. sz. melléklet Kiadások táblázat E. oszlop 3 sora = | B39: 2.1. számú melléklet I. oszlop 13. sor + 2.2. számú melléklet I. oszlop 12. sor
A40: 1.1. sz. melléklet Kiadások táblázat E. oszlop 10 sora = | B40: 2.1. számú melléklet I. oszlop 24. sor + 2.2. számú melléklet I. oszlop 25. sor
A41: 1.1.sz. melléklet Kiadások táblázat E. oszlop 11 sora = | B41: 2.1. számú melléklet I. oszlop 25. sor + 2.2. számú melléklet I. oszlop 26. sor

Sheet 1.1.sz.mell.
A1: B E V É T E L E K
A2: 1. sz. táblázat | E2: Forintban!
A3: Sor- szám | B3: Bevételi jogcím | C3: =+CONCATENATE(LEFT(ÖSSZEFÜGGÉSEK!A6,4),". évi") -> 2017. évi
C4: Eredeti előirányzat | D4: 1. sz. módosítás (±) | E4: =+CONCATENATE(LEFT(ÖSSZEFÜGGÉSEK!A6,4),".12.31.",CHAR(10),"Módosítás utáni") -> 2017.12.31. Módosítás utáni
A5: A | B5: B | C5: C | D5: D | E5: E=C±D
A6: 1. | B6: Önkormányzat működési támogatásai (1.1.+…+.1.6.) | C6: =+C7+C8+C9+C10+C11+C12 -> 92207137 | D6: =+D7+D8+D9+D10+D11+D12 -> 11814854 | E6: =+E7+E8+E9+E10+E11+E12 -> 104021991
A7: 1.1. | B7: Helyi önkormányzatok működésének általános támogatása | C7: 30994697 | D7: 1000000 | E7: =C7+D7 -> 31994697
A8: 1.2. | B8: Önkormányzatok egyes köznevelési feladatainak támogatása | C8: 28998310 | D8: 6986249 | E8: =C8+D8 -> 35984559
A9: 1.3. | B9: Önkormányzatok szociális és gyermekjóléti feladatainak támogatása | C9: 29700430 | D9: 590474 | E9: =C9+D9 -> 30290904
A10: 1.4. | B10: Önkormányzatok kulturális feladatainak támogatása | C10: 2513700 | D10: 461367 | E10: =C10+D10 -> 2975067
A11: 1.5. | B11: Működési célú kvi támogatások és kiegészítő támogatások | D11: 2609044 | E11: =C11+D11 -> 2609044
A12: 1.6. | B12: Elszámolásból származó bevételek | D12: 167720 | E12: =C12+D12 -> 167720
A13: 2. | B13: Működési célú támogatások államháztartáson belülről (2.1.+…+.2.5.) | C13: =+C14+C15+C16+C17+C18 -> 16718160 | D13: =+D14+D15+D16+D17+D18 -> 2166783 | E13: =+E14+E15+E16+E17+E18 -> 18884943
A14: 2.1. | B14: Elvonások és befizetések bevételei | E14: =C14+D14 -> 0
A15: 2.2. | B15: Működési célú garancia- és kezességvállalásból megtérülések | E15: =C15+D15 -> 0
A16: 2.3. | B16: Működési célú visszatérítendő támogatások, kölcsönök visszatérülése | E16: =C16+D16 -> 0
A17: 2.4. | B17: Működési célú visszatérítendő támogatások, kölcsönök igénybevétele | E17: =C17+D17 -> 0
A18: 2.5. | B18: Egyéb működési célú támogatások bevételei | C18: 16718160 | D18: 2166783 | E18: =C18+D18 -> 18884943
A19: 2.6. | B19: 2.5.-ből EU-s támogatás | E19: =C19+D19 -> 0
A20: 3. | B20: Felhalmozási célú támogatások államháztartáson belülről (3.1.+…+3.5.) | C20: =+C21+C22+C23+C24+C25 -> 0 | D20: =+D21+D22+D23+D24+D25 -> 160348571 | E20: =+E21+E22+E23+E24+E25 -> 160348571
A21: 3.1. | B21: Felhalmozási célú önkormányzati támogatások | E21: =C21+D21 -> 0
A22: 3.2. | B22: Felhalmozási célú garancia- és kezességvállalásból megtérülések | E22: =C22+D22 -> 0
A23: 3.3. | B23: Felhalmozási célú visszatérítendő támogatások, kölcsönök visszatérülése | E23: =C23+D23 -> 0
A24: 3.4. | B24: Felhalmozási célú visszatérítendő támogatások, kölcsönök igénybevétele | E24: =C24+D24 -> 0
A25: 3.5. | B25: Egyéb felhalmozási célú támogatások bevételei | D25: 160348571 | E25: =C25+D25 -> 160348571
A26: 3.6. | B26: 3.5.-ből EU-s támogatás | D26: 160348571 | E26: =C26+D26 -> 160348571
A27: 4. | B27: Közhatalmi bevételek (4.1.+...+4.7.) | C27: =+C28+C29+C30+C31+C32+C33+C34 -> 113960000 | D27: =+D28+D29+D30+D31+D32+D33+D34 -> 61315260 | E27: =+E28+E29+E30+E31+E32+E33+E34 -> 175275260
A28: 4.1. | B28: Vagyoni tipusú adók | C28: 61300000 | D28: 13845498 | E28: =C28+D28 -> 75145498
A29: 4.2. | B29: Idegenforgalmi adó | E29: =C29+D29 -> 0
A30: 4.3. | B30: Iparűzési adó | C30: 45000000 | D30: 43849420 | E30: =C30+D30 -> 88849420
A31: 4.4. | B31: Talajterhelési díj | E31: =C31+D31 -> 0
A32: 4.5. | B32: Gépjárműadó | C32: 7500000 | D32: 2026565 | E32: =C32+D32 -> 9526565
A33: 4.6. | B33: Egyéb áruhasználati és szolgáltatási adók | C33: 40000 | D33: -40000 | E33: =C33+D33 -> 0
A34: 4.7. | B34: Egyéb közhatalmi bevételek | C34: 120000 | D34: 1633777 | E34: =C34+D34 -> 1753777
A35: 5. | B35: Működési bevételek (5.1.+…+ 5.11.) | C35: =SUM(C36:C46) -> 26998078 | D35: =SUM(D36:D46) -> 16386414 | E35: =SUM(E36:E46) -> 43384492
A36: 5.1. | B36: Készletértékesítés ellenértéke | E36: =C36+D36 -> 0
A37: 5.2. | B37: Szolgáltatások ellenértéke | C37: 1800000 | D37: 11940670 | E37: =C37+D37 -> 13740670
A38: 5.3. | B38: Közvetített szolgáltatások értéke | C38: 700000 | D38: 634806 | E38: =C38+D38 -> 1334806
A39: 5.4. | B39: Tulajdonosi bevételek | D39: 8465556 | E39: =C39+D39 -> 8465556
A40: 5.5. | B40: Ellátási díjak | C40: 19226048 | D40: -9366085 | E40: =C40+D40 -> 9859963
A41: 5.6. | B41: Kiszámlázott általános forgalmi adó | C41: 5272030 | D41: 4607529 | E41: =C41+D41 -> 9879559
A42: 5.7. | B42: Általános forgalmi adó visszatérítése | E42: =C42+D42 -> 0
A43: 5.8. | B43: Kamatbevételek és más nyereségjellegű bevételek | D43: 20553 | E43: =C43+D43 -> 20553
A44: 5.9. | B44: Egyéb pénzügyi műveletek bevételei | E44: =C44+D44 -> 0
A45: 5.10. | B45: Biztosító által fizetett kártérítés | E45: =C45+D45 -> 0
A46: 5.11. | B46: Egyéb működési bevételek | D46: 83385 | E46: =C46+D46 -> 83385
A47: 6. | B47: Felhalmozási bevételek (6.1.+…+6.5.) | C47: =SUM(C48:C52) -> 10000000 | D47: =SUM(D48:D52) -> -1595350 | E47: =SUM(E48:E52) -> 8404650
A48: 6.1. | B48: Immateriális javak értékesítése | E48: =C48+D48 -> 0
A49: 6.2. | B49: Ingatlanok értékesítése | C49: 10000000 | D49: -1595350 | E49: =C49+D49 -> 8404650
A50: 6.3. | B50: Egyéb tárgyi eszközök értékesítése | E50: =C50+D50 -> 0
A51: 6.4. | B51: Részesedések értékesítése | E51: =C51+D51 -> 0
A52: 6.5. | B52: Részesedések megszűnéséhez kapcsolódó bevételek | E52: =C52+D52 -> 0
A53: 7. | B53: Működési célú átvett pénzeszközök (7.1. + … + 7.3.) | C53: =SUM(C54:C56) -> 0 | D53: =SUM(D54:D56) -> 333500 | E53: =SUM(E54:E56) -> 333500
A54: 7.1. | B54: Működési célú garancia- és kezességvállalásból megtérülések ÁH-n kívülről | E54: =C54+D54 -> 0
A55: 7.2. | B55: Működési célú visszatérítendő támogatások, kölcsönök visszatér. ÁH-n kívülről | E55: =C55+D55 -> 0
A56: 7.3. | B56: Egyéb működési célú átvett pénzeszköz | D56: 333500 | E56: =C56+D56 -> 333500
A57: 7.4. | B57: 7.3.-ból EU-s támogatás (közvetlen) | E57: =C57+D57 -> 0
A58: 8. | B58: Felhalmozási célú átvett pénzeszközök (8.1.+8.2.+8.3.) | C58: =SUM(C59:C61) -> 0 | D58: =SUM(D59:D61) -> 914250 | E58: =SUM(E59:E61) -> 914250
A59: 8.1. | B59: Felhalm. célú garancia- és kezességvállalásból megtérülések ÁH-n kívülről | E59: =C59+D59 -> 0
A60: 8.2. | B60: Felhalm. célú visszatérítendő támogatások, kölcsönök visszatér. ÁH-n kívülről | D60: 914250 | E60: =C60+D60 -> 914250
A61: 8.3. | B61: Egyéb felhalmozási célú átvett pénzeszköz | E61: =C61+D61 -> 0
A62: 8.4. | B62: 8.3.-ból EU-s támogatás (közvetlen) | E62: =C62+D62 -> 0
A63: 9. | B63: KÖLTSÉGVETÉSI BEVÉTELEK ÖSSZESEN: (1+…+8) | C63: =+C6+C13+C20+C27+C35+C47+C53+C58 -> 259883375 | D63: =+D6+D13+D20+D27+D35+D47+D53+D58 -> 251684282 | E63: =+E6+E13+E20+E27+E35+E47+E53+E58 -> 511567657
A64: 10. | B64: Hitel-, kölcsönfelvétel államháztartáson kívülről (10.1.+10.3.) | C64: =SUM(C65:C67) -> 0 | D64: =SUM(D65:D67) -> 0 | E64: =SUM(E65:E67) -> 0
A65: 10.1. | B65: Hosszú lejáratú hitelek, kölcsönök felvétele | E65: =C65+D65 -> 0
A66: 10.2. | B66: Likviditási célú hitelek, kölcsönök felvétele pénzügyi vállalkozástól | E66: =C66+D66 -> 0
A67: 10.3. | B67: Rövid lejáratú hitelek, kölcsönök felvétele | E67: =C67+D67 -> 0
A68: 11. | B68: Belföldi értékpapírok bevételei (11.1. +…+ 11.4.) | C68: =SUM(C69:C72) -> 46694266 | D68: =SUM(D69:D72) -> 36885776 | E68: =SUM(E69:E72) -> 83580042
A69: 11.1. | B69: Forgatási célú belföldi értékpapírok beváltása, értékesítése | C69: 46694266 | D69: 36885776 | E69: =C69+D69 -> 83580042
A70: 11.2. | B70: Forgatási célú belföldi értékpapírok kibocsátása | E70: =C70+D70 -> 0
A71: 11.3. | B71: Befektetési célú belföldi értékpapírok beváltása, értékesítése | E71: =C71+D71 -> 0
A72: 11.4. | B72: Befektetési célú belföldi értékpapírok kibocsátása | E72: =C72+D72 -> 0
A73: 12. | B73: Maradvány igénybevétele (12.1. + 12.2.) | C73: =SUM(C74:C75) -> 6981293 | D73: =SUM(D74:D75) -> 2620749 | E73: =SUM(E74:E75) -> 9602042
A74: 12.1. | B74: Előző év költségvetési maradványának igénybevétele | C74: 6981293 | D74: 2620749 | E74: =C74+D74 -> 9602042
A75: 12.2. | B75: Előző év vállalkozási maradványának igénybevétele | E75: =C75+D75 -> 0
A76: 13. | B76: Belföldi finanszírozás bevételei (13.1. + … + 13.3.) | C76: =SUM(C77:C79) -> 0 | D76: =SUM(D77:D79) -> 0 | E76: =SUM(E77:E79) -> 0
A77: 13.1. | B77: Államháztartáson belüli megelőlegezések | E77: =C77+D77 -> 0
A78: 13.2. | B78: Államháztartáson belüli megelőlegezések törlesztése | E78: =C78+D78 -> 0
A79: 13.3. | B79: Betétek megszüntetése | E79: =C79+D79 -> 0
A80: 14. | B80: Külföldi finanszírozás bevételei (14.1.+…14.4.) | C80: =SUM(C81:C84) -> 0 | D80: =SUM(D81:D84) -> 0 | E80: =SUM(E81:E84) -> 0
A81: 14.1. | B81: Forgatási célú külföldi értékpapírok beváltása, értékesítése | E81: =C81+D81 -> 0
A82: 14.2. | B82: Befektetési célú külföldi értékpapírok beváltása, értékesítése | E82: =C82+D82 -> 0
A83: 14.3. | B83: Külföldi értékpapírok kibocsátása | E83: =C83+D83 -> 0
A84: 14.4. | B84: Külföldi hitelek, kölcsönök felvétele | E84: =C84+D84 -> 0
A85: 15. | B85: Váltóbevételek | E85: =C85+D85 -> 0
A86: 16. | B86: Adóssághoz nem kapcsolódó származékos ügyletek bevételei | E86: =C86+D86 -> 0
A87: 17. | B87: FINANSZÍROZÁSI BEVÉTELEK ÖSSZESEN: (10. + … +16.) | C87: =+C64+C68+C73+C76+C80+C86+C85 -> 53675559 | D87: =+D64+D68+D73+D76+D80+D86+D85 -> 39506525 | E87: =+E64+E68+E73+E76+E80+E86+E85 -> 93182084
A88: 18. | B88: KÖLTSÉGVETÉSI ÉS FINANSZÍROZÁSI BEVÉTELEK ÖSSZESEN: (9+17) | C88: =+C63+C87 -> 313558934 | D88: =+D63+D87 -> 291190807 | E88: =+E63+E87 -> 604749741
A90: K I A D Á S O K
A91: 2. sz. táblázat | E91: =E2 -> Forintban!
A92: Sor- szám | B92: Kiadási jogcím | C92: =+CONCATENATE(LEFT(ÖSSZEFÜGGÉSEK!A6,4),". évi") -> 2017. évi
C93: Eredeti előirányzat | D93: 1. sz. módosítás (±) | E93: =+CONCATENATE(LEFT(ÖSSZEFÜGGÉSEK!A6,4),".12.31",CHAR(10),"Módosítás utáni") -> 2017.12.31 Módosítás utáni
A94: A | B94: B | C94: C | D94: D | E94: E=C±D
A95: 1. | B95: Működési költségvetés kiadásai (1.1+…+1.5.+1.18.) | C95: =C96+C97+C98+C99+C100+C113 -> 305305585 | D95: =D96+D97+D98+D99+D100+D113 -> -6291857 | E95: =E96+E97+E98+E99+E100+E113 -> 299013728
A96: 1.1. | B96: Személyi juttatások | C96: 113513122 | D96: 6858949 | E96: =C96+D96 -> 120372071
A97: 1.2. | B97: Munkaadókat terhelő járulékok és szociális hozzájárulási adó | C97: 23477193 | D97: 2969301 | E97: =C97+D97 -> 26446494
A98: 1.3. | B98: Dologi kiadások | C98: 121575270 | D98: -13947603 | E98: =C98+D98 -> 107627667
A99: 1.4. | B99: Ellátottak pénzbeli juttatásai | C99: 10680000 | D99: -1976052 | E99: =C99+D99 -> 8703948
A100: 1.5 | B100: Egyéb működési célú kiadások | C100: 33560000 | D100: 2303548 | E100: =C100+D100 -> 35863548
A101: 1.6. | B101: - az 1.5-ből: - Előző évi elszámolásból származó befizetések | D101: 977678 | E101: =C101+D101 -> 977678
...

Sheet 1.2.sz.mell.
A1: B E V É T E L E K
A2: 1. sz. táblázat | E2: ='1.1.sz.mell.'!E2 -> Forintban!
A3: Sor- szám | B3: Bevételi jogcím | C3: =+CONCATENATE(LEFT(ÖSSZEFÜGGÉSEK!A6,4),". évi") -> 2017. évi
C4: Eredeti előirányzat | D4: 1. sz. módosítás (±) | E4: =+CONCATENATE(LEFT(ÖSSZEFÜGGÉSEK!A6,4),".12.31.",CHAR(10),"Módosítás utáni") -> 2017.12.31. Módosítás utáni
A5: A | B5: B | C5: C | D5: D | E5: E=C±D
A6: 1. | B6: Önkormányzat működési támogatásai (1.1.+…+.1.6.) | C6: =+C7+C8+C9+C10+C11+C12 -> 92207137 | D6: =+D7+D8+D9+D10+D11+D12 -> 11814854 | E6: =+E7+E8+E9+E10+E11+E12 -> 104021991
A7: 1.1. | B7: Helyi önkormányzatok működésének általános támogatása | C7: 30994697 | D7: 1000000 | E7: =C7+D7 -> 31994697
A8: 1.2. | B8: Önkormányzatok egyes köznevelési feladatainak támogatása | C8: 28998310 | D8: 6986249 | E8: =C8+D8 -> 35984559
A9: 1.3. | B9: Önkormányzatok szociális és gyermekjóléti feladatainak támogatása | C9: 29700430 | D9: 590474 | E9: =C9+D9 -> 30290904
A10: 1.4. | B10: Önkormányzatok kulturális feladatainak támogatása | C10: 2513700 | D10: 461367 | E10: =C10+D10 -> 2975067
A11: 1.5. | B11: Működési célú kvi támogatások és kiegészítő támogatások | D11: 2609044 | E11: =C11+D11 -> 2609044
A12: 1.6. | B12: Elszámolásból származó bevételek | D12: 167720 | E12: =C12+D12 -> 167720
A13: 2. | B13: Működési célú támogatások államháztartáson belülről (2.1.+…+.2.5.) | C13: =+C14+C15+C16+C17+C18 -> 16718160 | D13: =+D14+D15+D16+D17+D18 -> 2166783 | E13: =+E14+E15+E16+E17+E18 -> 18884943
A14: 2.1. | B14: Elvonások és befizetések bevételei | E14: =C14+D14 -> 0
A15: 2.2. | B15: Működési célú garancia- és kezességvállalásból megtérülések | E15: =C15+D15 -> 0
A16: 2.3. | B16: Működési célú visszatérítendő támogatások, kölcsönök visszatérülése | E16: =C16+D16 -> 0
A17: 2.4. | B17: Működési célú visszatérítendő támogatások, kölcsönök igénybevétele | E17: =C17+D17 -> 0
A18: 2.5. | B18: Egyéb működési célú támogatások bevételei | C18: 16718160 | D18: 2166783 | E18: =C18+D18 -> 18884943
A19: 2.6. | B19: 2.5.-ből EU-s támogatás | E19: =C19+D19 -> 0
A20: 3. | B20: Felhalmozási célú támogatások államháztartáson belülről (3.1.+…+3.5.) | C20: =+C21+C22+C23+C24+C25 -> 0 | D20: =+D21+D22+D23+D24+D25 -> 160348571 | E20: =+E21+E22+E23+E24+E25 -> 160348571
A21: 3.1. | B21: Felhalmozási célú önkormányzati támogatások | E21: =C21+D21 -> 0
A22: 3.2. | B22: Felhalmozási célú garancia- és kezességvállalásból megtérülések | E22: =C22+D22 -> 0
A23: 3.3. | B23: Felhalmozási célú visszatérítendő támogatások, kölcsönök visszatérülése | E23: =C23+D23 -> 0
A24: 3.4. | B24: Felhalmozási célú visszatérítendő támogatások, kölcsönök igénybevétele | E24: =C24+D24 -> 0
A25: 3.5. | B25: Egyéb felhalmozási célú támogatások bevételei | D25: 160348571 | E25: =C25+D25 -> 160348571
A26: 3.6. | B26: 3.5.-ből EU-s támogatás | D26: 160348571 | E26: =C26+D26 -> 160348571
A27: 4. | B27: Közhatalmi bevételek (4.1.+...+4.7.) | C27: =+C28+C29+C30+C31+C32+C33+C34 -> 113960000 | D27: =+D28+D29+D30+D31+D32+D33+D34 -> 61315260 | E27: =+E28+E29+E30+E31+E32+E33+E34 -> 175275260
A28: 4.1. | B28: Vagyoni tipusú adók | C28: 61300000 | D28: 13845498 | E28: =C28+D28 -> 75145498
A29: 4.2. | B29: Idegenforgalmi adó | E29: =C29+D29 -> 0
A30: 4.3. | B30: Iparűzési adó | C30: 45000000 | D30: 43849420 | E30: =C30+D30 -> 88849420
A31: 4.4. | B31: Talajterhelési díj | E31: =C31+D31 -> 0
A32: 4.5. | B32: Gépjárműadó | C32: 7500000 | D32: 2026565 | E32: =C32+D32 -> 9526565
A33: 4.6. | B33: Egyéb áruhasználati és szolgáltatási adók | C33: 40000 | D33: -40000 | E33: =C33+D33 -> 0
A34: 4.7. | B34: Egyéb közhatalmi bevételek | C34: 120000 | D34: 1633777 | E34: =C34+D34 -> 1753777
A35: 5. | B35: Működési bevételek (5.1.+…+ 5.11.) | C35: =SUM(C36:C46) -> 26998078 | D35: =SUM(D36:D46) -> 16386414 | E35: =SUM(E36:E46) -> 43384492
A36: 5.1. | B36: Készletértékesítés ellenértéke | E36: =C36+D36 -> 0
A37: 5.2. | B37: Szolgáltatások ellenértéke | C37: 1800000 | D37: 11940670 | E37: =C37+D37 -> 13740670
A38: 5.3. | B38: Közvetített szolgáltatások értéke | C38: 700000 | D38: 634806 | E38: =C38+D38 -> 1334806
A39: 5.4. | B39: Tulajdonosi bevételek | D39: 8465556 | E39: =C39+D39 -> 8465556
A40: 5.5. | B40: Ellátási díjak | C40: 19226048 | D40: -9366085 | E40: =C40+D40 -> 9859963
A41: 5.6. | B41: Kiszámlázott általános forgalmi adó | C41: 5272030 | D41: 4607529 | E41: =C41+D41 -> 9879559
A42: 5.7. | B42: Általános forgalmi adó visszatérítése | E42: =C42+D42 -> 0
A43: 5.8. | B43: Kamatbevételek és más nyereségjellegű bevételek | D43: 20553 | E43: =C43+D43 -> 20553
A44: 5.9. | B44: Egyéb pénzügyi műveletek bevételei | E44: =C44+D44 -> 0
A45: 5.10. | B45: Biztosító által fizetett kártérítés | E45: =C45+D45 -> 0
A46: 5.11. | B46: Egyéb működési bevételek | D46: 83385 | E46: =C46+D46 -> 83385
A47: 6. | B47: Felhalmozási bevételek (6.1.+…+6.5.) | C47: =SUM(C48:C52) -> 10000000 | D47: =SUM(D48:D52) -> -1595350 | E47: =SUM(E48:E52) -> 8404650
A48: 6.1. | B48: Immateriális javak értékesítése | E48: =C48+D48 -> 0
A49: 6.2. | B49: Ingatlanok értékesítése | C49: 10000000 | D49: -1595350 | E49: =C49+D49 -> 8404650
A50: 6.3. | B50: Egyéb tárgyi eszközök értékesítése | E50: =C50+D50 -> 0
A51: 6.4. | B51: Részesedések értékesítése | E51: =C51+D51 -> 0
A52: 6.5. | B52: Részesedések megszűnéséhez kapcsolódó bevételek | E52: =C52+D52 -> 0
A53: 7. | B53: Működési célú átvett pénzeszközök (7.1. + … + 7.3.) | C53: =SUM(C54:C56) -> 0 | D53: =SUM(D54:D56) -> 333500 | E53: =SUM(E54:E56) -> 333500
A54: 7.1. | B54: Működési célú garancia- és kezességvállalásból megtérülések ÁH-n kívülről | E54: =C54+D54 -> 0
A55: 7.2. | B55: Működési célú visszatérítendő támogatások, kölcsönök visszatér. ÁH-n kívülről | E55: =C55+D55 -> 0
A56: 7.3. | B56: Egyéb működési célú átvett pénzeszköz | D56: 333500 | E56: =C56+D56 -> 333500
A57: 7.4. | B57: 7.3.-ból EU-s támogatás (közvetlen) | E57: =C57+D57 -> 0
A58: 8. | B58: Felhalmozási célú átvett pénzeszközök (8.1.+8.2.+8.3.) | C58: =SUM(C59:C61) -> 0 | D58: =SUM(D59:D61) -> 914250 | E58: =SUM(E59:E61) -> 914250
A59: 8.1. | B59: Felhalm. célú garancia- és kezességvállalásból megtérülések ÁH-n kívülről | E59: =C59+D59 -> 0
A60: 8.2. | B60: Felhalm. célú visszatérítendő támogatások, kölcsönök visszatér. ÁH-n kívülről | D60: 914250 | E60: =C60+D60 -> 914250
A61: 8.3. | B61: Egyéb felhalmozási célú átvett pénzeszköz | E61: =C61+D61 -> 0
A62: 8.4. | B62: 8.3.-ból EU-s támogatás (közvetlen) | E62: =C62+D62 -> 0
A63: 9. | B63: KÖLTSÉGVETÉSI BEVÉTELEK ÖSSZESEN: (1+…+8) | C63: =+C6+C13+C20+C27+C35+C47+C53+C58 -> 259883375 | D63: =+D6+D13+D20+D27+D35+D47+D53+D58 -> 251684282 | E63: =+E6+E13+E20+E27+E35+E47+E53+E58 -> 511567657
A64: 10. | B64: Hitel-, kölcsönfelvétel államháztartáson kívülről (10.1.+10.3.) | C64: =SUM(C65:C67) -> 0 | D64: =SUM(D65:D67) -> 0 | E64: =SUM(E65:E67) -> 0
A65: 10.1. | B65: Hosszú lejáratú hitelek, kölcsönök felvétele | E65: =C65+D65 -> 0
A66: 10.2. | B66: Likviditási célú hitelek, kölcsönök felvétele pénzügyi vállalkozástól | E66: =C66+D66 -> 0
A67: 10.3. | B67: Rövid lejáratú hitelek, kölcsönök felvétele | E67: =C67+D67 -> 0
A68: 11. | B68: Belföldi értékpapírok bevételei (11.1. +…+ 11.4.) | C68: =SUM(C69:C72) -> 46694266 | D68: =SUM(D69:D72) -> 36885776 | E68: =SUM(E69:E72) -> 83580042
A69: 11.1. | B69: Forgatási célú belföldi értékpapírok beváltása, értékesítése | C69: 46694266 | D69: 36885776 | E69: =C69+D69 -> 83580042
A70: 11.2. | B70: Forgatási célú belföldi értékpapírok kibocsátása | E70: =C70+D70 -> 0
A71: 11.3. | B71: Befektetési célú belföldi értékpapírok beváltása, értékesítése | E71: =C71+D71 -> 0
A72: 11.4. | B72: Befektetési célú belföldi értékpapírok kibocsátása | E72: =C72+D72 -> 0
A73: 12. | B73: Maradvány igénybevétele (12.1. + 12.2.) | C73: =SUM(C74:C75) -> 6981293 | D73: =SUM(D74:D75) -> 2620749 | E73: =SUM(E74:E75) -> 9602042
A74: 12.1. | B74: Előző év költségvetési maradványának igénybevétele | C74: 6981293 | D74: 2620749 | E74: =C74+D74 -> 9602042
A75: 12.2. | B75: Előző év vállalkozási maradványának igénybevétele | E75: =C75+D75 -> 0
A76: 13. | B76: Belföldi finanszírozás bevételei (13.1. + … + 13.3.) | C76: =SUM(C77:C79) -> 0 | D76: =SUM(D77:D79) -> 0 | E76: =SUM(E77:E79) -> 0
A77: 13.1. | B77: Államháztartáson belüli megelőlegezések | E77: =C77+D77 -> 0
A78: 13.2. | B78: Államháztartáson belüli megelőlegezések törlesztése | E78: =C78+D78 -> 0
A79: 13.3. | B79: Betétek megszüntetése | E79: =C79+D79 -> 0
A80: 14. | B80: Külföldi finanszírozás bevételei (14.1.+…14.4.) | C80: =SUM(C81:C84) -> 0 | D80: =SUM(D81:D84) -> 0 | E80: =SUM(E81:E84) -> 0
A81: 14.1. | B81: Forgatási célú külföldi értékpapírok beváltása, értékesítése | E81: =C81+D81 -> 0
A82: 14.2. | B82: Befektetési célú külföldi értékpapírok beváltása, értékesítése | E82: =C82+D82 -> 0
A83: 14.3. | B83: Külföldi értékpapírok kibocsátása | E83: =C83+D83 -> 0
A84: 14.4. | B84: Külföldi hitelek, kölcsönök felvétele | E84: =C84+D84 -> 0
A85: 15. | B85: Váltóbevételek | E85: =C85+D85 -> 0
A86: 16. | B86: Adóssághoz nem kapcsolódó származékos ügyletek bevételei | E86: =C86+D86 -> 0
A87: 17. | B87: FINANSZÍROZÁSI BEVÉTELEK ÖSSZESEN: (10. + … +16.) | C87: =+C64+C68+C73+C76+C80+C86+C85 -> 53675559 | D87: =+D64+D68+D73+D76+D80+D86+D85 -> 39506525 | E87: =+E64+E68+E73+E76+E80+E86+E85 -> 93182084
A88: 18. | B88: KÖLTSÉGVETÉSI ÉS FINANSZÍROZÁSI BEVÉTELEK ÖSSZESEN: (9+17) | C88: =+C63+C87 -> 313558934 | D88: =+D63+D87 -> 291190807 | E88: =+E63+E87 -> 604749741
A90: K I A D Á S O K
A91: 2. sz. táblázat | E91: =E2 -> Forintban!
A92: Sor- szám | B92: Kiadási jogcím | C92: =+CONCATENATE(LEFT(ÖSSZEFÜGGÉSEK!A6,4),". évi") -> 2017. évi
C93: Eredeti előirányzat | D93: 1. sz. módosítás (±) | E93: =+CONCATENATE(LEFT(ÖSSZEFÜGGÉSEK!A6,4),".12.31",CHAR(10),"Módosítás utáni") -> 2017.12.31 Módosítás utáni
A94: A | B94: B | C94: C | D94: D | E94: E=C±D
A95: 1. | B95: Működési költségvetés kiadásai (1.1+…+1.5.+1.18.) | C95: =C96+C97+C98+C99+C100+C113 -> 305305585 | D95: =D96+D97+D98+D99+D100+D113 -> -6291857 | E95: =E96+E97+E98+E99+E100+E113 -> 299013728
A96: 1.1. | B96: Személyi juttatások | C96: 113513122 | D96: 6858949 | E96: =C96+D96 -> 120372071
A97: 1.2. | B97: Munkaadókat terhelő járulékok és szociális hozzájárulási adó | C97: 23477193 | D97: 2969301 | E97: =C97+D97 -> 26446494
A98: 1.3. | B98: Dologi kiadások | C98: 121575270 | D98: -13947603 | E98: =C98+D98 -> 107627667
A99: 1.4. | B99: Ellátottak pénzbeli juttatásai | C99: 10680000 | D99: -1976052 | E99: =C99+D99 -> 8703948
A100: 1.5 | B100: Egyéb működési célú kiadások | C100: 33560000 | D100: 2303548 | E100: =C100+D100 -> 35863548
A101: 1.6. | B101: - az 1.5-ből: - Előző évi elszámolásból származó befizetések | D101: 977678 | E101: =C101+D101 -> 977678
...

Sheet 1.3.sz.mell.
A1: B E V É T E L E K
A2: 1. sz. táblázat | E2: ='1.2.sz.mell.'!E2 -> Forintban!
A3: Sor- szám | B3: Bevételi jogcím | C3: =+CONCATENATE(LEFT(ÖSSZEFÜGGÉSEK!A6,4),". évi") -> 2017. évi
C4: Eredeti előirányzat | D4: 1. sz. módosítás (±) | E4: =+CONCATENATE(LEFT(ÖSSZEFÜGGÉSEK!A6,4),".12.31.",CHAR(10),"Módosítás utáni") -> 2017.12.31. Módosítás utáni
A5: A | B5: B | C5: C | D5: D | E5: E=C±D
A6: 1. | B6: Önkormányzat működési támogatásai (1.1.+…+.1.6.) | C6: =+C7+C8+C9+C10+C11+C12 -> 0 | D6: =+D7+D8+D9+D10+D11+D12 -> 0 | E6: =+E7+E8+E9+E10+E11+E12 -> 0
A7: 1.1. | B7: Helyi önkormányzatok működésének általános támogatása | E7: =C7+D7 -> 0
A8: 1.2. | B8: Önkormányzatok egyes köznevelési feladatainak támogatása | E8: =C8+D8 -> 0
A9: 1.3. | B9: Önkormányzatok szociális és gyermekjóléti feladatainak támogatása | E9: =C9+D9 -> 0
A10: 1.4. | B10: Önkormányzatok kulturális feladatainak támogatása | E10: =C10+D10 -> 0
A11: 1.5. | B11: Működési célú kvi támogatások és kiegészítő támogatások | E11: =C11+D11 -> 0
A12: 1.6. | B12: Elszámolásból származó bevételek | E12: =C12+D12 -> 0
A13: 2. | B13: Működési célú támogatások államháztartáson belülről (2.1.+…+.2.5.) | C13: =+C14+C15+C16+C17+C18 -> 0 | D13: =+D14+D15+D16+D17+D18 -> 0 | E13: =+E14+E15+E16+E17+E18 -> 0
A14: 2.1. | B14: Elvonások és befizetések bevételei | E14: =C14+D14 -> 0
A15: 2.2. | B15: Működési célú garancia- és kezességvállalásból megtérülések | E15: =C15+D15 -> 0
A16: 2.3. | B16: Működési célú visszatérítendő támogatások, kölcsönök visszatérülése | E16: =C16+D16 -> 0
A17: 2.4. | B17: Működési célú visszatérítendő támogatások, kölcsönök igénybevétele | E17: =C17+D17 -> 0
A18: 2.5. | B18: Egyéb működési célú támogatások bevételei | E18: =C18+D18 -> 0
A19: 2.6. | B19: 2.5.-ből EU-s támogatás | E19: =C19+D19 -> 0
A20: 3. | B20: Felhalmozási célú támogatások államháztartáson belülről (3.1.+…+3.5.) | C20: =+C21+C22+C23+C24+C25 -> 0 | D20: =+D21+D22+D23+D24+D25 -> 0 | E20: =+E21+E22+E23+E24+E25 -> 0
A21: 3.1. | B21: Felhalmozási célú önkormányzati támogatások | E21: =C21+D21 -> 0
A22: 3.2. | B22: Felhalmozási célú garancia- és kezességvállalásból megtérülések | E22: =C22+D22 -> 0
A23: 3.3. | B23: Felhalmozási célú visszatérítendő támogatások, kölcsönök visszatérülése | E23: =C23+D23 -> 0
A24: 3.4. | B24: Felhalmozási célú visszatérítendő támogatások, kölcsönök igénybevétele | E24: =C24+D24 -> 0
A25: 3.5. | B25: Egyéb felhalmozási célú támogatások bevételei | E25: =C25+D25 -> 0
A26: 3.6. | B26: 3.5.-ből EU-s támogatás | E26: =C26+D26 -> 0
A27: 4. | B27: Közhatalmi bevételek (4.1.+...+4.7.) | C27: =+C28+C29+C30+C31+C32+C33+C34 -> 0 | D27: =+D28+D29+D30+D31+D32+D33+D34 -> 0 | E27: =+E28+E29+E30+E31+E32+E33+E34 -> 0
A28: 4.1. | B28: Építményadó | D28: =+D29+D30+D31 -> 0 | E28: =C28+D28 -> 0
A29: 4.2. | B29: Idegenforgalmi adó | E29: =C29+D29 -> 0
A30: 4.3. | B30: Iparűzési adó | E30: =C30+D30 -> 0
A31: 4.4. | B31: Talajterhelési díj | E31: =C31+D31 -> 0
A32: 4.5. | B32: Gépjárműadó | E32: =C32+D32 -> 0
A33: 4.6. | B33: Egyéb áruhasználati és szolgáltatási adók | E33: =C33+D33 -> 0
A34: 4.7. | B34: Egyéb közhatalmi bevételek | E34: =C34+D34 -> 0
A35: 5. | B35: Működési bevételek (5.1.+…+ 5.11.) | C35: =SUM(C36:C46) -> 0 | D35: =SUM(D36:D46) -> 0 | E35: =SUM(E36:E46) -> 0
A36: 5.1. | B36: Készletértékesítés ellenértéke | E36: =C36+D36 -> 0
A37: 5.2. | B37: Szolgáltatások ellenértéke | E37: =C37+D37 -> 0
A38: 5.3. | B38: Közvetített szolgáltatások értéke | E38: =C38+D38 -> 0
A39: 5.4. | B39: Tulajdonosi bevételek | E39: =C39+D39 -> 0
A40: 5.5. | B40: Ellátási díjak | E40: =C40+D40 -> 0
A41: 5.6. | B41: Kiszámlázott általános forgalmi adó | E41: =C41+D41 -> 0
A42: 5.7. | B42: Általános forgalmi adó visszatérítése | E42: =C42+D42 -> 0
A43: 5.8. | B43: Kamatbevételek | E43: =C43+D43 -> 0
A44: 5.9. | B44: Egyéb pénzügyi műveletek bevételei | E44: =C44+D44 -> 0
A45: 5.10. | B45: Biztosító által fizetett kártérítés | E45: =C45+D45 -> 0
A46: 5.11. | B46: Egyéb működési bevételek | E46: =C46+D46 -> 0
A47: 6. | B47: Felhalmozási bevételek (6.1.+…+6.5.) | C47: =SUM(C48:C52) -> 0 | D47: =SUM(D48:D52) -> 0 | E47: =SUM(E48:E52) -> 0
A48: 6.1. | B48: Immateriális javak értékesítése | E48: =C48+D48 -> 0
A49: 6.2. | B49: Ingatlanok értékesítése | E49: =C49+D49 -> 0
A50: 6.3. | B50: Egyéb tárgyi eszközök értékesítése | E50: =C50+D50 -> 0
A51: 6.4. | B51: Részesedések értékesítése | E51: =C51+D51 -> 0
A52: 6.5. | B52: Részesedések megszűnéséhez kapcsolódó bevételek | E52: =C52+D52 -> 0
A53: 7. | B53: Működési célú átvett pénzeszközök (7.1. + … + 7.3.) | C53: =SUM(C54:C56) -> 0 | D53: =SUM(D54:D56) -> 0 | E53: =SUM(E54:E56) -> 0
A54: 7.1. | B54: Működési célú garancia- és kezességvállalásból megtérülések ÁH-n kívülről | E54: =C54+D54 -> 0
A55: 7.2. | B55: Működési célú visszatérítendő támogatások, kölcsönök visszatér. ÁH-n kívülről | E55: =C55+D55 -> 0
A56: 7.3. | B56: Egyéb működési célú átvett pénzeszköz | E56: =C56+D56 -> 0
A57: 7.4. | B57: 7.3.-ból EU-s támogatás (közvetlen) | E57: =C57+D57 -> 0
A58: 8. | B58: Felhalmozási célú átvett pénzeszközök (8.1.+8.2.+8.3.) | C58: =SUM(C59:C61) -> 0 | D58: =SUM(D59:D61) -> 0 | E58: =SUM(E59:E61) -> 0
A59: 8.1. | B59: Felhalm. célú garancia- és kezességvállalásból megtérülések ÁH-n kívülről | E59: =C59+D59 -> 0
A60: 8.2. | B60: Felhalm. célú visszatérítendő támogatások, kölcsönök visszatér. ÁH-n kívülről | E60: =C60+D60 -> 0
A61: 8.3. | B61: Egyéb felhalmozási célú átvett pénzeszköz | E61: =C61+D61 -> 0
A62: 8.4. | B62: 8.3.-ból EU-s támogatás (közvetlen) | E62: =C62+D62 -> 0
A63: 9. | B63: KÖLTSÉGVETÉSI BEVÉTELEK ÖSSZESEN: (1+…+8) | C63: =+C6+C13+C20+C27+C35+C47+C53+C58 -> 0 | D63: =+D6+D13+D20+D27+D35+D47+D53+D58 -> 0 | E63: =+E6+E13+E20+E27+E35+E47+E53+E58 -> 0
A64: 10. | B64: Hitel-, kölcsönfelvétel államháztartáson kívülről (10.1.+10.3.) | C64: =SUM(C65:C67) -> 0 | D64: =SUM(D65:D67) -> 0 | E64: =SUM(E65:E67) -> 0
A65: 10.1. | B65: Hosszú lejáratú hitelek, kölcsönök felvétele | E65: =C65+D65 -> 0
A66: 10.2. | B66: Likviditási célú hitelek, kölcsönök felvétele pénzügyi vállalkozástól | E66: =C66+D66 -> 0
A67: 10.3. | B67: Rövid lejáratú hitelek, kölcsönök felvétele | E67: =C67+D67 -> 0
A68: 11. | B68: Belföldi értékpapírok bevételei (11.1. +…+ 11.4.) | C68: =SUM(C69:C72) -> 0 | D68: =SUM(D69:D72) -> 0 | E68: =SUM(E69:E72) -> 0
A69: 11.1. | B69: Forgatási célú belföldi értékpapírok beváltása, értékesítése | E69: =C69+D69 -> 0
A70: 11.2. | B70: Forgatási célú belföldi értékpapírok kibocsátása | E70: =C70+D70 -> 0
A71: 11.3. | B71: Befektetési célú belföldi értékpapírok beváltása, értékesítése | E71: =C71+D71 -> 0
A72: 11.4. | B72: Befektetési célú belföldi értékpapírok kibocsátása | E72: =C72+D72 -> 0
A73: 12. | B73: Maradvány igénybevétele (12.1. + 12.2.) | C73: =SUM(C74:C75) -> 0 | D73: =SUM(D74:D75) -> 0 | E73: =SUM(E74:E75) -> 0
A74: 12.1. | B74: Előző év költségvetési maradványának igénybevétele | E74: =C74+D74 -> 0
A75: 12.2. | B75: Előző év vállalkozási maradványának igénybevétele | E75: =C75+D75 -> 0
A76: 13. | B76: Belföldi finanszírozás bevételei (13.1. + … + 13.3.) | C76: =SUM(C77:C79) -> 0 | D76: =SUM(D77:D79) -> 0 | E76: =SUM(E77:E79) -> 0
A77: 13.1. | B77: Államháztartáson belüli megelőlegezések | E77: =C77+D77 -> 0
A78: 13.2. | B78: Államháztartáson belüli megelőlegezések törlesztése | E78: =C78+D78 -> 0
A79: 13.3. | B79: Betétek megszüntetése | E79: =C79+D79 -> 0
A80: 14. | B80: Külföldi finanszírozás bevételei (14.1.+…14.4.) | C80: =SUM(C81:C84) -> 0 | D80: =SUM(D81:D84) -> 0 | E80: =SUM(E81:E84) -> 0
A81: 14.1. | B81: Forgatási célú külföldi értékpapírok beváltása, értékesítése | E81: =C81+D81 -> 0
A82: 14.2. | B82: Befektetési célú külföldi értékpapírok beváltása, értékesítése | E82: =C82+D82 -> 0
A83: 14.3. | B83: Külföldi értékpapírok kibocsátása | E83: =C83+D83 -> 0
A84: 14.4. | B84: Külföldi hitelek, kölcsönök felvétele | E84: =C84+D84 -> 0
A85: 15. | B85: Váltóbevételek | E85: =C85+D85 -> 0
A86: 16. | B86: Adóssághoz nem kapcsolódó származékos ügyletek bevételei | E86: =C86+D86 -> 0
A87: 17. | B87: FINANSZÍROZÁSI BEVÉTELEK ÖSSZESEN: (10. + … +16.) | C87: =+C64+C68+C73+C76+C80+C86+C85 -> 0 | D87: =+D64+D68+D73+D76+D80+D86+D85 -> 0 | E87: =+E64+E68+E73+E76+E80+E86+E85 -> 0
A88: 18. | B88: KÖLTSÉGVETÉSI ÉS FINANSZÍROZÁSI BEVÉTELEK ÖSSZESEN: (9+17) | C88: =+C63+C87 -> 0 | D88: =+D63+D87 -> 0 | E88: =+E63+E87 -> 0
A90: K I A D Á S O K
A91: 2. sz. táblázat | E91: =E2 -> Forintban!
A92: Sor- szám | B92: Kiadási jogcím | C92: =+CONCATENATE(LEFT(ÖSSZEFÜGGÉSEK!A6,4),". évi") -> 2017. évi
C93: Eredeti előirányzat | D93: 1. sz. módosítás (±) | E93: =+CONCATENATE(LEFT(ÖSSZEFÜGGÉSEK!A6,4),".12.31",CHAR(10),"Módosítás utáni") -> 2017.12.31 Módosítás utáni
A94: A | B94: B | C94: C | D94: D | E94: E=C±D
A95: 1. | B95: Működési költségvetés kiadásai (1.1+…+1.5.+1.18.) | C95: =C96+C97+C98+C99+C100+C113 -> 0 | D95: =D96+D97+D98+D99+D100+D113 -> 0 | E95: =E96+E97+E98+E99+E100+E113 -> 0
A96: 1.1. | B96: Személyi juttatások | E96: =C96+D96 -> 0
A97: 1.2. | B97: Munkaadókat terhelő járulékok és szociális hozzájárulási adó | E97: =C97+D97 -> 0
A98: 1.3. | B98: Dologi kiadások | E98: =C98+D98 -> 0
A99: 1.4. | B99: Ellátottak pénzbeli juttatásai | E99: =C99+D99 -> 0
A100: 1.5 | B100: Egyéb működési célú kiadások | E100: =C100+D100 -> 0
A101: 1.6. | B101: - az 1.5-ből: - Előző évi elszámolásból származó befizetések | E101: =C101+D101 -> 0
...

Sheet 1.4.sz.mell.
A1: B E V É T E L E K
A2: 1. sz. táblázat | E2: ='1.3.sz.mell.'!E2 -> Forintban!
A3: Sor- szám | B3: Bevételi jogcím | C3: =+CONCATENATE(LEFT(ÖSSZEFÜGGÉSEK!A6,4),". évi") -> 2017. évi
C4: Eredeti előirányzat | D4: 1. sz. módosítás (±) | E4: =+CONCATENATE(LEFT(ÖSSZEFÜGGÉSEK!A6,4),".12.31",CHAR(10),"Módosítás utáni") -> 2017.12.31 Módosítás utáni
A5: A | B5: B | C5: C | D5: D | E5: E=C±D
A6: 1. | B6: Önkormányzat működési támogatásai (1.1.+…+.1.6.) | C6: =+C7+C8+C9+C10+C11+C12 -> 0 | D6: =+D7+D8+D9+D10+D11+D12 -> 0 | E6: =+E7+E8+E9+E10+E11+E12 -> 0
A7: 1.1. | B7: Helyi önkormányzatok működésének általános támogatása | E7: =C7+D7 -> 0
A8: 1.2. | B8: Önkormányzatok egyes köznevelési feladatainak támogatása | E8: =C8+D8 -> 0
A9: 1.3. | B9: Önkormányzatok szociális és gyermekjóléti feladatainak támogatása | E9: =C9+D9 -> 0
A10: 1.4. | B10: Önkormányzatok kulturális feladatainak támogatása | E10: =C10+D10 -> 0
A11: 1.5. | B11: Működési célú kvi támogatások és kiegészítő támogatások | E11: =C11+D11 -> 0
A12: 1.6. | B12: Elszámolásból származó bevételek | E12: =C12+D12 -> 0
A13: 2. | B13: Működési célú támogatások államháztartáson belülről (2.1.+…+.2.5.) | C13: =+C14+C15+C16+C17+C18 -> 0 | D13: =+D14+D15+D16+D17+D18 -> 0 | E13: =+E14+E15+E16+E17+E18 -> 0
A14: 2.1. | B14: Elvonások és befizetések bevételei | E14: =C14+D14 -> 0
A15: 2.2. | B15: Működési célú garancia- és kezességvállalásból megtérülések | E15: =C15+D15 -> 0
A16: 2.3. | B16: Működési célú visszatérítendő támogatások, kölcsönök visszatérülése | E16: =C16+D16 -> 0
A17: 2.4. | B17: Működési célú visszatérítendő támogatások, kölcsönök igénybevétele | E17: =C17+D17 -> 0
A18: 2.5. | B18: Egyéb működési célú támogatások bevételei | E18: =C18+D18 -> 0
A19: 2.6. | B19: 2.5.-ből EU-s támogatás | E19: =C19+D19 -> 0
A20: 3. | B20: Felhalmozási célú támogatások államháztartáson belülről (3.1.+…+3.5.) | C20: =+C21+C22+C23+C24+C25 -> 0 | D20: =+D21+D22+D23+D24+D25 -> 0 | E20: =+E21+E22+E23+E24+E25 -> 0
A21: 3.1. | B21: Felhalmozási célú önkormányzati támogatások | E21: =C21+D21 -> 0
A22: 3.2. | B22: Felhalmozási célú garancia- és kezességvállalásból megtérülések | E22: =C22+D22 -> 0
A23: 3.3. | B23: Felhalmozási célú visszatérítendő támogatások, kölcsönök visszatérülése | E23: =C23+D23 -> 0
A24: 3.4. | B24: Felhalmozási célú visszatérítendő támogatások, kölcsönök igénybevétele | E24: =C24+D24 -> 0
A25: 3.5. | B25: Egyéb felhalmozási célú támogatások bevételei | E25: =C25+D25 -> 0
A26: 3.6. | B26: 3.5.-ből EU-s támogatás | E26: =C26+D26 -> 0
A27: 4. | B27: Közhatalmi bevételek (4.1.+...+4.7.) | C27: =+C28+C29+C30+C31+C32+C33+C34 -> 0 | D27: =+D28+D29+D30+D31+D32+D33+D34 -> 0 | E27: =+E28+E29+E30+E31+E32+E33+E34 -> 0
A28: 4.1. | B28: Építményadó | D28: =+D29+D30+D31 -> 0 | E28: =C28+D28 -> 0
A29: 4.2. | B29: Idegenforgalmi adó | E29: =C29+D29 -> 0
A30: 4.3. | B30: Iparűzési adó | E30: =C30+D30 -> 0
A31: 4.4. | B31: Talajterhelési díj | E31: =C31+D31 -> 0
A32: 4.5. | B32: Gépjárműadó | E32: =C32+D32 -> 0
A33: 4.6. | B33: Egyéb áruhasználati és szolgáltatási adók | E33: =C33+D33 -> 0
A34: 4.7. | B34: Egyéb közhatalmi bevételek | E34: =C34+D34 -> 0
A35: 5. | B35: Működési bevételek (5.1.+…+ 5.11.) | C35: =SUM(C36:C46) -> 0 | D35: =SUM(D36:D46) -> 0 | E35: =SUM(E36:E46) -> 0
A36: 5.1. | B36: Készletértékesítés ellenértéke | E36: =C36+D36 -> 0
A37: 5.2. | B37: Szolgáltatások ellenértéke | E37: =C37+D37 -> 0
A38: 5.3. | B38: Közvetített szolgáltatások értéke | E38: =C38+D38 -> 0
A39: 5.4. | B39: Tulajdonosi bevételek | E39: =C39+D39 -> 0
A40: 5.5. | B40: Ellátási díjak | E40: =C40+D40 -> 0
A41: 5.6. | B41: Kiszámlázott általános forgalmi adó | E41: =C41+D41 -> 0
A42: 5.7. | B42: Általános forgalmi adó visszatérítése | E42: =C42+D42 -> 0
A43: 5.8. | B43: Kamatbevételek | E43: =C43+D43 -> 0
A44: 5.9. | B44: Egyéb pénzügyi műveletek bevételei | E44: =C44+D44 -> 0
A45: 5.10. | B45: Biztosító által fizetett kártérítés | E45: =C45+D45 -> 0
A46: 5.11. | B46: Egyéb működési bevételek | E46: =C46+D46 -> 0
A47: 6. | B47: Felhalmozási bevételek (6.1.+…+6.5.) | C47: =SUM(C48:C52) -> 0 | D47: =SUM(D48:D52) -> 0 | E47: =SUM(E48:E52) -> 0
A48: 6.1. | B48: Immateriális javak értékesítése | E48: =C48+D48 -> 0
A49: 6.2. | B49: Ingatlanok értékesítése | E49: =C49+D49 -> 0
A50: 6.3. | B50: Egyéb tárgyi eszközök értékesítése | E50: =C50+D50 -> 0
A51: 6.4. | B51: Részesedések értékesítése | E51: =C51+D51 -> 0
A52: 6.5. | B52: Részesedések megszűnéséhez kapcsolódó bevételek | E52: =C52+D52 -> 0
A53: 7. | B53: Működési célú átvett pénzeszközök (7.1. + … + 7.3.) | C53: =SUM(C54:C56) -> 0 | D53: =SUM(D54:D56) -> 0 | E53: =SUM(E54:E56) -> 0
A54: 7.1. | B54: Működési célú garancia- és kezességvállalásból megtérülések ÁH-n kívülről | E54: =C54+D54 -> 0
A55: 7.2. | B55: Működési célú visszatérítendő támogatások, kölcsönök visszatér. ÁH-n kívülről | E55: =C55+D55 -> 0
A56: 7.3. | B56: Egyéb működési célú átvett pénzeszköz | E56: =C56+D56 -> 0
A57: 7.4. | B57: 7.3.-ból EU-s támogatás (közvetlen) | E57: =C57+D57 -> 0
A58: 8. | B58: Felhalmozási célú átvett pénzeszközök (8.1.+8.2.+8.3.) | C58: =SUM(C59:C61) -> 0 | D58: =SUM(D59:D61) -> 0 | E58: =SUM(E59:E61) -> 0
A59: 8.1. | B59: Felhalm. célú garancia- és kezességvállalásból megtérülések ÁH-n kívülről | E59: =C59+D59 -> 0
A60: 8.2. | B60: Felhalm. célú visszatérítendő támogatások, kölcsönök visszatér. ÁH-n kívülről | E60: =C60+D60 -> 0
A61: 8.3. | B61: Egyéb felhalmozási célú átvett pénzeszköz | E61: =C61+D61 -> 0
A62: 8.4. | B62: 8.3.-ból EU-s támogatás (közvetlen) | E62: =C62+D62 -> 0
A63: 9. | B63: KÖLTSÉGVETÉSI BEVÉTELEK ÖSSZESEN: (1+…+8) | C63: =+C6+C13+C20+C27+C35+C47+C53+C58 -> 0 | D63: =+D6+D13+D20+D27+D35+D47+D53+D58 -> 0 | E63: =+E6+E13+E20+E27+E35+E47+E53+E58 -> 0
A64: 10. | B64: Hitel-, kölcsönfelvétel államháztartáson kívülről (10.1.+10.3.) | C64: =SUM(C65:C67) -> 0 | D64: =SUM(D65:D67) -> 0 | E64: =SUM(E65:E67) -> 0
A65: 10.1. | B65: Hosszú lejáratú hitelek, kölcsönök felvétele | E65: =C65+D65 -> 0
A66: 10.2. | B66: Likviditási célú hitelek, kölcsönök felvétele pénzügyi vállalkozástól | E66: =C66+D66 -> 0
A67: 10.3. | B67: Rövid lejáratú hitelek, kölcsönök felvétele | E67: =C67+D67 -> 0
A68: 11. | B68: Belföldi értékpapírok bevételei (11.1. +…+ 11.4.) | C68: =SUM(C69:C72) -> 0 | D68: =SUM(D69:D72) -> 0 | E68: =SUM(E69:E72) -> 0
A69: 11.1. | B69: Forgatási célú belföldi értékpapírok beváltása, értékesítése | E69: =C69+D69 -> 0
A70: 11.2. | B70: Forgatási célú belföldi értékpapírok kibocsátása | E70: =C70+D70 -> 0
A71: 11.3. | B71: Befektetési célú belföldi értékpapírok beváltása, értékesítése | E71: =C71+D71 -> 0
A72: 11.4. | B72: Befektetési célú belföldi értékpapírok kibocsátása | E72: =C72+D72 -> 0
A73: 12. | B73: Maradvány igénybevétele (12.1. + 12.2.) | C73: =SUM(C74:C75) -> 0 | D73: =SUM(D74:D75) -> 0 | E73: =SUM(E74:E75) -> 0
A74: 12.1. | B74: Előző év költségvetési maradványának igénybevétele | E74: =C74+D74 -> 0
A75: 12.2. | B75: Előző év vállalkozási maradványának igénybevétele | E75: =C75+D75 -> 0
A76: 13. | B76: Belföldi finanszírozás bevételei (13.1. + … + 13.3.) | C76: =SUM(C77:C79) -> 0 | D76: =SUM(D77:D79) -> 0 | E76: =SUM(E77:E79) -> 0
A77: 13.1. | B77: Államháztartáson belüli megelőlegezések | E77: =C77+D77 -> 0
A78: 13.2. | B78: Államháztartáson belüli megelőlegezések törlesztése | E78: =C78+D78 -> 0
A79: 13.3. | B79: Betétek megszüntetése | E79: =C79+D79 -> 0
A80: 14. | B80: Külföldi finanszírozás bevételei (14.1.+…14.4.) | C80: =SUM(C81:C84) -> 0 | D80: =SUM(D81:D84) -> 0 | E80: =SUM(E81:E84) -> 0
A81: 14.1. | B81: Forgatási célú külföldi értékpapírok beváltása, értékesítése | E81: =C81+D81 -> 0
A82: 14.2. | B82: Befektetési célú külföldi értékpapírok beváltása, értékesítése | E82: =C82+D82 -> 0
A83: 14.3. | B83: Külföldi értékpapírok kibocsátása | E83: =C83+D83 -> 0
A84: 14.4. | B84: Külföldi hitelek, kölcsönök felvétele | E84: =C84+D84 -> 0
A85: 15. | B85: Váltóbevételek | E85: =C85+D85 -> 0
A86: 16. | B86: Adóssághoz nem kapcsolódó származékos ügyletek bevételei | E86: =C86+D86 -> 0
A87: 17. | B87: FINANSZÍROZÁSI BEVÉTELEK ÖSSZESEN: (10. + … +16.) | C87: =+C64+C68+C73+C76+C80+C86+C85 -> 0 | D87: =+D64+D68+D73+D76+D80+D86+D85 -> 0 | E87: =+E64+E68+E73+E76+E80+E86+E85 -> 0
A88: 18. | B88: KÖLTSÉGVETÉSI ÉS FINANSZÍROZÁSI BEVÉTELEK ÖSSZESEN: (9+17) | C88: =+C63+C87 -> 0 | D88: =+D63+D87 -> 0 | E88: =+E63+E87 -> 0
A90: K I A D Á S O K
A91: 2. sz. táblázat | E91: =E2 -> Forintban!
A92: Sor- szám | B92: Kiadási jogcím | C92: =+CONCATENATE(LEFT(ÖSSZEFÜGGÉSEK!A6,4),". évi") -> 2017. évi
C93: Eredeti előirányzat | D93: 1. sz. módosítás (±) | E93: =+CONCATENATE(LEFT(ÖSSZEFÜGGÉSEK!A6,4),". 12.31",CHAR(10),"Módosítás utáni") -> 2017. 12.31 Módosítás utáni
A94: A | B94: B | C94: C | D94: D | E94: E=C±D
A95: 1. | B95: Működési költségvetés kiadásai (1.1+…+1.5.+1.18.) | C95: =C96+C97+C98+C99+C100+C113 -> 0 | D95: =D96+D97+D98+D99+D100+D113 -> 0 | E95: =E96+E97+E98+E99+E100+E113 -> 0
A96: 1.1. | B96: Személyi juttatások | E96: =C96+D96 -> 0
A97: 1.2. | B97: Munkaadókat terhelő járulékok és szociális hozzájárulási adó | E97: =C97+D97 -> 0
A98: 1.3. | B98: Dologi kiadások | E98: =C98+D98 -> 0
A99: 1.4. | B99: Ellátottak pénzbeli juttatásai | E99: =C99+D99 -> 0
A100: 1.5 | B100: Egyéb működési célú kiadások | E100: =C100+D100 -> 0
A101: 1.6. | B101: - az 1.5-ből: - Előző évi elszámolásból származó befizetések | E101: =C101+D101 -> 0
...

Sheet 2.1.sz.mell  
B1: I. Működési célú bevételek és kiadások mérlege (Önkormányzati szinten) | J1: 2.1. melléklet
I2: ='1.4.sz.mell.'!E2 -> Forintban!
A3: Sor- szám | B3: Bevételek | F3: Kiadások
B4: Megnevezés | C4: =+CONCATENATE('1.1.sz.mell.'!C3," eredeti előirányzat") -> 2017. évi eredeti előirányzat | D4: =+CONCATENATE('1.1.sz.mell.'!C3," 1. sz. módosítás (±)") -> 2017. évi 1. sz. módosítás (±) | E4: =+CONCATENATE(LEFT('1.1.sz.mell.'!C3,4),".12.31. Módisítás után" ) -> 2017.12.31. Módisítás után | F4: Megnevezés | G4: =+C4 -> 2017. évi eredeti előirányzat | H4: =+D4 -> 2017. évi 1. sz. módosítás (±) | I4: =+E4 -> 2017.12.31. Módisítás után
A5: A | B5: B | C5: C | D5: D | E5: E=C±D | F5: F | G5: G | H5: H | I5: I=G±H
A6: 1. | B6: Önkormányzatok működési támogatásai | C6: 92207137 | D6: 11814854 | E6: =C6+D6 -> 104021991 | F6: Személyi juttatások | G6: 113513122 | H6: 6858949 | I6: =G6+H6 -> 120372071
A7: 2. | B7: Működési célú támogatások államháztartáson belülről | C7: 16718160 | D7: 2166783 | E7: =C7+D7 -> 18884943 | F7: Munkaadókat terhelő járulékok és szociális hozzájárulási adó | G7: 23477193 | H7: 2969301 | I7: =G7+H7 -> 26446494
A8: 3. | B8: 2.-ból EU-s támogatás | E8: =C8+D8 -> 0 | F8: Dologi kiadások | G8: 121575270 | H8: -13947603 | I8: =G8+H8 -> 107627667
A9: 4. | B9: Közhatalmi bevételek | C9: 113960000 | D9: 61315260 | E9: =C9+D9 -> 175275260 | F9: Ellátottak pénzbeli juttatásai | G9: 10680000 | H9: -1976052 | I9: =G9+H9 -> 8703948
A10: 5. | B10: Működési bevételek | C10: 26998078 | D10: 16386414 | E10: =C10+D10 -> 43384492 | F10: Egyéb működési célú kiadások | G10: 33560000 | H10: 2303548 | I10: =G10+H10 -> 35863548
A11: 6. | B11: Működési célú átvett pénzeszközök | D11: 333500 | E11: =C11+D11 -> 333500 | F11: Tartalékok | G11: 2500000 | H11: -2500000 | I11: =G11+H11 -> 0
A12: 7. | B12: 6.-ból EU-s támogatás (közvetlen) | E12: =C12+D12 -> 0 | I12: =G12+H12 -> 0
A13: 8. | E13: =C13+D13 -> 0 | I13: =G13+H13 -> 0
A14: 9. | E14: =C14+D14 -> 0 | I14: =G14+H14 -> 0
A15: 10. | E15: =C15+D15 -> 0 | I15: =G15+H15 -> 0
A16: 11. | E16: =C16+D16 -> 0 | I16: =G16+H16 -> 0
A17: 12. | I17: =G17+H17 -> 0
A18: 13. | B18: Költségvetési bevételek összesen (1.+2.+4.+5.+6.+8.+…+12.) | C18: =SUM(C6:C17) -> 249883375 | D18: =SUM(D6:D17) -> 92016811 | E18: =SUM(E6:E17) -> 341900186 | F18: Költségvetési kiadások összesen (1.+...+12.) | G18: =SUM(G6:G17) -> 305305585 | H18: =SUM(H6:H17) -> -6291857 | I18: =SUM(I6:I17) -> 299013728
A19: 14. | B19: Hiány belső finanszírozásának bevételei (15.+…+18. ) | C19: =+C20+C21+C22+C23 -> 6981293 | D19: =+D20+D21+D22+D23 -> 2620749 | E19: =+E20+E21+E22+E23 -> 9602042 | F19: Értékpapír vásárlása, visszavásárlása | I19: =G19+H19 -> 0
A20: 15. | B20: Költségvetési maradvány igénybevétele | C20: 6981293 | D20: 2620749 | E20: =C20+D20 -> 9602042 | F20: Likviditási célú hitelek törlesztése | I20: =G20+H20 -> 0
A21: 16. | B21: Vállalkozási maradvány igénybevétele | E21: =C21+D21 -> 0 | F21: Rövid lejáratú hitelek törlesztése | I21: =G21+H21 -> 0
A22: 17. | B22: Betét visszavonásából származó bevétel | E22: =C22+D22 -> 0 | F22: Hosszú lejáratú hitelek törlesztése | I22: =G22+H22 -> 0
A23: 18. | B23: Egyéb belső finanszírozási bevételek | E23: =C23+D23 -> 0 | F23: Kölcsön törlesztése | I23: =G23+H23 -> 0
A24: 19. | B24: Hiány külső finanszírozásának bevételei (20.+…+21.) | C24: =+C25+C26 -> 46694266 | D24: =+D25+D26 -> 36885776 | E24: =+E25+E26 -> 83580042 | F24: Forgatási célú belföldi, külföldi értékpapírok vásárlása | H24: 75000000 | I24: =G24+H24 -> 75000000
A25: 20. | B25: Likviditási célú hitelek, kölcsönök felvétele | E25: =C25+D25 -> 0 | F25: Pénzeszközök lekötött betétként elhelyezése | I25: =G25+H25 -> 0
A26: 21. | B26: Értékpapírok bevételei | C26: 46694266 | D26: 36885776 | E26: =C26+D26 -> 83580042 | F26: Adóssághoz nem kapcsolódó származékos ügyletek | I26: =G26+H26 -> 0
A27: 22. | B27: Váltóbevételek | E27: =C27+D27 -> 0 | F27: Váltókiadások | I27: =G27+H27 -> 0
A28: 23. | B28: Adóssághoz nem kapcsolódó származékos ügyletek bevételei | E28: =C28+D28 -> 0 | F28: Államháztartáson belüli megelőlegezés visszafizetése | H28: 3277299 | I28: =G28+H28 -> 3277299
A29: 24. | B29: Működési célú finanszírozási bevételek összesen (14.+19.+22.+23.) | C29: =+C19+C24+C27+C28 -> 53675559 | D29: =+D19+D24+D27+D28 -> 39506525 | E29: =+E19+E24+E27+E28 -> 93182084 | F29: Működési célú finanszírozási kiadások összesen (14.+...+23.) | G29: =SUM(G19:G28) -> 0 | H29: =SUM(H19:H28) -> 78277299 | I29: =SUM(I19:I28) -> 78277299
A30: 25. | B30: BEVÉTEL ÖSSZESEN (13.+24.) | C30: =+C18+C29 -> 303558934 | D30: =+D18+D29 -> 131523336 | E30: =+E18+E29 -> 435082270 | F30: KIADÁSOK ÖSSZESEN (13.+24.) | G30: =+G18+G29 -> 305305585 | H30: =+H18+H29 -> 71985442 | I30: =+I18+I29 -> 377291027
A31: 26. | B31: Költségvetési hiány: | C31: =IF(C18-G18<0,G18-C18,"-") -> 55422210 | D31: =IF(D18-H18<0,H18-D18,"-") -> - | E31: =IF(E18-I18<0,I18-E18,"-") -> - | F31: Költségvetési többlet: | G31: =IF(C18-G18>0,C18-G18,"-") -> - | H31: =IF(D18-H18>0,D18-H18,"-") -> 98308668 | I31: =IF(E18-I18>0,E18-I18,"-") -> 42886458
A32: 27. | B32: Bruttó hiány: | C32: =IF(C30-G30<0,G30-C30,"-") -> 1746651 | D32: =IF(D30-H30<0,H30-D30,"-") -> - | E32: =IF(E30-I30<0,I30-E30,"-") -> - | F32: Bruttó többlet: | G32: =IF(C30-G30>0,C30-G30,"-") -> - | H32: =IF(D30-H30>0,D30-H30,"-") -> 59537894 | I32: =IF(E30-I30>0,E30-I30,"-") -> 57791243

Sheet 2.2.sz.mell  
B1: II. Felhalmozási célú bevételek és kiadások mérlege (Önkormányzati szinten) | J1: 2.2. melléklet
I2: ='2.1.sz.mell '!I2 -> Forintban!
A3: Sor- szám | B3: Bevételek | F3: Kiadások
B4: Megnevezés | C4: =+CONCATENATE('1.1.sz.mell.'!C3," eredeti előirányzat") -> 2017. évi eredeti előirányzat | D4: =+CONCATENATE('1.1.sz.mell.'!C3," 1. sz. módosítás (±)") -> 2017. évi 1. sz. módosítás (±) | E4: =+CONCATENATE(LEFT('1.1.sz.mell.'!C3,4),". 12.31. Módisítás után" ) -> 2017. 12.31. Módisítás után | F4: Megnevezés | G4: =+C4 -> 2017. évi eredeti előirányzat | H4: =+D4 -> 2017. évi 1. sz. módosítás (±) | I4: =+E4 -> 2017. 12.31. Módisítás után
A5: A | B5: B | C5: C | D5: D | E5: E=C±D | F5: F | G5: G | H5: H | I5: I=G±H
A6: 1. | B6: Felhalmozási célú támogatások államháztartáson belülről | D6: 160348571 | E6: =C6+D6 -> 160348571 | F6: Beruházások | G6: 6983349 | H6: 175357067 | I6: =G6+H6 -> 182340416
A7: 2. | B7: 1.-ből EU-s támogatás | D7: 160348571 | E7: =C7+D7 -> 160348571 | F7: 1.-ből EU-s forrásból megvalósuló beruházás | H7: 160348571 | I7: =G7+H7 -> 160348571
A8: 3. | B8: Felhalmozási bevételek | C8: 10000000 | D8: -1595350 | E8: =C8+D8 -> 8404650 | F8: Felújítások | G8: 1270000 | H8: 40248298 | I8: =G8+H8 -> 41518298
A9: 4. | B9: Felhalmozási célú átvett pénzeszközök átvétele | E9: =C9+D9 -> 0 | F9: 3.-ból EU-s forrásból megvalósuló felújítás | I9: =G9+H9 -> 0
A10: 5. | B10: 4.-ből EU-s támogatás (közvetlen) | E10: =C10+D10 -> 0 | F10: Egyéb felhalmozási kiadások | H10: 3600000 | I10: =G10+H10 -> 3600000
A11: 6. | B11: Egyéb felhalmozási célú bevételek | E11: =C11+D11 -> 0 | I11: =G11+H11 -> 0
A12: 7. | B12: Egyéb felhalmozási célú átvett pénzeszközök | D12: 914250 | E12: =C12+D12 -> 914250 | I12: =G12+H12 -> 0
A13: 8. | E13: =C13+D13 -> 0 | I13: =G13+H13 -> 0
A14: 9. | E14: =C14+D14 -> 0 | I14: =G14+H14 -> 0
A15: 10. | E15: =C15+D15 -> 0 | I15: =G15+H15 -> 0
A16: 11. | E16: =C16+D16 -> 0 | F16: Tartalékok | I16: =G16+H16 -> 0
A17: 12. | B17: Költségvetési bevételek összesen: (1.+3.+4.+6.+…+11.) | C17: =+C6+C8+C9+C11+C12+C13+C14+C15+C16 -> 10000000 | D17: =+D6+D8+D9+D11+D12+D13+D14+D15+D16 -> 159667471 | E17: =+E6+E8+E9+E11+E12+E13+E14+E15+E16 -> 169667471 | F17: Költségvetési kiadások összesen: (1.+3.+5.+...+11.) | G17: =+G6+G8+G10+G11+G12+G13+G14+G15+G16 -> 8253349 | H17: =+H6+H8+H10+H11+H12+H13+H14+H15+H16 -> 219205365 | I17: =+I6+I8+I10+I11+I12+I13+I14+I15+I16 -> 227458714
A18: 13. | B18: Hiány belső finanszírozás bevételei ( 14+…+18) | C18: =+C19+C20+C21+C22+C23 -> 0 | D18: =+D19+D20+D21+D22+D23 -> 0 | E18: =+E19+E20+E21+E22+E23 -> 0 | F18: Értékpapír vásárlása, visszavásárlása | I18: =G18+H18 -> 0
A19: 14. | B19: Költségvetési maradvány igénybevétele | E19: =C19+D19 -> 0 | F19: Hitelek törlesztése | I19: =G19+H19 -> 0
A20: 15. | B20: Vállalkozási maradvány igénybevétele | E20: =C20+D20 -> 0 | F20: Rövid lejáratú hitelek törlesztése | I20: =G20+H20 -> 0
A21: 16. | B21: Betét visszavonásából származó bevétel | E21: =C21+D21 -> 0 | F21: Hosszú lejáratú hitelek törlesztése | I21: =G21+H21 -> 0
A22: 17. | B22: Értékpapír értékesítése | E22: =C22+D22 -> 0 | F22: Kölcsön törlesztése | I22: =G22+H22 -> 0
A23: 18. | B23: Egyéb belső finanszírozási bevételek | E23: =C23+D23 -> 0 | F23: Befektetési célú belföldi, külföldi értékpapírok vásárlása | I23: =G23+H23 -> 0
A24: 19. | B24: Hiány külső finanszírozásának bevételei (20+…+24 ) | C24: =+C25+C26+C27+C28+C29 -> 0 | D24: =+D25+D26+D27+D28+D29 -> 0 | E24: =+E25+E26+E27+E28+E29 -> 0 | F24: Betét elhelyezése | I24: =G24+H24 -> 0
A25: 20. | B25: Hosszú lejáratú hitelek, kölcsönök felvétele | E25: =C25+D25 -> 0 | F25: Pénzügyi lízing kiadásai | I25: =G25+H25 -> 0
A26: 21. | B26: Likviditási célú hitelek, kölcsönök felvétele | E26: =C26+D26 -> 0 | I26: =G26+H26 -> 0
A27: 22. | B27: Rövid lejáratú hitelek, kölcsönök felvétele | E27: =C27+D27 -> 0 | I27: =G27+H27 -> 0
A28: 23. | B28: Értékpapírok kibocsátása | E28: =C28+D28 -> 0 | I28: =G28+H28 -> 0
A29: 24. | B29: Egyéb külső finanszírozási bevételek | E29: =C29+D29 -> 0 | I29: =G29+H29 -> 0
A30: 25. | B30: Felhalmozási célú finanszírozási bevételek összesen (13.+19.) | C30: =+C18+C24 -> 0 | D30: =+D18+D24 -> 0 | E30: =+E18+E24 -> 0 | F30: Felhalmozási célú finanszírozási kiadások összesen (13.+...+24.) | G30: =SUM(G18:G29) -> 0 | H30: =SUM(H18:H29) -> 0 | I30: =SUM(I18:I29) -> 0
A31: 26. | B31: BEVÉTEL ÖSSZESEN (12+25) | C31: =+C17+C30 -> 10000000 | D31: =+D17+D30 -> 159667471 | E31: =+E17+E30 -> 169667471 | F31: KIADÁSOK ÖSSZESEN (12+25) | G31: =+G17+G30 -> 8253349 | H31: =+H17+H30 -> 219205365 | I31: =+I17+I30 -> 227458714
A32: 27. | B32: Költségvetési hiány: | C32: =IF(C17-G17<0,G17-C17,"-") -> - | D32: =IF(D17-H17<0,H17-D17,"-") -> 59537894 | E32: =IF(E17-I17<0,I17-E17,"-") -> 57791243 | F32: Költségvetési többlet: | G32: =IF(C17-G17>0,C17-G17,"-") -> 1746651 | H32: =IF(D17-H17>0,D17-H17,"-") -> - | I32: =IF(E17-I17>0,E17-I17,"-") -> -
A33: 28. | B33: Bruttó hiány: | C33: =IF(C31-G31<0,G31-C31,"-") -> - | D33: =IF(D31-H31<0,H31-D31,"-") -> 59537894 | E33: =IF(E31-I31<0,I31-E31,"-") -> 57791243 | F33: Bruttó többlet: | G33: =IF(C31-G31>0,C31-G31,"-") -> 1746651 | H33: =IF(D31-H31>0,D31-H31,"-") -> - | I33: =IF(E31-I31>0,E31-I31,"-") -> -

Sheet ELLENŐRZÉS-1.sz.2.a.sz.2.b.sz.
A1: Költségvetés módosítás űrlapjainak összefüggései: | E1: ELTÉRÉS
A4: =+ÖSSZEFÜGGÉSEK!A6 -> 2017. évi eredeti előirányzat BEVÉTELEK
A6: 1.1. sz. melléklet Bevételek táblázat C. oszlop 9 sora = | B6: =+'1.1.sz.mell.'!C63 -> 259883375 | C6: 2.1. számú melléklet C. oszlop 13. sor + 2.2. számú melléklet C. oszlop 12. sor | D6: =+'2.1.sz.mell '!C18+'2.2.sz.mell '!C17 -> 259883375 | E6: =+B6-D6 -> 0
A7: 1.1. sz. melléklet Bevételek táblázat C. oszlop 17 sora = | B7: =+'1.1.sz.mell.'!C87 -> 53675559 | C7: 2.1. számú melléklet C. oszlop 24. sor + 2.2. számú melléklet C. oszlop 25. sor | D7: =+'2.1.sz.mell '!C29+'2.2.sz.mell '!C30 -> 53675559 | E7: =+B7-D7 -> 0
A8: 1.1. sz. melléklet Bevételek táblázat C. oszlop 18 sora = | B8: =+'1.1.sz.mell.'!C88 -> 313558934 | C8: 2.1. számú melléklet C. oszlop 25. sor + 2.2. számú melléklet C. oszlop 26. sor | D8: =+'2.1.sz.mell '!C30+'2.2.sz.mell '!C31 -> 313558934 | E8: =+B8-D8 -> 0
A10: =+ÖSSZEFÜGGÉSEK!A13 -> 2017. évi előirányzat módosítások BEVÉTELEK
A12: 1.1. sz. melléklet Bevételek táblázat D. oszlop 9 sora = | B12: =+'1.1.sz.mell.'!D63 -> 251684282 | C12: 2.1. számú melléklet D. oszlop 13. sor + 2.2. számú melléklet D. oszlop 12. sor | D12: =+'2.1.sz.mell '!D18+'2.2.sz.mell '!D17 -> 251684282 | E12: =+B12-D12 -> 0
A13: 1.1. sz. melléklet Bevételek táblázat D. oszlop 17 sora = | B13: =+'1.1.sz.mell.'!D87 -> 39506525 | C13: 2.1. számú melléklet D. oszlop 24. sor + 2.2. számú melléklet D. oszlop 25. sor | D13: =+'2.1.sz.mell '!D29+'2.2.sz.mell '!D30 -> 39506525 | E13: =+B13-D13 -> 0
A14: 1.1. sz. melléklet Bevételek táblázat D. oszlop 18 sora = | B14: =+'1.1.sz.mell.'!D88 -> 291190807 | C14: 2.1. számú melléklet D. oszlop 25. sor + 2.2. számú melléklet D. oszlop 26. sor | D14: =+'2.1.sz.mell '!D30+'2.2.sz.mell '!D31 -> 291190807 | E14: =+B14-D14 -> 0
A16: =+ÖSSZEFÜGGÉSEK!A19 -> 2017. módosítás utáni módosított előrirányzatok BEVÉTELEK
A18: 1.1. sz. melléklet Bevételek táblázat E. oszlop 9 sora = | B18: =+'1.1.sz.mell.'!E63 -> 511567657 | C18: 2.1. számú melléklet E. oszlop 13. sor + 2.2. számú melléklet E. oszlop 12. sor | D18: =+'2.1.sz.mell '!E18+'2.2.sz.mell '!E17 -> 511567657 | E18: =+B18-D18 -> 0
A19: 1.1. sz. melléklet Bevételek táblázat E. oszlop 17 sora = | B19: =+'1.1.sz.mell.'!E87 -> 93182084 | C19: 2.1. számú melléklet E. oszlop 24. sor + 2.2. számú melléklet E. oszlop 25. sor | D19: =+'2.1.sz.mell '!E29+'2.2.sz.mell '!E30 -> 93182084 | E19: =+B19-D19 -> 0
A20: 1.1. sz. melléklet Bevételek táblázat E. oszlop 18 sora = | B20: =+'1.1.sz.mell.'!E88 -> 604749741 | C20: 2.1. számú melléklet E. oszlop 25. sor + 2.2. számú melléklet E. oszlop 26. sor | D20: =+'2.1.sz.mell '!E30+'2.2.sz.mell '!E31 -> 604749741 | E20: =+B20-D20 -> 0
A22: =+ÖSSZEFÜGGÉSEK!A25 -> 2017. évi eredeti előirányzat KIADÁSOK
A24: 1.1. sz. melléklet Kiadások táblázat C. oszlop 3 sora = | B24: =+'1.1.sz.mell.'!C130 -> 313558934 | C24: 2.1. számú melléklet G. oszlop 13. sor + 2.2. számú melléklet G. oszlop 12. sor | D24: =+'2.1.sz.mell '!G18+'2.2.sz.mell '!G17 -> 313558934 | E24: =+B24-D24 -> 0
A25: 1.1. sz. melléklet Kiadások táblázat C. oszlop 10 sora = | B25: =+'1.1.sz.mell.'!C155 -> 0 | C25: 2.1. számú melléklet G. oszlop 24. sor + 2.2. számú melléklet G. oszlop 25. sor | D25: =+'2.1.sz.mell '!G29+'2.2.sz.mell '!G30 -> 0 | E25: =+B25-D25 -> 0
A26: 1.1. sz. melléklet Kiadások táblázat C. oszlop 11 sora = | B26: =+'1.1.sz.mell.'!C156 -> 313558934 | C26: 2.1. számú melléklet G. oszlop 25. sor + 2.2. számú melléklet G. oszlop 26. sor | D26: =+'2.1.sz.mell '!G30+'2.2.sz.mell '!G31 -> 313558934 | E26: =+B26-D26 -> 0
A28: =+ÖSSZEFÜGGÉSEK!A31 -> 2017. évi előirányzat módosítások KIADÁSOK
A30: 1.1. sz. melléklet Kiadások táblázat D. oszlop 3 sora = | B30: =+'1.1.sz.mell.'!D130 -> 212913508 | C30: 2.1. számú melléklet H. oszlop 13. sor + 2.2. számú melléklet H. oszlop 12. sor | D30: =+'2.1.sz.mell '!H18+'2.2.sz.mell '!H17 -> 212913508 | E30: =+B30-D30 -> 0
A31: 1.1. sz. melléklet Kiadások táblázat D. oszlop 10 sora = | B31: =+'1.1.sz.mell.'!D155 -> 78277299 | C31: 2.1. számú melléklet H. oszlop 24. sor + 2.2. számú melléklet H. oszlop 25. sor | D31: =+'2.1.sz.mell '!H29+'2.2.sz.mell '!H30 -> 78277299 | E31: =+B31-D31 -> 0
A32: 1.1. sz. melléklet Kiadások táblázat D. oszlop 11 sora = | B32: =+'1.1.sz.mell.'!D156 -> 291190807 | C32: 2.1. számú melléklet H. oszlop 25. sor + 2.2. számú melléklet H. oszlop 26. sor | D32: =+'2.1.sz.mell '!H30+'2.2.sz.mell '!H31 -> 291190807 | E32: =+B32-D32 -> 0
A34: =+ÖSSZEFÜGGÉSEK!A37 -> 2017. módosítás utáni módosított előirányzatok KIADÁSOK
A36: 1.1. sz. melléklet Kiadások táblázat E. oszlop 3 sora = | B36: =+'1.1.sz.mell.'!E130 -> 526472442 | C36: 2.1. számú melléklet I. oszlop 13. sor + 2.2. számú melléklet I. oszlop 12. sor | D36: =+'2.1.sz.mell '!I18+'2.2.sz.mell '!I17 -> 526472442 | E36: =+B36-D36 -> 0
A37: 1.1. sz. melléklet Kiadások táblázat E. oszlop 10 sora = | B37: =+'1.1.sz.mell.'!E155 -> 78277299 | C37: 2.1. számú melléklet I. oszlop 24. sor + 2.2. számú melléklet I. oszlop 25. sor | D37: =+'2.1.sz.mell '!I29+'2.2.sz.mell '!I30 -> 78277299 | E37: =+B37-D37 -> 0
A38: 1.1. sz. melléklet Kiadások táblázat E. oszlop 11 sora = | B38: =+'1.1.sz.mell.'!E156 -> 604749741 | C38: 2.1. számú melléklet I. oszlop 25. sor + 2.2. számú melléklet I. oszlop 26. sor | D38: =+'2.1.sz.mell '!I30+'2.2.sz.mell '!I31 -> 604749741 | E38: =+B38-D38 -> 0

Sheet 3.sz.mell.
A1: Beruházási (felhalmozási) kiadások előirányzata beruházásonként
G2: ='2.2.sz.mell '!I2 -> Forintban!
A3: Beruházás megnevezése | B3: Teljes költség | C3: Kivitelezés kezdési és befejezési éve | D3: =+CONCATENATE("Felhasználás ",LEFT(ÖSSZEFÜGGÉSEK!A6,4)-1,". XII. 31-ig") -> Felhasználás 2016. XII. 31-ig | E3: =+CONCATENATE(LEFT(ÖSSZEFÜGGÉSEK!A6,4),". évi",CHAR(10),"eredeti előirányzat") -> 2017. évi eredeti előirányzat | F3: =+CONCATENATE("1. sz. módosítás",CHAR(10),LEFT(ÖSSZEFÜGGÉSEK!A6,4),". (±)") -> 1. sz. módosítás 2017. (±) | G3: =+CONCATENATE("Módosítás utáni",CHAR(10),LEFT(ÖSSZEFÜGGÉSEK!A6,4),".12.31.") -> Módosítás utáni 2017.12.31.
A4: A | B4: B | C4: C | D4: D | E4: E | F4: F | G4: G=(D+F)
A5: Térfigyelő kamerarendszer beüzemelése | B5: 3665000 | C5: 2014-2017 | D5: 2636300 | E5: 1028700 | F5: -1028700 | G5: 0
A6: Polgármesteri Hivatal udvar térkő lerakás | B6: 2286000 | C6: 2017 | E6: 2286000 | F6: 152140.3 | G6: 2438140.3
A7: PH udvarra garázs építés | B7: 508000 | C7: 2017 | E7: 508000 | F7: -508000
A8: Egyéb eszköz beszerzése, pótlása | B8: 658749 | C8: 2017 | E8: 658749 | F8: 1335092.6 | G8: 1993841.6
A9: PH informatikai eszköz beszerzése, pótlása | B9: 635000 | C9: 2017 | E9: 635000 | F9: -334518 | G9: 300482
A10: PH egyéb tárgyi eszköz beszerzése, pótlása | B10: 635000 | C10: 2017 | E10: 635000 | F10: -604666 | G10: 30334
A11: ÁMK egyéb tárgyi eszközök beszerzése, pótlása | B11: 1231900 | C11: 2017 | E11: 1231900 | F11: -251946.17 | G11: 979953.83
A12: ÁMK informatikai tárgyi eszközök beszerzése, pótlása | B12: 142036.8 | C12: 2017 | F12: 142036.8 | G12: 142036.8
A13: ÖNK immateriális javak beszerzése, létesítése | B13: 1016000 | C13: 2017 | E13: 0 | F13: 1016000 | G13: 1016000
A14: ÖNK ingatlanok beszerzése, létesítése | B14: 8218180 | C14: 2017 | F14: 14958180 | G14: 14958180
A15: Óvoda felújítás - TOP | B15: 173524821 | C15: 2017-2018 | E15: 0 | F15: 160348571 | G15: 160348571
A16: ÖNK informatikai eszközök beszerzése, létesítése | B16: 132876.29 | C16: 2017 | F16: 132876.29 | G16: 132876.29
G18: 0
G19: 0
G20: 0
G21: 0
G22: 0
A23: ÖSSZESEN: | B23: 1.9265356e+08 | D23: 2636300 | E23: 6983349 | F23: 12078496 | G23: =SUM(G5:G22) -> 1.8234042e+08

Sheet 4.sz.mell.
A1: Felújítási kiadások előirányzata felújításonként
G2: ='3.sz.mell.'!G2 -> Forintban!
A3: Felújítás megnevezése | B3: Teljes költség | C3: Kivitelezés kezdési és befejezési éve | D3: =+'3.sz.mell.'!D3 -> Felhasználás 2016. XII. 31-ig | E3: =+CONCATENATE(LEFT(ÖSSZEFÜGGÉSEK!A6,4),". évi",CHAR(10),"eredeti előirányzat") -> 2017. évi eredeti előirányzat | F3: =+CONCATENATE("1. sz. módosítás",CHAR(10),LEFT(ÖSSZEFÜGGÉSEK!A6,4),". (±)") -> 1. sz. módosítás 2017. (±) | G3: =+CONCATENATE("Módosítás utáni",CHAR(10),LEFT(ÖSSZEFÜGGÉSEK!A6,4),". 12.31.") -> Módosítás utáni 2017. 12.31.
A4: A | B4: B | C4: C | D4: D | E4: E | F4: F | G4: G=(D+F)
A5: ÖNK. Épületek szükségszerű felújítása | B5: 1270000 | C5: 2017 | E5: 1270000 | F5: 661405.47 | G5: 1931405.5
A6: ÖNK. Épületek felújítása | B6: 39586893 | C6: 2017-2018 | F6: 39586893 | G6: =E6+F6 -> 39586893
G7: =E7+F7 -> 0
G8: =E8+F8 -> 0
G9: =E9+F9 -> 0
G10: =E10+F10 -> 0
G11: =E11+F11 -> 0
G12: =E12+F12 -> 0
G13: =E13+F13 -> 0
G14: =E14+F14 -> 0
G15: =E15+F15 -> 0
G16: =E16+F16 -> 0
G17: =E17+F17 -> 0
G18: =E18+F18 -> 0
... G23: =E23+F23 -> 0
A24: ÖSSZESEN: | B24: =SUM(B5:B23) -> 40856893 | D24: =SUM(D5:D23) -> 0 | F24: =SUM(F5:F23) -> 40248298 | G24: =SUM(G5:G23) -> 41518298

Sheet 5.1. sz. mell
E1: 5.1. melléklet
A2: Megnevezés | B2: Sajószöged Községi Önkormányzat | E2: 01
A3: Feladat megnevezése | B3: Összes bevétel, kiadás | E3: 01
E4: ='4.sz.mell.'!G2 -> Forintban!
A5: Száma | B5: Kiemelt előirányzat, előirányzat megnevezése | C5: Eredeti előirányzat | D5: 1. sz. módosítás (±) | E5: =+CONCATENATE(LEFT(ÖSSZEFÜGGÉSEK!A7,4),"2017.12.31.",CHAR(10),"Módosítás utáni") -> 2017.12.31. Módosítás utáni
A6: A | B6: B | C6: C | D6: D | E6: E=C±D
A7: Bevételek
A8: 1. | B8: Önkormányzat működési támogatásai (1.1.+…+.1.6.) | C8: =+C9+C10+C11+C12+C13+C14 -> 92207137 | D8: =+D9+D10+D11+D12+D13+D14 -> 11814854 | E8: =+E9+E10+E11+E12+E13+E14 -> 104021991
A9: 1.1. | B9: Helyi önkormányzatok működésének általános támogatása | C9: 30994697 | D9: 1000000 | E9: =C9+D9 -> 31994697
A10: 1.2. | B10: Önkormányzatok egyes köznevelési feladatainak támogatása | C10: 28998310 | D10: 6986249 | E10: =C10+D10 -> 35984559
A11: 1.3. | B11: Önkormányzatok szociális és gyermekjóléti feladatainak támogatása | C11: 29700430 | D11: 590474 | E11: =C11+D11 -> 30290904
A12: 1.4. | B12: Önkormányzatok kulturális feladatainak támogatása | C12: 2513700 | D12: 461367 | E12: =C12+D12 -> 2975067
A13: 1.5. | B13: Működési célú kvi támogatások és kiegészítő támogatások | D13: 2609044 | E13: =C13+D13 -> 2609044
A14: 1.6. | B14: Elszámolásból származó bevételek | D14: 167720 | E14: =C14+D14 -> 167720
A15: 2. | B15: Működési célú támogatások államháztartáson belülről (2.1.+…+.2.5.) | C15: =+C16+C17+C18+C19+C20 -> 16718160 | D15: =+D16+D17+D18+D19+D20 -> 2166783 | E15: =+E16+E17+E18+E19+E20 -> 18884943
A16: 2.1. | B16: Elvonások és befizetések bevételei | E16: =C16+D16 -> 0
A17: 2.2. | B17: Működési célú garancia- és kezességvállalásból megtérülések | E17: =C17+D17 -> 0
A18: 2.3. | B18: Működési célú visszatérítendő támogatások, kölcsönök visszatérülése | E18: =C18+D18 -> 0
A19: 2.4. | B19: Működési célú visszatérítendő támogatások, kölcsönök igénybevétele | E19: =C19+D19 -> 0
A20: 2.5. | B20: Egyéb működési célú támogatások bevételei | C20: 16718160 | D20: 2166783 | E20: =C20+D20 -> 18884943
A21: 2.6. | B21: 2.5.-ből EU-s támogatás | E21: =C21+D21 -> 0
A22: 3. | B22: Felhalmozási célú támogatások államháztartáson belülről (3.1.+…+3.5.) | C22: =+C23+C24+C25+C26+C27 -> 0 | D22: =+D23+D24+D25+D26+D27 -> 160348571 | E22: =+E23+E24+E25+E26+E27 -> 160348571
A23: 3.1. | B23: Felhalmozási célú önkormányzati támogatások | E23: =C23+D23 -> 0
A24: 3.2. | B24: Felhalmozási célú garancia- és kezességvállalásból megtérülések | E24: =C24+D24 -> 0
A25: 3.3. | B25: Felhalmozási célú visszatérítendő támogatások, kölcsönök visszatérülése | E25: =C25+D25 -> 0
A26: 3.4. | B26: Felhalmozási célú visszatérítendő támogatások, kölcsönök igénybevétele | E26: =C26+D26 -> 0
A27: 3.5. | B27: Egyéb felhalmozási célú támogatások bevételei | D27: 160348571 | E27: 160348571
A28: 3.6. | B28: 3.5.-ből EU-s támogatás | D28: 160348571 | E28: =C28+D28 -> 160348571
A29: 4. | B29: Közhatalmi bevételek (4.1.+...+4.7.) | C29: =+C30+C31+C32+C33+C34+C35+C36 -> 113940000 | D29: =+D30+D31+D32+D33+D34+D35+D36 -> 61309260 | E29: =+E30+E31+E32+E33+E34+E35+E36 -> 175249260
A30: 4.1. | B30: Vagyoni tipusú adók | C30: 61300000 | D30: 13845498 | E30: =C30+D30 -> 75145498
A31: 4.2. | B31: Idegenforgalmi adó | E31: =C31+D31 -> 0
A32: 4.3. | B32: Iparűzési adó | C32: 45000000 | D32: 43849420 | E32: =C32+D32 -> 88849420
A33: 4.4. | B33: Talajterhelési díj | E33: =C33+D33 -> 0
A34: 4.5. | B34: Gépjárműadó | C34: 7500000 | D34: 2026565 | E34: =C34+D34 -> 9526565
A35: 4.6. | B35: Egyéb áruhasználati és szolgáltatási adók | C35: 40000 | D35: -40000 | E35: =C35+D35 -> 0
A36: 4.7. | B36: Egyéb közhatalmi bevételek | C36: 100000 | D36: 1627777 | E36: =C36+D36 -> 1727777
A37: 5. | B37: Működési bevételek (5.1.+…+ 5.11.) | C37: =SUM(C38:C48) -> 15588958 | D37: =SUM(D38:D48) -> 15250555 | E37: =SUM(E38:E48) -> 30839513
A38: 5.1. | B38: Készletértékesítés ellenértéke | E38: =C38+D38 -> 0
A39: 5.2. | B39: Szolgáltatások ellenértéke | C39: 1700000 | D39: 3034097 | E39: =C39+D39 -> 4734097
A40: 5.3. | B40: Közvetített szolgáltatások értéke | C40: 700000 | D40: 634806 | E40: =C40+D40 -> 1334806
A41: 5.4. | B41: Tulajdonosi bevételek | D41: 8465556 | E41: =C41+D41 -> 8465556
A42: 5.5. | B42: Ellátási díjak | C42: 10257448 | D42: -1296673 | E42: =C42+D42 -> 8960775
A43: 5.6. | B43: Kiszámlázott általános forgalmi adó | C43: 2931510 | D43: 4347792 | E43: =C43+D43 -> 7279302
A44: 5.7. | B44: Általános forgalmi adó visszatérítése | E44: =C44+D44 -> 0
A45: 5.8. | B45: Kamatbevételek | D45: 20543 | E45: =C45+D45 -> 20543
A46: 5.9. | B46: Egyéb pénzügyi műveletek bevételei | E46: =C46+D46 -> 0
A47: 5.10. | B47: Biztosító által fizetett kártérítés | E47: =C47+D47 -> 0
A48: 5.11. | B48: Egyéb működési bevételek | D48: 44434 | E48: =C48+D48 -> 44434
A49: 6. | B49: Felhalmozási bevételek (6.1.+…+6.5.) | C49: =SUM(C50:C54) -> 10000000 | D49: =SUM(D50:D54) -> -1595350 | E49: =SUM(E50:E54) -> 8404650
A50: 6.1. | B50: Immateriális javak értékesítése | E50: =C50+D50 -> 0
A51: 6.2. | B51: Ingatlanok értékesítése | C51: 10000000 | D51: -1595350 | E51: =C51+D51 -> 8404650
A52: 6.3. | B52: Egyéb tárgyi eszközök értékesítése | E52: =C52+D52 -> 0
A53: 6.4. | B53: Részesedések értékesítése | E53: =C53+D53 -> 0
A54: 6.5. | B54: Részesedések megszűnéséhez kapcsolódó bevételek | E54: =C54+D54 -> 0
A55: 7. | B55: Működési célú átvett pénzeszközök (7.1. + … + 7.3.) | C55: =SUM(C56:C58) -> 0 | D55: =SUM(D56:D58) -> 100000 | E55: =SUM(E56:E58) -> 100000
A56: 7.1. | B56: Működési célú garancia- és kezességvállalásból megtérülések ÁH-n kívülről | E56: =C56+D56 -> 0
A57: 7.2. | B57: Működési célú visszatérítendő támogatások, kölcsönök visszatér. ÁH-n kívülről | E57: =C57+D57 -> 0
A58: 7.3. | B58: Egyéb működési célú átvett pénzeszköz | D58: 100000 | E58: =C58+D58 -> 100000
A59: 7.4. | B59: 7.3.-ból EU-s támogatás (közvetlen) | E59: =C59+D59 -> 0
A60: 8. | B60: Felhalmozási célú átvett pénzeszközök (8.1.+8.2.+8.3.) | C60: =SUM(C61:C63) -> 0 | D60: =SUM(D61:D63) -> 914250 | E60: =SUM(E61:E63) -> 914250
A61: 8.1. | B61: Felhalm. célú garancia- és kezességvállalásból megtérülések ÁH-n kívülről | E61: =C61+D61 -> 0
A62: 8.2. | B62: Felhalm. célú visszatérítendő támogatások, kölcsönök visszatér. ÁH-n kívülről | D62: 914250 | E62: =C62+D62 -> 914250
A63: 8.3. | B63: Egyéb felhalmozási célú átvett pénzeszköz | E63: =C63+D63 -> 0
A64: 8.4. | B64: 8.3.-ból EU-s támogatás (közvetlen) | E64: =C64+D64 -> 0
A65: 9. | B65: KÖLTSÉGVETÉSI BEVÉTELEK ÖSSZESEN: (1+…+8) | C65: =+C8+C15+C22+C29+C37+C49+C55+C60 -> 248454255 | D65: =+D8+D15+D22+D29+D37+D49+D55+D60 -> 250308923 | E65: =+E8+E15+E22+E29+E37+E49+E55+E60 -> 498763178
A66: 10. | B66: Hitel-, kölcsönfelvétel államháztartáson kívülről (10.1.+10.3.) | C66: =SUM(C67:C69) -> 0 | D66: =SUM(D67:D69) -> 0 | E66: =SUM(E67:E69) -> 0
A67: 10.1. | B67: Hosszú lejáratú hitelek, kölcsönök felvétele | E67: =C67+D67 -> 0
A68: 10.2. | B68: Likviditási célú hitelek, kölcsönök felvétele pénzügyi vállalkozástól | E68: =C68+D68 -> 0
A69: 10.3. | B69: Rövid lejáratú hitelek, kölcsönök felvétele | E69: =C69+D69 -> 0
A70: 11. | B70: Belföldi értékpapírok bevételei (11.1. +…+ 11.4.) | C70: =SUM(C71:C74) -> 46694266 | D70: =SUM(D71:D74) -> 36885776 | E70: =SUM(E71:E74) -> 83580042
A71: 11.1. | B71: Forgatási célú belföldi értékpapírok beváltása, értékesítése | C71: 46694266 | D71: 36885776 | E71: =C71+D71 -> 83580042
A72: 11.2. | B72: Forgatási célú belföldi értékpapírok kibocsátása | E72: =C72+D72 -> 0
A73: 11.3. | B73: Befektetési célú belföldi értékpapírok beváltása, értékesítése | E73: =C73+D73 -> 0
A74: 11.4. | B74: Befektetési célú belföldi értékpapírok kibocsátása | E74: =C74+D74 -> 0
A75: 12. | B75: Maradvány igénybevétele (12.1. + 12.2.) | C75: =SUM(C76:C77) -> 6292251 | D75: =SUM(D76:D77) -> 2395909 | E75: =SUM(E76:E77) -> 8688160
A76: 12.1. | B76: Előző év költségvetési maradványának igénybevétele | C76: 6292251 | D76: 2395909 | E76: =C76+D76 -> 8688160
A77: 12.2. | B77: Előző év vállalkozási maradványának igénybevétele | E77: =C77+D77 -> 0
A78: 13. | B78: Belföldi finanszírozás bevételei (13.1. + … + 13.3.) | C78: =SUM(C79:C81) -> 0 | D78: =SUM(D79:D81) -> 0 | E78: =SUM(E79:E81) -> 0
A79: 13.1. | B79: Államháztartáson belüli megelőlegezések | E79: =C79+D79 -> 0
A80: 13.2. | B80: Államháztartáson belüli megelőlegezések törlesztése | E80: =C80+D80 -> 0
A81: 13.3. | B81: Betétek megszüntetése | E81: =C81+D81 -> 0
A82: 14. | B82: Külföldi finanszírozás bevételei (14.1.+…14.4.) | C82: =SUM(C83:C86) -> 0 | D82: =SUM(D83:D86) -> 0 | E82: =SUM(E83:E86) -> 0
A83: 14.1. | B83: Forgatási célú külföldi értékpapírok beváltása, értékesítése | E83: =C83+D83 -> 0
A84: 14.2. | B84: Befektetési célú külföldi értékpapírok beváltása, értékesítése | E84: =C84+D84 -> 0
A85: 14.3. | B85: Külföldi értékpapírok kibocsátása | E85: =C85+D85 -> 0
A86: 14.4. | B86: Külföldi hitelek, kölcsönök felvétele | E86: =C86+D86 -> 0
A87: 15. | B87: Váltóbevételek | E87: =C87+D87 -> 0
A88: 16. | B88: Adóssághoz nem kapcsolódó származékos ügyletek bevételei | E88: =C88+D88 -> 0
A89: 17. | B89: FINANSZÍROZÁSI BEVÉTELEK ÖSSZESEN: (10. + … +16.) | C89: =+C66+C70+C75+C78+C82+C88+C87 -> 52986517 | D89: =+D66+D70+D75+D78+D82+D88+D87 -> 39281685 | E89: =+E66+E70+E75+E78+E82+E88+E87 -> 92268202
A90: 18. | B90: BEVÉTELEK ÖSSZESEN: (9+17) | C90: =+C65+C89 -> 301440772 | D90: =+D65+D89 -> 289590608 | E90: =+E65+E89 -> 591031380
A92: Kiadások
A93: 1. | B93: Működési költségvetés kiadásai (1.1+…+1.5+1.18.) | C93: =+C94+C95+C96+C97+C98+C111 -> 159991190 | D93: =+D94+D95+D96+D97+D98+D111 -> -5110459 | E93: =+E94+E95+E96+E97+E98+E111 -> 154880731
A94: 1.1. | B94: Személyi juttatások | C94: 40551970 | D94: 2251163 | E94: =C94+D94 -> 42803133
A95: 1.2. | B95: Munkaadókat terhelő járulékok és szociális hozzájárulási adó | C95: 7262276 | D95: 940410 | E95: =C95+D95 -> 8202686
A96: 1.3. | B96: Dologi kiadások | C96: 65436944 | D96: -6129528 | E96: =C96+D96 -> 59307416
A97: 1.4. | B97: Ellátottak pénzbeli juttatásai | C97: 10680000 | D97: -1976052 | E97: =C97+D97 -> 8703948
A98: 1.5 | B98: Egyéb működési célú kiadások | C98: 33560000 | D98: 2303548 | E98: =C98+D98 -> 35863548
A99: 1.6. | B99: az 1.5-ből: - Előző évi elszámolásból származó befizetések | D99: 977678 | E99: =C99+D99 -> 977678
A100: 1.7. | B100: - Törvényi előíráson alapuló befizetések | E100: =C100+D100 -> 0
A101: 1.8. | B101: - Elvonások és befizetések | E101: =C101+D101 -> 0
...

Sheet 5.1.1. sz. mell
E1: 5.1.1. melléklet
A2: Megnevezés | B2: Sajószöged Községi Önkormányzat | E2: 01
A3: Feladat megnevezése | B3: Kötelező feladatok bevételei, kiadásai | E3: 02
E4: ='5.1. sz. mell'!E4 -> Forintban!
A5: Száma | B5: Kiemelt előirányzat, előirányzat megnevezése | C5: Eredeti előirányzat | D5: 1. sz. módosítás (±) | E5: =+CONCATENATE(LEFT(ÖSSZEFÜGGÉSEK!A7,4),"2017.12.31.",CHAR(10),"Módosítás utáni") -> 2017.12.31. Módosítás utáni
A6: A | B6: B | C6: C | D6: D | E6: E=C±D
A7: Bevételek
A8: 1. | B8: Önkormányzat működési támogatásai (1.1.+…+.1.6.) | C8: =+C9+C10+C11+C12+C13+C14 -> 92207137 | D8: =+D9+D10+D11+D12+D13+D14 -> 11814854 | E8: =+E9+E10+E11+E12+E13+E14 -> 104021991
A9: 1.1. | B9: Helyi önkormányzatok működésének általános támogatása | C9: 30994697 | D9: 1000000 | E9: =C9+D9 -> 31994697
A10: 1.2. | B10: Önkormányzatok egyes köznevelési feladatainak támogatása | C10: 28998310 | D10: 6986249 | E10: =C10+D10 -> 35984559
A11: 1.3. | B11: Önkormányzatok szociális és gyermekjóléti feladatainak támogatása | C11: 29700430 | D11: 590474 | E11: =C11+D11 -> 30290904
A12: 1.4. | B12: Önkormányzatok kulturális feladatainak támogatása | C12: 2513700 | D12: 461367 | E12: =C12+D12 -> 2975067
A13: 1.5. | B13: Működési célú kvi támogatások és kiegészítő támogatások | D13: 2609044 | E13: =C13+D13 -> 2609044
A14: 1.6. | B14: Elszámolásból származó bevételek | D14: 167720 | E14: =C14+D14 -> 167720
A15: 2. | B15: Működési célú támogatások államháztartáson belülről (2.1.+…+.2.5.) | C15: =+C16+C17+C18+C19+C20 -> 16718160 | D15: =+D16+D17+D18+D19+D20 -> 2166783 | E15: =+E16+E17+E18+E19+E20 -> 18884943
A16: 2.1. | B16: Elvonások és befizetések bevételei | E16: =C16+D16 -> 0
A17: 2.2. | B17: Működési célú garancia- és kezességvállalásból megtérülések | E17: =C17+D17 -> 0
A18: 2.3. | B18: Működési célú visszatérítendő támogatások, kölcsönök visszatérülése | E18: =C18+D18 -> 0
A19: 2.4. | B19: Működési célú visszatérítendő támogatások, kölcsönök igénybevétele | E19: =C19+D19 -> 0
A20: 2.5. | B20: Egyéb működési célú támogatások bevételei | C20: 16718160 | D20: 2166783 | E20: =C20+D20 -> 18884943
A21: 2.6. | B21: 2.5.-ből EU-s támogatás | E21: =C21+D21 -> 0
A22: 3. | B22: Felhalmozási célú támogatások államháztartáson belülről (3.1.+…+3.5.) | C22: =+C23+C24+C25+C26+C27 -> 0 | D22: =+D23+D24+D25+D26+D27 -> 160348571 | E22: =+E23+E24+E25+E26+E27 -> 160348571
A23: 3.1. | B23: Felhalmozási célú önkormányzati támogatások | E23: =C23+D23 -> 0
A24: 3.2. | B24: Felhalmozási célú garancia- és kezességvállalásból megtérülések | E24: =C24+D24 -> 0
A25: 3.3. | B25: Felhalmozási célú visszatérítendő támogatások, kölcsönök visszatérülése | E25: =C25+D25 -> 0
A26: 3.4. | B26: Felhalmozási célú visszatérítendő támogatások, kölcsönök igénybevétele | E26: =C26+D26 -> 0
A27: 3.5. | B27: Egyéb felhalmozási célú támogatások bevételei | D27: 160348571 | E27: =C27+D27 -> 160348571
A28: 3.6. | B28: 3.5.-ből EU-s támogatás | D28: 160348571 | E28: =C28+D28 -> 160348571
A29: 4. | B29: Közhatalmi bevételek (4.1.+...+4.7.) | C29: =+C30+C31+C32+C33+C34+C35+C36 -> 113940000 | D29: =+D30+D31+D32+D33+D34+D35+D36 -> 61309260 | E29: =+E30+E31+E32+E33+E34+E35+E36 -> 175249260
A30: 4.1. | B30: Vagyoni típusú adók | C30: 61300000 | D30: 13845498 | E30: =C30+D30 -> 75145498
A31: 4.2. | B31: Idegenforgalmi adó | E31: =C31+D31 -> 0
A32: 4.3. | B32: Iparűzési adó | C32: 45000000 | D32: 43849420 | E32: =C32+D32 -> 88849420
A33: 4.4. | B33: Talajterhelési díj | E33: =C33+D33 -> 0
A34: 4.5. | B34: Gépjárműadó | C34: 7500000 | D34: 2026565 | E34: =C34+D34 -> 9526565
A35: 4.6. | B35: Egyéb áruhasználati és szolgáltatási adók | C35: 40000 | D35: -40000 | E35: =C35+D35 -> 0
A36: 4.7. | B36: Egyéb közhatalmi bevételek | C36: 100000 | D36: 1627777 | E36: =C36+D36 -> 1727777
A37: 5. | B37: Működési bevételek (5.1.+…+ 5.11.) | C37: =SUM(C38:C48) -> 15588958 | D37: =SUM(D38:D48) -> 15250555 | E37: =SUM(E38:E48) -> 30839513
A38: 5.1. | B38: Készletértékesítés ellenértéke | E38: =C38+D38 -> 0
A39: 5.2. | B39: Szolgáltatások ellenértéke | C39: 1700000 | D39: 3034097 | E39: =C39+D39 -> 4734097
A40: 5.3. | B40: Közvetített szolgáltatások értéke | C40: 700000 | D40: 634806 | E40: =C40+D40 -> 1334806
A41: 5.4. | B41: Tulajdonosi bevételek | D41: 8465556 | E41: =C41+D41 -> 8465556
A42: 5.5. | B42: Ellátási díjak | C42: 10257448 | D42: -1296673 | E42: =C42+D42 -> 8960775
A43: 5.6. | B43: Kiszámlázott általános forgalmi adó | C43: 2931510 | D43: 4347792 | E43: =C43+D43 -> 7279302
A44: 5.7. | B44: Általános forgalmi adó visszatérítése | E44: =C44+D44 -> 0
A45: 5.8. | B45: Kamatbevételek | D45: 20543 | E45: =C45+D45 -> 20543
A46: 5.9. | B46: Egyéb pénzügyi műveletek bevételei | E46: =C46+D46 -> 0
A47: 5.10. | B47: Biztosító által fizetett kártérítés | E47: =C47+D47 -> 0
A48: 5.11. | B48: Egyéb működési bevételek | D48: 44434 | E48: =C48+D48 -> 44434
A49: 6. | B49: Felhalmozási bevételek (6.1.+…+6.5.) | C49: =SUM(C50:C54) -> 10000000 | D49: =SUM(D50:D54) -> -1595350 | E49: =SUM(E50:E54) -> 8404650
A50: 6.1. | B50: Immateriális javak értékesítése | E50: =C50+D50 -> 0
A51: 6.2. | B51: Ingatlanok értékesítése | C51: 10000000 | D51: -1595350 | E51: =C51+D51 -> 8404650
A52: 6.3. | B52: Egyéb tárgyi eszközök értékesítése | E52: =C52+D52 -> 0
A53: 6.4. | B53: Részesedések értékesítése | E53: =C53+D53 -> 0
A54: 6.5. | B54: Részesedések megszűnéséhez kapcsolódó bevételek | E54: =C54+D54 -> 0
A55: 7. | B55: Működési célú átvett pénzeszközök (7.1. + … + 7.3.) | C55: =SUM(C56:C58) -> 0 | D55: =SUM(D56:D58) -> 100000 | E55: =SUM(E56:E58) -> 100000
A56: 7.1. | B56: Működési célú garancia- és kezességvállalásból megtérülések ÁH-n kívülről | E56: =C56+D56 -> 0
A57: 7.2. | B57: Működési célú visszatérítendő támogatások, kölcsönök visszatér. ÁH-n kívülről | E57: =C57+D57 -> 0
A58: 7.3. | B58: Egyéb működési célú átvett pénzeszköz | D58: 100000 | E58: =C58+D58 -> 100000
A59: 7.4. | B59: 7.3.-ból EU-s támogatás (közvetlen) | E59: =C59+D59 -> 0
A60: 8. | B60: Felhalmozási célú átvett pénzeszközök (8.1.+8.2.+8.3.) | C60: =SUM(C61:C63) -> 0 | D60: =SUM(D61:D63) -> 914250 | E60: =SUM(E61:E63) -> 914250
A61: 8.1. | B61: Felhalm. célú garancia- és kezességvállalásból megtérülések ÁH-n kívülről | E61: =C61+D61 -> 0
A62: 8.2. | B62: Felhalm. célú visszatérítendő támogatások, kölcsönök visszatér. ÁH-n kívülről | D62: 914250 | E62: =C62+D62 -> 914250
A63: 8.3. | B63: Egyéb felhalmozási célú átvett pénzeszköz | E63: =C63+D63 -> 0
A64: 8.4. | B64: 8.3.-ból EU-s támogatás (közvetlen) | E64: =C64+D64 -> 0
A65: 9. | B65: KÖLTSÉGVETÉSI BEVÉTELEK ÖSSZESEN: (1+…+8) | C65: =+C8+C15+C22+C29+C37+C49+C55+C60 -> 248454255 | D65: =+D8+D15+D22+D29+D37+D49+D55+D60 -> 250308923 | E65: =+E8+E15+E22+E29+E37+E49+E55+E60 -> 498763178
A66: 10. | B66: Hitel-, kölcsönfelvétel államháztartáson kívülről (10.1.+10.3.) | C66: =SUM(C67:C69) -> 0 | D66: =SUM(D67:D69) -> 0 | E66: =SUM(E67:E69) -> 0
A67: 10.1. | B67: Hosszú lejáratú hitelek, kölcsönök felvétele | E67: =C67+D67 -> 0
A68: 10.2. | B68: Likviditási célú hitelek, kölcsönök felvétele pénzügyi vállalkozástól | E68: =C68+D68 -> 0
A69: 10.3. | B69: Rövid lejáratú hitelek, kölcsönök felvétele | E69: =C69+D69 -> 0
A70: 11. | B70: Belföldi értékpapírok bevételei (11.1. +…+ 11.4.) | C70: =SUM(C71:C74) -> 46694266 | D70: =SUM(D71:D74) -> 36885776 | E70: =SUM(E71:E74) -> 83580042
A71: 11.1. | B71: Forgatási célú belföldi értékpapírok beváltása, értékesítése | C71: 46694266 | D71: 36885776 | E71: =C71+D71 -> 83580042
A72: 11.2. | B72: Forgatási célú belföldi értékpapírok kibocsátása | E72: =C72+D72 -> 0
A73: 11.3. | B73: Befektetési célú belföldi értékpapírok beváltása, értékesítése | E73: =C73+D73 -> 0
A74: 11.4. | B74: Befektetési célú belföldi értékpapírok kibocsátása | E74: =C74+D74 -> 0
A75: 12. | B75: Maradvány igénybevétele (12.1. + 12.2.) | C75: =SUM(C76:C77) -> 6292251 | D75: =SUM(D76:D77) -> 2395909 | E75: =SUM(E76:E77) -> 8688160
A76: 12.1. | B76: Előző év költségvetési maradványának igénybevétele | C76: 6292251 | D76: 2395909 | E76: =C76+D76 -> 8688160
A77: 12.2. | B77: Előző év vállalkozási maradványának igénybevétele | E77: =C77+D77 -> 0
A78: 13. | B78: Belföldi finanszírozás bevételei (13.1. + … + 13.3.) | C78: =SUM(C79:C81) -> 0 | D78: =SUM(D79:D81) -> 0 | E78: =SUM(E79:E81) -> 0
A79: 13.1. | B79: Államháztartáson belüli megelőlegezések | E79: =C79+D79 -> 0
A80: 13.2. | B80: Államháztartáson belüli megelőlegezések törlesztése | E80: =C80+D80 -> 0
A81: 13.3. | B81: Betétek megszüntetése | E81: =C81+D81 -> 0
A82: 14. | B82: Külföldi finanszírozás bevételei (14.1.+…14.4.) | C82: =SUM(C83:C86) -> 0 | D82: =SUM(D83:D86) -> 0 | E82: =SUM(E83:E86) -> 0
A83: 14.1. | B83: Forgatási célú külföldi értékpapírok beváltása, értékesítése | E83: =C83+D83 -> 0
A84: 14.2. | B84: Befektetési célú külföldi értékpapírok beváltása, értékesítése | E84: =C84+D84 -> 0
A85: 14.3. | B85: Külföldi értékpapírok kibocsátása | E85: =C85+D85 -> 0
A86: 14.4. | B86: Külföldi hitelek, kölcsönök felvétele | E86: =C86+D86 -> 0
A87: 15. | B87: Váltóbevételek | E87: =C87+D87 -> 0
A88: 16. | B88: Adóssághoz nem kapcsolódó származékos ügyletek bevételei | E88: =C88+D88 -> 0
A89: 17. | B89: FINANSZÍROZÁSI BEVÉTELEK ÖSSZESEN: (10. + … +16.) | C89: =+C66+C70+C75+C78+C82+C88+C87 -> 52986517 | D89: =+D66+D70+D75+D78+D82+D88+D87 -> 39281685 | E89: =+E66+E70+E75+E78+E82+E88+E87 -> 92268202
A90: 18. | B90: BEVÉTELEK ÖSSZESEN: (9+17) | C90: =+C65+C89 -> 301440772 | D90: =+D65+D89 -> 289590608 | E90: =+E65+E89 -> 591031380
A92: Kiadások
A93: 1. | B93: Működési költségvetés kiadásai (1.1+…+1.5+1.18.) | C93: =+C94+C95+C96+C97+C98+C111 -> 159991190 | D93: =+D94+D95+D96+D97+D98+D111 -> -5110459 | E93: =+E94+E95+E96+E97+E98+E111 -> 154880731
A94: 1.1. | B94: Személyi juttatások | C94: 40551970 | D94: 2251163 | E94: =C94+D94 -> 42803133
A95: 1.2. | B95: Munkaadókat terhelő járulékok és szociális hozzájárulási adó | C95: 7262276 | D95: 940410 | E95: =C95+D95 -> 8202686
A96: 1.3. | B96: Dologi kiadások | C96: 65436944 | D96: -6129528 | E96: =C96+D96 -> 59307416
A97: 1.4. | B97: Ellátottak pénzbeli juttatásai | C97: 10680000 | D97: -1976052 | E97: =C97+D97 -> 8703948
A98: 1.5 | B98: Egyéb működési célú kiadások | C98: 33560000 | D98: 2303548 | E98: =C98+D98 -> 35863548
A99: 1.6. | B99: az 1.5-ből: - Előző évi elszámolásból származó befizetések | D99: 977678 | E99: =C99+D99 -> 977678
A100: 1.7. | B100: - Törvényi előíráson alapuló befizetések | E100: =C100+D100 -> 0
A101: 1.8. | B101: - Elvonások és befizetések | E101: =C101+D101 -> 0
...

Sheet 5.1.2. sz. mell
E1: 5.1.2. melléklet
A2: Megnevezés | B2: Sajószöged Községi Önkormányzat | E2: 01
A3: Feladat megnevezése | B3: Önként vállalt feladatok bevételei, kiadásai | E3: 02
E4: ='5.1.1. sz. mell'!E4 -> Forintban!
A5: Száma | B5: Kiemelt előirányzat, előirányzat megnevezése | C5: Eredeti előirányzat | D5: 1. sz. módosítás (±) | E5: 2017.12.31. Módosítás utáni
A6: A | B6: B | C6: C | D6: D | E6: E=C±D
A7: Bevételek
A8: 1. | B8: Önkormányzat működési támogatásai (1.1.+…+.1.6.) | C8: =+C9+C10+C11+C12+C13+C14 -> 0 | D8: =+D9+D10+D11+D12+D13+D14 -> 0 | E8: =+E9+E10+E11+E12+E13+E14 -> 0
A9: 1.1. | B9: Helyi önkormányzatok működésének általános támogatása | E9: =C9+D9 -> 0
A10: 1.2. | B10: Önkormányzatok egyes köznevelési feladatainak támogatása | E10: =C10+D10 -> 0
A11: 1.3. | B11: Önkormányzatok szociális és gyermekjóléti feladatainak támogatása | E11: =C11+D11 -> 0
A12: 1.4. | B12: Önkormányzatok kulturális feladatainak támogatása | E12: =C12+D12 -> 0
A13: 1.5. | B13: Működési célú kvi támogatások és kiegészítő támogatások | E13: =C13+D13 -> 0
A14: 1.6. | B14: Elszámolásból származó bevételek | E14: =C14+D14 -> 0
A15: 2. | B15: Működési célú támogatások államháztartáson belülről (2.1.+…+.2.5.) | C15: =+C16+C17+C18+C19+C20 -> 0 | D15: =+D16+D17+D18+D19+D20 -> 0 | E15: =+E16+E17+E18+E19+E20 -> 0
A16: 2.1. | B16: Elvonások és befizetések bevételei | E16: =C16+D16 -> 0
A17: 2.2. | B17: Működési célú garancia- és kezességvállalásból megtérülések | E17: =C17+D17 -> 0
A18: 2.3. | B18: Működési célú visszatérítendő támogatások, kölcsönök visszatérülése | E18: =C18+D18 -> 0
A19: 2.4. | B19: Működési célú visszatérítendő támogatások, kölcsönök igénybevétele | E19: =C19+D19 -> 0
A20: 2.5. | B20: Egyéb működési célú támogatások bevételei | E20: =C20+D20 -> 0
A21: 2.6. | B21: 2.5.-ből EU-s támogatás | E21: =C21+D21 -> 0
A22: 3. | B22: Felhalmozási célú támogatások államháztartáson belülről (3.1.+…+3.5.) | C22: =+C23+C24+C25+C26+C27 -> 0 | D22: =+D23+D24+D25+D26+D27 -> 0 | E22: =+E23+E24+E25+E26+E27 -> 0
A23: 3.1. | B23: Felhalmozási célú önkormányzati támogatások | E23: =C23+D23 -> 0
A24: 3.2. | B24: Felhalmozási célú garancia- és kezességvállalásból megtérülések | E24: =C24+D24 -> 0
A25: 3.3. | B25: Felhalmozási célú visszatérítendő támogatások, kölcsönök visszatérülése | E25: =C25+D25 -> 0
A26: 3.4. | B26: Felhalmozási célú visszatérítendő támogatások, kölcsönök igénybevétele | E26: =C26+D26 -> 0
A27: 3.5. | B27: Egyéb felhalmozási célú támogatások bevételei | E27: =C27+D27 -> 0
A28: 3.6. | B28: 3.5.-ből EU-s támogatás | E28: =C28+D28 -> 0
A29: 4. | B29: Közhatalmi bevételek (4.1.+...+4.7.) | C29: =+C30+C31+C32+C33+C34+C35+C36 -> 0 | D29: =+D30+D31+D32+D33+D34+D35+D36 -> 0 | E29: =+E30+E31+E32+E33+E34+E35+E36 -> 0
A30: 4.1. | B30: Építményadó | E30: =C30+D30 -> 0
A31: 4.2. | B31: Idegenforgalmi adó | E31: =C31+D31 -> 0
A32: 4.3. | B32: Iparűzési adó | E32: =C32+D32 -> 0
A33: 4.4. | B33: Talajterhelési díj | E33: =C33+D33 -> 0
A34: 4.5. | B34: Gépjárműadó | E34: =C34+D34 -> 0
A35: 4.6. | B35: Egyéb áruhasználati és szolgáltatási adók | E35: =C35+D35 -> 0
A36: 4.7. | B36: Egyéb közhatalmi bevételek | E36: =C36+D36 -> 0
A37: 5. | B37: Működési bevételek (5.1.+…+ 5.11.) | C37: =SUM(C38:C48) -> 0 | D37: =SUM(D38:D48) -> 0 | E37: =SUM(E38:E48) -> 0
A38: 5.1. | B38: Készletértékesítés ellenértéke | E38: =C38+D38 -> 0
A39: 5.2. | B39: Szolgáltatások ellenértéke | E39: =C39+D39 -> 0
A40: 5.3. | B40: Közvetített szolgáltatások értéke | E40: =C40+D40 -> 0
A41: 5.4. | B41: Tulajdonosi bevételek | E41: =C41+D41 -> 0
A42: 5.5. | B42: Ellátási díjak | E42: =C42+D42 -> 0
A43: 5.6. | B43: Kiszámlázott általános forgalmi adó | E43: =C43+D43 -> 0
A44: 5.7. | B44: Általános forgalmi adó visszatérítése | E44: =C44+D44 -> 0
A45: 5.8. | B45: Kamatbevételek | E45: =C45+D45 -> 0
A46: 5.9. | B46: Egyéb pénzügyi műveletek bevételei | E46: =C46+D46 -> 0
A47: 5.10. | B47: Biztosító által fizetett kártérítés | E47: =C47+D47 -> 0
A48: 5.11. | B48: Egyéb működési bevételek | E48: =C48+D48 -> 0
A49: 6. | B49: Felhalmozási bevételek (6.1.+…+6.5.) | C49: =SUM(C50:C54) -> 0 | D49: =SUM(D50:D54) -> 0 | E49: =SUM(E50:E54) -> 0
A50: 6.1. | B50: Immateriális javak értékesítése | E50: =C50+D50 -> 0
A51: 6.2. | B51: Ingatlanok értékesítése | E51: =C51+D51 -> 0
A52: 6.3. | B52: Egyéb tárgyi eszközök értékesítése | E52: =C52+D52 -> 0
A53: 6.4. | B53: Részesedések értékesítése | E53: =C53+D53 -> 0
A54: 6.5. | B54: Részesedések megszűnéséhez kapcsolódó bevételek | E54: =C54+D54 -> 0
A55: 7. | B55: Működési célú átvett pénzeszközök (7.1. + … + 7.3.) | C55: =SUM(C56:C58) -> 0 | D55: =SUM(D56:D58) -> 0 | E55: =SUM(E56:E58) -> 0
A56: 7.1. | B56: Működési célú garancia- és kezességvállalásból megtérülések ÁH-n kívülről | E56: =C56+D56 -> 0
A57: 7.2. | B57: Működési célú visszatérítendő támogatások, kölcsönök visszatér. ÁH-n kívülről | E57: =C57+D57 -> 0
A58: 7.3. | B58: Egyéb működési célú átvett pénzeszköz | E58: =C58+D58 -> 0
A59: 7.4. | B59: 7.3.-ból EU-s támogatás (közvetlen) | E59: =C59+D59 -> 0
A60: 8. | B60: Felhalmozási célú átvett pénzeszközök (8.1.+8.2.+8.3.) | C60: =SUM(C61:C63) -> 0 | D60: =SUM(D61:D63) -> 0 | E60: =SUM(E61:E63) -> 0
A61: 8.1. | B61: Felhalm. célú garancia- és kezességvállalásból megtérülések ÁH-n kívülről | E61: =C61+D61 -> 0
A62: 8.2. | B62: Felhalm. célú visszatérítendő támogatások, kölcsönök visszatér. ÁH-n kívülről | E62: =C62+D62 -> 0
A63: 8.3. | B63: Egyéb felhalmozási célú átvett pénzeszköz | E63: =C63+D63 -> 0
A64: 8.4. | B64: 8.3.-ból EU-s támogatás (közvetlen) | E64: =C64+D64 -> 0
A65: 9. | B65: KÖLTSÉGVETÉSI BEVÉTELEK ÖSSZESEN: (1+…+8) | C65: =+C8+C15+C22+C29+C37+C49+C55+C60 -> 0 | D65: =+D8+D15+D22+D29+D37+D49+D55+D60 -> 0 | E65: =+E8+E15+E22+E29+E37+E49+E55+E60 -> 0
A66: 10. | B66: Hitel-, kölcsönfelvétel államháztartáson kívülről (10.1.+10.3.) | C66: =SUM(C67:C69) -> 0 | D66: =SUM(D67:D69) -> 0 | E66: =SUM(E67:E69) -> 0
A67: 10.1. | B67: Hosszú lejáratú hitelek, kölcsönök felvétele | E67: =C67+D67 -> 0
A68: 10.2. | B68: Likviditási célú hitelek, kölcsönök felvétele pénzügyi vállalkozástól | E68: =C68+D68 -> 0
A69: 10.3. | B69: Rövid lejáratú hitelek, kölcsönök felvétele | E69: =C69+D69 -> 0
A70: 11. | B70: Belföldi értékpapírok bevételei (11.1. +…+ 11.4.) | C70: =SUM(C71:C74) -> 0 | D70: =SUM(D71:D74) -> 0 | E70: =SUM(E71:E74) -> 0
A71: 11.1. | B71: Forgatási célú belföldi értékpapírok beváltása, értékesítése | E71: =C71+D71 -> 0
A72: 11.2. | B72: Forgatási célú belföldi értékpapírok kibocsátása | E72: =C72+D72 -> 0
A73: 11.3. | B73: Befektetési célú belföldi értékpapírok beváltása, értékesítése | E73: =C73+D73 -> 0
A74: 11.4. | B74: Befektetési célú belföldi értékpapírok kibocsátása | E74: =C74+D74 -> 0
A75: 12. | B75: Maradvány igénybevétele (12.1. + 12.2.) | C75: =SUM(C76:C77) -> 0 | D75: =SUM(D76:D77) -> 0 | E75: =SUM(E76:E77) -> 0
A76: 12.1. | B76: Előző év költségvetési maradványának igénybevétele | E76: =C76+D76 -> 0
A77: 12.2. | B77: Előző év vállalkozási maradványának igénybevétele | E77: =C77+D77 -> 0
A78: 13. | B78: Belföldi finanszírozás bevételei (13.1. + … + 13.3.) | C78: =SUM(C79:C81) -> 0 | D78: =SUM(D79:D81) -> 0 | E78: =SUM(E79:E81) -> 0
A79: 13.1. | B79: Államháztartáson belüli megelőlegezések | E79: =C79+D79 -> 0
A80: 13.2. | B80: Államháztartáson belüli megelőlegezések törlesztése | E80: =C80+D80 -> 0
A81: 13.3. | B81: Betétek megszüntetése | E81: =C81+D81 -> 0
A82: 14. | B82: Külföldi finanszírozás bevételei (14.1.+…14.4.) | C82: =SUM(C83:C86) -> 0 | D82: =SUM(D83:D86) -> 0 | E82: =SUM(E83:E86) -> 0
A83: 14.1. | B83: Forgatási célú külföldi értékpapírok beváltása, értékesítése | E83: =C83+D83 -> 0
A84: 14.2. | B84: Befektetési célú külföldi értékpapírok beváltása, értékesítése | E84: =C84+D84 -> 0
A85: 14.3. | B85: Külföldi értékpapírok kibocsátása | E85: =C85+D85 -> 0
A86: 14.4. | B86: Külföldi hitelek, kölcsönök felvétele | E86: =C86+D86 -> 0
A87: 15. | B87: Váltóbevételek | E87: =C87+D87 -> 0
A88: 16. | B88: Adóssághoz nem kapcsolódó származékos ügyletek bevételei | E88: =C88+D88 -> 0
A89: 17. | B89: FINANSZÍROZÁSI BEVÉTELEK ÖSSZESEN: (10. + … +16.) | C89: =+C66+C70+C75+C78+C82+C88+C87 -> 0 | D89: =+D66+D70+D75+D78+D82+D88+D87 -> 0 | E89: =+E66+E70+E75+E78+E82+E88+E87 -> 0
A90: 18. | B90: BEVÉTELEK ÖSSZESEN: (9+17) | C90: =+C65+C89 -> 0 | D90: =+D65+D89 -> 0 | E90: =+E65+E89 -> 0
A92: Kiadások
A93: 1. | B93: Működési költségvetés kiadásai (1.1+…+1.5+1.18.) | C93: =+C94+C95+C96+C97+C98+C111 -> 0 | D93: =+D94+D95+D96+D97+D98+D111 -> 0 | E93: =+E94+E95+E96+E97+E98+E111 -> 0
A94: 1.1. | B94: Személyi juttatások | E94: =C94+D94 -> 0
A95: 1.2. | B95: Munkaadókat terhelő járulékok és szociális hozzájárulási adó | E95: =C95+D95 -> 0
A96: 1.3. | B96: Dologi kiadások | E96: =C96+D96 -> 0
A97: 1.4. | B97: Ellátottak pénzbeli juttatásai | E97: =C97+D97 -> 0
A98: 1.5 | B98: Egyéb működési célú kiadások | E98: =C98+D98 -> 0
A99: 1.6. | B99: az 1.5-ből: - Előző évi elszámolásból származó befizetések | E99: =C99+D99 -> 0
A100: 1.7. | B100: - Törvényi előíráson alapuló befizetések | E100: =C100+D100 -> 0
A101: 1.8. | B101: - Elvonások és befizetések | E101: =C101+D101 -> 0
...

Sheet 5.1.3. sz. mell
E1: 5.1.3. melléklet
A2: Megnevezés | B2: Sajószöged Községi Önkormányzat | E2: 01
A3: Feladat megnevezése | B3: Államigazgatási feladatok bevételei, kiadásai | E3: 02
E4: ='5.1.2. sz. mell'!E4 -> Forintban!
A5: Száma | B5: Kiemelt előirányzat, előirányzat megnevezése | C5: Eredeti előirányzat | D5: 1. sz. módosítás (±) | E5: =+CONCATENATE(LEFT(ÖSSZEFÜGGÉSEK!A7,4),"2017.12.31.",CHAR(10),"Módosítás utáni") -> 2017.12.31. Módosítás utáni
A6: A | B6: B | C6: C | D6: D | E6: E=C±D
A7: Bevételek
A8: 1. | B8: Önkormányzat működési támogatásai (1.1.+…+.1.6.) | C8: =+C9+C10+C11+C12+C13+C14 -> 0 | D8: =+D9+D10+D11+D12+D13+D14 -> 0 | E8: =+E9+E10+E11+E12+E13+E14 -> 0
A9: 1.1. | B9: Helyi önkormányzatok működésének általános támogatása | E9: =C9+D9 -> 0
A10: 1.2. | B10: Önkormányzatok egyes köznevelési feladatainak támogatása | E10: =C10+D10 -> 0
A11: 1.3. | B11: Önkormányzatok szociális és gyermekjóléti feladatainak támogatása | E11: =C11+D11 -> 0
A12: 1.4. | B12: Önkormányzatok kulturális feladatainak támogatása | E12: =C12+D12 -> 0
A13: 1.5. | B13: Működési célú kvi támogatások és kiegészítő támogatások | E13: =C13+D13 -> 0
A14: 1.6. | B14: Elszámolásból származó bevételek | E14: =C14+D14 -> 0
A15: 2. | B15: Működési célú támogatások államháztartáson belülről (2.1.+…+.2.5.) | C15: =+C16+C17+C18+C19+C20 -> 0 | D15: =+D16+D17+D18+D19+D20 -> 0 | E15: =+E16+E17+E18+E19+E20 -> 0
A16: 2.1. | B16: Elvonások és befizetések bevételei | E16: =C16+D16 -> 0
A17: 2.2. | B17: Működési célú garancia- és kezességvállalásból megtérülések | E17: =C17+D17 -> 0
A18: 2.3. | B18: Működési célú visszatérítendő támogatások, kölcsönök visszatérülése | E18: =C18+D18 -> 0
A19: 2.4. | B19: Működési célú visszatérítendő támogatások, kölcsönök igénybevétele | E19: =C19+D19 -> 0
A20: 2.5. | B20: Egyéb működési célú támogatások bevételei | E20: =C20+D20 -> 0
A21: 2.6. | B21: 2.5.-ből EU-s támogatás | E21: =C21+D21 -> 0
A22: 3. | B22: Felhalmozási célú támogatások államháztartáson belülről (3.1.+…+3.5.) | C22: =+C23+C24+C25+C26+C27 -> 0 | D22: =+D23+D24+D25+D26+D27 -> 0 | E22: =+E23+E24+E25+E26+E27 -> 0
A23: 3.1. | B23: Felhalmozási célú önkormányzati támogatások | E23: =C23+D23 -> 0
A24: 3.2. | B24: Felhalmozási célú garancia- és kezességvállalásból megtérülések | E24: =C24+D24 -> 0
A25: 3.3. | B25: Felhalmozási célú visszatérítendő támogatások, kölcsönök visszatérülése | E25: =C25+D25 -> 0
A26: 3.4. | B26: Felhalmozási célú visszatérítendő támogatások, kölcsönök igénybevétele | E26: =C26+D26 -> 0
A27: 3.5. | B27: Egyéb felhalmozási célú támogatások bevételei | E27: =C27+D27 -> 0
A28: 3.6. | B28: 3.5.-ből EU-s támogatás | E28: =C28+D28 -> 0
A29: 4. | B29: Közhatalmi bevételek (4.1.+...+4.7.) | C29: =+C30+C31+C32+C33+C34+C35+C36 -> 0 | D29: =+D30+D31+D32+D33+D34+D35+D36 -> 0 | E29: =+E30+E31+E32+E33+E34+E35+E36 -> 0
A30: 4.1. | B30: Építményadó | E30: =C30+D30 -> 0
A31: 4.2. | B31: Idegenforgalmi adó | E31: =C31+D31 -> 0
A32: 4.3. | B32: Iparűzési adó | E32: =C32+D32 -> 0
A33: 4.4. | B33: Talajterhelési díj | E33: =C33+D33 -> 0
A34: 4.5. | B34: Gépjárműadó | E34: =C34+D34 -> 0
A35: 4.6. | B35: Egyéb áruhasználati és szolgáltatási adók | E35: =C35+D35 -> 0
A36: 4.7. | B36: Egyéb közhatalmi bevételek | E36: =C36+D36 -> 0
A37: 5. | B37: Működési bevételek (5.1.+…+ 5.11.) | C37: =SUM(C38:C48) -> 0 | D37: =SUM(D38:D48) -> 0 | E37: =SUM(E38:E48) -> 0
A38: 5.1. | B38: Készletértékesítés ellenértéke | E38: =C38+D38 -> 0
A39: 5.2. | B39: Szolgáltatások ellenértéke | E39: =C39+D39 -> 0
A40: 5.3. | B40: Közvetített szolgáltatások értéke | E40: =C40+D40 -> 0
A41: 5.4. | B41: Tulajdonosi bevételek | E41: =C41+D41 -> 0
A42: 5.5. | B42: Ellátási díjak | E42: =C42+D42 -> 0
A43: 5.6. | B43: Kiszámlázott általános forgalmi adó | E43: =C43+D43 -> 0
A44: 5.7. | B44: Általános forgalmi adó visszatérítése | E44: =C44+D44 -> 0
A45: 5.8. | B45: Kamatbevételek | E45: =C45+D45 -> 0
A46: 5.9. | B46: Egyéb pénzügyi műveletek bevételei | E46: =C46+D46 -> 0
A47: 5.10. | B47: Biztosító által fizetett kártérítés | E47: =C47+D47 -> 0
A48: 5.11. | B48: Egyéb működési bevételek | E48: =C48+D48 -> 0
A49: 6. | B49: Felhalmozási bevételek (6.1.+…+6.5.) | C49: =SUM(C50:C54) -> 0 | D49: =SUM(D50:D54) -> 0 | E49: =SUM(E50:E54) -> 0
A50: 6.1. | B50: Immateriális javak értékesítése | E50: =C50+D50 -> 0
A51: 6.2. | B51: Ingatlanok értékesítése | E51: =C51+D51 -> 0
A52: 6.3. | B52: Egyéb tárgyi eszközök értékesítése | E52: =C52+D52 -> 0
A53: 6.4. | B53: Részesedések értékesítése | E53: =C53+D53 -> 0
A54: 6.5. | B54: Részesedések megszűnéséhez kapcsolódó bevételek | E54: =C54+D54 -> 0
A55: 7. | B55: Működési célú átvett pénzeszközök (7.1. + … + 7.3.) | C55: =SUM(C56:C58) -> 0 | D55: =SUM(D56:D58) -> 0 | E55: =SUM(E56:E58) -> 0
A56: 7.1. | B56: Működési célú garancia- és kezességvállalásból megtérülések ÁH-n kívülről | E56: =C56+D56 -> 0
A57: 7.2. | B57: Működési célú visszatérítendő támogatások, kölcsönök visszatér. ÁH-n kívülről | E57: =C57+D57 -> 0
A58: 7.3. | B58: Egyéb működési célú átvett pénzeszköz | E58: =C58+D58 -> 0
A59: 7.4. | B59: 7.3.-ból EU-s támogatás (közvetlen) | E59: =C59+D59 -> 0
A60: 8. | B60: Felhalmozási célú átvett pénzeszközök (8.1.+8.2.+8.3.) | C60: =SUM(C61:C63) -> 0 | D60: =SUM(D61:D63) -> 0 | E60: =SUM(E61:E63) -> 0
A61: 8.1. | B61: Felhalm. célú garancia- és kezességvállalásból megtérülések ÁH-n kívülről | E61: =C61+D61 -> 0
A62: 8.2. | B62: Felhalm. célú visszatérítendő támogatások, kölcsönök visszatér. ÁH-n kívülről | E62: =C62+D62 -> 0
A63: 8.3. | B63: Egyéb felhalmozási célú átvett pénzeszköz | E63: =C63+D63 -> 0
A64: 8.4. | B64: 8.3.-ból EU-s támogatás (közvetlen) | E64: =C64+D64 -> 0
A65: 9. | B65: KÖLTSÉGVETÉSI BEVÉTELEK ÖSSZESEN: (1+…+8) | C65: =+C8+C15+C22+C29+C37+C49+C55+C60 -> 0 | D65: =+D8+D15+D22+D29+D37+D49+D55+D60 -> 0 | E65: =+E8+E15+E22+E29+E37+E49+E55+E60 -> 0
A66: 10. | B66: Hitel-, kölcsönfelvétel államháztartáson kívülről (10.1.+10.3.) | C66: =SUM(C67:C69) -> 0 | D66: =SUM(D67:D69) -> 0 | E66: =SUM(E67:E69) -> 0
A67: 10.1. | B67: Hosszú lejáratú hitelek, kölcsönök felvétele | E67: =C67+D67 -> 0
A68: 10.2. | B68: Likviditási célú hitelek, kölcsönök felvétele pénzügyi vállalkozástól | E68: =C68+D68 -> 0
A69: 10.3. | B69: Rövid lejáratú hitelek, kölcsönök felvétele | E69: =C69+D69 -> 0
A70: 11. | B70: Belföldi értékpapírok bevételei (11.1. +…+ 11.4.) | C70: =SUM(C71:C74) -> 0 | D70: =SUM(D71:D74) -> 0 | E70: =SUM(E71:E74) -> 0
A71: 11.1. | B71: Forgatási célú belföldi értékpapírok beváltása, értékesítése | E71: =C71+D71 -> 0
A72: 11.2. | B72: Forgatási célú belföldi értékpapírok kibocsátása | E72: =C72+D72 -> 0
A73: 11.3. | B73: Befektetési célú belföldi értékpapírok beváltása, értékesítése | E73: =C73+D73 -> 0
A74: 11.4. | B74: Befektetési célú belföldi értékpapírok kibocsátása | E74: =C74+D74 -> 0
A75: 12. | B75: Maradvány igénybevétele (12.1. + 12.2.) | C75: =SUM(C76:C77) -> 0 | D75: =SUM(D76:D77) -> 0 | E75: =SUM(E76:E77) -> 0
A76: 12.1. | B76: Előző év költségvetési maradványának igénybevétele | E76: =C76+D76 -> 0
A77: 12.2. | B77: Előző év vállalkozási maradványának igénybevétele | E77: =C77+D77 -> 0
A78: 13. | B78: Belföldi finanszírozás bevételei (13.1. + … + 13.3.) | C78: =SUM(C79:C81) -> 0 | D78: =SUM(D79:D81) -> 0 | E78: =SUM(E79:E81) -> 0
A79: 13.1. | B79: Államháztartáson belüli megelőlegezések | E79: =C79+D79 -> 0
A80: 13.2. | B80: Államháztartáson belüli megelőlegezések törlesztése | E80: =C80+D80 -> 0
A81: 13.3. | B81: Betétek megszüntetése | E81: =C81+D81 -> 0
A82: 14. | B82: Külföldi finanszírozás bevételei (14.1.+…14.4.) | C82: =SUM(C83:C86) -> 0 | D82: =SUM(D83:D86) -> 0 | E82: =SUM(E83:E86) -> 0
A83: 14.1. | B83: Forgatási célú külföldi értékpapírok beváltása, értékesítése | E83: =C83+D83 -> 0
A84: 14.2. | B84: Befektetési célú külföldi értékpapírok beváltása, értékesítése | E84: =C84+D84 -> 0
A85: 14.3. | B85: Külföldi értékpapírok kibocsátása | E85: =C85+D85 -> 0
A86: 14.4. | B86: Külföldi hitelek, kölcsönök felvétele | E86: =C86+D86 -> 0
A87: 15. | B87: Váltóbevételek | E87: =C87+D87 -> 0
A88: 16. | B88: Adóssághoz nem kapcsolódó származékos ügyletek bevételei | E88: =C88+D88 -> 0
A89: 17. | B89: FINANSZÍROZÁSI BEVÉTELEK ÖSSZESEN: (10. + … +16.) | C89: =+C66+C70+C75+C78+C82+C88+C87 -> 0 | D89: =+D66+D70+D75+D78+D82+D88+D87 -> 0 | E89: =+E66+E70+E75+E78+E82+E88+E87 -> 0
A90: 18. | B90: BEVÉTELEK ÖSSZESEN: (9+17) | C90: =+C65+C89 -> 0 | D90: =+D65+D89 -> 0 | E90: =+E65+E89 -> 0
A92: Kiadások
A93: 1. | B93: Működési költségvetés kiadásai (1.1+…+1.5+1.18.) | C93: =+C94+C95+C96+C97+C98+C111 -> 0 | D93: =+D94+D95+D96+D97+D98+D111 -> 0 | E93: =+E94+E95+E96+E97+E98+E111 -> 0
A94: 1.1. | B94: Személyi juttatások | E94: =C94+D94 -> 0
A95: 1.2. | B95: Munkaadókat terhelő járulékok és szociális hozzájárulási adó | E95: =C95+D95 -> 0
A96: 1.3. | B96: Dologi kiadások | E96: =C96+D96 -> 0
A97: 1.4. | B97: Ellátottak pénzbeli juttatásai | E97: =C97+D97 -> 0
A98: 1.5 | B98: Egyéb működési célú kiadások | E98: =C98+D98 -> 0
A99: 1.6. | B99: az 1.5-ből: - Előző évi elszámolásból származó befizetések | E99: =C99+D99 -> 0
A100: 1.7. | B100: - Törvényi előíráson alapuló befizetések | E100: =C100+D100 -> 0
A101: 1.8. | B101: - Elvonások és befizetések | E101: =C101+D101 -> 0
...

Sheet 5.2. sz. mell
E1: 5.2. melléklet
A2: Költségvetési szerv | B2: Sajószögedi Polgármesteri Hivatal | E2: 02
A3: Feladat megnevezése | B3: Összes bevétel, kiadás | E3: 01
E4: ='5.1.3. sz. mell'!E4 -> Forintban!
A5: Száma | B5: Kiemelt előirányzat, előirányzat megnevezése | C5: Eredeti előirányzat | D5: 1. sz. módosítás (±) | E5: =+CONCATENATE(LEFT(ÖSSZEFÜGGÉSEK!A7,4),"2017.12.31.",CHAR(10),"Módosítás utáni") -> 2017.12.31. Módosítás utáni
A6: A | B6: B | C6: C | D6: D | E6: E=C±D
A7: Bevételek
A8: 1. | B8: Működési bevételek (1.1.+…+1.11.) | C8: =SUM(C9:C19) -> 0 | D8: =SUM(D9:D19) -> 14461 | E8: =SUM(E9:E19) -> 14461
A9: 1.1. | B9: Készletértékesítés ellenértéke | E9: =C9+D9 -> 0
A10: 1.2. | B10: Szolgáltatások ellenértéke | E10: =C10+D10 -> 0
A11: 1.3. | B11: Közvetített szolgáltatások értéke | E11: =C11+D11 -> 0
A12: 1.4. | B12: Tulajdonosi bevételek | E12: =C12+D12 -> 0
A13: 1.5. | B13: Ellátási díjak | E13: =C13+D13 -> 0
A14: 1.6. | B14: Kiszámlázott általános forgalmi adó | E14: =C14+D14 -> 0
A15: 1.7. | B15: Általános forgalmi adó visszatérülése | E15: =C15+D15 -> 0
A16: 1.8. | B16: Kamatbevételek | D16: 10 | E16: =C16+D16 -> 10
A17: 1.9. | B17: Egyéb pénzügyi műveletek bevételei | E17: =C17+D17 -> 0
A18: 1.10. | B18: Biztosító által fizetett kártérítés | E18: =C18+D18 -> 0
A19: 1.11. | B19: Egyéb működési bevételek | D19: 14451 | E19: =C19+D19 -> 14451
A20: 2. | B20: Működési célú támogatások államháztartáson belülről (2.1.+…+2.3.) | C20: =SUM(C21:C23) -> 0 | D20: =SUM(D21:D23) -> 0 | E20: =SUM(E21:E23) -> 0
A21: 2.1. | B21: Elvonások és befizetések bevételei | E21: =C21+D21 -> 0
A22: 2.2. | B22: Visszatérítendő támogatások, kölcsönök visszatérülése ÁH-n belülről | E22: =C22+D22 -> 0
A23: 2.3. | B23: Egyéb működési célú támogatások bevételei államháztartáson belülről | E23: =C23+D23 -> 0
A24: 2.4. | B24: 2.3-ból EU támogatás | E24: =C24+D24 -> 0
A25: 3. | B25: Közhatalmi bevételek | C25: 20000 | D25: 6000 | E25: 26000
A26: 4. | B26: Felhalmozási célú támogatások államháztartáson belülről (4.1.+…+4.3.) | C26: =+C27+C28+C29 -> 0 | D26: =+D27+D28+D29 -> 0 | E26: =+E27+E28+E29 -> 0
A27: 4.1. | B27: Felhalmozási célú önkormányzati támogatások | E27: =C27+D27 -> 0
A28: 4.2. | B28: Visszatérítendő támogatások, kölcsönök visszatérülése ÁH-n belülről | E28: =C28+D28 -> 0
A29: 4.3. | B29: Egyéb felhalmozási célú támogatások bevételei államháztartáson belülről | E29: =C29+D29 -> 0
A30: 4.4. | B30: 4.3.-ból EU-s támogatás | E30: =C30+D30 -> 0
A31: 5. | B31: Felhalmozási bevételek (5.1.+…+5.3.) | C31: =+C32+C33+C34 -> 0 | D31: =+D32+D33+D34 -> 0 | E31: =+E32+E33+E34 -> 0
A32: 5.1. | B32: Immateriális javak értékesítése | E32: =C32+D32 -> 0
A33: 5.2. | B33: Ingatlanok értékesítése | E33: =C33+D33 -> 0
A34: 5.3. | B34: Egyéb tárgyi eszközök értékesítése | E34: =C34+D34 -> 0
A35: 6. | B35: Működési célú átvett pénzeszközök | E35: =C35+D35 -> 0
A36: 7. | B36: Felhalmozási célú átvett pénzeszközök | E36: =C36+D36 -> 0
A37: 8. | B37: Költségvetési bevételek összesen (1.+…+7.) | C37: =+C8+C20+C25+C26+C31+C35+C36 -> 20000 | D37: =+D8+D20+D25+D26+D31+D35+D36 -> 20461 | E37: =+E8+E20+E25+E26+E31+E35+E36 -> 40461
A38: 9. | B38: Finanszírozási bevételek (9.1.+…+9.3.) | C38: =+C39+C40+C41 -> 52678976 | D38: =+D39+D40+D41 -> 553755 | E38: =+E39+E40+E41 -> 53232731
A39: 9.1. | B39: Költségvetési maradvány igénybevétele | C39: 537610 | D39: 224907 | E39: =C39+D39 -> 762517
A40: 9.2. | B40: Vállalkozási maradvány igénybevétele | E40: =C40+D40 -> 0
A41: 9.3. | B41: Irányító szervi (önkormányzati) támogatás (intézményfinanszírozás) | C41: 52141366 | D41: 328848 | E41: =C41+D41 -> 52470214
A42: 10. | B42: BEVÉTELEK ÖSSZESEN: (8.+9.) | C42: =+C37+C38 -> 52698976 | D42: =+D37+D38 -> 574216 | E42: =+E37+E38 -> 53273192
A45: Kiadások
A46: 1. | B46: Működési költségvetés kiadásai (1.1+…+1.5.) | C46: =SUM(C47:C51) -> 51428976 | D46: =SUM(D47:D51) -> 1513399 | E46: =SUM(E47:E51) -> 52942375
A47: 1.1. | B47: Személyi juttatások | C47: 31719500 | D47: 2648519 | E47: =C47+D47 -> 34368019
A48: 1.2. | B48: Munkaadókat terhelő járulékok és szociális hozzájárulási adó | C48: 7187276 | D48: 901276 | E48: =C48+D48 -> 8088552
A49: 1.3. | B49: Dologi kiadások | C49: 12522200 | D49: -2036396 | E49: =C49+D49 -> 10485804
A50: 1.4. | B50: Ellátottak pénzbeli juttatásai | E50: =C50+D50 -> 0
A51: 1.5. | B51: Egyéb működési célú kiadások | E51: =C51+D51 -> 0
A52: 2. | B52: Felhalmozási költségvetés kiadásai (2.1.+…+2.3.) | C52: =SUM(C53:C55) -> 1270000 | D52: =SUM(D53:D55) -> -939183 | E52: =SUM(E53:E55) -> 330817
A53: 2.1. | B53: Beruházások | C53: 1270000 | D53: -939183 | E53: =C53+D53 -> 330817
A54: 2.2. | B54: Felújítások | E54: =C54+D54 -> 0
A55: 2.3. | B55: Egyéb fejlesztési célú kiadások | E55: =C55+D55 -> 0
A56: 2.4. | B56: 2.3.-ból EU-s támogatásból megvalósuló programok, projektek kiadása | E56: =C56+D56 -> 0
A57: 3. | B57: Finanszírozási kiadások | E57: =C57+D57 -> 0
A58: 4. | B58: KIADÁSOK ÖSSZESEN: (1.+2.+3.) | C58: =+C46+C52+C57 -> 52698976 | D58: =+D46+D52+D57 -> 574216 | E58: =+E46+E52+E57 -> 53273192
A60: Éves tervezett létszám előirányzat (fő) | C60: 7 | D60: 0 | E60: =C60+D60 -> 7
A61: Közfoglalkoztatottak létszáma (fő) | C61: 0 | D61: 0 | E61: =C61+D61 -> 0

Sheet 5.2.1. sz. mell
E1: 5.2.1. melléklet
A2: Költségvetési szerv | B2: Sajószögedi Polgármesteri Hivatal | E2: 02
A3: Feladat megnevezése | B3: Kötelező feladatok bevételei, kiadásai | E3: 02
E4: ='5.2. sz. mell'!E4 -> Forintban!
A5: Száma | B5: Kiemelt előirányzat, előirányzat megnevezése | C5: Eredeti előirányzat | D5: 1. sz. módosítás (±) | E5: =+CONCATENATE(LEFT(ÖSSZEFÜGGÉSEK!A7,4),"2017.12.31.",CHAR(10),"Módosítás utáni") -> 2017.12.31. Módosítás utáni
A6: A | B6: B | C6: C | D6: D | E6: E=C+D
A7: Bevételek
A8: 1. | B8: Működési bevételek (1.1.+…+1.11.) | C8: =SUM(C9:C19) -> 0 | D8: =SUM(D9:D19) -> 14461 | E8: =SUM(E9:E19) -> 14461
A9: 1.1. | B9: Készletértékesítés ellenértéke | E9: =C9+D9 -> 0
A10: 1.2. | B10: Szolgáltatások ellenértéke | E10: =C10+D10 -> 0
A11: 1.3. | B11: Közvetített szolgáltatások értéke | E11: =C11+D11 -> 0
A12: 1.4. | B12: Tulajdonosi bevételek | E12: =C12+D12 -> 0
A13: 1.5. | B13: Ellátási díjak | E13: =C13+D13 -> 0
A14: 1.6. | B14: Kiszámlázott általános forgalmi adó | E14: =C14+D14 -> 0
A15: 1.7. | B15: Általános forgalmi adó visszatérülése | E15: =C15+D15 -> 0
A16: 1.8. | B16: Kamatbevételek | D16: 10 | E16: =C16+D16 -> 10
A17: 1.9. | B17: Egyéb pénzügyi műveletek bevételei | E17: =C17+D17 -> 0
A18: 1.10. | B18: Biztosító által fizetett kártérítés | E18: =C18+D18 -> 0
A19: 1.11. | B19: Egyéb működési bevételek | D19: 14451 | E19: 14451
A20: 2. | B20: Működési célú támogatások államháztartáson belülről (2.1.+…+2.3.) | C20: =SUM(C21:C23) -> 0 | D20: =SUM(D21:D23) -> 0 | E20: =SUM(E21:E23) -> 0
A21: 2.1. | B21: Elvonások és befizetések bevételei | E21: =C21+D21 -> 0
A22: 2.2. | B22: Visszatérítendő támogatások, kölcsönök visszatérülése ÁH-n belülről | E22: =C22+D22 -> 0
A23: 2.3. | B23: Egyéb működési célú támogatások bevételei államháztartáson belülről | E23: =C23+D23 -> 0
A24: 2.4. | B24: 2.3-ból EU támogatás | E24: =C24+D24 -> 0
A25: 3. | B25: Közhatalmi bevételek | C25: 20000 | D25: 6000 | E25: 26000
A26: 4. | B26: Felhalmozási célú támogatások államháztartáson belülről (4.1.+…+4.3.) | C26: =+C27+C28+C29 -> 0 | D26: =+D27+D28+D29 -> 0 | E26: =+E27+E28+E29 -> 0
A27: 4.1. | B27: Felhalmozási célú önkormányzati támogatások | E27: =C27+D27 -> 0
A28: 4.2. | B28: Visszatérítendő támogatások, kölcsönök visszatérülése ÁH-n belülről | E28: =C28+D28 -> 0
A29: 4.3. | B29: Egyéb felhalmozási célú támogatások bevételei államháztartáson belülről | E29: =C29+D29 -> 0
A30: 4.4. | B30: 4.3.-ból EU-s támogatás | E30: =C30+D30 -> 0
A31: 5. | B31: Felhalmozási bevételek (5.1.+…+5.3.) | C31: =+C32+C33+C34 -> 0 | D31: =+D32+D33+D34 -> 0 | E31: =+E32+E33+E34 -> 0
A32: 5.1. | B32: Immateriális javak értékesítése | E32: =C32+D32 -> 0
A33: 5.2. | B33: Ingatlanok értékesítése | E33: =C33+D33 -> 0
A34: 5.3. | B34: Egyéb tárgyi eszközök értékesítése | E34: =C34+D34 -> 0
A35: 6. | B35: Működési célú átvett pénzeszközök | E35: =C35+D35 -> 0
A36: 7. | B36: Felhalmozási célú átvett pénzeszközök | E36: =C36+D36 -> 0
A37: 8. | B37: Költségvetési bevételek összesen (1.+…+7.) | C37: =+C8+C20+C25+C26+C31+C35+C36 -> 20000 | D37: =+D8+D20+D25+D26+D31+D35+D36 -> 20461 | E37: =+E8+E20+E25+E26+E31+E35+E36 -> 40461
A38: 9. | B38: Finanszírozási bevételek (9.1.+…+9.3.) | C38: =+C39+C40+C41 -> 52678976 | D38: =+D39+D40+D41 -> 553755 | E38: =+E39+E40+E41 -> 53232731
A39: 9.1. | B39: Költségvetési maradvány igénybevétele | C39: 537610 | D39: 224907 | E39: =C39+D39 -> 762517
A40: 9.2. | B40: Vállalkozási maradvány igénybevétele | E40: =C40+D40 -> 0
A41: 9.3. | B41: Irányító szervi (önkormányzati) támogatás (intézményfinanszírozás) | C41: 52141366 | D41: 328848 | E41: =C41+D41 -> 52470214
A42: 10. | B42: BEVÉTELEK ÖSSZESEN: (8.+9.) | C42: =+C37+C38 -> 52698976 | D42: =+D37+D38 -> 574216 | E42: =+E37+E38 -> 53273192
A45: Kiadások
A46: 1. | B46: Működési költségvetés kiadásai (1.1+…+1.5.) | C46: =SUM(C47:C51) -> 51428976 | D46: =SUM(D47:D51) -> 1513399 | E46: =SUM(E47:E51) -> 52942375
A47: 1.1. | B47: Személyi juttatások | C47: 31719500 | D47: 2648519 | E47: =C47+D47 -> 34368019
A48: 1.2. | B48: Munkaadókat terhelő járulékok és szociális hozzájárulási adó | C48: 7187276 | D48: 901276 | E48: =C48+D48 -> 8088552
A49: 1.3. | B49: Dologi kiadások | C49: 12522200 | D49: -2036396 | E49: =C49+D49 -> 10485804
A50: 1.4. | B50: Ellátottak pénzbeli juttatásai | E50: =C50+D50 -> 0
A51: 1.5. | B51: Egyéb működési célú kiadások | E51: =C51+D51 -> 0
A52: 2. | B52: Felhalmozási költségvetés kiadásai (2.1.+…+2.3.) | C52: =SUM(C53:C55) -> 1270000 | D52: =SUM(D53:D55) -> -939183 | E52: =SUM(E53:E55) -> 330817
A53: 2.1. | B53: Beruházások | C53: 1270000 | D53: -939183 | E53: =C53+D53 -> 330817
A54: 2.2. | B54: Felújítások | E54: =C54+D54 -> 0
A55: 2.3. | B55: Egyéb fejlesztési célú kiadások | E55: =C55+D55 -> 0
A56: 2.4. | B56: 2.3.-ból EU-s támogatásból megvalósuló programok, projektek kiadása | E56: =C56+D56 -> 0
A57: 3. | B57: Finanszírozási kiadások | E57: =C57+D57 -> 0
A58: 4. | B58: KIADÁSOK ÖSSZESEN: (1.+2.+3.) | C58: =+C46+C52+C57 -> 52698976 | D58: =+D46+D52+D57 -> 574216 | E58: =+E46+E52+E57 -> 53273192
A60: Éves tervezett létszám előirányzat (fő) | C60: 7 | D60: 0 | E60: =C60+D60 -> 7
A61: Közfoglalkoztatottak létszáma (fő) | C61: 0 | D61: 0 | E61: =C61+D61 -> 0

Sheet 5.2.2. sz. mell
E1: 5.2.2. melléklet
A2: Költségvetési szerv | B2: Sajószögedi Polgármesteri Hivatal | E2: 02
A3: Feladat megnevezése | B3: Önként vállalt feladatok bevételei, kiadásai | E3: 03
E4: ='5.2.1. sz. mell'!E4 -> Forintban!
A5: Száma | B5: Kiemelt előirányzat, előirányzat megnevezése | C5: Eredeti előirányzat | D5: 1. sz. módosítás (±) | E5: =+CONCATENATE(LEFT(ÖSSZEFÜGGÉSEK!A7,4),"2017.12.31",CHAR(10),"Módosítás utáni") -> 2017.12.31 Módosítás utáni
A6: A | B6: B | C6: C | D6: D | E6: E=C±D
A7: Bevételek
A8: 1. | B8: Működési bevételek (1.1.+…+1.11.) | C8: =SUM(C9:C19) -> 0 | D8: =SUM(D9:D19) -> 0 | E8: =SUM(E9:E19) -> 0
A9: 1.1. | B9: Készletértékesítés ellenértéke | E9: =C9+D9 -> 0
A10: 1.2. | B10: Szolgáltatások ellenértéke | E10: =C10+D10 -> 0
A11: 1.3. | B11: Közvetített szolgáltatások értéke | E11: =C11+D11 -> 0
A12: 1.4. | B12: Tulajdonosi bevételek | E12: =C12+D12 -> 0
A13: 1.5. | B13: Ellátási díjak | E13: =C13+D13 -> 0
A14: 1.6. | B14: Kiszámlázott általános forgalmi adó | E14: =C14+D14 -> 0
A15: 1.7. | B15: Általános forgalmi adó visszatérülése | E15: =C15+D15 -> 0
A16: 1.8. | B16: Kamatbevételek | E16: =C16+D16 -> 0
A17: 1.9. | B17: Egyéb pénzügyi műveletek bevételei | E17: =C17+D17 -> 0
A18: 1.10. | B18: Biztosító által fizetett kártérítés | E18: =C18+D18 -> 0
A19: 1.11. | B19: Egyéb működési bevételek | E19: =C19+D19 -> 0
A20: 2. | B20: Működési célú támogatások államháztartáson belülről (2.1.+…+2.3.) | C20: =SUM(C21:C23) -> 0 | D20: =SUM(D21:D23) -> 0 | E20: =SUM(E21:E23) -> 0
A21: 2.1. | B21: Elvonások és befizetések bevételei | E21: =C21+D21 -> 0
A22: 2.2. | B22: Visszatérítendő támogatások, kölcsönök visszatérülése ÁH-n belülről | E22: =C22+D22 -> 0
A23: 2.3. | B23: Egyéb működési célú támogatások bevételei államháztartáson belülről | E23: =C23+D23 -> 0
A24: 2.4. | B24: 2.3-ból EU támogatás | E24: =C24+D24 -> 0
A25: 3. | B25: Közhatalmi bevételek
A26: 4. | B26: Felhalmozási célú támogatások államháztartáson belülről (4.1.+…+4.3.) | C26: =+C27+C28+C29 -> 0 | D26: =+D27+D28+D29 -> 0 | E26: =+E27+E28+E29 -> 0
A27: 4.1. | B27: Felhalmozási célú önkormányzati támogatások | E27: =C27+D27 -> 0
A28: 4.2. | B28: Visszatérítendő támogatások, kölcsönök visszatérülése ÁH-n belülről | E28: =C28+D28 -> 0
A29: 4.3. | B29: Egyéb felhalmozási célú támogatások bevételei államháztartáson belülről | E29: =C29+D29 -> 0
A30: 4.4. | B30: 4.3.-ból EU-s támogatás | E30: =C30+D30 -> 0
A31: 5. | B31: Felhalmozási bevételek (5.1.+…+5.3.) | C31: =+C32+C33+C34 -> 0 | D31: =+D32+D33+D34 -> 0 | E31: =+E32+E33+E34 -> 0
A32: 5.1. | B32: Immateriális javak értékesítése | E32: =C32+D32 -> 0
A33: 5.2. | B33: Ingatlanok értékesítése | E33: =C33+D33 -> 0
A34: 5.3. | B34: Egyéb tárgyi eszközök értékesítése | E34: =C34+D34 -> 0
A35: 6. | B35: Működési célú átvett pénzeszközök | E35: =C35+D35 -> 0
A36: 7. | B36: Felhalmozási célú átvett pénzeszközök | E36: =C36+D36 -> 0
A37: 8. | B37: Költségvetési bevételek összesen (1.+…+7.) | C37: =+C8+C20+C25+C26+C31+C35+C36 -> 0 | D37: =+D8+D20+D25+D26+D31+D35+D36 -> 0 | E37: =+E8+E20+E25+E26+E31+E35+E36 -> 0
A38: 9. | B38: Finanszírozási bevételek (9.1.+…+9.3.) | C38: =+C39+C40+C41 -> 0 | D38: =+D39+D40+D41 -> 0 | E38: =+E39+E40+E41 -> 0
A39: 9.1. | B39: Költségvetési maradvány igénybevétele | E39: =C39+D39 -> 0
A40: 9.2. | B40: Vállalkozási maradvány igénybevétele | E40: =C40+D40 -> 0
A41: 9.3. | B41: Irányító szervi (önkormányzati) támogatás (intézményfinanszírozás) | E41: =C41+D41 -> 0
A42: 10. | B42: BEVÉTELEK ÖSSZESEN: (8.+9.) | C42: =+C37+C38 -> 0 | D42: =+D37+D38 -> 0 | E42: =+E37+E38 -> 0
A45: Kiadások
A46: 1. | B46: Működési költségvetés kiadásai (1.1+…+1.5.) | C46: =SUM(C47:C51) -> 0 | D46: =SUM(D47:D51) -> 0 | E46: =SUM(E47:E51) -> 0
A47: 1.1. | B47: Személyi juttatások | E47: =C47+D47 -> 0
A48: 1.2. | B48: Munkaadókat terhelő járulékok és szociális hozzájárulási adó | E48: =C48+D48 -> 0
A49: 1.3. | B49: Dologi kiadások | E49: =C49+D49 -> 0
A50: 1.4. | B50: Ellátottak pénzbeli juttatásai | E50: =C50+D50 -> 0
A51: 1.5. | B51: Egyéb működési célú kiadások | E51: =C51+D51 -> 0
A52: 2. | B52: Felhalmozási költségvetés kiadásai (2.1.+…+2.3.) | C52: =SUM(C53:C55) -> 0 | D52: =SUM(D53:D55) -> 0 | E52: =SUM(E53:E55) -> 0
A53: 2.1. | B53: Beruházások | E53: =C53+D53 -> 0
A54: 2.2. | B54: Felújítások | E54: =C54+D54 -> 0
A55: 2.3. | B55: Egyéb fejlesztési célú kiadások | E55: =C55+D55 -> 0
A56: 2.4. | B56: 2.3.-ból EU-s támogatásból megvalósuló programok, projektek kiadása | E56: =C56+D56 -> 0
A57: 3. | B57: Finanszírozási kiadások | E57: =C57+D57 -> 0
A58: 4. | B58: KIADÁSOK ÖSSZESEN: (1.+2.+3.) | C58: =+C46+C52+C57 -> 0 | D58: =+D46+D52+D57 -> 0 | E58: =+E46+E52+E57 -> 0
A60: Éves tervezett létszám előirányzat (fő) | E60: =C60+D60 -> 0
A61: Közfoglalkoztatottak létszáma (fő) | E61: =C61+D61 -> 0

Sheet 5.2.3. sz. mell
E1: 5.2.3. melléklet
A2: Költségvetési szerv | B2: Sajószögedi Polgármesteri Hivatal | E2: 02
A3: Feladat megnevezése | B3: Államigazgatási feladatok bevételei, kiadásai | E3: 04
E4: ='5.2.2. sz. mell'!E4 -> Forintban!
A5: Száma | B5: Kiemelt előirányzat, előirányzat megnevezése | C5: Eredeti előirányzat | D5: 1. sz. módosítás (±) | E5: =+CONCATENATE(LEFT(ÖSSZEFÜGGÉSEK!A7,4),"2017.12.31.",CHAR(10),"Módosítás utáni") -> 2017.12.31. Módosítás utáni
A6: A | B6: B | C6: C | D6: D | E6: E=C±D
A7: Bevételek
A8: 1. | B8: Működési bevételek (1.1.+…+1.11.) | C8: =SUM(C9:C19) -> 0 | D8: =SUM(D9:D19) -> 0 | E8: =SUM(E9:E19) -> 0
A9: 1.1. | B9: Készletértékesítés ellenértéke | E9: =C9+D9 -> 0
A10: 1.2. | B10: Szolgáltatások ellenértéke | E10: =C10+D10 -> 0
A11: 1.3. | B11: Közvetített szolgáltatások értéke | E11: =C11+D11 -> 0
A12: 1.4. | B12: Tulajdonosi bevételek | E12: =C12+D12 -> 0
A13: 1.5. | B13: Ellátási díjak | E13: =C13+D13 -> 0
A14: 1.6. | B14: Kiszámlázott általános forgalmi adó | E14: =C14+D14 -> 0
A15: 1.7. | B15: Általános forgalmi adó visszatérülése | E15: =C15+D15 -> 0
A16: 1.8. | B16: Kamatbevételek | E16: =C16+D16 -> 0
A17: 1.9. | B17: Egyéb pénzügyi műveletek bevételei | E17: =C17+D17 -> 0
A18: 1.10. | B18: Biztosító által fizetett kártérítés | E18: =C18+D18 -> 0
A19: 1.11. | B19: Egyéb működési bevételek | E19: =C19+D19 -> 0
A20: 2. | B20: Működési célú támogatások államháztartáson belülről (2.1.+…+2.3.) | C20: =SUM(C21:C23) -> 0 | D20: =SUM(D21:D23) -> 0 | E20: =SUM(E21:E23) -> 0
A21: 2.1. | B21: Elvonások és befizetések bevételei | E21: =C21+D21 -> 0
A22: 2.2. | B22: Visszatérítendő támogatások, kölcsönök visszatérülése ÁH-n belülről | E22: =C22+D22 -> 0
A23: 2.3. | B23: Egyéb működési célú támogatások bevételei államháztartáson belülről | E23: =C23+D23 -> 0
A24: 2.4. | B24: 2.3-ból EU támogatás | E24: =C24+D24 -> 0
A25: 3. | B25: Közhatalmi bevételek
A26: 4. | B26: Felhalmozási célú támogatások államháztartáson belülről (4.1.+…+4.3.) | C26: =+C27+C28+C29 -> 0 | D26: =+D27+D28+D29 -> 0 | E26: =+E27+E28+E29 -> 0
A27: 4.1. | B27: Felhalmozási célú önkormányzati támogatások | E27: =C27+D27 -> 0
A28: 4.2. | B28: Visszatérítendő támogatások, kölcsönök visszatérülése ÁH-n belülről | E28: =C28+D28 -> 0
A29: 4.3. | B29: Egyéb felhalmozási célú támogatások bevételei államháztartáson belülről | E29: =C29+D29 -> 0
A30: 4.4. | B30: 4.3.-ból EU-s támogatás | E30: =C30+D30 -> 0
A31: 5. | B31: Felhalmozási bevételek (5.1.+…+5.3.) | C31: =+C32+C33+C34 -> 0 | D31: =+D32+D33+D34 -> 0 | E31: =+E32+E33+E34 -> 0
A32: 5.1. | B32: Immateriális javak értékesítése | E32: =C32+D32 -> 0
A33: 5.2. | B33: Ingatlanok értékesítése | E33: =C33+D33 -> 0
A34: 5.3. | B34: Egyéb tárgyi eszközök értékesítése | E34: =C34+D34 -> 0
A35: 6. | B35: Működési célú átvett pénzeszközök | E35: =C35+D35 -> 0
A36: 7. | B36: Felhalmozási célú átvett pénzeszközök | E36: =C36+D36 -> 0
A37: 8. | B37: Költségvetési bevételek összesen (1.+…+7.) | C37: =+C8+C20+C25+C26+C31+C35+C36 -> 0 | D37: =+D8+D20+D25+D26+D31+D35+D36 -> 0 | E37: =+E8+E20+E25+E26+E31+E35+E36 -> 0
A38: 9. | B38: Finanszírozási bevételek (9.1.+…+9.3.) | C38: =+C39+C40+C41 -> 0 | D38: =+D39+D40+D41 -> 0 | E38: =+E39+E40+E41 -> 0
A39: 9.1. | B39: Költségvetési maradvány igénybevétele | E39: =C39+D39 -> 0
A40: 9.2. | B40: Vállalkozási maradvány igénybevétele | E40: =C40+D40 -> 0
A41: 9.3. | B41: Irányító szervi (önkormányzati) támogatás (intézményfinanszírozás) | E41: =C41+D41 -> 0
A42: 10. | B42: BEVÉTELEK ÖSSZESEN: (8.+9.) | C42: =+C37+C38 -> 0 | D42: =+D37+D38 -> 0 | E42: =+E37+E38 -> 0
A45: Kiadások
A46: 1. | B46: Működési költségvetés kiadásai (1.1+…+1.5.) | C46: =SUM(C47:C51) -> 0 | D46: =SUM(D47:D51) -> 0 | E46: =SUM(E47:E51) -> 0
A47: 1.1. | B47: Személyi juttatások | E47: =C47+D47 -> 0
A48: 1.2. | B48: Munkaadókat terhelő járulékok és szociális hozzájárulási adó | E48: =C48+D48 -> 0
A49: 1.3. | B49: Dologi kiadások | E49: =C49+D49 -> 0
A50: 1.4. | B50: Ellátottak pénzbeli juttatásai | E50: =C50+D50 -> 0
A51: 1.5. | B51: Egyéb működési célú kiadások | E51: =C51+D51 -> 0
A52: 2. | B52: Felhalmozási költségvetés kiadásai (2.1.+…+2.3.) | C52: =SUM(C53:C55) -> 0 | D52: =SUM(D53:D55) -> 0 | E52: =SUM(E53:E55) -> 0
A53: 2.1. | B53: Beruházások | E53: =C53+D53 -> 0
A54: 2.2. | B54: Felújítások | E54: =C54+D54 -> 0
A55: 2.3. | B55: Egyéb fejlesztési célú kiadások | E55: =C55+D55 -> 0
A56: 2.4. | B56: 2.3.-ból EU-s támogatásból megvalósuló programok, projektek kiadása | E56: =C56+D56 -> 0
A57: 3. | B57: Finanszírozási kiadások | E57: =C57+D57 -> 0
A58: 4. | B58: KIADÁSOK ÖSSZESEN: (1.+2.+3.) | C58: =+C46+C52+C57 -> 0 | D58: =+D46+D52+D57 -> 0 | E58: =+E46+E52+E57 -> 0
A60: Éves tervezett létszám előirányzat (fő) | E60: =C60+D60 -> 0
A61: Közfoglalkoztatottak létszáma (fő) | E61: =C61+D61 -> 0

Sheet 5.3. sz. mell
E1: 5.3. melléklet
A2: Költségvetési szerv | B2: Sajószögedi Általános Művelődési Központ | E2: 03
A3: Feladat megnevezése | B3: Összes bevétel, kiadás | E3: 01
E4: ='5.2.3. sz. mell'!E4 -> Forintban!
A5: Száma | B5: Kiemelt előirányzat, előirányzat megnevezése | C5: Eredeti előirányzat | D5: 1. sz. módosítás (±) | E5: =+CONCATENATE(LEFT(ÖSSZEFÜGGÉSEK!A7,4),"2017.12.31.",CHAR(10),"Módosítás utáni") -> 2017.12.31. Módosítás utáni
A6: A | B6: B | C6: C | D6: D | E6: E=C±D
A7: Bevételek
A8: 1. | B8: Működési bevételek (1.1.+…+1.11.) | C8: =SUM(C9:C19) -> 11409120 | D8: =SUM(D9:D19) -> 1121398 | E8: =SUM(E9:E19) -> 12530518
A9: 1.1. | B9: Készletértékesítés ellenértéke | E9: =C9+D9 -> 0
A10: 1.2. | B10: Szolgáltatások ellenértéke | C10: 100000 | D10: 8906567 | E10: =C10+D10 -> 9006567
A11: 1.3. | B11: Közvetített szolgáltatások értéke | E11: =C11+D11 -> 0
A12: 1.4. | B12: Tulajdonosi bevételek | E12: =C12+D12 -> 0
A13: 1.5. | B13: Ellátási díjak | C13: 8968600 | D13: -8069412 | E13: =C13+D13 -> 899188
A14: 1.6. | B14: Kiszámlázott általános forgalmi adó | C14: 2340520 | D14: 259737 | E14: =C14+D14 -> 2600257
A15: 1.7. | B15: Általános forgalmi adó visszatérülése | E15: =C15+D15 -> 0
A16: 1.8. | B16: Kamatbevételek | D16: 6 | E16: =C16+D16 -> 6
A17: 1.9. | B17: Egyéb pénzügyi műveletek bevételei | E17: =C17+D17 -> 0
A18: 1.10. | B18: Biztosító által fizetett kártérítés | E18: =C18+D18 -> 0
A19: 1.11. | B19: Egyéb működési bevételek | D19: 24500 | E19: =C19+D19 -> 24500
A20: 2. | B20: Működési célú támogatások államháztartáson belülről (2.1.+…+2.3.) | C20: =SUM(C21:C23) -> 0 | D20: =SUM(D21:D23) -> 0 | E20: =SUM(E21:E23) -> 0
A21: 2.1. | B21: Elvonások és befizetések bevételei | E21: =C21+D21 -> 0
A22: 2.2. | B22: Visszatérítendő támogatások, kölcsönök visszatérülése ÁH-n belülről | E22: =C22+D22 -> 0
A23: 2.3. | B23: Egyéb működési célú támogatások bevételei államháztartáson belülről | E23: =C23+D23 -> 0
A24: 2.4. | B24: 2.3.-ból EU támogatás | E24: =C24+D24 -> 0
A25: 3. | B25: Közhatalmi bevételek | E25: =C25+D25 -> 0
A26: 4. | B26: Felhalmozási célú támogatások államháztartáson belülről (4.1.+4.2.) | C26: =+C27+C28 -> 0 | D26: =+D27+D28 -> 0 | E26: =+E27+E28+E29 -> 0
A27: 4.1. | B27: Visszatérítendő támogatások, kölcsönök visszatérülése ÁH-n belülről | E27: =C27+D27 -> 0
A28: 4.2. | B28: Egyéb felhalmozási célú támogatások bevételei államháztartáson belülről | E28: =C28+D28 -> 0
A29: 4.3. | B29: 4.2.-ből EU-s támogatás | E29: =C29+D29 -> 0
A30: 5. | B30: Felhalmozási bevételek (5.1.+…+5.3.) | C30: =+C31+C32+C33 -> 0 | D30: =+D31+D32+D33 -> 0 | E30: =C30+D30 -> 0
A31: 5.1. | B31: Immateriális javak értékesítése | E31: =+E32+E33+E34 -> 233500
A32: 5.2. | B32: Ingatlanok értékesítése | E32: =C32+D32 -> 0
A33: 5.3. | B33: Egyéb tárgyi eszközök értékesítése | E33: =C33+D33 -> 0
A34: 6. | B34: Működési célú átvett pénzeszközök | D34: 233500 | E34: =C34+D34 -> 233500
A35: 7. | B35: Felhalmozási célú átvett pénzeszközök | E35: =C35+D35 -> 0
A36: 8. | B36: KÖLTSÉGVETÉSI BEVÉTELEK ÖSSZESEN (1.+…+7.) | C36: =+C8+C20+C25+C26+C30+C34+C35 -> 11409120 | D36: =+D8+D20+D25+D26+D30+D34+D35 -> 1354898 | E36: =C36+D36 -> 12764018
A37: 9. | B37: Finanszírozási bevételek (9.1.+…+9.3.) | C37: =+C38+C39+C40 -> 83708199 | D37: =+D38+D39+D40 -> -4159604 | E37: =+E8+E20+E25+E26+E31+E35+E36 -> 25528036
A38: 9.1. | B38: Költségvetési maradvány igénybevétele | C38: 151432 | D38: -67 | E38: =C38+D38 -> 151365
A39: 9.2. | B39: Vállalkozási maradvány igénybevétele | E39: =C39+D39 -> 0
A40: 9.3. | B40: Irányító szervi (önkormányzati) támogatás (intézményfinanszírozás) | C40: 83556767 | D40: -4159537 | E40: =C40+D40 -> 79397230
A41: 10. | B41: BEVÉTELEK ÖSSZESEN: (8.+9.) | C41: =+C36+C37 -> 95117319 | D41: =+D36+D37 -> -2804706 | E41: =C41+D41 -> 92312613
A44: Kiadások
A45: 1. | B45: Működési költségvetés kiadásai (1.1+…+1.5.) | C45: =SUM(C46:C50) -> 93885419 | D45: =SUM(D46:D50) -> -2694797 | E45: =SUM(E46:E50) -> 91190622
A46: 1.1. | B46: Személyi juttatások | C46: 41241652 | D46: 1959267 | E46: =C46+D46 -> 43200919
A47: 1.2. | B47: Munkaadókat terhelő járulékok és szociális hozzájárulási adó | C47: 9027641 | D47: 1127615 | E47: =C47+D47 -> 10155256
A48: 1.3. | B48: Dologi kiadások | C48: 43616126 | D48: -5781679 | E48: =C48+D48 -> 37834447
A49: 1.4. | B49: Ellátottak pénzbeli juttatásai | E49: =C49+D49 -> 0
A50: 1.5. | B50: Egyéb működési célú kiadások | E50: =C50+D50 -> 0
A51: 2. | B51: Felhalmozási költségvetés kiadásai (2.1.+…+2.3.) | C51: =SUM(C52:C54) -> 1231900 | D51: =SUM(D52:D54) -> -109909 | E51: =SUM(E52:E54) -> 1121991
A52: 2.1. | B52: Beruházások | C52: 1231900 | D52: -109909 | E52: =C52+D52 -> 1121991
A53: 2.2. | B53: Felújítások | E53: =C53+D53 -> 0
A54: 2.3. | B54: Egyéb fejlesztési célú kiadások | E54: =C54+D54 -> 0
A55: 2.4. | B55: 2.3.-ból EU-s támogatásból megvalósuló programok, projektek kiadása | E55: =C55+D55 -> 0
A56: 3. | B56: Finanszírozási kiadások | E56: =C56+D56 -> 0
A57: 4. | B57: KIADÁSOK ÖSSZESEN: (1.+2.+3.) | C57: =+C45+C51+C56 -> 95117319 | D57: =+D45+D51+D56 -> -2804706 | E57: =+E45+E51+E56 -> 92312613
A59: Éves tervezett létszám előirányzat (fő) | C59: 13 | D59: 4 | E59: =C59+D59 -> 17
A60: Közfoglalkoztatottak létszáma (fő) | C60: 0 | D60: 0 | E60: =C60+D60 -> 0

Sheet 5.3.1. sz. mell
E1: 5.3.1. melléklet
A2: Költségvetési szerv | B2: Sajószögedi Általános Művelődési Központ | E2: 03
A3: Feladat megnevezése | B3: Kötelező feladatok bevételei, kiadásai | E3: 02
E4: ='5.3. sz. mell'!E4 -> Forintban!
A5: Száma | B5: Kiemelt előirányzat, előirányzat megnevezése | C5: Eredeti előirányzat | D5: 1. sz. módosítás (±) | E5: =+CONCATENATE(LEFT(ÖSSZEFÜGGÉSEK!A7,4),"2017.12.31.",CHAR(10),"Módosítás utáni") -> 2017.12.31. Módosítás utáni
A6: A | B6: B | C6: C | D6: D | E6: E=C±D
A7: Bevételek
A8: 1. | B8: Működési bevételek (1.1.+…+1.11.) | C8: =SUM(C9:C19) -> 11409120 | D8: =SUM(D9:D19) -> 1121398 | E8: =SUM(E9:E19) -> 12530518
A9: 1.1. | B9: Készletértékesítés ellenértéke | E9: =C9+D9 -> 0
A10: 1.2. | B10: Szolgáltatások ellenértéke | C10: 100000 | D10: 8906567 | E10: =C10+D10 -> 9006567
A11: 1.3. | B11: Közvetített szolgáltatások értéke | E11: =C11+D11 -> 0
A12: 1.4. | B12: Tulajdonosi bevételek | E12: =C12+D12 -> 0
A13: 1.5. | B13: Ellátási díjak | C13: 8968600 | D13: -8069412 | E13: =C13+D13 -> 899188
A14: 1.6. | B14: Kiszámlázott általános forgalmi adó | C14: 2340520 | D14: 259737 | E14: =C14+D14 -> 2600257
A15: 1.7. | B15: Általános forgalmi adó visszatérülése | E15: =C15+D15 -> 0
A16: 1.8. | B16: Kamatbevételek | D16: 6 | E16: =C16+D16 -> 6
A17: 1.9. | B17: Egyéb pénzügyi műveletek bevételei | E17: =C17+D17 -> 0
A18: 1.10. | B18: Biztosító által fizetett kártérítés | E18: =C18+D18 -> 0
A19: 1.11. | B19: Egyéb működési bevételek | D19: 24500 | E19: =C19+D19 -> 24500
A20: 2. | B20: Működési célú támogatások államháztartáson belülről (2.1.+…+2.3.) | C20: =SUM(C21:C23) -> 0 | D20: =SUM(D21:D23) -> 0 | E20: =SUM(E21:E23) -> 0
A21: 2.1. | B21: Elvonások és befizetések bevételei | E21: =C21+D21 -> 0
A22: 2.2. | B22: Visszatérítendő támogatások, kölcsönök visszatérülése ÁH-n belülről | E22: =C22+D22 -> 0
A23: 2.3. | B23: Egyéb működési célú támogatások bevételei államháztartáson belülről | E23: =C23+D23 -> 0
A24: 2.4. | B24: 2.3.-ból EU támogatás | E24: =C24+D24 -> 0
A25: 3. | B25: Közhatalmi bevételek | E25: =C25+D25 -> 0
A26: 4. | B26: Felhalmozási célú támogatások államháztartáson belülről (4.1.+4.2.) | C26: =+C27+C28 -> 0 | D26: =+D27+D28 -> 0 | E26: =+E27+E28+E29 -> 0
A27: 4.1. | B27: Visszatérítendő támogatások, kölcsönök visszatérülése ÁH-n belülről | E27: =C27+D27 -> 0
A28: 4.2. | B28: Egyéb felhalmozási célú támogatások bevételei államháztartáson belülről | E28: =C28+D28 -> 0
A29: 4.3. | B29: 4.2.-ből EU-s támogatás | E29: =C29+D29 -> 0
A30: 5. | B30: Felhalmozási bevételek (5.1.+…+5.3.) | C30: =+C31+C32+C33 -> 0 | D30: =+D31+D32+D33 -> 0 | E30: =C30+D30 -> 0
A31: 5.1. | B31: Immateriális javak értékesítése | E31: =+E32+E33+E34 -> 233500
A32: 5.2. | B32: Ingatlanok értékesítése | E32: =C32+D32 -> 0
A33: 5.3. | B33: Egyéb tárgyi eszközök értékesítése | E33: =C33+D33 -> 0
A34: 6. | B34: Működési célú átvett pénzeszközök | D34: 233500 | E34: =C34+D34 -> 233500
A35: 7. | B35: Felhalmozási célú átvett pénzeszközök | E35: =C35+D35 -> 0
A36: 8. | B36: KÖLTSÉGVETÉSI BEVÉTELEK ÖSSZESEN (1.+…+7.) | C36: =+C8+C20+C25+C26+C30+C34+C35 -> 11409120 | D36: =+D8+D20+D25+D26+D30+D34+D35 -> 1354898 | E36: =C36+D36 -> 12764018
A37: 9. | B37: Finanszírozási bevételek (9.1.+…+9.3.) | C37: =+C38+C39+C40 -> 83708199 | D37: =+D38+D39+D40 -> -4159604 | E37: =+E8+E20+E25+E26+E31+E35+E36 -> 25528036
A38: 9.1. | B38: Költségvetési maradvány igénybevétele | C38: 151432 | D38: -67 | E38: =C38+D38 -> 151365
A39: 9.2. | B39: Vállalkozási maradvány igénybevétele | E39: =C39+D39 -> 0
A40: 9.3. | B40: Irányító szervi (önkormányzati) támogatás (intézményfinanszírozás) | C40: 83556767 | D40: -4159537 | E40: =C40+D40 -> 79397230
A41: 10. | B41: BEVÉTELEK ÖSSZESEN: (8.+9.) | C41: =+C36+C37 -> 95117319 | D41: =+D36+D37 -> -2804706 | E41: =C41+D41 -> 92312613
A44: Kiadások
A45: 1. | B45: Működési költségvetés kiadásai (1.1+…+1.5.) | C45: =SUM(C46:C50) -> 93885419 | D45: =SUM(D46:D50) -> -2694797 | E45: =SUM(E46:E50) -> 91190622
A46: 1.1. | B46: Személyi juttatások | C46: 41241652 | D46: 1959267 | E46: =C46+D46 -> 43200919
A47: 1.2. | B47: Munkaadókat terhelő járulékok és szociális hozzájárulási adó | C47: 9027641 | D47: 1127615 | E47: =C47+D47 -> 10155256
A48: 1.3. | B48: Dologi kiadások | C48: 43616126 | D48: -5781679 | E48: =C48+D48 -> 37834447
A49: 1.4. | B49: Ellátottak pénzbeli juttatásai | E49: =C49+D49 -> 0
A50: 1.5. | B50: Egyéb működési célú kiadások | E50: =C50+D50 -> 0
A51: 2. | B51: Felhalmozási költségvetés kiadásai (2.1.+…+2.3.) | C51: =SUM(C52:C54) -> 1231900 | D51: =SUM(D52:D54) -> -109909 | E51: =SUM(E52:E54) -> 1121991
A52: 2.1. | B52: Beruházások | C52: 1231900 | D52: -109909 | E52: =C52+D52 -> 1121991
A53: 2.2. | B53: Felújítások | E53: =C53+D53 -> 0
A54: 2.3. | B54: Egyéb fejlesztési célú kiadások | E54: =C54+D54 -> 0
A55: 2.4. | B55: 2.3.-ból EU-s támogatásból megvalósuló programok, projektek kiadása | E55: =C55+D55 -> 0
A56: 3. | B56: Finanszírozási kiadások | E56: =C56+D56 -> 0
A57: 4. | B57: KIADÁSOK ÖSSZESEN: (1.+2.+3.) | C57: =+C45+C51+C56 -> 95117319 | D57: =+D45+D51+D56 -> -2804706 | E57: =+E45+E51+E56 -> 92312613
A59: Éves tervezett létszám előirányzat (fő) | C59: 13 | D59: 4 | E59: =C59+D59 -> 17
A60: Közfoglalkoztatottak létszáma (fő) | C60: 0 | D60: 0 | E60: =C60+D60 -> 0

Sheet 5.3.2. sz. mell
E1: 5.3.2. melléklet
A2: Költségvetési szerv | B2: Sajószögedi Általános Művelődési Központ | E2: 03
A3: Feladat megnevezése | B3: Önként vállalt feladatok bevételei, kiadásai | E3: 03
E4: ='5.3.1. sz. mell'!E4 -> Forintban!
A5: Száma | B5: Kiemelt előirányzat, előirányzat megnevezése | C5: Eredeti előirányzat | D5: 1. sz. módosítás (±) | E5: =+CONCATENATE(LEFT(ÖSSZEFÜGGÉSEK!A7,4),"2017.12.31.",CHAR(10),"Módosítás utáni") -> 2017.12.31. Módosítás utáni
A6: A | B6: B | C6: C | D6: D | E6: E=C±D
A7: Bevételek
A8: 1. | B8: Működési bevételek (1.1.+…+1.11.) | C8: =SUM(C9:C19) -> 0 | D8: =SUM(D9:D19) -> 0 | E8: =SUM(E9:E19) -> 0
A9: 1.1. | B9: Készletértékesítés ellenértéke | E9: =C9+D9 -> 0
A10: 1.2. | B10: Szolgáltatások ellenértéke | E10: =C10+D10 -> 0
A11: 1.3. | B11: Közvetített szolgáltatások értéke | E11: =C11+D11 -> 0
A12: 1.4. | B12: Tulajdonosi bevételek | E12: =C12+D12 -> 0
A13: 1.5. | B13: Ellátási díjak | E13: =C13+D13 -> 0
A14: 1.6. | B14: Kiszámlázott általános forgalmi adó | E14: =C14+D14 -> 0
A15: 1.7. | B15: Általános forgalmi adó visszatérülése | E15: =C15+D15 -> 0
A16: 1.8. | B16: Kamatbevételek | E16: =C16+D16 -> 0
A17: 1.9. | B17: Egyéb pénzügyi műveletek bevételei | E17: =C17+D17 -> 0
A18: 1.10. | B18: Biztosító által fizetett kártérítés | E18: =C18+D18 -> 0
A19: 1.11. | B19: Egyéb működési bevételek | E19: =C19+D19 -> 0
A20: 2. | B20: Működési célú támogatások államháztartáson belülről (2.1.+…+2.3.) | C20: =SUM(C21:C23) -> 0 | D20: =SUM(D21:D23) -> 0 | E20: =SUM(E21:E23) -> 0
A21: 2.1. | B21: Elvonások és befizetések bevételei | E21: =C21+D21 -> 0
A22: 2.2. | B22: Visszatérítendő támogatások, kölcsönök visszatérülése ÁH-n belülről | E22: =C22+D22 -> 0
A23: 2.3. | B23: Egyéb működési célú támogatások bevételei államháztartáson belülről | E23: =C23+D23 -> 0
A24: 2.4. | B24: 2.3.-ból EU támogatás | E24: =C24+D24 -> 0
A25: 3. | B25: Közhatalmi bevételek | E25: =C25+D25 -> 0
A26: 4. | B26: Felhalmozási célú támogatások államháztartáson belülről (4.1.+4.2.) | C26: =+C27+C28 -> 0 | D26: =+D27+D28 -> 0 | E26: =+E27+E28+E29 -> 0
A27: 4.1. | B27: Visszatérítendő támogatások, kölcsönök visszatérülése ÁH-n belülről | E27: =C27+D27 -> 0
A28: 4.2. | B28: Egyéb felhalmozási célú támogatások bevételei államháztartáson belülről | E28: =C28+D28 -> 0
A29: 4.3. | B29: 4.2.-ből EU-s támogatás | E29: =C29+D29 -> 0
A30: 5. | B30: Felhalmozási bevételek (5.1.+…+5.3.) | C30: =+C31+C32+C33 -> 0 | D30: =+D31+D32+D33 -> 0 | E30: =C30+D30 -> 0
A31: 5.1. | B31: Immateriális javak értékesítése | E31: =+E32+E33+E34 -> 0
A32: 5.2. | B32: Ingatlanok értékesítése | E32: =C32+D32 -> 0
A33: 5.3. | B33: Egyéb tárgyi eszközök értékesítése | E33: =C33+D33 -> 0
A34: 6. | B34: Működési célú átvett pénzeszközök | E34: =C34+D34 -> 0
A35: 7. | B35: Felhalmozási célú átvett pénzeszközök | E35: =C35+D35 -> 0
A36: 8. | B36: KÖLTSÉGVETÉSI BEVÉTELEK ÖSSZESEN (1.+…+7.) | C36: =+C8+C20+C25+C26+C30+C34+C35 -> 0 | D36: =+D8+D20+D25+D26+D30+D34+D35 -> 0 | E36: =C36+D36 -> 0
A37: 9. | B37: Finanszírozási bevételek (9.1.+…+9.3.) | C37: =+C38+C39+C40 -> 0 | D37: =+D38+D39+D40 -> 0 | E37: =+E8+E20+E25+E26+E31+E35+E36 -> 0
A38: 9.1. | B38: Költségvetési maradvány igénybevétele | E38: =+E39+E40+E41 -> 0
A39: 9.2. | B39: Vállalkozási maradvány igénybevétele | E39: =C39+D39 -> 0
A40: 9.3. | B40: Irányító szervi (önkormányzati) támogatás (intézményfinanszírozás) | E40: =C40+D40 -> 0
A41: 10. | B41: BEVÉTELEK ÖSSZESEN: (8.+9.) | C41: =+C36+C37 -> 0 | D41: =+D36+D37 -> 0 | E41: =C41+D41 -> 0
A44: Kiadások
A45: 1. | B45: Működési költségvetés kiadásai (1.1+…+1.5.) | C45: =SUM(C46:C50) -> 0 | D45: =SUM(D46:D50) -> 0 | E45: =SUM(E46:E50) -> 0
A46: 1.1. | B46: Személyi juttatások | E46: =C46+D46 -> 0
A47: 1.2. | B47: Munkaadókat terhelő járulékok és szociális hozzájárulási adó | E47: =C47+D47 -> 0
A48: 1.3. | B48: Dologi kiadások | E48: =C48+D48 -> 0
A49: 1.4. | B49: Ellátottak pénzbeli juttatásai | E49: =C49+D49 -> 0
A50: 1.5. | B50: Egyéb működési célú kiadások | E50: =C50+D50 -> 0
A51: 2. | B51: Felhalmozási költségvetés kiadásai (2.1.+…+2.3.) | C51: =SUM(C52:C54) -> 0 | D51: =SUM(D52:D54) -> 0 | E51: =SUM(E52:E54) -> 0
A52: 2.1. | B52: Beruházások | E52: =C52+D52 -> 0
A53: 2.2. | B53: Felújítások | E53: =C53+D53 -> 0
A54: 2.3. | B54: Egyéb fejlesztési célú kiadások | E54: =C54+D54 -> 0
A55: 2.4. | B55: 2.3.-ból EU-s támogatásból megvalósuló programok, projektek kiadása | E55: =C55+D55 -> 0
A56: 3. | B56: Finanszírozási kiadások | E56: =C56+D56 -> 0
A57: 4. | B57: KIADÁSOK ÖSSZESEN: (1.+2.+3.) | C57: =+C45+C51+C56 -> 0 | D57: =+D45+D51+D56 -> 0 | E57: =+E45+E51+E56 -> 0
A59: Éves tervezett létszám előirányzat (fő) | E59: =C59+D59 -> 0
A60: Közfoglalkoztatottak létszáma (fő) | E60: =C60+D60 -> 0

Sheet 5.3.3. sz. mell
E1: 5.3.3. melléklet
A2: Költségvetési szerv | B2: Sajószögedi Általános Művelődési Központ | E2: 03
A3: Feladat megnevezése | B3: Államigazgatási feladatok bevételei, kiadásai | E3: 04
E4: ='5.3.2. sz. mell'!E4 -> Forintban!
A5: Száma | B5: Kiemelt előirányzat, előirányzat megnevezése | C5: Eredeti előirányzat | D5: 1. sz. módosítás (±) | E5: =+CONCATENATE(LEFT(ÖSSZEFÜGGÉSEK!A7,4),"2017.12.31.",CHAR(10),"Módosítás utáni") -> 2017.12.31. Módosítás utáni
A6: A | B6: B | C6: C | D6: D | E6: E=C±D
A7: Bevételek
A8: 1. | B8: Működési bevételek (1.1.+…+1.11.) | C8: =SUM(C9:C19) -> 0 | D8: =SUM(D9:D19) -> 0 | E8: =SUM(E9:E19) -> 0
A9: 1.1. | B9: Készletértékesítés ellenértéke | E9: =C9+D9 -> 0
A10: 1.2. | B10: Szolgáltatások ellenértéke | E10: =C10+D10 -> 0
A11: 1.3. | B11: Közvetített szolgáltatások értéke | E11: =C11+D11 -> 0
A12: 1.4. | B12: Tulajdonosi bevételek | E12: =C12+D12 -> 0
A13: 1.5. | B13: Ellátási díjak | E13: =C13+D13 -> 0
A14: 1.6. | B14: Kiszámlázott általános forgalmi adó | E14: =C14+D14 -> 0
A15: 1.7. | B15: Általános forgalmi adó visszatérülése | E15: =C15+D15 -> 0
A16: 1.8. | B16: Kamatbevételek | E16: =C16+D16 -> 0
A17: 1.9. | B17: Egyéb pénzügyi műveletek bevételei | E17: =C17+D17 -> 0
A18: 1.10. | B18: Biztosító által fizetett kártérítés | E18: =C18+D18 -> 0
A19: 1.11. | B19: Egyéb működési bevételek | E19: =C19+D19 -> 0
A20: 2. | B20: Működési célú támogatások államháztartáson belülről (2.1.+…+2.3.) | C20: =SUM(C21:C23) -> 0 | D20: =SUM(D21:D23) -> 0 | E20: =SUM(E21:E23) -> 0
A21: 2.1. | B21: Elvonások és befizetések bevételei | E21: =C21+D21 -> 0
A22: 2.2. | B22: Visszatérítendő támogatások, kölcsönök visszatérülése ÁH-n belülről | E22: =C22+D22 -> 0
A23: 2.3. | B23: Egyéb működési célú támogatások bevételei államháztartáson belülről | E23: =C23+D23 -> 0
A24: 2.4. | B24: 2.3.-ból EU támogatás | E24: =C24+D24 -> 0
A25: 3. | B25: Közhatalmi bevételek | E25: =C25+D25 -> 0
A26: 4. | B26: Felhalmozási célú támogatások államháztartáson belülről (4.1.+4.2.) | C26: =+C27+C28 -> 0 | D26: =+D27+D28 -> 0 | E26: =+E27+E28+E29 -> 0
A27: 4.1. | B27: Visszatérítendő támogatások, kölcsönök visszatérülése ÁH-n belülről | E27: =C27+D27 -> 0
A28: 4.2. | B28: Egyéb felhalmozási célú támogatások bevételei államháztartáson belülről | E28: =C28+D28 -> 0
A29: 4.3. | B29: 4.2.-ből EU-s támogatás | E29: =C29+D29 -> 0
A30: 5. | B30: Felhalmozási bevételek (5.1.+…+5.3.) | C30: =+C31+C32+C33 -> 0 | D30: =+D31+D32+D33 -> 0 | E30: =C30+D30 -> 0
A31: 5.1. | B31: Immateriális javak értékesítése | E31: =+E32+E33+E34 -> 0
A32: 5.2. | B32: Ingatlanok értékesítése | E32: =C32+D32 -> 0
A33: 5.3. | B33: Egyéb tárgyi eszközök értékesítése | E33: =C33+D33 -> 0
A34: 6. | B34: Működési célú átvett pénzeszközök | E34: =C34+D34 -> 0
A35: 7. | B35: Felhalmozási célú átvett pénzeszközök | E35: =C35+D35 -> 0
A36: 8. | B36: KÖLTSÉGVETÉSI BEVÉTELEK ÖSSZESEN (1.+…+7.) | C36: =+C8+C20+C25+C26+C30+C34+C35 -> 0 | D36: =+D8+D20+D25+D26+D30+D34+D35 -> 0 | E36: =C36+D36 -> 0
A37: 9. | B37: Finanszírozási bevételek (9.1.+…+9.3.) | C37: =+C38+C39+C40 -> 0 | D37: =+D38+D39+D40 -> 0 | E37: =+E8+E20+E25+E26+E31+E35+E36 -> 0
A38: 9.1. | B38: Költségvetési maradvány igénybevétele | E38: =+E39+E40+E41 -> 0
A39: 9.2. | B39: Vállalkozási maradvány igénybevétele | E39: =C39+D39 -> 0
A40: 9.3. | B40: Irányító szervi (önkormányzati) támogatás (intézményfinanszírozás) | E40: =C40+D40 -> 0
A41: 10. | B41: BEVÉTELEK ÖSSZESEN: (8.+9.) | C41: =+C36+C37 -> 0 | D41: =+D36+D37 -> 0 | E41: =C41+D41 -> 0
A44: Kiadások
A45: 1. | B45: Működési költségvetés kiadásai (1.1+…+1.5.) | C45: =SUM(C46:C50) -> 0 | D45: =SUM(D46:D50) -> 0 | E45: =SUM(E46:E50) -> 0
A46: 1.1. | B46: Személyi juttatások | E46: =C46+D46 -> 0
A47: 1.2. | B47: Munkaadókat terhelő járulékok és szociális hozzájárulási adó | E47: =C47+D47 -> 0
A48: 1.3. | B48: Dologi kiadások | E48: =C48+D48 -> 0
A49: 1.4. | B49: Ellátottak pénzbeli juttatásai | E49: =C49+D49 -> 0
A50: 1.5. | B50: Egyéb működési célú kiadások | E50: =C50+D50 -> 0
A51: 2. | B51: Felhalmozási költségvetés kiadásai (2.1.+…+2.3.) | C51: =SUM(C52:C54) -> 0 | D51: =SUM(D52:D54) -> 0 | E51: =SUM(E52:E54) -> 0
A52: 2.1. | B52: Beruházások | E52: =C52+D52 -> 0
A53: 2.2. | B53: Felújítások | E53: =C53+D53 -> 0
A54: 2.3. | B54: Egyéb fejlesztési célú kiadások | E54: =C54+D54 -> 0
A55: 2.4. | B55: 2.3.-ból EU-s támogatásból megvalósuló programok, projektek kiadása | E55: =C55+D55 -> 0
A56: 3. | B56: Finanszírozási kiadások | E56: =C56+D56 -> 0
A57: 4. | B57: KIADÁSOK ÖSSZESEN: (1.+2.+3.) | C57: =+C45+C51+C56 -> 0 | D57: =+D45+D51+D56 -> 0 | E57: =+E45+E51+E56 -> 0
A59: Éves tervezett létszám előirányzat (fő) | E59: =C59+D59 -> 0
A60: Közfoglalkoztatottak létszáma (fő) | E60: =C60+D60 -> 0

Sheet Munka1

Sheet Munka2
