Workbook

Sheet ÖSSZEFÜGGÉSEK
A1: Költségvetési rendelet módosítás űrlapjainak összefüggései:
A6: 2017. évi eredeti előirányzat BEVÉTELEK
A9: 1.1. sz. melléklet Bevételek táblázat C. oszlop 9 sora = | B9: 2.1. számú melléklet C. oszlop 13. sor + 2.2. számú melléklet C. oszlop 12. sor
A10: 1.1 sz. melléklet Bevételek táblázat C. oszlop 17 sora = | B10: 2.1. számú melléklet C. oszlop 24. sor + 2.2. számú melléklet C. oszlop 25. sor
A11: 1.1 sz. melléklet Bevételek táblázat C. oszlop 18 sora = | B11: 2.1. számú melléklet C. oszlop 25. sor + 2.2. számú melléklet C. oszlop 26. sor
A13: =+CONCATENATE(LEFT(A6,4),". évi előirányzat módosítások BEVÉTELEK") -> 2017. évi előirányzat módosítások BEVÉTELEK
A15: 1.1. sz. melléklet Bevételek táblázat D. oszlop 9 sora = | B15: 2.1. számú melléklet D. oszlop 13. sor + 2.2. számú melléklet D. oszlop 12. sor
A16: 1.1. sz. melléklet Bevételek táblázat D. oszlop 17 sora = | B16: 2.1. számú melléklet D. oszlop 24. sor + 2.2. számú melléklet D. oszlop 25. sor
A17: 1.1. sz. melléklet Bevételek táblázat D. oszlop 18 sora = | B17: 2.1. számú melléklet D. oszlop 25. sor + 2.2. számú melléklet D. oszlop 26. sor
A19: =+CONCATENATE(LEFT(A6,4),". módosítás utáni módosított előrirányzatok BEVÉTELEK") -> 2017. módosítás utáni módosított előrirányzatok BEVÉTELEK
A21: 1.1. sz. melléklet Bevételek táblázat E. oszlop 9 sora = | B21: 2.1. számú melléklet E. oszlop 13. sor + 2.2. számú melléklet E. oszlop 12. sor
A22: 1.1. sz. melléklet Bevételek táblázat E. oszlop 17 sora = | B22: 2.1. számú melléklet E. oszlop 24. sor + 2.2. számú melléklet E. oszlop 25. sor
A23: 1.1. sz. melléklet Bevételek táblázat E. oszlop 18 sora = | B23: 2.1. számú melléklet E. oszlop 25. sor + 2.2. számú melléklet E. oszlop 26. sor
A25: =+CONCATENATE(LEFT(A6,4),". évi eredeti előirányzat KIADÁSOK") -> 2017. évi eredeti előirányzat KIADÁSOK
A27: 1.1.sz. melléklet Kiadások táblázat C. oszlop 3 sora = | B27: 2.1. számú melléklet G. oszlop 13. sor + 2.2. számú melléklet G. oszlop 12. sor
A28: 1.1. sz. melléklet Kiadások táblázat C. oszlop 10 sora = | B28: 2.1. számú melléklet G. oszlop 24. sor + 2.2. számú melléklet G. oszlop 25. sor
A29: 1.1. sz. melléklet Kiadások táblázat C. oszlop 11 sora = | B29: 2.1. számú melléklet G. oszlop 25. sor + 2.2. számú melléklet G. oszlop 26. sor
A31: =+CONCATENATE(LEFT(A6,4),". évi előirányzat módosítások KIADÁSOK") -> 2017. évi előirányzat módosítások KIADÁSOK
A33: 1.1. sz. melléklet Kiadások táblázat D. oszlop 3 sora = | B33: 2.1. számú melléklet H. oszlop 13. sor + 2.2. számú melléklet H. oszlop 12. sor
A34: 1.1. sz. melléklet Kiadások táblázat D. oszlop 10 sora = | B34: 2.1. számú melléklet H. oszlop 24. sor + 2.2. számú melléklet H. oszlop 25. sor
A35: 1.1. sz. melléklet Kiadások táblázat D. oszlop 11 sora = | B35: 2.1. számú melléklet H. oszlop 25. sor + 2.2. számú melléklet H. oszlop 26. sor
A37: =+CONCATENATE(LEFT(A6,4),". módosítás utáni módosított előirányzatok KIADÁSOK") -> 2017. módosítás utáni módosított előirányzatok KIADÁSOK
A39: 1.1. sz. melléklet Kiadások táblázat E. oszlop 3 sora = | B39: 2.1. számú melléklet I. oszlop 13. sor + 2.2. számú melléklet I. oszlop 12. sor
A40: 1.1. sz. melléklet Kiadások táblázat E. oszlop 10 sora = | B40: 2.1. számú melléklet I. oszlop 24. sor + 2.2. számú melléklet I. oszlop 25. sor
A41: 1.1.sz. melléklet Kiadások táblázat E. oszlop 11 sora = | B41: 2.1. számú melléklet I. oszlop 25. sor + 2.2. számú melléklet I. oszlop 26. sor

Sheet 1.1.sz.mell.
A1: B E V É T E L E K
A2: 1. sz. táblázat | E2: Forintban!
A3: Sor- szám | B3: Bevételi jogcím | C3: =+CONCATENATE(LEFT(ÖSSZEFÜGGÉSEK!A6,4),". évi") -> 2017. évi
C4: Eredeti előirányzat | D4: 1. sz. módosítás (±) | E4: =+CONCATENATE(LEFT(ÖSSZEFÜGGÉSEK!A6,4),".12.31.",CHAR(10),"Módosítás utáni") -> 2017.12.31. Módosítás utáni
A5: A | B5: B | C5: C | D5: D | E5: E=C±D
A6: 1. | B6: Önkormányzat működési támogatásai (1.1.+…+.1.6.) | C6: =+C7+C8+C9+C10+C11+C12 -> 92207137 | D6: =+D7+D8+D9+D10+D11+D12 -> 11814854 | E6: =+E7+E8+E9+E10+E11+E12 -> 104021991
A7: 1.1. | B7: Helyi önkormányzatok működésének általános támogatása | C7: 30994697 | D7: 1000000 | E7: =C7+D7 -> 31994697
A8: 1.2. | B8: Önkormányzatok egyes köznevelési feladatainak támogatása | C8: 28998310 | D8: 6986249 | E8: =C8+D8 -> 35984559
A9: 1.3. | B9: Önkormányzatok szociális és gyermekjóléti feladatainak támogatása | C9: 29700430 | D9: 590474 | E9: =C9+D9 -> 30290904
A10: 1.4. | B10: Önkormányzatok kulturális feladatainak támogatása | C10: 2513700 | D10: 461367 | E10: =C10+D10 -> 2975067
A11: 1.5. | B11: Működési célú kvi támogatások és kiegészítő támogatások | D11: 2609044 | E11: =C11+D11 -> 2609044
A12: 1.6. | B12: Elszámolásból származó bevételek | D12: 167720 | E12: =C12+D12 -> 167720
A13: 2. | B13: Működési célú támogatások államháztartáson belülről (2.1.+…+.2.5.) | C13: =+C14+C15+C16+C17+C18 -> 16718160 | D13: =+D14+D15+D16+D17+D18 -> 2166783 | E13: =+E14+E15+E16+E17+E18 -> 18884943
A14: 2.1. | B14: Elvonások és befizetések bevételei | E14: =C14+D14 -> 0
A15: 2.2. | B15: Működési célú garancia- és kezességvállalásból megtérülések | E15: =C15+D15 -> 0
A16: 2.3. | B16: Működési célú visszatérítendő támogatások, kölcsönök visszatérülése | E16: =C16+D16 -> 0
A17: 2.4. | B17: Működési célú visszatérítendő támogatások, kölcsönök igénybevétele | E17: =C17+D17 -> 0
A18: 2.5. | B18: Egyéb működési célú támogatások bevételei | C18: 16718160 | D18: 2166783 | E18: =C18+D18 -> 18884943
A19: 2.6. | B19: 2.5.-ből EU-s támogatás | E19: =C19+D19 -> 0
A20: 3. | B20: Felhalmozási célú támogatások államháztartáson belülről (3.1.+…+3.5.) | C20: =+C21+C22+C23+C24+C25 -> 0 | D20: =+D21+D22+D23+D24+D25 -> 160348571 | E20: =+E21+E22+E23+E24+E25 -> 160348571
A21: 3.1. | B21: Felhalmozási célú önkormányzati támogatások | E21: =C21+D21 -> 0
A22: 3.2. | B22: Felhalmozási célú garancia- és kezességvállalásból megtérülések | E22: =C22+D22 -> 0
A23: 3.3. | B23: Felhalmozási célú visszatérítendő támogatások, kölcsönök visszatérülése | E23: =C23+D23 -> 0
A24: 3.4. | B24: Felhalmozási célú visszatérítendő támogatások, kölcsönök igénybevétele | E24: =C24+D24 -> 0
A25: 3.5. | B25: Egyéb felhalmozási célú támogatások bevételei | D25: 160348571 | E25: =C25+D25 -> 160348571
A26: 3.6. | B26: 3.5.-ből EU-s támogatás | D26: 160348571 | E26: =C26+D26 -> 160348571
A27: 4. | B27: Közhatalmi bevételek (4.1.+...+4.7.) | C27: =+C28+C29+C30+C31+C32+C33+C34 -> 113960000 | D27: =+D28+D29+D30+D31+D32+D33+D34 -> 61315260 | E27: =+E28+E29+E30+E31+E32+E33+E34 -> 175275260
A28: 4.1. | B28: Vagyoni tipusú adók | C28: 61300000 | D28: 13845498 | E28: =C28+D28 -> 75145498
A29: 4.2. | B29: Idegenforgalmi adó | E29: =C29+D29 -> 0
A30: 4.3. | B30: Iparűzési adó | C30: 45000000 | D30: 43849420 | E30: =C30+D30 -> 88849420
A31: 4.4. | B31: Talajterhelési díj | E31: =C31+D31 -> 0
A32: 4.5. | B32: Gépjárműadó | C32: 7500000 | D32: 2026565 | E32: =C32+D32 -> 9526565
A33: 4.6. | B33: Egyéb áruhasználati és szolgáltatási adók | C33: 40000 | D33: -40000 | E33: =C33+D33 -> 0
A34: 4.7. | B34: Egyéb közhatalmi bevételek | C34: 120000 | D34: 1633777 | E34: =C34+D34 -> 1753777
A35: 5. | B35: Működési bevételek (5.1.+…+ 5.11.) | C35: =SUM(C36:C46) -> 26998078 | D35: =SUM(D36:D46) -> 16386414 | E35: =SUM(E36:E46) -> 43384492
A36: 5.1. | B36: Készletértékesítés ellenértéke | E36: =C36+D36 -> 0
A37: 5.2. | B37: Szolgáltatások ellenértéke | C37: 1800000 | D37: 11940670 | E37: =C37+D37 -> 13740670
A38: 5.3. | B38: Közvetített szolgáltatások értéke | C38: 700000 | D38: 634806 | E38: =C38+D38 -> 1334806
A39: 5.4. | B39: Tulajdonosi bevételek | D39: 8465556 | E39: =C39+D39 -> 8465556
A40: 5.5. | B40: Ellátási díjak | C40: 19226048 | D40: -9366085 | E40: =C40+D40 -> 9859963
...

Sheet 1.2.sz.mell.
A1: B E V É T E L E K
A2: 1. sz. táblázat | E2: ='1.1.sz.mell.'!E2 -> Forintban!
A3: Sor- szám | B3: Bevételi jogcím | C3: =+CONCATENATE(LEFT(ÖSSZEFÜGGÉSEK!A6,4),". évi") -> 2017. évi
C4: Eredeti előirányzat | D4: 1. sz. módosítás (±) | E4: =+CONCATENATE(LEFT(ÖSSZEFÜGGÉSEK!A6,4),".12.31.",CHAR(10),"Módosítás utáni") -> 2017.12.31. Módosítás utáni
A5: A | B5: B | C5: C | D5: D | E5: E=C±D
A6: 1. | B6: Önkormányzat működési támogatásai (1.1.+…+.1.6.) | C6: =+C7+C8+C9+C10+C11+C12 -> 92207137 | D6: =+D7+D8+D9+D10+D11+D12 -> 11814854 | E6: =+E7+E8+E9+E10+E11+E12 -> 104021991
A7: 1.1. | B7: Helyi önkormányzatok működésének általános támogatása | C7: 30994697 | D7: 1000000 | E7: =C7+D7 -> 31994697
A8: 1.2. | B8: Önkormányzatok egyes köznevelési feladatainak támogatása | C8: 28998310 | D8: 6986249 | E8: =C8+D8 -> 35984559
A9: 1.3. | B9: Önkormányzatok szociális és gyermekjóléti feladatainak támogatása | C9: 29700430 | D9: 590474 | E9: =C9+D9 -> 30290904
A10: 1.4. | B10: Önkormányzatok kulturális feladatainak támogatása | C10: 2513700 | D10: 461367 | E10: =C10+D10 -> 2975067
A11: 1.5. | B11: Működési célú kvi támogatások és kiegészítő támogatások | D11: 2609044 | E11: =C11+D11 -> 2609044
A12: 1.6. | B12: Elszámolásból származó bevételek | D12: 167720 | E12: =C12+D12 -> 167720
A13: 2. | B13: Működési célú támogatások államháztartáson belülről (2.1.+…+.2.5.) | C13: =+C14+C15+C16+C17+C18 -> 16718160 | D13: =+D14+D15+D16+D17+D18 -> 2166783 | E13: =+E14+E15+E16+E17+E18 -> 18884943
A14: 2.1. | B14: Elvonások és befizetések bevételei | E14: =C14+D14 -> 0
A15: 2.2. | B15: Működési célú garancia- és kezességvállalásból megtérülések | E15: =C15+D15 -> 0
A16: 2.3. | B16: Működési célú visszatérítendő támogatások, kölcsönök visszatérülése | E16: =C16+D16 -> 0
A17: 2.4. | B17: Működési célú visszatérítendő támogatások, kölcsönök igénybevétele | E17: =C17+D17 -> 0
A18: 2.5. | B18: Egyéb működési célú támogatások bevételei | C18: 16718160 | D18: 2166783 | E18: =C18+D18 -> 18884943
A19: 2.6. | B19: 2.5.-ből EU-s támogatás | E19: =C19+D19 -> 0
A20: 3. | B20: Felhalmozási célú támogatások államháztartáson belülről (3.1.+…+3.5.) | C20: =+C21+C22+C23+C24+C25 -> 0 | D20: =+D21+D22+D23+D24+D25 -> 160348571 | E20: =+E21+E22+E23+E24+E25 -> 160348571
A21: 3.1. | B21: Felhalmozási célú önkormányzati támogatások | E21: =C21+D21 -> 0
A22: 3.2. | B22: Felhalmozási célú garancia- és kezességvállalásból megtérülések | E22: =C22+D22 -> 0
A23: 3.3. | B23: Felhalmozási célú visszatérítendő támogatások, kölcsönök visszatérülése | E23: =C23+D23 -> 0
A24: 3.4. | B24: Felhalmozási célú visszatérítendő támogatások, kölcsönök igénybevétele | E24: =C24+D24 -> 0
A25: 3.5. | B25: Egyéb felhalmozási célú támogatások bevételei | D25: 160348571 | E25: =C25+D25 -> 160348571
A26: 3.6. | B26: 3.5.-ből EU-s támogatás | D26: 160348571 | E26: =C26+D26 -> 160348571
A27: 4. | B27: Közhatalmi bevételek (4.1.+...+4.7.) | C27: =+C28+C29+C30+C31+C32+C33+C34 -> 113960000 | D27: =+D28+D29+D30+D31+D32+D33+D34 -> 61315260 | E27: =+E28+E29+E30+E31+E32+E33+E34 -> 175275260
A28: 4.1. | B28: Vagyoni tipusú adók | C28: 61300000 | D28: 13845498 | E28: =C28+D28 -> 75145498
A29: 4.2. | B29: Idegenforgalmi adó | E29: =C29+D29 -> 0
A30: 4.3. | B30: Iparűzési adó | C30: 45000000 | D30: 43849420 | E30: =C30+D30 -> 88849420
A31: 4.4. | B31: Talajterhelési díj | E31: =C31+D31 -> 0
A32: 4.5. | B32: Gépjárműadó | C32: 7500000 | D32: 2026565 | E32: =C32+D32 -> 9526565
A33: 4.6. | B33: Egyéb áruhasználati és szolgáltatási adók | C33: 40000 | D33: -40000 | E33: =C33+D33 -> 0
A34: 4.7. | B34: Egyéb közhatalmi bevételek | C34: 120000 | D34: 1633777 | E34: =C34+D34 -> 1753777
A35: 5. | B35: Működési bevételek (5.1.+…+ 5.11.) | C35: =SUM(C36:C46) -> 26998078 | D35: =SUM(D36:D46) -> 16386414 | E35: =SUM(E36:E46) -> 43384492
A36: 5.1. | B36: Készletértékesítés ellenértéke | E36: =C36+D36 -> 0
A37: 5.2. | B37: Szolgáltatások ellenértéke | C37: 1800000 | D37: 11940670 | E37: =C37+D37 -> 13740670
A38: 5.3. | B38: Közvetített szolgáltatások értéke | C38: 700000 | D38: 634806 | E38: =C38+D38 -> 1334806
A39: 5.4. | B39: Tulajdonosi bevételek | D39: 8465556 | E39: =C39+D39 -> 8465556
A40: 5.5. | B40: Ellátási díjak | C40: 19226048 | D40: -9366085 | E40: =C40+D40 -> 9859963
...

Sheet 1.3.sz.mell.
A1: B E V É T E L E K
A2: 1. sz. táblázat | E2: ='1.2.sz.mell.'!E2 -> Forintban!
A3: Sor- szám | B3: Bevételi jogcím | C3: =+CONCATENATE(LEFT(ÖSSZEFÜGGÉSEK!A6,4),". évi") -> 2017. évi
C4: Eredeti előirányzat | D4: 1. sz. módosítás (±) | E4: =+CONCATENATE(LEFT(ÖSSZEFÜGGÉSEK!A6,4),".12.31.",CHAR(10),"Módosítás utáni") -> 2017.12.31. Módosítás utáni
A5: A | B5: B | C5: C | D5: D | E5: E=C±D
A6: 1. | B6: Önkormányzat működési támogatásai (1.1.+…+.1.6.) | C6: =+C7+C8+C9+C10+C11+C12 -> 0 | D6: =+D7+D8+D9+D10+D11+D12 -> 0 | E6: =+E7+E8+E9+E10+E11+E12 -> 0
A7: 1.1. | B7: Helyi önkormányzatok működésének általános támogatása | E7: =C7+D7 -> 0
A8: 1.2. | B8: Önkormányzatok egyes köznevelési feladatainak támogatása | E8: =C8+D8 -> 0
A9: 1.3. | B9: Önkormányzatok szociális és gyermekjóléti feladatainak támogatása | E9: =C9+D9 -> 0
A10: 1.4. | B10: Önkormányzatok kulturális feladatainak támogatása | E10: =C10+D10 -> 0
A11: 1.5. | B11: Működési célú kvi támogatások és kiegészítő támogatások | E11: =C11+D11 -> 0
A12: 1.6. | B12: Elszámolásból származó bevételek | E12: =C12+D12 -> 0
A13: 2. | B13: Működési célú támogatások államháztartáson belülről (2.1.+…+.2.5.) | C13: =+C14+C15+C16+C17+C18 -> 0 | D13: =+D14+D15+D16+D17+D18 -> 0 | E13: =+E14+E15+E16+E17+E18 -> 0
A14: 2.1. | B14: Elvonások és befizetések bevételei | E14: =C14+D14 -> 0
A15: 2.2. | B15: Működési célú garancia- és kezességvállalásból megtérülések | E15: =C15+D15 -> 0
A16: 2.3. | B16: Működési célú visszatérítendő támogatások, kölcsönök visszatérülése | E16: =C16+D16 -> 0
A17: 2.4. | B17: Működési célú visszatérítendő támogatások, kölcsönök igénybevétele | E17: =C17+D17 -> 0
A18: 2.5. | B18: Egyéb működési célú támogatások bevételei | E18: =C18+D18 -> 0
A19: 2.6. | B19: 2.5.-ből EU-s támogatás | E19: =C19+D19 -> 0
A20: 3. | B20: Felhalmozási célú támogatások államháztartáson belülről (3.1.+…+3.5.) | C20: =+C21+C22+C23+C24+C25 -> 0 | D20: =+D21+D22+D23+D24+D25 -> 0 | E20: =+E21+E22+E23+E24+E25 -> 0
A21: 3.1. | B21: Felhalmozási célú önkormányzati támogatások | E21: =C21+D21 -> 0
A22: 3.2. | B22: Felhalmozási célú garancia- és kezességvállalásból megtérülések | E22: =C22+D22 -> 0
A23: 3.3. | B23: Felhalmozási célú visszatérítendő támogatások, kölcsönök visszatérülése | E23: =C23+D23 -> 0
A24: 3.4. | B24: Felhalmozási célú visszatérítendő támogatások, kölcsönök igénybevétele | E24: =C24+D24 -> 0
A25: 3.5. | B25: Egyéb felhalmozási célú támogatások bevételei | E25: =C25+D25 -> 0
A26: 3.6. | B26: 3.5.-ből EU-s támogatás | E26: =C26+D26 -> 0
A27: 4. | B27: Közhatalmi bevételek (4.1.+...+4.7.) | C27: =+C28+C29+C30+C31+C32+C33+C34 -> 0 | D27: =+D28+D29+D30+D31+D32+D33+D34 -> 0 | E27: =+E28+E29+E30+E31+E32+E33+E34 -> 0
A28: 4.1. | B28: Építményadó | D28: =+D29+D30+D31 -> 0 | E28: =C28+D28 -> 0
A29: 4.2. | B29: Idegenforgalmi adó | E29: =C29+D29 -> 0
A30: 4.3. | B30: Iparűzési adó | E30: =C30+D30 -> 0
A31: 4.4. | B31: Talajterhelési díj | E31: =C31+D31 -> 0
A32: 4.5. | B32: Gépjárműadó | E32: =C32+D32 -> 0
A33: 4.6. | B33: Egyéb áruhasználati és szolgáltatási adók | E33: =C33+D33 -> 0
A34: 4.7. | B34: Egyéb közhatalmi bevételek | E34: =C34+D34 -> 0
A35: 5. | B35: Működési bevételek (5.1.+…+ 5.11.) | C35: =SUM(C36:C46) -> 0 | D35: =SUM(D36:D46) -> 0 | E35: =SUM(E36:E46) -> 0
A36: 5.1. | B36: Készletértékesítés ellenértéke | E36: =C36+D36 -> 0
A37: 5.2. | B37: Szolgáltatások ellenértéke | E37: =C37+D37 -> 0
A38: 5.3. | B38: Közvetített szolgáltatások értéke | E38: =C38+D38 -> 0
A39: 5.4. | B39: Tulajdonosi bevételek | E39: =C39+D39 -> 0
A40: 5.5. | B40: Ellátási díjak | E40: =C40+D40 -> 0
...

Sheet 1.4.sz.mell.
A1: B E V É T E L E K
A2: 1. sz. táblázat | E2: ='1.3.sz.mell.'!E2 -> Forintban!
A3: Sor- szám | B3: Bevételi jogcím | C3: =+CONCATENATE(LEFT(ÖSSZEFÜGGÉSEK!A6,4),". évi") -> 2017. évi
C4: Eredeti előirányzat | D4: 1. sz. módosítás (±) | E4: =+CONCATENATE(LEFT(ÖSSZEFÜGGÉSEK!A6,4),".12.31",CHAR(10),"Módosítás utáni") -> 2017.12.31 Módosítás utáni
A5: A | B5: B | C5: C | D5: D | E5: E=C±D
A6: 1. | B6: Önkormányzat működési támogatásai (1.1.+…+.1.6.) | C6: =+C7+C8+C9+C10+C11+C12 -> 0 | D6: =+D7+D8+D9+D10+D11+D12 -> 0 | E6: =+E7+E8+E9+E10+E11+E12 -> 0
A7: 1.1. | B7: Helyi önkormányzatok működésének általános támogatása | E7: =C7+D7 -> 0
A8: 1.2. | B8: Önkormányzatok egyes köznevelési feladatainak támogatása | E8: =C8+D8 -> 0
A9: 1.3. | B9: Önkormányzatok szociális és gyermekjóléti feladatainak támogatása | E9: =C9+D9 -> 0
A10: 1.4. | B10: Önkormányzatok kulturális feladatainak támogatása | E10: =C10+D10 -> 0
A11: 1.5. | B11: Működési célú kvi támogatások és kiegészítő támogatások | E11: =C11+D11 -> 0
A12: 1.6. | B12: Elszámolásból származó bevételek | E12: =C12+D12 -> 0
A13: 2. | B13: Működési célú támogatások államháztartáson belülről (2.1.+…+.2.5.) | C13: =+C14+C15+C16+C17+C18 -> 0 | D13: =+D14+D15+D16+D17+D18 -> 0 | E13: =+E14+E15+E16+E17+E18 -> 0
A14: 2.1. | B14: Elvonások és befizetések bevételei | E14: =C14+D14 -> 0
A15: 2.2. | B15: Működési célú garancia- és kezességvállalásból megtérülések | E15: =C15+D15 -> 0
A16: 2.3. | B16: Működési célú visszatérítendő támogatások, kölcsönök visszatérülése | E16: =C16+D16 -> 0
A17: 2.4. | B17: Működési célú visszatérítendő támogatások, kölcsönök igénybevétele | E17: =C17+D17 -> 0
A18: 2.5. | B18: Egyéb működési célú támogatások bevételei | E18: =C18+D18 -> 0
A19: 2.6. | B19: 2.5.-ből EU-s támogatás | E19: =C19+D19 -> 0
A20: 3. | B20: Felhalmozási célú támogatások államháztartáson belülről (3.1.+…+3.5.) | C20: =+C21+C22+C23+C24+C25 -> 0 | D20: =+D21+D22+D23+D24+D25 -> 0 | E20: =+E21+E22+E23+E24+E25 -> 0
A21: 3.1. | B21: Felhalmozási célú önkormányzati támogatások | E21: =C21+D21 -> 0
A22: 3.2. | B22: Felhalmozási célú garancia- és kezességvállalásból megtérülések | E22: =C22+D22 -> 0
A23: 3.3. | B23: Felhalmozási célú visszatérítendő támogatások, kölcsönök visszatérülése | E23: =C23+D23 -> 0
A24: 3.4. | B24: Felhalmozási célú visszatérítendő támogatások, kölcsönök igénybevétele | E24: =C24+D24 -> 0
A25: 3.5. | B25: Egyéb felhalmozási célú támogatások bevételei | E25: =C25+D25 -> 0
A26: 3.6. | B26: 3.5.-ből EU-s támogatás | E26: =C26+D26 -> 0
A27: 4. | B27: Közhatalmi bevételek (4.1.+...+4.7.) | C27: =+C28+C29+C30+C31+C32+C33+C34 -> 0 | D27: =+D28+D29+D30+D31+D32+D33+D34 -> 0 | E27: =+E28+E29+E30+E31+E32+E33+E34 -> 0
A28: 4.1. | B28: Építményadó | D28: =+D29+D30+D31 -> 0 | E28: =C28+D28 -> 0
A29: 4.2. | B29: Idegenforgalmi adó | E29: =C29+D29 -> 0
A30: 4.3. | B30: Iparűzési adó | E30: =C30+D30 -> 0
A31: 4.4. | B31: Talajterhelési díj | E31: =C31+D31 -> 0
A32: 4.5. | B32: Gépjárműadó | E32: =C32+D32 -> 0
A33: 4.6. | B33: Egyéb áruhasználati és szolgáltatási adók | E33: =C33+D33 -> 0
A34: 4.7. | B34: Egyéb közhatalmi bevételek | E34: =C34+D34 -> 0
A35: 5. | B35: Működési bevételek (5.1.+…+ 5.11.) | C35: =SUM(C36:C46) -> 0 | D35: =SUM(D36:D46) -> 0 | E35: =SUM(E36:E46) -> 0
A36: 5.1. | B36: Készletértékesítés ellenértéke | E36: =C36+D36 -> 0
A37: 5.2. | B37: Szolgáltatások ellenértéke | E37: =C37+D37 -> 0
A38: 5.3. | B38: Közvetített szolgáltatások értéke | E38: =C38+D38 -> 0
A39: 5.4. | B39: Tulajdonosi bevételek | E39: =C39+D39 -> 0
A40: 5.5. | B40: Ellátási díjak | E40: =C40+D40 -> 0
...

Sheet 2.1.sz.mell  
B1: I. Működési célú bevételek és kiadások mérlege (Önkormányzati szinten) | J1: 2.1. melléklet
I2: ='1.4.sz.mell.'!E2 -> Forintban!
A3: Sor- szám | B3: Bevételek | F3: Kiadások
B4: Megnevezés | C4: =+CONCATENATE('1.1.sz.mell.'!C3," eredeti előirányzat") -> 2017. évi eredeti előirányzat | D4: =+CONCATENATE('1.1.sz.mell.'!C3," 1. sz. módosítás (±)") -> 2017. évi 1. sz. módosítás (±) | E4: =+CONCATENATE(LEFT('1.1.sz.mell.'!C3,4),".12.31. Módisítás után" ) -> 2017.12.31. Módisítás után | F4: Megnevezés | G4: =+C4 -> 2017. évi eredeti előirányzat | H4: =+D4 -> 2017. évi 1. sz. módosítás (±) | I4: =+E4 -> 2017.12.31. Módisítás után
A5: A | B5: B | C5: C | D5: D | E5: E=C±D | F5: F | G5: G | H5: H | I5: I=G±H
A6: 1. | B6: Önkormányzatok működési támogatásai | C6: 92207137 | D6: 11814854 | E6: =C6+D6 -> 104021991 | F6: Személyi juttatások | G6: 113513122 | H6: 6858949 | I6: =G6+H6 -> 120372071
A7: 2. | B7: Működési célú támogatások államháztartáson belülről | C7: 16718160 | D7: 2166783 | E7: =C7+D7 -> 18884943 | F7: Munkaadókat terhelő járulékok és szociális hozzájárulási adó | G7: 23477193 | H7: 2969301 | I7: =G7+H7 -> 26446494
A8: 3. | B8: 2.-ból EU-s támogatás | E8: =C8+D8 -> 0 | F8: Dologi kiadások | G8: 121575270 | H8: -13947603 | I8: =G8+H8 -> 107627667
A9: 4. | B9: Közhatalmi bevételek | C9: 113960000 | D9: 61315260 | E9: =C9+D9 -> 175275260 | F9: Ellátottak pénzbeli juttatásai | G9: 10680000 | H9: -1976052 | I9: =G9+H9 -> 8703948
A10: 5. | B10: Működési bevételek | C10: 26998078 | D10: 16386414 | E10: =C10+D10 -> 43384492 | F10: Egyéb működési célú kiadások | G10: 33560000 | H10: 2303548 | I10: =G10+H10 -> 35863548
A11: 6. | B11: Működési célú átvett pénzeszközök | D11: 333500 | E11: =C11+D11 -> 333500 | F11: Tartalékok | G11: 2500000 | H11: -2500000 | I11: =G11+H11 -> 0
A12: 7. | B12: 6.-ból EU-s támogatás (közvetlen) | E12: =C12+D12 -> 0 | I12: =G12+H12 -> 0
A13: 8. | E13: =C13+D13 -> 0 | I13: =G13+H13 -> 0
A14: 9. | E14: =C14+D14 -> 0 | I14: =G14+H14 -> 0
A15: 10. | E15: =C15+D15 -> 0 | I15: =G15+H15 -> 0
A16: 11. | E16: =C16+D16 -> 0 | I16: =G16+H16 -> 0
A17: 12. | I17: =G17+H17 -> 0
A18: 13. | B18: Költségvetési bevételek összesen (1.+2.+4.+5.+6.+8.+…+12.) | C18: =SUM(C6:C17) -> 249883375 | D18: =SUM(D6:D17) -> 92016811 | E18: =SUM(E6:E17) -> 341900186 | F18: Költségvetési kiadások összesen (1.+...+12.) | G18: =SUM(G6:G17) -> 305305585 | H18: =SUM(H6:H17) -> -6291857 | I18: =SUM(I6:I17) -> 299013728
A19: 14. | B19: Hiány belső finanszírozásának bevételei (15.+…+18. ) | C19: =+C20+C21+C22+C23 -> 6981293 | D19: =+D20+D21+D22+D23 -> 2620749 | E19: =+E20+E21+E22+E23 -> 9602042 | F19: Értékpapír vásárlása, visszavásárlása | I19: =G19+H19 -> 0
A20: 15. | B20: Költségvetési maradvány igénybevétele | C20: 6981293 | D20: 2620749 | E20: =C20+D20 -> 9602042 | F20: Likviditási célú hitelek törlesztése | I20: =G20+H20 -> 0
A21: 16. | B21: Vállalkozási maradvány igénybevétele | E21: =C21+D21 -> 0 | F21: Rövid lejáratú hitelek törlesztése | I21: =G21+H21 -> 0
A22: 17. | B22: Betét visszavonásából származó bevétel | E22: =C22+D22 -> 0 | F22: Hosszú lejáratú hitelek törlesztése | I22: =G22+H22 -> 0
A23: 18. | B23: Egyéb belső finanszírozási bevételek | E23: =C23+D23 -> 0 | F23: Kölcsön törlesztése | I23: =G23+H23 -> 0
A24: 19. | B24: Hiány külső finanszírozásának bevételei (20.+…+21.) | C24: =+C25+C26 -> 46694266 | D24: =+D25+D26 -> 36885776 | E24: =+E25+E26 -> 83580042 | F24: Forgatási célú belföldi, külföldi értékpapírok vásárlása | H24: 75000000 | I24: =G24+H24 -> 75000000
A25: 20. | B25: Likviditási célú hitelek, kölcsönök felvétele | E25: =C25+D25 -> 0 | F25: Pénzeszközök lekötött betétként elhelyezése | I25: =G25+H25 -> 0
A26: 21. | B26: Értékpapírok bevételei | C26: 46694266 | D26: 36885776 | E26: =C26+D26 -> 83580042 | F26: Adóssághoz nem kapcsolódó származékos ügyletek | I26: =G26+H26 -> 0
A27: 22. | B27: Váltóbevételek | E27: =C27+D27 -> 0 | F27: Váltókiadások | I27: =G27+H27 -> 0
A28: 23. | B28: Adóssághoz nem kapcsolódó származékos ügyletek bevételei | E28: =C28+D28 -> 0 | F28: Államháztartáson belüli megelőlegezés visszafizetése | H28: 3277299 | I28: =G28+H28 -> 3277299
A29: 24. | B29: Működési célú finanszírozási bevételek összesen (14.+19.+22.+23.) | C29: =+C19+C24+C27+C28 -> 53675559 | D29: =+D19+D24+D27+D28 -> 39506525 | E29: =+E19+E24+E27+E28 -> 93182084 | F29: Működési célú finanszírozási kiadások összesen (14.+...+23.) | G29: =SUM(G19:G28) -> 0 | H29: =SUM(H19:H28) -> 78277299 | I29: =SUM(I19:I28) -> 78277299
A30: 25. | B30: BEVÉTEL ÖSSZESEN (13.+24.) | C30: =+C18+C29 -> 303558934 | D30: =+D18+D29 -> 131523336 | E30: =+E18+E29 -> 435082270 | F30: KIADÁSOK ÖSSZESEN (13.+24.) | G30: =+G18+G29 -> 305305585 | H30: =+H18+H29 -> 71985442 | I30: =+I18+I29 -> 377291027
A31: 26. | B31: Költségvetési hiány: | C31: =IF(C18-G18<0,G18-C18,"-") -> 55422210 | D31: =IF(D18-H18<0,H18-D18,"-") -> - | E31: =IF(E18-I18<0,I18-E18,"-") -> - | F31: Költségvetési többlet: | G31: =IF(C18-G18>0,C18-G18,"-") -> - | H31: =IF(D18-H18>0,D18-H18,"-") -> 98308668 | I31: =IF(E18-I18>0,E18-I18,"-") -> 42886458
A32: 27. | B32: Bruttó hiány: | C32: =IF(C30-G30<0,G30-C30,"-") -> 1746651 | D32: =IF(D30-H30<0,H30-D30,"-") -> - | E32: =IF(E30-I30<0,I30-E30,"-") -> - | F32: Bruttó többlet: | G32: =IF(C30-G30>0,C30-G30,"-") -> - | H32: =IF(D30-H30>0,D30-H30,"-") -> 59537894 | I32: =IF(E30-I30>0,E30-I30,"-") -> 57791243

Sheet 2.2.sz.mell  
B1: II. Felhalmozási célú bevételek és kiadások mérlege (Önkormányzati szinten) | J1: 2.2. melléklet
I2: ='2.1.sz.mell '!I2 -> Forintban!
A3: Sor- szám | B3: Bevételek | F3: Kiadások
B4: Megnevezés | C4: =+CONCATENATE('1.1.sz.mell.'!C3," eredeti előirányzat") -> 2017. évi eredeti előirányzat | D4: =+CONCATENATE('1.1.sz.mell.'!C3," 1. sz. módosítás (±)") -> 2017. évi 1. sz. módosítás (±) | E4: =+CONCATENATE(LEFT('1.1.sz.mell.'!C3,4),". 12.31. Módisítás után" ) -> 2017. 12.31. Módisítás után | F4: Megnevezés | G4: =+C4 -> 2017. évi eredeti előirányzat | H4: =+D4 -> 2017. évi 1. sz. módosítás (±) | I4: =+E4 -> 2017. 12.31. Módisítás után
A5: A | B5: B | C5: C | D5: D | E5: E=C±D | F5: F | G5: G | H5: H | I5: I=G±H
A6: 1. | B6: Felhalmozási célú támogatások államháztartáson belülről | D6: 160348571 | E6: =C6+D6 -> 160348571 | F6: Beruházások | G6: 6983349 | H6: 175357067 | I6: =G6+H6 -> 182340416
A7: 2. | B7: 1.-ből EU-s támogatás | D7: 160348571 | E7: =C7+D7 -> 160348571 | F7: 1.-ből EU-s forrásból megvalósuló beruházás | H7: 160348571 | I7: =G7+H7 -> 160348571
A8: 3. | B8: Felhalmozási bevételek | C8: 10000000 | D8: -1595350 | E8: =C8+D8 -> 8404650 | F8: Felújítások | G8: 1270000 | H8: 40248298 | I8: =G8+H8 -> 41518298
A9: 4. | B9: Felhalmozási célú átvett pénzeszközök átvétele | E9: =C9+D9 -> 0 | F9: 3.-ból EU-s forrásból megvalósuló felújítás | I9: =G9+H9 -> 0
A10: 5. | B10: 4.-ből EU-s támogatás (közvetlen) | E10: =C10+D10 -> 0 | F10: Egyéb felhalmozási kiadások | H10: 3600000 | I10: =G10+H10 -> 3600000
A11: 6. | B11: Egyéb felhalmozási célú bevételek | E11: =C11+D11 -> 0 | I11: =G11+H11 -> 0
A12: 7. | B12: Egyéb felhalmozási célú átvett pénzeszközök | D12: 914250 | E12: =C12+D12 -> 914250 | I12: =G12+H12 -> 0
A13: 8. | E13: =C13+D13 -> 0 | I13: =G13+H13 -> 0
A14: 9. | E14: =C14+D14 -> 0 | I14: =G14+H14 -> 0
A15: 10. | E15: =C15+D15 -> 0 | I15: =G15+H15 -> 0
A16: 11. | E16: =C16+D16 -> 0 | F16: Tartalékok | I16: =G16+H16 -> 0
A17: 12. | B17: Költségvetési bevételek összesen: (1.+3.+4.+6.+…+11.) | C17: =+C6+C8+C9+C11+C12+C13+C14+C15+C16 -> 10000000 | D17: =+D6+D8+D9+D11+D12+D13+D14+D15+D16 -> 159667471 | E17: =+E6+E8+E9+E11+E12+E13+E14+E15+E16 -> 169667471 | F17: Költségvetési kiadások összesen: (1.+3.+5.+...+11.) | G17: =+G6+G8+G10+G11+G12+G13+G14+G15+G16 -> 8253349 | H17: =+H6+H8+H10+H11+H12+H13+H14+H15+H16 -> 219205365 | I17: =+I6+I8+I10+I11+I12+I13+I14+I15+I16 -> 227458714
A18: 13. | B18: Hiány belső finanszírozás bevételei ( 14+…+18) | C18: =+C19+C20+C21+C22+C23 -> 0 | D18: =+D19+D20+D21+D22+D23 -> 0 | E18: =+E19+E20+E21+E22+E23 -> 0 | F18: Értékpapír vásárlása, visszavásárlása | I18: =G18+H18 -> 0
A19: 14. | B19: Költségvetési maradvány igénybevétele | E19: =C19+D19 -> 0 | F19: Hitelek törlesztése | I19: =G19+H19 -> 0
A20: 15. | B20: Vállalkozási maradvány igénybevétele | E20: =C20+D20 -> 0 | F20: Rövid lejáratú hitelek törlesztése | I20: =G20+H20 -> 0
A21: 16. | B21: Betét visszavonásából származó bevétel | E21: =C21+D21 -> 0 | F21: Hosszú lejáratú hitelek törlesztése | I21: =G21+H21 -> 0
A22: 17. | B22: Értékpapír értékesítése | E22: =C22+D22 -> 0 | F22: Kölcsön törlesztése | I22: =G22+H22 -> 0
A23: 18. | B23: Egyéb belső finanszírozási bevételek | E23: =C23+D23 -> 0 | F23: Befektetési célú belföldi, külföldi értékpapírok vásárlása | I23: =G23+H23 -> 0
A24: 19. | B24: Hiány külső finanszírozásának bevételei (20+…+24 ) | C24: =+C25+C26+C27+C28+C29 -> 0 | D24: =+D25+D26+D27+D28+D29 -> 0 | E24: =+E25+E26+E27+E28+E29 -> 0 | F24: Betét elhelyezése | I24: =G24+H24 -> 0
A25: 20. | B25: Hosszú lejáratú hitelek, kölcsönök felvétele | E25: =C25+D25 -> 0 | F25: Pénzügyi lízing kiadásai | I25: =G25+H25 -> 0
A26: 21. | B26: Likviditási célú hitelek, kölcsönök felvétele | E26: =C26+D26 -> 0 | I26: =G26+H26 -> 0
A27: 22. | B27: Rövid lejáratú hitelek, kölcsönök felvétele | E27: =C27+D27 -> 0 | I27: =G27+H27 -> 0
A28: 23. | B28: Értékpapírok kibocsátása | E28: =C28+D28 -> 0 | I28: =G28+H28 -> 0
A29: 24. | B29: Egyéb külső finanszírozási bevételek | E29: =C29+D29 -> 0 | I29: =G29+H29 -> 0
A30: 25. | B30: Felhalmozási célú finanszírozási bevételek összesen (13.+19.) | C30: =+C18+C24 -> 0 | D30: =+D18+D24 -> 0 | E30: =+E18+E24 -> 0 | F30: Felhalmozási célú finanszírozási kiadások összesen (13.+...+24.) | G30: =SUM(G18:G29) -> 0 | H30: =SUM(H18:H29) -> 0 | I30: =SUM(I18:I29) -> 0
A31: 26. | B31: BEVÉTEL ÖSSZESEN (12+25) | C31: =+C17+C30 -> 10000000 | D31: =+D17+D30 -> 159667471 | E31: =+E17+E30 -> 169667471 | F31: KIADÁSOK ÖSSZESEN (12+25) | G31: =+G17+G30 -> 8253349 | H31: =+H17+H30 -> 219205365 | I31: =+I17+I30 -> 227458714
A32: 27. | B32: Költségvetési hiány: | C32: =IF(C17-G17<0,G17-C17,"-") -> - | D32: =IF(D17-H17<0,H17-D17,"-") -> 59537894 | E32: =IF(E17-I17<0,I17-E17,"-") -> 57791243 | F32: Költségvetési többlet: | G32: =IF(C17-G17>0,C17-G17,"-") -> 1746651 | H32: =IF(D17-H17>0,D17-H17,"-") -> - | I32: =IF(E17-I17>0,E17-I17,"-") -> -
A33: 28. | B33: Bruttó hiány: | C33: =IF(C31-G31<0,G31-C31,"-") -> - | D33: =IF(D31-H31<0,H31-D31,"-") -> 59537894 | E33: =IF(E31-I31<0,I31-E31,"-") -> 57791243 | F33: Bruttó többlet: | G33: =IF(C31-G31>0,C31-G31,"-") -> 1746651 | H33: =IF(D31-H31>0,D31-H31,"-") -> - | I33: =IF(E31-I31>0,E31-I31,"-") -> -

Sheet ELLENŐRZÉS-1.sz.2.a.sz.2.b.sz.
A1: Költségvetés módosítás űrlapjainak összefüggései: | E1: ELTÉRÉS
A4: =+ÖSSZEFÜGGÉSEK!A6 -> 2017. évi eredeti előirányzat BEVÉTELEK
A6: 1.1. sz. melléklet Bevételek táblázat C. oszlop 9 sora = | B6: =+'1.1.sz.mell.'!C63 -> 259883375 | C6: 2.1. számú melléklet C. oszlop 13. sor + 2.2. számú melléklet C. oszlop 12. sor | D6: =+'2.1.sz.mell '!C18+'2.2.sz.mell '!C17 -> 259883375 | E6: =+B6-D6 -> 0
A7: 1.1. sz. melléklet Bevételek táblázat C. oszlop 17 sora = | B7: =+'1.1.sz.mell.'!C87 -> 53675559 | C7: 2.1. számú melléklet C. oszlop 24. sor + 2.2. számú melléklet C. oszlop 25. sor | D7: =+'2.1.sz.mell '!C29+'2.2.sz.mell '!C30 -> 53675559 | E7: =+B7-D7 -> 0
A8: 1.1. sz. melléklet Bevételek táblázat C. oszlop 18 sora = | B8: =+'1.1.sz.mell.'!C88 -> 313558934 | C8: 2.1. számú melléklet C. oszlop 25. sor + 2.2. számú melléklet C. oszlop 26. sor | D8: =+'2.1.sz.mell '!C30+'2.2.sz.mell '!C31 -> 313558934 | E8: =+B8-D8 -> 0
A10: =+ÖSSZEFÜGGÉSEK!A13 -> 2017. évi előirányzat módosítások BEVÉTELEK
A12: 1.1. sz. melléklet Bevételek táblázat D. oszlop 9 sora = | B12: =+'1.1.sz.mell.'!D63 -> 251684282 | C12: 2.1. számú melléklet D. oszlop 13. sor + 2.2. számú melléklet D. oszlop 12. sor | D12: =+'2.1.sz.mell '!D18+'2.2.sz.mell '!D17 -> 251684282 | E12: =+B12-D12 -> 0
A13: 1.1. sz. melléklet Bevételek táblázat D. oszlop 17 sora = | B13: =+'1.1.sz.mell.'!D87 -> 39506525 | C13: 2.1. számú melléklet D. oszlop 24. sor + 2.2. számú melléklet D. oszlop 25. sor | D13: =+'2.1.sz.mell '!D29+'2.2.sz.mell '!D30 -> 39506525 | E13: =+B13-D13 -> 0
A14: 1.1. sz. melléklet Bevételek táblázat D. oszlop 18 sora = | B14: =+'1.1.sz.mell.'!D88 -> 291190807 | C14: 2.1. számú melléklet D. oszlop 25. sor + 2.2. számú melléklet D. oszlop 26. sor | D14: =+'2.1.sz.mell '!D30+'2.2.sz.mell '!D31 -> 291190807 | E14: =+B14-D14 -> 0
A16: =+ÖSSZEFÜGGÉSEK!A19 -> 2017. módosítás utáni módosított előrirányzatok BEVÉTELEK
A18: 1.1. sz. melléklet Bevételek táblázat E. oszlop 9 sora = | B18: =+'1.1.sz.mell.'!E63 -> 511567657 | C18: 2.1. számú melléklet E. oszlop 13. sor + 2.2. számú melléklet E. oszlop 12. sor | D18: =+'2.1.sz.mell '!E18+'2.2.sz.mell '!E17 -> 511567657 | E18: =+B18-D18 -> 0
A19: 1.1. sz. melléklet Bevételek táblázat E. oszlop 17 sora = | B19: =+'1.1.sz.mell.'!E87 -> 93182084 | C19: 2.1. számú melléklet E. oszlop 24. sor + 2.2. számú melléklet E. oszlop 25. sor | D19: =+'2.1.sz.mell '!E29+'2.2.sz.mell '!E30 -> 93182084 | E19: =+B19-D19 -> 0
A20: 1.1. sz. melléklet Bevételek táblázat E. oszlop 18 sora = | B20: =+'1.1.sz.mell.'!E88 -> 604749741 | C20: 2.1. számú melléklet E. oszlop 25. sor + 2.2. számú melléklet E. oszlop 26. sor | D20: =+'2.1.sz.mell '!E30+'2.2.sz.mell '!E31 -> 604749741 | E20: =+B20-D20 -> 0
A22: =+ÖSSZEFÜGGÉSEK!A25 -> 2017. évi eredeti előirányzat KIADÁSOK
A24: 1.1. sz. melléklet Kiadások táblázat C. oszlop 3 sora = | B24: =+'1.1.sz.mell.'!C130 -> 313558934 | C24: 2.1. számú melléklet G. oszlop 13. sor + 2.2. számú melléklet G. oszlop 12. sor | D24: =+'2.1.sz.mell '!G18+'2.2.sz.mell '!G17 -> 313558934 | E24: =+B24-D24 -> 0
A25: 1.1. sz. melléklet Kiadások táblázat C. oszlop 10 sora = | B25: =+'1.1.sz.mell.'!C155 -> 0 | C25: 2.1. számú melléklet G. oszlop 24. sor + 2.2. számú melléklet G. oszlop 25. sor | D25: =+'2.1.sz.mell '!G29+'2.2.sz.mell '!G30 -> 0 | E25: =+B25-D25 -> 0
A26: 1.1. sz. melléklet Kiadások táblázat C. oszlop 11 sora = | B26: =+'1.1.sz.mell.'!C156 -> 313558934 | C26: 2.1. számú melléklet G. oszlop 25. sor + 2.2. számú melléklet G. oszlop 26. sor | D26: =+'2.1.sz.mell '!G30+'2.2.sz.mell '!G31 -> 313558934 | E26: =+B26-D26 -> 0
A28: =+ÖSSZEFÜGGÉSEK!A31 -> 2017. évi előirányzat módosítások KIADÁSOK
A30: 1.1. sz. melléklet Kiadások táblázat D. oszlop 3 sora = | B30: =+'1.1.sz.mell.'!D130 -> 212913508 | C30: 2.1. számú melléklet H. oszlop 13. sor + 2.2. számú melléklet H. oszlop 12. sor | D30: =+'2.1.sz.mell '!H18+'2.2.sz.mell '!H17 -> 212913508 | E30: =+B30-D30 -> 0
A31: 1.1. sz. melléklet Kiadások táblázat D. oszlop 10 sora = | B31: =+'1.1.sz.mell.'!D155 -> 78277299 | C31: 2.1. számú melléklet H. oszlop 24. sor + 2.2. számú melléklet H. oszlop 25. sor | D31: =+'2.1.sz.mell '!H29+'2.2.sz.mell '!H30 -> 78277299 | E31: =+B31-D31 -> 0
A32: 1.1. sz. melléklet Kiadások táblázat D. oszlop 11 sora = | B32: =+'1.1.sz.mell.'!D156 -> 291190807 | C32: 2.1. számú melléklet H. oszlop 25. sor + 2.2. számú melléklet H. oszlop 26. sor | D32: =+'2.1.sz.mell '!H30+'2.2.sz.mell '!H31 -> 291190807 | E32: =+B32-D32 -> 0
A34: =+ÖSSZEFÜGGÉSEK!A37 -> 2017. módosítás utáni módosított előirányzatok KIADÁSOK
A36: 1.1. sz. melléklet Kiadások táblázat E. oszlop 3 sora = | B36: =+'1.1.sz.mell.'!E130 -> 526472442 | C36: 2.1. számú melléklet I. oszlop 13. sor + 2.2. számú melléklet I. oszlop 12. sor | D36: =+'2.1.sz.mell '!I18+'2.2.sz.mell '!I17 -> 526472442 | E36: =+B36-D36 -> 0
A37: 1.1. sz. melléklet Kiadások táblázat E. oszlop 10 sora = | B37: =+'1.1.sz.mell.'!E155 -> 78277299 | C37: 2.1. számú melléklet I. oszlop 24. sor + 2.2. számú melléklet I. oszlop 25. sor | D37: =+'2.1.sz.mell '!I29+'2.2.sz.mell '!I30 -> 78277299 | E37: =+B37-D37 -> 0
A38: 1.1. sz. melléklet Kiadások táblázat E. oszlop 11 sora = | B38: =+'1.1.sz.mell.'!E156 -> 604749741 | C38: 2.1. számú melléklet I. oszlop 25. sor + 2.2. számú melléklet I. oszlop 26. sor | D38: =+'2.1.sz.mell '!I30+'2.2.sz.mell '!I31 -> 604749741 | E38: =+B38-D38 -> 0

Sheet 3.sz.mell.
A1: Beruházási (felhalmozási) kiadások előirányzata beruházásonként
G2: ='2.2.sz.mell '!I2 -> Forintban!
A3: Beruházás megnevezése | B3: Teljes költség | C3: Kivitelezés kezdési és befejezési éve | D3: =+CONCATENATE("Felhasználás ",LEFT(ÖSSZEFÜGGÉSEK!A6,4)-1,". XII. 31-ig") -> Felhasználás 2016. XII. 31-ig | E3: =+CONCATENATE(LEFT(ÖSSZEFÜGGÉSEK!A6,4),". évi",CHAR(10),"eredeti előirányzat") -> 2017. évi eredeti előirányzat | F3: =+CONCATENATE("1. sz. módosítás",CHAR(10),LEFT(ÖSSZEFÜGGÉSEK!A6,4),". (±)") -> 1. sz. módosítás 2017. (±) | G3: =+CONCATENATE("Módosítás utáni",CHAR(10),LEFT(ÖSSZEFÜGGÉSEK!A6,4),".12.31.") -> Módosítás utáni 2017.12.31.
A4: A | B4: B | C4: C | D4: D | E4: E | F4: F | G4: G=(D+F)
A5: Térfigyelő kamerarendszer beüzemelése | B5: 3665000 | C5: 2014-2017 | D5: 2636300 | E5: 1028700 | F5: -1028700 | G5: 0
A6: Polgármesteri Hivatal udvar térkő lerakás | B6: 2286000 | C6: 2017 | E6: 2286000 | F6: 152140.3 | G6: 2438140.3
A7: PH udvarra garázs építés | B7: 508000 | C7: 2017 | E7: 508000 | F7: -508000
A8: Egyéb eszköz beszerzése, pótlása | B8: 658749 | C8: 2017 | E8: 658749 | F8: 1335092.6 | G8: 1993841.6
A9: PH informatikai eszköz beszerzése, pótlása | B9: 635000 | C9: 2017 | E9: 635000 | F9: -334518 | G9: 300482
A10: PH egyéb tárgyi eszköz beszerzése, pótlása | B10: 635000 | C10: 2017 | E10: 635000 | F10: -604666 | G10: 30334
A11: ÁMK egyéb tárgyi eszközök beszerzése, pótlása | B11: 1231900 | C11: 2017 | E11: 1231900 | F11: -251946.17 | G11: 979953.83
A12: ÁMK informatikai tárgyi eszközök beszerzése, pótlása | B12: 142036.8 | C12: 2017 | F12: 142036.8 | G12: 142036.8
A13: ÖNK immateriális javak beszerzése, létesítése | B13: 1016000 | C13: 2017 | E13: 0 | F13: 1016000 | G13: 1016000
A14: ÖNK ingatlanok beszerzése, létesítése | B14: 8218180 | C14: 2017 | F14: 14958180 | G14: 14958180
A15: Óvoda felújítás - TOP | B15: 173524821 | C15: 2017-2018 | E15: 0 | F15: 160348571 | G15: 160348571
A16: ÖNK informatikai eszközök beszerzése, létesítése | B16: 132876.29 | C16: 2017 | F16: 132876.29 | G16: 132876.29
G18: 0
G19: 0
G20: 0
G21: 0
G22: 0
A23: ÖSSZESEN: | B23: 1.9265356e+08 | D23: 2636300 | E23: 6983349 | F23: 12078496 | G23: =SUM(G5:G22) -> 1.8234042e+08

Sheet 4.sz.mell.
A1: Felújítási kiadások előirányzata felújításonként
G2: ='3.sz.mell.'!G2 -> Forintban!
A3: Felújítás megnevezése | B3: Teljes költség | C3: Kivitelezés kezdési és befejezési éve | D3: =+'3.sz.mell.'!D3 -> Felhasználás 2016. XII. 31-ig | E3: =+CONCATENATE(LEFT(ÖSSZEFÜGGÉSEK!A6,4),". évi",CHAR(10),"eredeti előirányzat") -> 2017. évi eredeti előirányzat | F3: =+CONCATENATE("1. sz. módosítás",CHAR(10),LEFT(ÖSSZEFÜGGÉSEK!A6,4),". (±)") -> 1. sz. módosítás 2017. (±) | G3: =+CONCATENATE("Módosítás utáni",CHAR(10),LEFT(ÖSSZEFÜGGÉSEK!A6,4),". 12.31.") -> Módosítás utáni 2017. 12.31.
A4: A | B4: B | C4: C | D4: D | E4: E | F4: F | G4: G=(D+F)
A5: ÖNK. Épületek szükségszerű felújítása | B5: 1270000 | C5: 2017 | E5: 1270000 | F5: 661405.47 | G5: 1931405.5
A6: ÖNK. Épületek felújítása | B6: 39586893 | C6: 2017-2018 | F6: 39586893 | G6: =E6+F6 -> 39586893
G7: =E7+F7 -> 0
G8: =E8+F8 -> 0
G9: =E9+F9 -> 0
G10: =E10+F10 -> 0
G11: =E11+F11 -> 0
G12: =E12+F12 -> 0
G13: =E13+F13 -> 0
G14: =E14+F14 -> 0
G15: =E15+F15 -> 0
G16: =E16+F16 -> 0
G17: =E17+F17 -> 0
G18: =E18+F18 -> 0
... G23: =E23+F23 -> 0
A24: ÖSSZESEN: | B24: =SUM(B5:B23) -> 40856893 | D24: =SUM(D5:D23) -> 0 | F24: =SUM(F5:F23) -> 40248298 | G24: =SUM(G5:G23) -> 41518298

Sheet 5.1. sz. mell
E1: 5.1. melléklet
A2: Megnevezés | B2: Sajószöged Községi Önkormányzat | E2: 01
A3: Feladat megnevezése | B3: Összes bevétel, kiadás | E3: 01
E4: ='4.sz.mell.'!G2 -> Forintban!
A5: Száma | B5: Kiemelt előirányzat, előirányzat megnevezése | C5: Eredeti előirányzat | D5: 1. sz. módosítás (±) | E5: =+CONCATENATE(LEFT(ÖSSZEFÜGGÉSEK!A7,4),"2017.12.31.",CHAR(10),"Módosítás utáni") -> 2017.12.31. Módosítás utáni
A6: A | B6: B | C6: C | D6: D | E6: E=C±D
A7: Bevételek
A8: 1. | B8: Önkormányzat működési támogatásai (1.1.+…+.1.6.) | C8: =+C9+C10+C11+C12+C13+C14 -> 92207137 | D8: =+D9+D10+D11+D12+D13+D14 -> 11814854 | E8: =+E9+E10+E11+E12+E13+E14 -> 104021991
A9: 1.1. | B9: Helyi önkormányzatok működésének általános támogatása | C9: 30994697 | D9: 1000000 | E9: =C9+D9 -> 31994697
A10: 1.2. | B10: Önkormányzatok egyes köznevelési feladatainak támogatása | C10: 28998310 | D10: 6986249 | E10: =C10+D10 -> 35984559
A11: 1.3. | B11: Önkormányzatok szociális és gyermekjóléti feladatainak támogatása | C11: 29700430 | D11: 590474 | E11: =C11+D11 -> 30290904
A12: 1.4. | B12: Önkormányzatok kulturális feladatainak támogatása | C12: 2513700 | D12: 461367 | E12: =C12+D12 -> 2975067
A13: 1.5. | B13: Működési célú kvi támogatások és kiegészítő támogatások | D13: 2609044 | E13: =C13+D13 -> 2609044
A14: 1.6. | B14: Elszámolásból származó bevételek | D14: 167720 | E14: =C14+D14 -> 167720
A15: 2. | B15: Működési célú támogatások államháztartáson belülről (2.1.+…+.2.5.) | C15: =+C16+C17+C18+C19+C20 -> 16718160 | D15: =+D16+D17+D18+D19+D20 -> 2166783 | E15: =+E16+E17+E18+E19+E20 -> 18884943
A16: 2.1. | B16: Elvonások és befizetések bevételei | E16: =C16+D16 -> 0
A17: 2.2. | B17: Működési célú garancia- és kezességvállalásból megtérülések | E17: =C17+D17 -> 0
A18: 2.3. | B18: Működési célú visszatérítendő támogatások, kölcsönök visszatérülése | E18: =C18+D18 -> 0
A19: 2.4. | B19: Működési célú visszatérítendő támogatások, kölcsönök igénybevétele | E19: =C19+D19 -> 0
A20: 2.5. | B20: Egyéb működési célú támogatások bevételei | C20: 16718160 | D20: 2166783 | E20: =C20+D20 -> 18884943
A21: 2.6. | B21: 2.5.-ből EU-s támogatás | E21: =C21+D21 -> 0
A22: 3. | B22: Felhalmozási célú támogatások államháztartáson belülről (3.1.+…+3.5.) | C22: =+C23+C24+C25+C26+C27 -> 0 | D22: =+D23+D24+D25+D26+D27 -> 160348571 | E22: =+E23+E24+E25+E26+E27 -> 160348571
A23: 3.1. | B23: Felhalmozási célú önkormányzati támogatások | E23: =C23+D23 -> 0
A24: 3.2. | B24: Felhalmozási célú garancia- és kezességvállalásból megtérülések | E24: =C24+D24 -> 0
A25: 3.3. | B25: Felhalmozási célú visszatérítendő támogatások, kölcsönök visszatérülése | E25: =C25+D25 -> 0
A26: 3.4. | B26: Felhalmozási célú visszatérítendő támogatások, kölcsönök igénybevétele | E26: =C26+D26 -> 0
A27: 3.5. | B27: Egyéb felhalmozási célú támogatások bevételei | D27: 160348571 | E27: 160348571
A28: 3.6. | B28: 3.5.-ből EU-s támogatás | D28: 160348571 | E28: =C28+D28 -> 160348571
A29: 4. | B29: Közhatalmi bevételek (4.1.+...+4.7.) | C29: =+C30+C31+C32+C33+C34+C35+C36 -> 113940000 | D29: =+D30+D31+D32+D33+D34+D35+D36 -> 61309260 | E29: =+E30+E31+E32+E33+E34+E35+E36 -> 175249260
A30: 4.1. | B30: Vagyoni tipusú adók | C30: 61300000 | D30: 13845498 | E30: =C30+D30 -> 75145498
A31: 4.2. | B31: Idegenforgalmi adó | E31: =C31+D31 -> 0
A32: 4.3. | B32: Iparűzési adó | C32: 45000000 | D32: 43849420 | E32: =C32+D32 -> 88849420
A33: 4.4. | B33: Talajterhelési díj | E33: =C33+D33 -> 0
A34: 4.5. | B34: Gépjárműadó | C34: 7500000 | D34: 2026565 | E34: =C34+D34 -> 9526565
A35: 4.6. | B35: Egyéb áruhasználati és szolgáltatási adók | C35: 40000 | D35: -40000 | E35: =C35+D35 -> 0
A36: 4.7. | B36: Egyéb közhatalmi bevételek | C36: 100000 | D36: 1627777 | E36: =C36+D36 -> 1727777
A37: 5. | B37: Működési bevételek (5.1.+…+ 5.11.) | C37: =SUM(C38:C48) -> 15588958 | D37: =SUM(D38:D48) -> 15250555 | E37: =SUM(E38:E48) -> 30839513
A38: 5.1. | B38: Készletértékesítés ellenértéke | E38: =C38+D38 -> 0
A39: 5.2. | B39: Szolgáltatások ellenértéke | C39: 1700000 | D39: 3034097 | E39: =C39+D39 -> 4734097
A40: 5.3. | B40: Közvetített szolgáltatások értéke | C40: 700000 | D40: 634806 | E40: =C40+D40 -> 1334806
...

Sheet 5.1.1. sz. mell
E1: 5.1.1. melléklet
A2: Megnevezés | B2: Sajószöged Községi Önkormányzat | E2: 01
A3: Feladat megnevezése | B3: Kötelező feladatok bevételei, kiadásai | E3: 02
E4: ='5.1. sz. mell'!E4 -> Forintban!
A5: Száma | B5: Kiemelt előirányzat, előirányzat megnevezése | C5: Eredeti előirányzat | D5: 1. sz. módosítás (±) | E5: =+CONCATENATE(LEFT(ÖSSZEFÜGGÉSEK!A7,4),"2017.12.31.",CHAR(10),"Módosítás utáni") -> 2017.12.31. Módosítás utáni
A6: A | B6: B | C6: C | D6: D | E6: E=C±D
A7: Bevételek
A8: 1. | B8: Önkormányzat működési támogatásai (1.1.+…+.1.6.) | C8: =+C9+C10+C11+C12+C13+C14 -> 92207137 | D8: =+D9+D10+D11+D12+D13+D14 -> 11814854 | E8: =+E9+E10+E11+E12+E13+E14 -> 104021991
A9: 1.1. | B9: Helyi önkormányzatok működésének általános támogatása | C9: 30994697 | D9: 1000000 | E9: =C9+D9 -> 31994697
A10: 1.2. | B10: Önkormányzatok egyes köznevelési feladatainak támogatása | C10: 28998310 | D10: 6986249 | E10: =C10+D10 -> 35984559
A11: 1.3. | B11: Önkormányzatok szociális és gyermekjóléti feladatainak támogatása | C11: 29700430 | D11: 590474 | E11: =C11+D11 -> 30290904
A12: 1.4. | B12: Önkormányzatok kulturális feladatainak támogatása | C12: 2513700 | D12: 461367 | E12: =C12+D12 -> 2975067
A13: 1.5. | B13: Működési célú kvi támogatások és kiegészítő támogatások | D13: 2609044 | E13: =C13+D13 -> 2609044
A14: 1.6. | B14: Elszámolásból származó bevételek | D14: 167720 | E14: =C14+D14 -> 167720
A15: 2. | B15: Működési célú támogatások államháztartáson belülről (2.1.+…+.2.5.) | C15: =+C16+C17+C18+C19+C20 -> 16718160 | D15: =+D16+D17+D18+D19+D20 -> 2166783 | E15: =+E16+E17+E18+E19+E20 -> 18884943
A16: 2.1. | B16: Elvonások és befizetések bevételei | E16: =C16+D16 -> 0
A17: 2.2. | B17: Működési célú garancia- és kezességvállalásból megtérülések | E17: =C17+D17 -> 0
A18: 2.3. | B18: Működési célú visszatérítendő támogatások, kölcsönök visszatérülése | E18: =C18+D18 -> 0
A19: 2.4. | B19: Működési célú visszatérítendő támogatások, kölcsönök igénybevétele | E19: =C19+D19 -> 0
A20: 2.5. | B20: Egyéb működési célú támogatások bevételei | C20: 16718160 | D20: 2166783 | E20: =C20+D20 -> 18884943
A21: 2.6. | B21: 2.5.-ből EU-s támogatás | E21: =C21+D21 -> 0
A22: 3. | B22: Felhalmozási célú támogatások államháztartáson belülről (3.1.+…+3.5.) | C22: =+C23+C24+C25+C26+C27 -> 0 | D22: =+D23+D24+D25+D26+D27 -> 160348571 | E22: =+E23+E24+E25+E26+E27 -> 160348571
A23: 3.1. | B23: Felhalmozási célú önkormányzati támogatások | E23: =C23+D23 -> 0
A24: 3.2. | B24: Felhalmozási célú garancia- és kezességvállalásból megtérülések | E24: =C24+D24 -> 0
A25: 3.3. | B25: Felhalmozási célú visszatérítendő támogatások, kölcsönök visszatérülése | E25: =C25+D25 -> 0
A26: 3.4. | B26: Felhalmozási célú visszatérítendő támogatások, kölcsönök igénybevétele | E26: =C26+D26 -> 0
A27: 3.5. | B27: Egyéb felhalmozási célú támogatások bevételei | D27: 160348571 | E27: =C27+D27 -> 160348571
A28: 3.6. | B28: 3.5.-ből EU-s támogatás | D28: 160348571 | E28: =C28+D28 -> 160348571
A29: 4. | B29: Közhatalmi bevételek (4.1.+...+4.7.) | C29: =+C30+C31+C32+C33+C34+C35+C36 -> 113940000 | D29: =+D30+D31+D32+D33+D34+D35+D36 -> 61309260 | E29: =+E30+E31+E32+E33+E34+E35+E36 -> 175249260
A30: 4.1. | B30: Vagyoni típusú adók | C30: 61300000 | D30: 13845498 | E30: =C30+D30 -> 75145498
A31: 4.2. | B31: Idegenforgalmi adó | E31: =C31+D31 -> 0
A32: 4.3. | B32: Iparűzési adó | C32: 45000000 | D32: 43849420 | E32: =C32+D32 -> 88849420
A33: 4.4. | B33: Talajterhelési díj | E33: =C33+D33 -> 0
A34: 4.5. | B34: Gépjárműadó | C34: 7500000 | D34: 2026565 | E34: =C34+D34 -> 9526565
A35: 4.6. | B35: Egyéb áruhasználati és szolgáltatási adók | C35: 40000 | D35: -40000 | E35: =C35+D35 -> 0
A36: 4.7. | B36: Egyéb közhatalmi bevételek | C36: 100000 | D36: 1627777 | E36: =C36+D36 -> 1727777
A37: 5. | B37: Működési bevételek (5.1.+…+ 5.11.) | C37: =SUM(C38:C48) -> 15588958 | D37: =SUM(D38:D48) -> 15250555 | E37: =SUM(E38:E48) -> 30839513
A38: 5.1. | B38: Készletértékesítés ellenértéke | E38: =C38+D38 -> 0
A39: 5.2. | B39: Szolgáltatások ellenértéke | C39: 1700000 | D39: 3034097 | E39: =C39+D39 -> 4734097
A40: 5.3. | B40: Közvetített szolgáltatások értéke | C40: 700000 | D40: 634806 | E40: =C40+D40 -> 1334806
...

Sheet 5.1.2. sz. mell
E1: 5.1.2. melléklet
A2: Megnevezés | B2: Sajószöged Községi Önkormányzat | E2: 01
A3: Feladat megnevezése | B3: Önként vállalt feladatok bevételei, kiadásai | E3: 02
E4: ='5.1.1. sz. mell'!E4 -> Forintban!
A5: Száma | B5: Kiemelt előirányzat, előirányzat megnevezése | C5: Eredeti előirányzat | D5: 1. sz. módosítás (±) | E5: 2017.12.31. Módosítás utáni
A6: A | B6: B | C6: C | D6: D | E6: E=C±D
A7: Bevételek
A8: 1. | B8: Önkormányzat működési támogatásai (1.1.+…+.1.6.) | C8: =+C9+C10+C11+C12+C13+C14 -> 0 | D8: =+D9+D10+D11+D12+D13+D14 -> 0 | E8: =+E9+E10+E11+E12+E13+E14 -> 0
A9: 1.1. | B9: Helyi önkormányzatok működésének általános támogatása | E9: =C9+D9 -> 0
A10: 1.2. | B10: Önkormányzatok egyes köznevelési feladatainak támogatása | E10: =C10+D10 -> 0
A11: 1.3. | B11: Önkormányzatok szociális és gyermekjóléti feladatainak támogatása | E11: =C11+D11 -> 0
A12: 1.4. | B12: Önkormányzatok kulturális feladatainak támogatása | E12: =C12+D12 -> 0
A13: 1.5. | B13: Működési célú kvi támogatások és kiegészítő támogatások | E13: =C13+D13 -> 0
A14: 1.6. | B14: Elszámolásból származó bevételek | E14: =C14+D14 -> 0
A15: 2. | B15: Működési célú támogatások államháztartáson belülről (2.1.+…+.2.5.) | C15: =+C16+C17+C18+C19+C20 -> 0 | D15: =+D16+D17+D18+D19+D20 -> 0 | E15: =+E16+E17+E18+E19+E20 -> 0
A16: 2.1. | B16: Elvonások és befizetések bevételei | E16: =C16+D16 -> 0
A17: 2.2. | B17: Működési célú garancia- és kezességvállalásból megtérülések | E17: =C17+D17 -> 0
A18: 2.3. | B18: Működési célú visszatérítendő támogatások, kölcsönök visszatérülése | E18: =C18+D18 -> 0
A19: 2.4. | B19: Működési célú visszatérítendő támogatások, kölcsönök igénybevétele | E19: =C19+D19 -> 0
A20: 2.5. | B20: Egyéb működési célú támogatások bevételei | E20: =C20+D20 -> 0
A21: 2.6. | B21: 2.5.-ből EU-s támogatás | E21: =C21+D21 -> 0
A22: 3. | B22: Felhalmozási célú támogatások államháztartáson belülről (3.1.+…+3.5.) | C22: =+C23+C24+C25+C26+C27 -> 0 | D22: =+D23+D24+D25+D26+D27 -> 0 | E22: =+E23+E24+E25+E26+E27 -> 0
A23: 3.1. | B23: Felhalmozási célú önkormányzati támogatások | E23: =C23+D23 -> 0
A24: 3.2. | B24: Felhalmozási célú garancia- és kezességvállalásból megtérülések | E24: =C24+D24 -> 0
A25: 3.3. | B25: Felhalmozási célú visszatérítendő támogatások, kölcsönök visszatérülése | E25: =C25+D25 -> 0
A26: 3.4. | B26: Felhalmozási célú visszatérítendő támogatások, kölcsönök igénybevétele | E26: =C26+D26 -> 0
A27: 3.5. | B27: Egyéb felhalmozási célú támogatások bevételei | E27: =C27+D27 -> 0
A28: 3.6. | B28: 3.5.-ből EU-s támogatás | E28: =C28+D28 -> 0
A29: 4. | B29: Közhatalmi bevételek (4.1.+...+4.7.) | C29: =+C30+C31+C32+C33+C34+C35+C36 -> 0 | D29: =+D30+D31+D32+D33+D34+D35+D36 -> 0 | E29: =+E30+E31+E32+E33+E34+E35+E36 -> 0
A30: 4.1. | B30: Építményadó | E30: =C30+D30 -> 0
A31: 4.2. | B31: Idegenforgalmi adó | E31: =C31+D31 -> 0
A32: 4.3. | B32: Iparűzési adó | E32: =C32+D32 -> 0
A33: 4.4. | B33: Talajterhelési díj | E33: =C33+D33 -> 0
A34: 4.5. | B34: Gépjárműadó | E34: =C34+D34 -> 0
A35: 4.6. | B35: Egyéb áruhasználati és szolgáltatási adók | E35: =C35+D35 -> 0
A36: 4.7. | B36: Egyéb közhatalmi bevételek | E36: =C36+D36 -> 0
A37: 5. | B37: Működési bevételek (5.1.+…+ 5.11.) | C37: =SUM(C38:C48) -> 0 | D37: =SUM(D38:D48) -> 0 | E37: =SUM(E38:E48) -> 0
A38: 5.1. | B38: Készletértékesítés ellenértéke | E38: =C38+D38 -> 0
A39: 5.2. | B39: Szolgáltatások ellenértéke | E39: =C39+D39 -> 0
A40: 5.3. | B40: Közvetített szolgáltatások értéke | E40: =C40+D40 -> 0
...

Sheet 5.1.3. sz. mell
E1: 5.1.3. melléklet
A2: Megnevezés | B2: Sajószöged Községi Önkormányzat | E2: 01
A3: Feladat megnevezése | B3: Államigazgatási feladatok bevételei, kiadásai | E3: 02
E4: ='5.1.2. sz. mell'!E4 -> Forintban!
A5: Száma | B5: Kiemelt előirányzat, előirányzat megnevezése | C5: Eredeti előirányzat | D5: 1. sz. módosítás (±) | E5: =+CONCATENATE(LEFT(ÖSSZEFÜGGÉSEK!A7,4),"2017.12.31.",CHAR(10),"Módosítás utáni") -> 2017.12.31. Módosítás utáni
A6: A | B6: B | C6: C | D6: D | E6: E=C±D
A7: Bevételek
A8: 1. | B8: Önkormányzat működési támogatásai (1.1.+…+.1.6.) | C8: =+C9+C10+C11+C12+C13+C14 -> 0 | D8: =+D9+D10+D11+D12+D13+D14 -> 0 | E8: =+E9+E10+E11+E12+E13+E14 -> 0
A9: 1.1. | B9: Helyi önkormányzatok működésének általános támogatása | E9: =C9+D9 -> 0
A10: 1.2. | B10: Önkormányzatok egyes köznevelési feladatainak támogatása | E10: =C10+D10 -> 0
A11: 1.3. | B11: Önkormányzatok szociális és gyermekjóléti feladatainak támogatása | E11: =C11+D11 -> 0
A12: 1.4. | B12: Önkormányzatok kulturális feladatainak támogatása | E12: =C12+D12 -> 0
A13: 1.5. | B13: Működési célú kvi támogatások és kiegészítő támogatások | E13: =C13+D13 -> 0
A14: 1.6. | B14: Elszámolásból származó bevételek | E14: =C14+D14 -> 0
A15: 2. | B15: Működési célú támogatások államháztartáson belülről (2.1.+…+.2.5.) | C15: =+C16+C17+C18+C19+C20 -> 0 | D15: =+D16+D17+D18+D19+D20 -> 0 | E15: =+E16+E17+E18+E19+E20 -> 0
A16: 2.1. | B16: Elvonások és befizetések bevételei | E16: =C16+D16 -> 0
A17: 2.2. | B17: Működési célú garancia- és kezességvállalásból megtérülések | E17: =C17+D17 -> 0
A18: 2.3. | B18: Működési célú visszatérítendő támogatások, kölcsönök visszatérülése | E18: =C18+D18 -> 0
A19: 2.4. | B19: Működési célú visszatérítendő támogatások, kölcsönök igénybevétele | E19: =C19+D19 -> 0
A20: 2.5. | B20: Egyéb működési célú támogatások bevételei | E20: =C20+D20 -> 0
A21: 2.6. | B21: 2.5.-ből EU-s támogatás | E21: =C21+D21 -> 0
A22: 3. | B22: Felhalmozási célú támogatások államháztartáson belülről (3.1.+…+3.5.) | C22: =+C23+C24+C25+C26+C27 -> 0 | D22: =+D23+D24+D25+D26+D27 -> 0 | E22: =+E23+E24+E25+E26+E27 -> 0
A23: 3.1. | B23: Felhalmozási célú önkormányzati támogatások | E23: =C23+D23 -> 0
A24: 3.2. | B24: Felhalmozási célú garancia- és kezességvállalásból megtérülések | E24: =C24+D24 -> 0
A25: 3.3. | B25: Felhalmozási célú visszatérítendő támogatások, kölcsönök visszatérülése | E25: =C25+D25 -> 0
A26: 3.4. | B26: Felhalmozási célú visszatérítendő támogatások, kölcsönök igénybevétele | E26: =C26+D26 -> 0
A27: 3.5. | B27: Egyéb felhalmozási célú támogatások bevételei | E27: =C27+D27 -> 0
A28: 3.6. | B28: 3.5.-ből EU-s támogatás | E28: =C28+D28 -> 0
A29: 4. | B29: Közhatalmi bevételek (4.1.+...+4.7.) | C29: =+C30+C31+C32+C33+C34+C35+C36 -> 0 | D29: =+D30+D31+D32+D33+D34+D35+D36 -> 0 | E29: =+E30+E31+E32+E33+E34+E35+E36 -> 0
A30: 4.1. | B30: Építményadó | E30: =C30+D30 -> 0
A31: 4.2. | B31: Idegenforgalmi adó | E31: =C31+D31 -> 0
A32: 4.3. | B32: Iparűzési adó | E32: =C32+D32 -> 0
A33: 4.4. | B33: Talajterhelési díj | E33: =C33+D33 -> 0
A34: 4.5. | B34: Gépjárműadó | E34: =C34+D34 -> 0
A35: 4.6. | B35: Egyéb áruhasználati és szolgáltatási adók | E35: =C35+D35 -> 0
A36: 4.7. | B36: Egyéb közhatalmi bevételek | E36: =C36+D36 -> 0
A37: 5. | B37: Működési bevételek (5.1.+…+ 5.11.) | C37: =SUM(C38:C48) -> 0 | D37: =SUM(D38:D48) -> 0 | E37: =SUM(E38:E48) -> 0
A38: 5.1. | B38: Készletértékesítés ellenértéke | E38: =C38+D38 -> 0
A39: 5.2. | B39: Szolgáltatások ellenértéke | E39: =C39+D39 -> 0
A40: 5.3. | B40: Közvetített szolgáltatások értéke | E40: =C40+D40 -> 0
...

Sheet 5.2. sz. mell
E1: 5.2. melléklet
A2: Költségvetési szerv | B2: Sajószögedi Polgármesteri Hivatal | E2: 02
A3: Feladat megnevezése | B3: Összes bevétel, kiadás | E3: 01
E4: ='5.1.3. sz. mell'!E4 -> Forintban!
A5: Száma | B5: Kiemelt előirányzat, előirányzat megnevezése | C5: Eredeti előirányzat | D5: 1. sz. módosítás (±) | E5: =+CONCATENATE(LEFT(ÖSSZEFÜGGÉSEK!A7,4),"2017.12.31.",CHAR(10),"Módosítás utáni") -> 2017.12.31. Módosítás utáni
A6: A | B6: B | C6: C | D6: D | E6: E=C±D
A7: Bevételek
A8: 1. | B8: Működési bevételek (1.1.+…+1.11.) | C8: =SUM(C9:C19) -> 0 | D8: =SUM(D9:D19) -> 14461 | E8: =SUM(E9:E19) -> 14461
A9: 1.1. | B9: Készletértékesítés ellenértéke | E9: =C9+D9 -> 0
A10: 1.2. | B10: Szolgáltatások ellenértéke | E10: =C10+D10 -> 0
A11: 1.3. | B11: Közvetített szolgáltatások értéke | E11: =C11+D11 -> 0
A12: 1.4. | B12: Tulajdonosi bevételek | E12: =C12+D12 -> 0
A13: 1.5. | B13: Ellátási díjak | E13: =C13+D13 -> 0
A14: 1.6. | B14: Kiszámlázott általános forgalmi adó | E14: =C14+D14 -> 0
A15: 1.7. | B15: Általános forgalmi adó visszatérülése | E15: =C15+D15 -> 0
A16: 1.8. | B16: Kamatbevételek | D16: 10 | E16: =C16+D16 -> 10
A17: 1.9. | B17: Egyéb pénzügyi műveletek bevételei | E17: =C17+D17 -> 0
A18: 1.10. | B18: Biztosító által fizetett kártérítés | E18: =C18+D18 -> 0
A19: 1.11. | B19: Egyéb működési bevételek | D19: 14451 | E19: =C19+D19 -> 14451
A20: 2. | B20: Működési célú támogatások államháztartáson belülről (2.1.+…+2.3.) | C20: =SUM(C21:C23) -> 0 | D20: =SUM(D21:D23) -> 0 | E20: =SUM(E21:E23) -> 0
A21: 2.1. | B21: Elvonások és befizetések bevételei | E21: =C21+D21 -> 0
A22: 2.2. | B22: Visszatérítendő támogatások, kölcsönök visszatérülése ÁH-n belülről | E22: =C22+D22 -> 0
A23: 2.3. | B23: Egyéb működési célú támogatások bevételei államháztartáson belülről | E23: =C23+D23 -> 0
A24: 2.4. | B24: 2.3-ból EU támogatás | E24: =C24+D24 -> 0
A25: 3. | B25: Közhatalmi bevételek | C25: 20000 | D25: 6000 | E25: 26000
A26: 4. | B26: Felhalmozási célú támogatások államháztartáson belülről (4.1.+…+4.3.) | C26: =+C27+C28+C29 -> 0 | D26: =+D27+D28+D29 -> 0 | E26: =+E27+E28+E29 -> 0
A27: 4.1. | B27: Felhalmozási célú önkormányzati támogatások | E27: =C27+D27 -> 0
A28: 4.2. | B28: Visszatérítendő támogatások, kölcsönök visszatérülése ÁH-n belülről | E28: =C28+D28 -> 0
A29: 4.3. | B29: Egyéb felhalmozási célú támogatások bevételei államháztartáson belülről | E29: =C29+D29 -> 0
A30: 4.4. | B30: 4.3.-ból EU-s támogatás | E30: =C30+D30 -> 0
A31: 5. | B31: Felhalmozási bevételek (5.1.+…+5.3.) | C31: =+C32+C33+C34 -> 0 | D31: =+D32+D33+D34 -> 0 | E31: =+E32+E33+E34 -> 0
A32: 5.1. | B32: Immateriális javak értékesítése | E32: =C32+D32 -> 0
A33: 5.2. | B33: Ingatlanok értékesítése | E33: =C33+D33 -> 0
A34: 5.3. | B34: Egyéb tárgyi eszközök értékesítése | E34: =C34+D34 -> 0
A35: 6. | B35: Működési célú átvett pénzeszközök | E35: =C35+D35 -> 0
A36: 7. | B36: Felhalmozási célú átvett pénzeszközök | E36: =C36+D36 -> 0
A37: 8. | B37: Költségvetési bevételek összesen (1.+…+7.) | C37: =+C8+C20+C25+C26+C31+C35+C36 -> 20000 | D37: =+D8+D20+D25+D26+D31+D35+D36 -> 20461 | E37: =+E8+E20+E25+E26+E31+E35+E36 -> 40461
A38: 9. | B38: Finanszírozási bevételek (9.1.+…+9.3.) | C38: =+C39+C40+C41 -> 52678976 | D38: =+D39+D40+D41 -> 553755 | E38: =+E39+E40+E41 -> 53232731
A39: 9.1. | B39: Költségvetési maradvány igénybevétele | C39: 537610 | D39: 224907 | E39: =C39+D39 -> 762517
A40: 9.2. | B40: Vállalkozási maradvány igénybevétele | E40: =C40+D40 -> 0
...

Sheet 5.2.1. sz. mell
E1: 5.2.1. melléklet
A2: Költségvetési szerv | B2: Sajószögedi Polgármesteri Hivatal | E2: 02
A3: Feladat megnevezése | B3: Kötelező feladatok bevételei, kiadásai | E3: 02
E4: ='5.2. sz. mell'!E4 -> Forintban!
A5: Száma | B5: Kiemelt előirányzat, előirányzat megnevezése | C5: Eredeti előirányzat | D5: 1. sz. módosítás (±) | E5: =+CONCATENATE(LEFT(ÖSSZEFÜGGÉSEK!A7,4),"2017.12.31.",CHAR(10),"Módosítás utáni") -> 2017.12.31. Módosítás utáni
A6: A | B6: B | C6: C | D6: D | E6: E=C+D
A7: Bevételek
A8: 1. | B8: Működési bevételek (1.1.+…+1.11.) | C8: =SUM(C9:C19) -> 0 | D8: =SUM(D9:D19) -> 14461 | E8: =SUM(E9:E19) -> 14461
A9: 1.1. | B9: Készletértékesítés ellenértéke | E9: =C9+D9 -> 0
A10: 1.2. | B10: Szolgáltatások ellenértéke | E10: =C10+D10 -> 0
A11: 1.3. | B11: Közvetített szolgáltatások értéke | E11: =C11+D11 -> 0
A12: 1.4. | B12: Tulajdonosi bevételek | E12: =C12+D12 -> 0
A13: 1.5. | B13: Ellátási díjak | E13: =C13+D13 -> 0
A14: 1.6. | B14: Kiszámlázott általános forgalmi adó | E14: =C14+D14 -> 0
A15: 1.7. | B15: Általános forgalmi adó visszatérülése | E15: =C15+D15 -> 0
A16: 1.8. | B16: Kamatbevételek | D16: 10 | E16: =C16+D16 -> 10
A17: 1.9. | B17: Egyéb pénzügyi műveletek bevételei | E17: =C17+D17 -> 0
A18: 1.10. | B18: Biztosító által fizetett kártérítés | E18: =C18+D18 -> 0
A19: 1.11. | B19: Egyéb működési bevételek | D19: 14451 | E19: 14451
A20: 2. | B20: Működési célú támogatások államháztartáson belülről (2.1.+…+2.3.) | C20: =SUM(C21:C23) -> 0 | D20: =SUM(D21:D23) -> 0 | E20: =SUM(E21:E23) -> 0
A21: 2.1. | B21: Elvonások és befizetések bevételei | E21: =C21+D21 -> 0
A22: 2.2. | B22: Visszatérítendő támogatások, kölcsönök visszatérülése ÁH-n belülről | E22: =C22+D22 -> 0
A23: 2.3. | B23: Egyéb működési célú támogatások bevételei államháztartáson belülről | E23: =C23+D23 -> 0
A24: 2.4. | B24: 2.3-ból EU támogatás | E24: =C24+D24 -> 0
A25: 3. | B25: Közhatalmi bevételek | C25: 20000 | D25: 6000 | E25: 26000
A26: 4. | B26: Felhalmozási célú támogatások államháztartáson belülről (4.1.+…+4.3.) | C26: =+C27+C28+C29 -> 0 | D26: =+D27+D28+D29 -> 0 | E26: =+E27+E28+E29 -> 0
A27: 4.1. | B27: Felhalmozási célú önkormányzati támogatások | E27: =C27+D27 -> 0
