Workbook

Sheet ÖSSZEFÜGGÉSEK
A2: Költségvetési rendelet űrlapjainak összefüggései:
A5: 2018. évi előirányzat BEVÉTELEK
A7: 1.1. sz. melléklet Bevételek táblázat C. oszlop 9 sora = | B7: 2.1. számú melléklet C. oszlop 13. sor + 2.2. számú melléklet C. oszlop 12. sor
A8: 1.1. sz. melléklet Bevételek táblázat C. oszlop 17 sora = | B8: 2.1. számú melléklet C. oszlop 24. sor + 2.2. számú melléklet C. oszlop 25. sor
A9: 1.1. sz. melléklet Bevételek táblázat C. oszlop 18 sora = | B9: 2.1. számú melléklet C. oszlop 25. sor + 2.2. számú melléklet C. oszlop 26. sor
A12: =+CONCATENATE(LEFT(A5,4),". évi előirányzat KIADÁSOK") -> 2018. évi előirányzat KIADÁSOK
A14: 1.1. sz. melléklet Kiadások táblázat C. oszlop 3 sora = | B14: 2.1. számú melléklet E. oszlop 13. sor + 2.2. számú melléklet E. oszlop 12. sor
A15: 1.1. sz. melléklet Kiadások táblázat C. oszlop 10 sora = | B15: 2.1. számú melléklet E. oszlop 24. sor + 2.2. számú melléklet E. oszlop 25. sor
A16: 1.1. sz. melléklet Kiadások táblázat C. oszlop 11 sora = | B16: 2.1. számú melléklet E. oszlop 25. sor + 2.2. számú melléklet E. oszlop 26. sor

Sheet 1.1.sz.mell.
A1: B E V É T E L E K
A2: 1. sz. táblázat | C2: Forintban!
A3: Sor- szám | B3: Bevételi jogcím | C3: =+CONCATENATE(LEFT(ÖSSZEFÜGGÉSEK!A5,4),". évi előirányzat") -> 2018. évi előirányzat
B4: A | C4: B
A5: 1. | B5: Önkormányzat működési támogatásai (1.1.+…+.1.6.) | C5: =+C6+C7+C8+C9+C10+C11 -> 109212674
A6: 1.1. | B6: Helyi önkormányzatok működésének általános támogatása | C6: 30667486
A7: 1.2. | B7: Önkormányzatok egyes köznevelési feladatainak támogatása | C7: 46445433
A8: 1.3. | B8: Önkormányzatok szociális és gyermekjóléti, étkeztetési feladatainak támogatása | C8: 29146265
A9: 1.4. | B9: Önkormányzatok kulturális feladatainak támogatása | C9: 2697090
A10: 1.5. | B10: Működési célú kvi támogatások és kiegészítő támogatások | C10: 256400
A11: 1.6. | B11: Elszámolásból származó bevételek | C11: 0
A12: 2. | B12: Működési célú támogatások államháztartáson belülről (2.1.+…+.2.5.) | C12: =+C13+C14+C15+C16+C17 -> 14608139
A13: 2.1. | B13: Elvonások és befizetések bevételei
A14: 2.2. | B14: Működési célú garancia- és kezességvállalásból megtérülések
A15: 2.3. | B15: Működési célú visszatérítendő támogatások, kölcsönök visszatérülése
A16: 2.4. | B16: Működési célú visszatérítendő támogatások, kölcsönök igénybevétele
A17: 2.5. | B17: Egyéb működési célú támogatások bevételei államháztartáson belülről | C17: 14608139
A18: 2.6. | B18: 2.5.-ből EU-s támogatás
A19: 3. | B19: Felhalmozási célú támogatások államháztartáson belülről (3.1.+…+3.5.) | C19: =+C20+C21+C22+C23+C24 -> 300655070
A20: 3.1. | B20: Felhalmozási célú önkormányzati támogatások
A21: 3.2. | B21: Felhalmozási célú garancia- és kezességvállalásból megtérülések
A22: 3.3. | B22: Felhalmozási célú visszatérítendő támogatások, kölcsönök visszatérülése
A23: 3.4. | B23: Felhalmozási célú visszatérítendő támogatások, kölcsönök igénybevétele
A24: 3.5. | B24: Egyéb felhalmozási célú támogatások bevételei | C24: 300655070
A25: 3.6. | B25: 3.5.-ből EU-s támogatás | C25: 300655070
A26: 4. | B26: Közhatalmi bevételek (4.1.+…+4.7.) | C26: =SUM(C27:C33) -> 171810000
A27: 4.1. | B27: Vagyoni tipusú adók | C27: 101300000
A28: 4.2. | B28: Idegenforgalmi adó
A29: 4.3. | B29: Iparűzési adó | C29: 62350000
A30: 4.4. | B30: Talajterhelési díj | C30: 40000
A31: 4.5. | B31: Gépjárműadó | C31: 8000000
A32: 4.6. | B32: Egyéb áruhasználati és szolgáltatási adók
A33: 4.7. | B33: Egyéb közhatalmi bevételek | C33: 120000
A34: 5. | B34: Működési bevételek (5.1.+…+ 5.11.) | C34: =SUM(C35:C45) -> 30883426
A35: 5.1. | B35: Készletértékesítés ellenértéke
A36: 5.2. | B36: Szolgáltatások ellenértéke | C36: 12478020
A37: 5.3. | B37: Közvetített szolgáltatások értéke | C37: 700000
A38: 5.4. | B38: Tulajdonosi bevételek
A39: 5.5. | B39: Ellátási díjak | C39: 11335305
A40: 5.6. | B40: Kiszámlázott általános forgalmi adó | C40: 6370101
A41: 5.7. | B41: Általános forgalmi adó visszatérítése
A42: 5.8. | B42: Kamatbevételek és más nyereségjellegű bevételek
A43: 5.9. | B43: Egyéb pénzügyi műveletek bevételei
A44: 5.10. | B44: Biztosító által fizetett kártérítés
A45: 5.11. | B45: Egyéb működési bevételek
A46: 6. | B46: Felhalmozási bevételek (6.1.+…+6.5.) | C46: =SUM(C47:C51) -> 0
A47: 6.1. | B47: Immateriális javak értékesítése
A48: 6.2. | B48: Ingatlanok értékesítése
A49: 6.3. | B49: Egyéb tárgyi eszközök értékesítése
A50: 6.4. | B50: Részesedések értékesítése
A51: 6.5. | B51: Részesedések megszűnéséhez kapcsolódó bevételek
A52: 7. | B52: Működési célú átvett pénzeszközök (7.1. + … + 7.3.) | C52: =SUM(C53:C55) -> 0
A53: 7.1. | B53: Működési célú garancia- és kezességvállalásból megtérülések ÁH-n kívülről
A54: 7.2. | B54: Működési célú visszatérítendő támogatások, kölcsönök visszatér. ÁH-n kívülről
A55: 7.3. | B55: Egyéb működési célú átvett pénzeszköz
A56: 7.4. | B56: 7.3.-ból EU-s támogatás (közvetlen)
A57: 8. | B57: Felhalmozási célú átvett pénzeszközök (8.1.+8.2.+8.3.) | C57: =SUM(C58:C60) -> 1663367
A58: 8.1. | B58: Felhalm. célú garancia- és kezességvállalásból megtérülések ÁH-n kívülről
A59: 8.2. | B59: Felhalm. célú visszatérítendő támogatások, kölcsönök visszatér. ÁH-n kívülről | C59: 1663367
A60: 8.3. | B60: Egyéb felhalmozási célú átvett pénzeszköz
A61: 8.4. | B61: 8.3.-ból EU-s támogatás (közvetlen)
A62: 9. | B62: KÖLTSÉGVETÉSI BEVÉTELEK ÖSSZESEN: (1+…+8) | C62: =+C5+C12+C19+C26+C34+C46+C52+C57 -> 628832676
A63: 10. | B63: Hitel-, kölcsönfelvétel államháztartáson kívülről (10.1.+10.3.) | C63: =SUM(C64:C66) -> 0
A64: 10.1. | B64: Hosszú lejáratú hitelek, kölcsönök felvétele
A65: 10.2. | B65: Likviditási célú hitelek, kölcsönök felvétele pénzügyi vállalkozástól
A66: 10.3. | B66: Rövid lejáratú hitelek, kölcsönök felvétele pénzügyi vállalkozástól
A67: 11. | B67: Belföldi értékpapírok bevételei (11.1. +…+ 11.4.) | C67: =SUM(C68:C71) -> 0
A68: 11.1. | B68: Forgatási célú belföldi értékpapírok beváltása, értékesítése
A69: 11.2. | B69: Éven belüli lejáratú belföldi értékpapírok kibocsátása
A70: 11.3. | B70: Befektetési célú belföldi értékpapírok beváltása, értékesítése
A71: 11.4. | B71: Éven túli lejáratú belföldi értékpapírok kibocsátása
A72: 12. | B72: Maradvány igénybevétele (12.1. + 12.2.) | C72: =SUM(C73:C74) -> 193841945
A73: 12.1. | B73: Előző év költségvetési maradványának igénybevétele | C73: 193841945
A74: 12.2. | B74: Előző év vállalkozási maradványának igénybevétele
A75: 13. | B75: Belföldi finanszírozás bevételei (13.1. + … + 13.3.) | C75: =SUM(C76:C78) -> 0
A76: 13.1. | B76: Államháztartáson belüli megelőlegezések
A77: 13.2. | B77: Államháztartáson belüli megelőlegezések törlesztése
A78: 13.3. | B78: Lekötött betétek megszüntetése
A79: 14. | B79: Külföldi finanszírozás bevételei (14.1.+…14.4.) | C79: =SUM(C80:C83) -> 0
A80: 14.1. | B80: Forgatási célú külföldi értékpapírok beváltása, értékesítése
A81: 14.2. | B81: Befektetési célú külföldi értékpapírok beváltása, értékesítése
A82: 14.3. | B82: Külföldi értékpapírok kibocsátása
A83: 14.4. | B83: Külföldi hitelek, kölcsönök felvétele
A84: 15. | B84: Váltóbevételek
A85: 16. | B85: Adóssághoz nem kapcsolódó származékos ügyletek bevételei
A86: 17. | B86: FINANSZÍROZÁSI BEVÉTELEK ÖSSZESEN: (10. + … +16.) | C86: =+C63+C67+C72+C75+C79+C85+C84 -> 193841945
A87: 18. | B87: KÖLTSÉGVETÉSI ÉS FINANSZÍROZÁSI BEVÉTELEK ÖSSZESEN: (9+17) | C87: =+C62+C86 -> 822674621
A89: K I A D Á S O K
A90: 2. sz. táblázat | C90: =C2 -> Forintban!
A91: Sor- szám | B91: Kiadási jogcímek | C91: =+C3 -> 2018. évi előirányzat
B92: A | C92: B
A93: 1. | B93: Működési költségvetés kiadásai (1.1+…+1.5.+1.18.) | C93: =C94+C95+C96+C97+C98+C111 -> 334904186
A94: 1.1. | B94: Személyi juttatások | C94: 129827432
A95: 1.2. | B95: Munkaadókat terhelő járulékok és szociális hozzájárulási adó | C95: 26955245
A96: 1.3. | B96: Dologi kiadások | C96: 128430894
A97: 1.4. | B97: Ellátottak pénzbeli juttatásai | C97: 10180000
A98: 1.5 | B98: Egyéb működési célú kiadások | C98: 37010615
A99: 1.6. | B99: - az 1.5-ből: - Előző évi elszámolásból származó befizetések
A100: 1.7. | B100: - Törvényi előíráson alapuló befizetések
A101: 1.8. | B101: - Elvonások és befizetések
...

Sheet 1.2.sz.mell.
A1: B E V É T E L E K
A2: 1. sz. táblázat | C2: ='1.1.sz.mell.'!C2 -> Forintban!
A3: Sor- szám | B3: Bevételi jogcím | C3: =+CONCATENATE(LEFT(ÖSSZEFÜGGÉSEK!A5,4),". évi előirányzat") -> 2018. évi előirányzat
B4: A | C4: B
A5: 1. | B5: Önkormányzat működési támogatásai (1.1.+…+.1.6.) | C5: =+C6+C7+C8+C9+C10+C11 -> 109212674
A6: 1.1. | B6: Helyi önkormányzatok működésének általános támogatása | C6: 30667486
A7: 1.2. | B7: Önkormányzatok egyes köznevelési feladatainak támogatása | C7: 46445433
A8: 1.3. | B8: Önkormányzatok szociális és gyermekjóléti, étkeztetési feladatainak támogatása | C8: 29146265
A9: 1.4. | B9: Önkormányzatok kulturális feladatainak támogatása | C9: 2697090
A10: 1.5. | B10: Működési célú kvi támogatások és kiegészítő támogatások | C10: 256400
A11: 1.6. | B11: Elszámolásból származó bevételek
A12: 2. | B12: Működési célú támogatások államháztartáson belülről (2.1.+…+.2.5.) | C12: =+C13+C14+C15+C16+C17 -> 14608139
A13: 2.1. | B13: Elvonások és befizetések bevételei
A14: 2.2. | B14: Működési célú garancia- és kezességvállalásból megtérülések
A15: 2.3. | B15: Működési célú visszatérítendő támogatások, kölcsönök visszatérülése
A16: 2.4. | B16: Működési célú visszatérítendő támogatások, kölcsönök igénybevétele
A17: 2.5. | B17: Egyéb működési célú támogatások bevételei államháztartáson belülről | C17: 14608139
A18: 2.6. | B18: 2.5.-ből EU-s támogatás
A19: 3. | B19: Felhalmozási célú támogatások államháztartáson belülről (3.1.+…+3.5.) | C19: =+C20+C21+C22+C23+C24 -> 300655070
A20: 3.1. | B20: Felhalmozási célú önkormányzati támogatások
A21: 3.2. | B21: Felhalmozási célú garancia- és kezességvállalásból megtérülések
A22: 3.3. | B22: Felhalmozási célú visszatérítendő támogatások, kölcsönök visszatérülése
A23: 3.4. | B23: Felhalmozási célú visszatérítendő támogatások, kölcsönök igénybevétele
A24: 3.5. | B24: Egyéb felhalmozási célú támogatások bevételei | C24: 300655070
A25: 3.6. | B25: 3.5.-ből EU-s támogatás | C25: 300655070
A26: 4. | B26: Közhatalmi bevételek (4.1.+...+4.7.) | C26: =SUM(C27:C33) -> 169460000
A27: 4.1. | B27: Vagyoni tipusú adók | C27: 101300000
A28: 4.2. | B28: Idegenforgalmi adó
A29: 4.3. | B29: Iparűzési adó | C29: 60000000
A30: 4.4. | B30: Talajterhelési díj | C30: 40000
A31: 4.5. | B31: Gépjárműadó | C31: 8000000
A32: 4.6. | B32: Egyéb áruhasználati és szolgáltatási adók
A33: 4.7. | B33: Egyéb közhatalmi bevételek | C33: 120000
A34: 5. | B34: Működési bevételek (5.1.+…+ 5.11.) | C34: =SUM(C35:C45) -> 30881563
A35: 5.1. | B35: Készletértékesítés ellenértéke
A36: 5.2. | B36: Szolgáltatások ellenértéke | C36: 12478020
A37: 5.3. | B37: Közvetített szolgáltatások értéke | C37: 700000
A38: 5.4. | B38: Tulajdonosi bevételek
A39: 5.5. | B39: Ellátási díjak | C39: 11335505
A40: 5.6. | B40: Kiszámlázott általános forgalmi adó | C40: 6368038
A41: 5.7. | B41: Általános forgalmi adó visszatérítése
A42: 5.8. | B42: Kamatbevételek és más nyereségjellegű bevételek
A43: 5.9. | B43: Egyéb pénzügyi műveletek bevételei
A44: 5.10. | B44: Biztosító által fizetett kártérítés
A45: 5.11. | B45: Egyéb működési bevételek
A46: 6. | B46: Felhalmozási bevételek (6.1.+…+6.5.) | C46: =SUM(C47:C51) -> 0
A47: 6.1. | B47: Immateriális javak értékesítése
A48: 6.2. | B48: Ingatlanok értékesítése
A49: 6.3. | B49: Egyéb tárgyi eszközök értékesítése
A50: 6.4. | B50: Részesedések értékesítése
A51: 6.5. | B51: Részesedések megszűnéséhez kapcsolódó bevételek
A52: 7. | B52: Működési célú átvett pénzeszközök (7.1. + … + 7.3.) | C52: =SUM(C53:C55) -> 0
A53: 7.1. | B53: Működési célú garancia- és kezességvállalásból megtérülések ÁH-n kívülről
A54: 7.2. | B54: Működési célú visszatérítendő támogatások, kölcsönök visszatér. ÁH-n kívülről
A55: 7.3. | B55: Egyéb működési célú átvett pénzeszköz
A56: 7.4. | B56: 7.3.-ból EU-s támogatás (közvetlen)
A57: 8. | B57: Felhalmozási célú átvett pénzeszközök (8.1.+8.2.+8.3.) | C57: =SUM(C58:C60) -> 1663367
A58: 8.1. | B58: Felhalm. célú garancia- és kezességvállalásból megtérülések ÁH-n kívülről
A59: 8.2. | B59: Felhalm. célú visszatérítendő támogatások, kölcsönök visszatér. ÁH-n kívülről | C59: 1663367
A60: 8.3. | B60: Egyéb felhalmozási célú átvett pénzeszköz
A61: 8.4. | B61: 8.3.-ból EU-s támogatás (közvetlen)
A62: 9. | B62: KÖLTSÉGVETÉSI BEVÉTELEK ÖSSZESEN: (1+…+8) | C62: =+C5+C12+C19+C26+C34+C46+C52+C57 -> 626480813
A63: 10. | B63: Hitel-, kölcsönfelvétel államháztartáson kívülről (10.1.+10.3.) | C63: =SUM(C64:C66) -> 0
A64: 10.1. | B64: Hosszú lejáratú hitelek, kölcsönök felvétele
A65: 10.2. | B65: Likviditási célú hitelek, kölcsönök felvétele pénzügyi vállalkozástól
A66: 10.3. | B66: Rövid lejáratú hitelek, kölcsönök felvétele
A67: 11. | B67: Belföldi értékpapírok bevételei (11.1. +…+ 11.4.) | C67: =SUM(C68:C71) -> 0
A68: 11.1. | B68: Forgatási célú belföldi értékpapírok beváltása, értékesítése
A69: 11.2. | B69: Éven belüli lejáratú belföldi értékpapírok kibocsátása
A70: 11.3. | B70: Befektetési célú belföldi értékpapírok beváltása, értékesítése
A71: 11.4. | B71: Éven túli lejáratú belföldi értékpapírok kibocsátása
A72: 12. | B72: Maradvány igénybevétele (12.1. + 12.2.) | C72: =SUM(C73:C74) -> 193841945
A73: 12.1. | B73: Előző év költségvetési maradványának igénybevétele | C73: 193841945
A74: 12.2. | B74: Előző év vállalkozási maradványának igénybevétele
A75: 13. | B75: Belföldi finanszírozás bevételei (13.1. + … + 13.3.) | C75: =SUM(C76:C78) -> 0
A76: 13.1. | B76: Államháztartáson belüli megelőlegezések
A77: 13.2. | B77: Államháztartáson belüli megelőlegezések törlesztése
A78: 13.3. | B78: Lekötött betétek megszüntetése
A79: 14. | B79: Külföldi finanszírozás bevételei (14.1.+…14.4.) | C79: =SUM(C80:C83) -> 0
A80: 14.1. | B80: Forgatási célú külföldi értékpapírok beváltása, értékesítése
A81: 14.2. | B81: Befektetési célú külföldi értékpapírok beváltása, értékesítése
A82: 14.3. | B82: Külföldi értékpapírok kibocsátása
A83: 14.4. | B83: Külföldi hitelek, kölcsönök felvétele
A84: 15. | B84: Váltóbevételek
A85: 16. | B85: Adóssághoz nem kapcsolódó származékos ügyletek bevételei
A86: 17. | B86: FINANSZÍROZÁSI BEVÉTELEK ÖSSZESEN: (10. + … +16.) | C86: =+C63+C67+C72+C75+C79+C85+C84 -> 193841945
A87: 18. | B87: KÖLTSÉGVETÉSI ÉS FINANSZÍROZÁSI BEVÉTELEK ÖSSZESEN: (9+17) | C87: =+C62+C86 -> 820322758
A89: K I A D Á S O K
A90: 2. sz. táblázat | C90: =C2 -> Forintban!
A91: Sor- szám | B91: Kiadási jogcímek | C91: =+C3 -> 2018. évi előirányzat
B92: A | C92: B
A93: 1. | B93: Működési költségvetés kiadásai (1.1+…+1.5.+1.18.) | C93: =C94+C95+C96+C97+C98+C111 -> 332552123
A94: 1.1. | B94: Személyi juttatások | C94: 127922432
A95: 1.2. | B95: Munkaadókat terhelő járulékok és szociális hozzájárulási adó | C95: 26508182
A96: 1.3. | B96: Dologi kiadások | C96: 128430894
A97: 1.4. | B97: Ellátottak pénzbeli juttatásai | C97: 10180000
A98: 1.5 | B98: Egyéb működési célú kiadások | C98: 37010615
A99: 1.6. | B99: - az 1.5-ből: - Előző évi elszámolásból származó befizetések
A100: 1.7. | B100: - Törvényi előíráson alapuló befizetések
A101: 1.8. | B101: - Elvonások és befizetések
...

Sheet 1.3.sz.mell.
A1: B E V É T E L E K
A2: 1. sz. táblázat | C2: ='1.2.sz.mell.'!C2 -> Forintban!
A3: Sor- szám | B3: Bevételi jogcím | C3: =+CONCATENATE(LEFT(ÖSSZEFÜGGÉSEK!A5,4),". évi előirányzat") -> 2018. évi előirányzat
B4: A | C4: B
A5: 1. | B5: Önkormányzat működési támogatásai (1.1.+…+.1.6.) | C5: =+C6+C7+C8+C9+C10+C11 -> 0
A6: 1.1. | B6: Helyi önkormányzatok működésének általános támogatása | C6: 0
A7: 1.2. | B7: Önkormányzatok egyes köznevelési feladatainak támogatása
A8: 1.3. | B8: Önkormányzatok szociális és gyermekjóléti, étkeztetési feladatainak támogatása
A9: 1.4. | B9: Önkormányzatok kulturális feladatainak támogatása
A10: 1.5. | B10: Működési célú kvi támogatások és kiegészítő támogatások
A11: 1.6. | B11: Elszámolásból származó bevételek
A12: 2. | B12: Működési célú támogatások államháztartáson belülről (2.1.+…+.2.5.) | C12: =+C13+C14+C15+C16+C17 -> 0
A13: 2.1. | B13: Elvonások és befizetések bevételei
A14: 2.2. | B14: Működési célú garancia- és kezességvállalásból megtérülések
A15: 2.3. | B15: Működési célú visszatérítendő támogatások, kölcsönök visszatérülése
A16: 2.4. | B16: Működési célú visszatérítendő támogatások, kölcsönök igénybevétele
A17: 2.5. | B17: Egyéb működési célú támogatások bevételei államháztartáson belülről
A18: 2.6. | B18: 2.5.-ből EU-s támogatás
A19: 3. | B19: Felhalmozási célú támogatások államháztartáson belülről (3.1.+…+3.5.) | C19: =+C20+C21+C22+C23+C24 -> 0
A20: 3.1. | B20: Felhalmozási célú önkormányzati támogatások
A21: 3.2. | B21: Felhalmozási célú garancia- és kezességvállalásból megtérülések
A22: 3.3. | B22: Felhalmozási célú visszatérítendő támogatások, kölcsönök visszatérülése
A23: 3.4. | B23: Felhalmozási célú visszatérítendő támogatások, kölcsönök igénybevétele
A24: 3.5. | B24: Egyéb felhalmozási célú támogatások bevételei
A25: 3.6. | B25: 3.5.-ből EU-s támogatás
A26: 4. | B26: Közhatalmi bevételek (4.1.+…+4.7.) | C26: =SUM(C27:C33) -> 0
A27: 4.1. | B27: Építményadó
A28: 4.2. | B28: Idegenforgalmi adó
A29: 4.3. | B29: Iparűzési adó
A30: 4.4. | B30: Talajterhelési díj
A31: 4.5. | B31: Gépjárműadó
A32: 4.6. | B32: Egyéb áruhasználati és szolgáltatási adók
A33: 4.7. | B33: Egyéb közhatalmi bevételek
A34: 5. | B34: Működési bevételek (5.1.+…+ 5.11.) | C34: =SUM(C35:C45) -> 0
A35: 5.1. | B35: Készletértékesítés ellenértéke
A36: 5.2. | B36: Szolgáltatások ellenértéke
A37: 5.3. | B37: Közvetített szolgáltatások értéke
A38: 5.4. | B38: Tulajdonosi bevételek
A39: 5.5. | B39: Ellátási díjak
A40: 5.6. | B40: Kiszámlázott általános forgalmi adó
A41: 5.7. | B41: Általános forgalmi adó visszatérítése
A42: 5.8. | B42: Kamatbevételek és más nyereségjellegű bevételek
A43: 5.9. | B43: Egyéb pénzügyi műveletek bevételei
A44: 5.10. | B44: Biztosító által fizetett kártérítés
A45: 5.11. | B45: Egyéb működési bevételek
A46: 6. | B46: Felhalmozási bevételek (6.1.+…+6.5.) | C46: =SUM(C47:C51) -> 0
A47: 6.1. | B47: Immateriális javak értékesítése
A48: 6.2. | B48: Ingatlanok értékesítése
A49: 6.3. | B49: Egyéb tárgyi eszközök értékesítése
A50: 6.4. | B50: Részesedések értékesítése
A51: 6.5. | B51: Részesedések megszűnéséhez kapcsolódó bevételek
A52: 7. | B52: Működési célú átvett pénzeszközök (7.1. + … + 7.3.) | C52: =SUM(C53:C55) -> 0
A53: 7.1. | B53: Működési célú garancia- és kezességvállalásból megtérülések ÁH-n kívülről
A54: 7.2. | B54: Működési célú visszatérítendő támogatások, kölcsönök visszatér. ÁH-n kívülről
A55: 7.3. | B55: Egyéb működési célú átvett pénzeszköz
A56: 7.4. | B56: 7.3.-ból EU-s támogatás (közvetlen)
A57: 8. | B57: Felhalmozási célú átvett pénzeszközök (8.1.+8.2.+8.3.) | C57: =SUM(C58:C60) -> 0
A58: 8.1. | B58: Felhalm. célú garancia- és kezességvállalásból megtérülések ÁH-n kívülről
A59: 8.2. | B59: Felhalm. célú visszatérítendő támogatások, kölcsönök visszatér. ÁH-n kívülről
A60: 8.3. | B60: Egyéb felhalmozási célú átvett pénzeszköz
A61: 8.4. | B61: 8.3.-ból EU-s támogatás (közvetlen)
A62: 9. | B62: KÖLTSÉGVETÉSI BEVÉTELEK ÖSSZESEN: (1+…+8) | C62: =+C5+C12+C19+C26+C34+C46+C52+C57 -> 0
A63: 10. | B63: Hitel-, kölcsönfelvétel államháztartáson kívülről (10.1.+10.3.) | C63: =SUM(C64:C66) -> 0
A64: 10.1. | B64: Hosszú lejáratú hitelek, kölcsönök felvétele
A65: 10.2. | B65: Likviditási célú hitelek, kölcsönök felvétele pénzügyi vállalkozástól
A66: 10.3. | B66: Rövid lejáratú hitelek, kölcsönök felvétele
A67: 11. | B67: Belföldi értékpapírok bevételei (11.1. +…+ 11.4.) | C67: =SUM(C68:C71) -> 0
A68: 11.1. | B68: Forgatási célú belföldi értékpapírok beváltása, értékesítése
A69: 11.2. | B69: Éven belüli lejáratú belföldi értékpapírok kibocsátása
A70: 11.3. | B70: Befektetési célú belföldi értékpapírok beváltása, értékesítése
A71: 11.4. | B71: Éven túli lejáratú belföldi értékpapírok kibocsátása
A72: 12. | B72: Maradvány igénybevétele (12.1. + 12.2.) | C72: =SUM(C73:C74) -> 0
A73: 12.1. | B73: Előző év költségvetési maradványának igénybevétele
A74: 12.2. | B74: Előző év vállalkozási maradványának igénybevétele
A75: 13. | B75: Belföldi finanszírozás bevételei (13.1. + … + 13.3.) | C75: =SUM(C76:C78) -> 0
A76: 13.1. | B76: Államháztartáson belüli megelőlegezések
A77: 13.2. | B77: Államháztartáson belüli megelőlegezések törlesztése
A78: 13.3. | B78: Lekötött betétek megszüntetése
A79: 14. | B79: Külföldi finanszírozás bevételei (14.1.+…14.4.) | C79: =SUM(C80:C83) -> 0
A80: 14.1. | B80: Forgatási célú külföldi értékpapírok beváltása, értékesítése
A81: 14.2. | B81: Befektetési célú külföldi értékpapírok beváltása, értékesítése
A82: 14.3. | B82: Külföldi értékpapírok kibocsátása
A83: 14.4. | B83: Külföldi hitelek, kölcsönök felvétele
A84: 15. | B84: Váltóbevételek
A85: 16. | B85: Adóssághoz nem kapcsolódó származékos ügyletek bevételei
A86: 17. | B86: FINANSZÍROZÁSI BEVÉTELEK ÖSSZESEN: (10. + … +16.) | C86: =+C63+C67+C72+C75+C79+C85+C84 -> 0
A87: 18. | B87: KÖLTSÉGVETÉSI ÉS FINANSZÍROZÁSI BEVÉTELEK ÖSSZESEN: (9+17) | C87: =+C62+C86 -> 0
A89: K I A D Á S O K
A90: 2. sz. táblázat | C90: =C2 -> Forintban!
A91: Sor- szám | B91: Kiadási jogcímek | C91: =+C3 -> 2018. évi előirányzat
B92: A | C92: B
A93: 1. | B93: Működési költségvetés kiadásai (1.1+…+1.5.+1.18.) | C93: =C94+C95+C96+C97+C98+C111 -> 0
A94: 1.1. | B94: Személyi juttatások | C94: 0
A95: 1.2. | B95: Munkaadókat terhelő járulékok és szociális hozzájárulási adó
A96: 1.3. | B96: Dologi kiadások
A97: 1.4. | B97: Ellátottak pénzbeli juttatásai
A98: 1.5 | B98: Egyéb működési célú kiadások
A99: 1.6. | B99: - az 1.5-ből: - Előző évi elszámolásból származó befizetések
A100: 1.7. | B100: - Törvényi előíráson alapuló befizetések
A101: 1.8. | B101: - Elvonások és befizetések
...

Sheet 1.4.sz.mell.
A1: B E V É T E L E K
A2: 1. sz. táblázat | C2: ='1.3.sz.mell.'!C2 -> Forintban!
A3: Sor- szám | B3: Bevételi jogcím | C3: =+CONCATENATE(LEFT(ÖSSZEFÜGGÉSEK!A5,4),". évi előirányzat") -> 2018. évi előirányzat
B4: A | C4: B
A5: 1. | B5: Önkormányzat működési támogatásai (1.1.+…+.1.6.) | C5: =+C6+C7+C8+C9+C10+C11 -> 0
A6: 1.1. | B6: Helyi önkormányzatok működésének általános támogatása | C6: 0
A7: 1.2. | B7: Önkormányzatok egyes köznevelési feladatainak támogatása
A8: 1.3. | B8: Önkormányzatok szociális és gyermekjóléti, étkeztetési feladatainak támogatása
A9: 1.4. | B9: Önkormányzatok kulturális feladatainak támogatása
A10: 1.5. | B10: Működési célú kvi támogatások és kiegészítő támogatások
A11: 1.6. | B11: Elszámolásból származó bevételek
A12: 2. | B12: Működési célú támogatások államháztartáson belülről (2.1.+…+.2.5.) | C12: =+C13+C14+C15+C16+C17 -> 0
A13: 2.1. | B13: Elvonások és befizetések bevételei
A14: 2.2. | B14: Működési célú garancia- és kezességvállalásból megtérülések
A15: 2.3. | B15: Működési célú visszatérítendő támogatások, kölcsönök visszatérülése
A16: 2.4. | B16: Működési célú visszatérítendő támogatások, kölcsönök igénybevétele
A17: 2.5. | B17: Egyéb működési célú támogatások bevételei államháztartáson belülről
A18: 2.6. | B18: 2.5.-ből EU-s támogatás
A19: 3. | B19: Felhalmozási célú támogatások államháztartáson belülről (3.1.+…+3.5.) | C19: =+C20+C21+C22+C23+C24 -> 0
A20: 3.1. | B20: Felhalmozási célú önkormányzati támogatások
A21: 3.2. | B21: Felhalmozási célú garancia- és kezességvállalásból megtérülések
A22: 3.3. | B22: Felhalmozási célú visszatérítendő támogatások, kölcsönök visszatérülése
A23: 3.4. | B23: Felhalmozási célú visszatérítendő támogatások, kölcsönök igénybevétele
A24: 3.5. | B24: Egyéb felhalmozási célú támogatások bevételei
A25: 3.6. | B25: 3.5.-ből EU-s támogatás
A26: 4. | B26: Közhatalmi bevételek (4.1.+...+4.7.) | C26: =SUM(C27:C33) -> 0
A27: 4.1. | B27: Építményadó
A28: 4.2. | B28: Idegenforgalmi adó
A29: 4.3. | B29: Iparűzési adó
A30: 4.4. | B30: Talajterhelési díj
A31: 4.5. | B31: Gépjárműadó
A32: 4.6. | B32: Egyéb áruhasználati és szolgáltatási adók
A33: 4.7. | B33: Egyéb közhatalmi bevételek
A34: 5. | B34: Működési bevételek (5.1.+…+ 5.11.) | C34: =SUM(C35:C45) -> 0
A35: 5.1. | B35: Készletértékesítés ellenértéke
A36: 5.2. | B36: Szolgáltatások ellenértéke
A37: 5.3. | B37: Közvetített szolgáltatások értéke
A38: 5.4. | B38: Tulajdonosi bevételek
A39: 5.5. | B39: Ellátási díjak
A40: 5.6. | B40: Kiszámlázott általános forgalmi adó
A41: 5.7. | B41: Általános forgalmi adó visszatérítése
A42: 5.8. | B42: Kamatbevételek és más nyereségjellegű bevételek
A43: 5.9. | B43: Egyéb pénzügyi műveletek bevételei
A44: 5.10. | B44: Biztosító által fizetett kártérítés
A45: 5.11. | B45: Egyéb működési bevételek
A46: 6. | B46: Felhalmozási bevételek (6.1.+…+6.5.) | C46: =SUM(C47:C51) -> 0
A47: 6.1. | B47: Immateriális javak értékesítése
A48: 6.2. | B48: Ingatlanok értékesítése
A49: 6.3. | B49: Egyéb tárgyi eszközök értékesítése
A50: 6.4. | B50: Részesedések értékesítése
A51: 6.5. | B51: Részesedések megszűnéséhez kapcsolódó bevételek
A52: 7. | B52: Működési célú átvett pénzeszközök (7.1. + … + 7.3.) | C52: =SUM(C53:C55) -> 0
A53: 7.1. | B53: Működési célú garancia- és kezességvállalásból megtérülések ÁH-n kívülről
A54: 7.2. | B54: Működési célú visszatérítendő támogatások, kölcsönök visszatér. ÁH-n kívülről
A55: 7.3. | B55: Egyéb működési célú átvett pénzeszköz
A56: 7.4. | B56: 7.3.-ból EU-s támogatás (közvetlen)
A57: 8. | B57: Felhalmozási célú átvett pénzeszközök (8.1.+8.2.+8.3.) | C57: =SUM(C58:C60) -> 0
A58: 8.1. | B58: Felhalm. célú garancia- és kezességvállalásból megtérülések ÁH-n kívülről
A59: 8.2. | B59: Felhalm. célú visszatérítendő támogatások, kölcsönök visszatér. ÁH-n kívülről
A60: 8.3. | B60: Egyéb felhalmozási célú átvett pénzeszköz
A61: 8.4. | B61: 8.3.-ból EU-s támogatás (közvetlen)
A62: 9. | B62: KÖLTSÉGVETÉSI BEVÉTELEK ÖSSZESEN: (1+…+8) | C62: =+C5+C12+C19+C26+C34+C46+C52+C57 -> 0
A63: 10. | B63: Hitel-, kölcsönfelvétel államháztartáson kívülről (10.1.+10.3.) | C63: =SUM(C64:C66) -> 0
A64: 10.1. | B64: Hosszú lejáratú hitelek, kölcsönök felvétele
A65: 10.2. | B65: Likviditási célú hitelek, kölcsönök felvétele pénzügyi vállalkozástól
A66: 10.3. | B66: Rövid lejáratú hitelek, kölcsönök felvétele
A67: 11. | B67: Belföldi értékpapírok bevételei (11.1. +…+ 11.4.) | C67: =SUM(C68:C71) -> 0
A68: 11.1. | B68: Forgatási célú belföldi értékpapírok beváltása, értékesítése
A69: 11.2. | B69: Éven belüli lejáratú belföldi értékpapírok kibocsátása
A70: 11.3. | B70: Befektetési célú belföldi értékpapírok beváltása, értékesítése
A71: 11.4. | B71: Éven túli lejáratú belföldi értékpapírok kibocsátása
A72: 12. | B72: Maradvány igénybevétele (12.1. + 12.2.) | C72: =SUM(C73:C74) -> 0
A73: 12.1. | B73: Előző év költségvetési maradványának igénybevétele
A74: 12.2. | B74: Előző év vállalkozási maradványának igénybevétele
A75: 13. | B75: Belföldi finanszírozás bevételei (13.1. + … + 13.3.) | C75: =SUM(C76:C78) -> 0
A76: 13.1. | B76: Államháztartáson belüli megelőlegezések
A77: 13.2. | B77: Államháztartáson belüli megelőlegezések törlesztése
A78: 13.3. | B78: Lekötött betétek megszüntetése
A79: 14. | B79: Külföldi finanszírozás bevételei (14.1.+…14.4.) | C79: =SUM(C80:C83) -> 0
A80: 14.1. | B80: Forgatási célú külföldi értékpapírok beváltása, értékesítése
A81: 14.2. | B81: Befektetési célú külföldi értékpapírok beváltása, értékesítése
A82: 14.3. | B82: Külföldi értékpapírok kibocsátása
A83: 14.4. | B83: Külföldi hitelek, kölcsönök felvétele
A84: 15. | B84: Váltóbevételek
A85: 16. | B85: Adóssághoz nem kapcsolódó származékos ügyletek bevételei
A86: 17. | B86: FINANSZÍROZÁSI BEVÉTELEK ÖSSZESEN: (10. + … +16.) | C86: =+C63+C67+C72+C75+C79+C85+C84 -> 0
A87: 18. | B87: KÖLTSÉGVETÉSI ÉS FINANSZÍROZÁSI BEVÉTELEK ÖSSZESEN: (9+17) | C87: =+C62+C86 -> 0
A89: K I A D Á S O K
A90: 2. sz. táblázat | C90: =C2 -> Forintban!
A91: Sor- szám | B91: Kiadási jogcímek | C91: =+C3 -> 2018. évi előirányzat
B92: A | C92: B
A93: 1. | B93: Működési költségvetés kiadásai (1.1+…+1.5.+1.18.) | C93: =C94+C95+C96+C97+C98+C111 -> 0
A94: 1.1. | B94: Személyi juttatások | C94: 0
A95: 1.2. | B95: Munkaadókat terhelő járulékok és szociális hozzájárulási adó
A96: 1.3. | B96: Dologi kiadások
A97: 1.4. | B97: Ellátottak pénzbeli juttatásai
A98: 1.5 | B98: Egyéb működési célú kiadások
A99: 1.6. | B99: - az 1.5-ből: - Előző évi elszámolásból származó befizetések
A100: 1.7. | B100: - Törvényi előíráson alapuló befizetések
A101: 1.8. | B101: - Elvonások és befizetések
...

Sheet 2.1.sz.mell  
B1: I. Működési célú bevételek és kiadások mérlege (Önkormányzati szinten) | F1: =+CONCATENATE("2.1. melléklet a ………../",LEFT(ÖSSZEFÜGGÉSEK!A5,4),". (……….) önkormányzati rendelethez") -> 2.1. melléklet a ………../2018. (……….) önkormányzati rendelethez
E2: ='1.4.sz.mell.'!C2 -> Forintban!
A3: Sor- szám | B3: Bevételek | D3: Kiadások
B4: Megnevezés | C4: =+'1.1.sz.mell.'!C3 -> 2018. évi előirányzat | D4: Megnevezés | E4: =+C4 -> 2018. évi előirányzat
B5: A | C5: B | D5: C | E5: D
A6: 1. | B6: Önkormányzatok működési támogatásai | C6: 109212674 | D6: Személyi juttatások | E6: 129827432
A7: 2. | B7: Működési célú támogatások államháztartáson belülről | C7: 14608139 | D7: Munkaadókat terhelő járulékok és szociális hozzájárulási adó | E7: 26955245
A8: 3. | B8: 2.-ból EU-s támogatás | D8: Dologi kiadások | E8: 128430894
A9: 4. | B9: Közhatalmi bevételek | C9: 171790000 | D9: Ellátottak pénzbeli juttatásai | E9: 10180000
A10: 5. | B10: Működési bevételek | C10: 30903426 | D10: Egyéb működési célú kiadások | E10: 37010615
A11: 6. | B11: Működési célú átvett pénzeszközök | D11: Tartalékok | E11: 2500000
A12: 7. | B12: 6.-ból EU-s támogatás (közvetlen)
A13: 8.
A14: 9.
A15: 10.
A16: 11.
A17: 12.
A18: 13. | B18: Költségvetési bevételek összesen (1.+2.+4.+5.+6.+8.+…+12.) | C18: =SUM(C6:C17) -> 326514239 | D18: Költségvetési kiadások összesen (1.+...+12.) | E18: =SUM(E6:E17) -> 334904186
A19: 14. | B19: Hiány belső finanszírozásának bevételei (15.+…+18. ) | C19: =+C20+C21+C22+C23 -> 193841945 | D19: Értékpapír vásárlása, visszavásárlása
A20: 15. | B20: Költségvetési maradvány igénybevétele | C20: 193841945 | D20: Likviditási célú hitelek törlesztése
A21: 16. | B21: Vállalkozási maradvány igénybevétele | D21: Rövid lejáratú hitelek törlesztése
A22: 17. | B22: Betét visszavonásából származó bevétel | D22: Hosszú lejáratú hitelek törlesztése
A23: 18. | B23: Egyéb belső finanszírozási bevételek | D23: Kölcsön törlesztése
A24: 19. | B24: Hiány külső finanszírozásának bevételei (20.+…+21.) | C24: =+C25+C26 -> 0 | D24: Forgatási célú belföldi, külföldi értékpapírok vásárlása
A25: 20. | B25: Likviditási célú hitelek, kölcsönök felvétele | D25: Pénzeszközök lekötött betétként elhelyezése
A26: 21. | B26: Értékpapírok bevételei | D26: Adóssághoz nem kapcsolódó származékos ügyletek
A27: 22. | B27: Váltóbevételek | D27: Váltókiadások
A28: 23. | B28: Adóssághoz nem kapcsolódó származékos ügyletek bevételei
A29: 24. | B29: Működési célú finanszírozási bevételek összesen (14.+19.+22.+23.) | C29: =+C19+C24+C27+C28 -> 193841945 | D29: Működési célú finanszírozási kiadások összesen (14.+...+23.) | E29: =SUM(E19:E28) -> 0
A30: 25. | B30: BEVÉTEL ÖSSZESEN (13.+24.) | C30: =+C18+C29 -> 520356184 | D30: KIADÁSOK ÖSSZESEN (13.+24.) | E30: =+E18+E29 -> 334904186
A31: 26. | B31: Költségvetési hiány: | C31: =IF(C18-E18<0,E18-C18,"-") -> 8389947 | D31: Költségvetési többlet: | E31: =IF(C18-E18>0,C18-E18,"-") -> -
A32: 27. | B32: Bruttó hiány: | C32: =IF(C30-E30<0,E30-C30,"-") -> - | D32: Bruttó többlet: | E32: =IF(C30-E30>0,C30-E30,"-") -> 185451998

Sheet 2.2.sz.mell  
B1: II. Felhalmozási célú bevételek és kiadások mérlege (Önkormányzati szinten) | F1: =+CONCATENATE("2.2. melléklet a ………../",LEFT(ÖSSZEFÜGGÉSEK!A5,4),". (……….) önkormányzati rendelethez") -> 2.2. melléklet a ………../2018. (……….) önkormányzati rendelethez
E2: ='2.1.sz.mell '!E2 -> Forintban!
A3: Sor- szám | B3: Bevételek | D3: Kiadások
B4: Megnevezés | C4: =+'2.1.sz.mell '!C4 -> 2018. évi előirányzat | D4: Megnevezés | E4: =+'2.1.sz.mell '!C4 -> 2018. évi előirányzat
B5: A | C5: B | D5: C | E5: D
A6: 1. | B6: Felhalmozási célú támogatások államháztartáson belülről | C6: 300655070 | D6: Beruházások | E6: 481000435
A7: 2. | B7: 1.-ből EU-s támogatás | C7: 300655070 | D7: 1.-ből EU-s forrásból megvalósuló beruházás | E7: 457193747
A8: 3. | B8: Felhalmozási bevételek | D8: Felújítások | E8: 1270000
A9: 4. | B9: Felhalmozási célú átvett pénzeszközök átvétele | C9: 1663367 | D9: 3.-ból EU-s forrásból megvalósuló felújítás
A10: 5. | B10: 4.-ből EU-s támogatás (közvetlen) | D10: Egyéb felhalmozási kiadások | E10: 5500000
A11: 6. | B11: Egyéb felhalmozási célú bevételek
A12: 7.
A13: 8.
A14: 9.
A15: 10.
A16: 11. | D16: Tartalékok
A17: 12. | B17: Költségvetési bevételek összesen: (1.+3.+4.+6.+…+11.) | C17: =+C6+C8+C9+C11+C12+C13+C14+C15+C16 -> 302318437 | D17: Költségvetési kiadások összesen: (1.+3.+5.+...+11.) | E17: =+E6+E8+E10+E11+E12+E13+E14+E15+E16 -> 487770435
A18: 13. | B18: Hiány belső finanszírozás bevételei ( 14+…+18) | C18: =SUM(C19:C23) -> 0 | D18: Értékpapír vásárlása, visszavásárlása
A19: 14. | B19: Költségvetési maradvány igénybevétele | D19: Hitelek törlesztése
A20: 15. | B20: Vállalkozási maradvány igénybevétele | D20: Rövid lejáratú hitelek törlesztése
A21: 16. | B21: Betét visszavonásából származó bevétel | D21: Hosszú lejáratú hitelek törlesztése
A22: 17. | B22: Értékpapír értékesítése | D22: Kölcsön törlesztése
A23: 18. | B23: Egyéb belső finanszírozási bevételek | D23: Befektetési célú belföldi, külföldi értékpapírok vásárlása
A24: 19. | B24: Hiány külső finanszírozásának bevételei (20+…+24 ) | C24: =+C25+C26+C27+C28+C29 -> 0 | D24: Betét elhelyezése
A25: 20. | B25: Hosszú lejáratú hitelek, kölcsönök felvétele | D25: Pénzügyi lízing kiadásai
A26: 21. | B26: Likviditási célú hitelek, kölcsönök felvétele
A27: 22. | B27: Rövid lejáratú hitelek, kölcsönök felvétele
A28: 23. | B28: Értékpapírok kibocsátása
A29: 24. | B29: Egyéb külső finanszírozási bevételek
A30: 25. | B30: Felhalmozási célú finanszírozási bevételek összesen (13.+19.) | C30: =+C18+C24 -> 0 | D30: Felhalmozási célú finanszírozási kiadások összesen (13.+...+24.) | E30: =SUM(E18:E29) -> 0
A31: 26. | B31: BEVÉTEL ÖSSZESEN (12+25) | C31: =+C17+C30 -> 302318437 | D31: KIADÁSOK ÖSSZESEN (12+25) | E31: =+E17+E30 -> 487770435
A32: 27. | B32: Költségvetési hiány: | C32: =IF(C17-E17<0,E17-C17,"-") -> 185451998 | D32: Költségvetési többlet: | E32: =IF(C17-E17>0,C17-E17,"-") -> -
A33: 28. | B33: Bruttó hiány: | C33: =IF(C31-E31<0,E31-C31,"-") -> 185451998 | D33: Bruttó többlet: | E33: =IF(C31-E31>0,C31-E31,"-") -> -

Sheet ELLENŐRZÉS-1.sz.2.a.sz.2.b.sz.
A1: Költségvetési rendelet űrlapjainak összefüggései: | E1: ELTÉRÉS
A4: =+ÖSSZEFÜGGÉSEK!A5 -> 2018. évi előirányzat BEVÉTELEK
A6: 1.1. sz. melléklet Bevételek táblázat C. oszlop 9 sora = | B6: =+'1.1.sz.mell.'!C62 -> 628832676 | C6: 2.1. számú melléklet C. oszlop 13. sor + 2.2. számú melléklet C. oszlop 12. sor | D6: =+'2.1.sz.mell '!C18+'2.2.sz.mell '!C17 -> 628832676 | E6: =+B6-D6 -> 0
A7: 1.1. sz. melléklet Bevételek táblázat C. oszlop 17 sora = | B7: =+'1.1.sz.mell.'!C86 -> 193841945 | C7: 2.1. számú melléklet C. oszlop 24. sor + 2.2. számú melléklet C. oszlop 25. sor | D7: =+'2.1.sz.mell '!C29+'2.2.sz.mell '!C30 -> 193841945 | E7: =+B7-D7 -> 0
A8: 1.1. sz. melléklet Bevételek táblázat C. oszlop 18 sora = | B8: =+'1.1.sz.mell.'!C87 -> 822674621 | C8: 2.1. számú melléklet C. oszlop 25. sor + 2.2. számú melléklet C. oszlop 26. sor | D8: =+'2.1.sz.mell '!C30+'2.2.sz.mell '!C31 -> 822674621 | E8: =+B8-D8 -> 0
A11: =+ÖSSZEFÜGGÉSEK!A12 -> 2018. évi előirányzat KIADÁSOK
A13: 1.1. sz. melléklet Kiadások táblázat C. oszlop 3 sora = | B13: =+'1.1.sz.mell.'!C128 -> 822674621 | C13: 2.1. számú melléklet E. oszlop 13. sor + 2.2. számú melléklet E. oszlop 12. sor | D13: =+'2.1.sz.mell '!E18+'2.2.sz.mell '!E17 -> 822674621 | E13: =+B13-D13 -> 0
A14: 1.1. sz. melléklet Kiadások táblázat C. oszlop 10 sora = | B14: =+'1.1.sz.mell.'!C153 -> 0 | C14: 2.1. számú melléklet E. oszlop 24. sor + 2.2. számú melléklet E. oszlop 25. sor | D14: =+'2.1.sz.mell '!E29+'2.2.sz.mell '!E30 -> 0 | E14: =+B14-D14 -> 0
A15: 1.1. sz. melléklet Kiadások táblázat C. oszlop 11 sora = | B15: =+'1.1.sz.mell.'!C154 -> 822674621 | C15: 2.1. számú melléklet E. oszlop 25. sor + 2.2. számú melléklet E. oszlop 26. sor | D15: =+'2.1.sz.mell '!E30+'2.2.sz.mell '!E31 -> 822674621 | E15: =+B15-D15 -> 0

Sheet 3.sz.mell.  
A1: Sajószöged Községi Önkormányzat adósságot keletkeztető ügyletekből és kezességvállalásokból fennálló kötelezettségei
E2: ='2.2.sz.mell '!E2 -> Forintban!
A3: Sor-szám | B3: MEGNEVEZÉS | C3: Évek | F3: Összesen (F=C+D+E)
C4: =+LEFT(ÖSSZEFÜGGÉSEK!A5,4)+1 -> 2019 | D4: =+C4+1 -> 2020 | E4: =+D4+1 -> 2021
B5: A | C5: B | D5: C | E5: D | F5: E
A6: 1. | B6: ----------------------------------------------------- | C6: 0 | D6: 0 | E6: 0 | F6: =SUM(C6:E6) -> 0
A7: 2. | F7: =SUM(C7:E7) -> 0
A8: 3. | F8: =SUM(C8:E8) -> 0
A9: 4. | F9: =SUM(C9:E9) -> 0
A10: 5. | F10: =SUM(C10:E10) -> 0
A11: 6. | B11: ÖSSZES KÖTELEZETTSÉG | C11: =SUM(C6:C10) -> 0 | D11: =SUM(D6:D10) -> 0 | E11: =SUM(E6:E10) -> 0 | F11: =SUM(F6:F10) -> 0

Sheet 4.sz.mell.
A1: Sajószöged Községi Önkormányzat saját bevételeinek részletezése az adósságot keletkeztető ügyletből származó tárgyévi fizetési kötelezettség megállapításához
C2: ='2.2.sz.mell '!E2 -> Forintban!
A3: Sor-szám | B3: Bevételi jogcímek | C3: =+'1.1.sz.mell.'!C3 -> 2018. évi előirányzat
B4: A | C4: B
A5: 1. | B5: Helyi adóból és a települési adóból származó bevétel | C5: 171690000
A6: 2. | B6: Az önkormányzati vagyon és az önkormányzatot megillető vagyoni értékű jog értékesítéséből és hasznosításából származó bevétel
A7: 3. | B7: Osztalék, koncessziós díj és hozambevétel
A8: 4. | B8: Tárgyi eszköz és az immateriális jószág, részvény, részesedés, vállalat értékesítéséből vagy privatizációból származó bevétel
A9: 5. | B9: Bírság-, pótlék- és díjbevétel | C9: 100000
A10: 6. | B10: Kezesség-, illetve garanciavállalással kapcsolatos megtérülés
A11: SAJÁT BEVÉTELEK ÖSSZESEN* | C11: =SUM(C5:C10) -> 171790000
A12: *Az adósságot keletkeztető ügyletekhez történő hozzájárulás részletes szabályairól szóló 353/2011. (XII.31.) Korm. Rendelet 2.§ (1) bekezdése alapján.

Sheet 5.sz.mell.
A1: Sajószöged Községi Önkormányzat 2018. évi adósságot keletkeztető fejlesztési céljai
C2: ='4.sz.mell.'!C2 -> Forintban!
A3: Sor-szám | B3: Fejlesztési cél leírása | C3: Fejlesztés várható kiadása
B4: A | C4: B
A5: 1. | B5: ---------------------------------------------------------------------------------------------------------------- | C5: 0
A6: 2.
A7: 3.
A8: 4. | B8: ADÓSSÁGOT KELETKEZTETŐ ÜGYLETEK VÁRHATÓ EGYÜTTES ÖSSZEGE | C8: =SUM(C5:C7) -> 0

Sheet 6.sz.mell.
A1: Beruházási (felhalmozási) kiadások előirányzata beruházásonként
F2: ='5.sz.mell.'!C2 -> Forintban!
A3: Beruházás megnevezése | B3: Teljes költség | C3: Kivitelezés kezdési és befejezési éve | D3: =+CONCATENATE("Felhasználás ",LEFT(ÖSSZEFÜGGÉSEK!A5,4)-1,". XII. 31-ig") -> Felhasználás 2017. XII. 31-ig | E3: =+'1.1.sz.mell.'!C3 -> 2018. évi előirányzat | F3: =+CONCATENATE(LEFT(ÖSSZEFÜGGÉSEK!A5,4),". utáni szükséglet") -> 2018. utáni szükséglet
A4: A | B4: B | C4: C | D4: D | E4: E | F4: F=(B-D-E)
A5: Óvoda - TOP 1-4-1-15-BO1-2016-00080 | B5: 173524821 | C5: 2017-2018 | D5: 3810000 | E5: 169714821 | F5: =B5-D5-E5 -> 0
A6: Iskola - TOP 3-2-1-16-BO1-2017-00055. | B6: 117478820 | C6: 2018-2018 | E6: 117478820 | F6: =B6-D6-E6 -> 0
A7: Bölcsőde TOP 1-4-1-16-BO1-2017-00018 | B7: 170000000 | C7: 2018-2018 | E7: 170000000 | F7: =B7-D7-E7 -> 0
A8: Telekrész vásárlás | B8: 1500000 | C8: 2018-2018 | E8: 1500000 | F8: =B8-D8-E8 -> 0
A9: Térfigyelő rendszer beüzemelése | B9: 3665000 | C9: 2014-2018 | D9: 2636300 | E9: 1028700 | F9: =B9-D9-E9 -> 0
A10: Garázs PH udvarára | B10: 508000 | C10: 2018-2018 | E10: 508000 | F10: =B10-D10-E10 -> 0
A11: Ideiglenes óvoda kialakítása | B11: 15920240 | C11: 2018-2018 | E11: 15920240 | F11: =B11-D11-E11 -> 0
A12: Számítástechnikai eszközök beszerzése ASP | B12: 1524000 | C12: 2018-2018 | E12: 1524000 | F12: =B12-D12-E12 -> 0
A13: Eszközbeszerzés - PH | B13: 1270000 | C13: 2018-2018 | E13: 1270000 | F13: =B13-D13-E13 -> 0
A14: Eszközbeszerzés - ÁMK | B14: 1397000 | C14: 2018-2018 | E14: 1397000 | F14: =B14-D14-E14 -> 0
A15: Eszközbeszerzés - ÖNK | B15: 658854 | C15: 2018-2018 | E15: 658854 | F15: =B15-D15-E15 -> 0
F16: =B16-D16-E16 -> 0
F17: =B17-D17-E17 -> 0
F18: =B18-D18-E18 -> 0
F19: =B19-D19-E19 -> 0
F20: =B20-D20-E20 -> 0
F21: =B21-D21-E21 -> 0
F22: =B22-D22-E22 -> 0
A23: ÖSSZESEN: | B23: =SUM(B5:B22) -> 487446735 | D23: =SUM(D5:D22) -> 6446300 | E23: =SUM(E5:E22) -> 481000435 | F23: =SUM(F5:F22) -> 0

Sheet 7.sz.mell.
A1: Felújítási kiadások előirányzata felújításonként
F2: ='6.sz.mell.'!F2 -> Forintban!
A3: Felújítás megnevezése | B3: Teljes költség | C3: Kivitelezés kezdési és befejezési éve | D3: =+'6.sz.mell.'!D3 -> Felhasználás 2017. XII. 31-ig | E3: =+'6.sz.mell.'!E3 -> 2018. évi előirányzat | F3: =+CONCATENATE(LEFT(ÖSSZEFÜGGÉSEK!A5,4),". utáni szükséglet ",CHAR(10),"") -> 2018. utáni szükséglet
A4: A | B4: B | C4: C | D4: D | E4: E | F4: F=(B-D-E)
A5: Önkormányzat tulajdonában lévő építmények felújítása | B5: 1270000 | C5: 2018-2018 | D5: 0 | E5: 1270000 | F5: =B5-D5-E5 -> 0
F6: =B6-D6-E6 -> 0
F7: =B7-D7-E7 -> 0
F8: =B8-D8-E8 -> 0
F9: =B9-D9-E9 -> 0
F10: =B10-D10-E10 -> 0
F11: =B11-D11-E11 -> 0
F12: =B12-D12-E12 -> 0
F13: =B13-D13-E13 -> 0
F14: =B14-D14-E14 -> 0
F15: =B15-D15-E15 -> 0
F16: =B16-D16-E16 -> 0
F17: =B17-D17-E17 -> 0
... F23: =B23-D23-E23 -> 0
A24: ÖSSZESEN: | B24: =SUM(B5:B23) -> 1270000 | D24: =SUM(D5:D23) -> 0 | E24: =SUM(E5:E23) -> 1270000 | F24: =SUM(F5:F23) -> 0

Sheet 8. sz. mell. 
A2: EU-s projekt neve, azonosítója: | B2: TOP 1-4-1-15-BO1-2016-00080.
A3: A foglalkoztatás és az életminőség javítása családbarát munkábaállást segítő intézmények, közszolgáltatások fejlesztésé-
A4: vel - Óvoda és Konyha fejlesztése Sajószögeden | D4: ='7.sz.mell.'!F2 -> Forintban!
A5: Források | B5: =CONCATENATE((LEFT(ÖSSZEFÜGGÉSEK!A5,4)),".") -> 2018. | C5: =CONCATENATE((LEFT(ÖSSZEFÜGGÉSEK!A5,4))+1,".") -> 2019. | D5: =CONCATENATE((LEFT(ÖSSZEFÜGGÉSEK!A5,4))+1,". után") -> 2019. után | E5: Összesen
A6: Saját erő | E6: =SUM(B6:D6) -> 0
A7: - saját erőből központi támogatás | E7: =SUM(B7:D7) -> 0
A8: EU-s forrás | B8: 13176250 | E8: =SUM(B8:D8) -> 13176250
A9: Társfinanszírozás | E9: =SUM(B9:D9) -> 0
A10: Hitel | E10: =SUM(B10:D10) -> 0
A11: Egyéb forrás | E11: =SUM(B11:D11) -> 0
E12: =SUM(B12:D12) -> 0
A13: Források összesen: | B13: =B6+SUM(B8:B12) -> 13176250 | C13: =C6+SUM(C8:C12) -> 0 | D13: =D6+SUM(D8:D12) -> 0 | E13: =E6+SUM(E8:E12) -> 13176250
A15: Kiadások, költségek | B15: =+B5 -> 2018. | C15: =+C5 -> 2019. | D15: =+D5 -> 2019. után | E15: Összesen
A16: Személyi jellegű | E16: =SUM(B16:D16) -> 0
A17: Beruházások, beszerzések * | B17: 169714821 | E17: =SUM(B17:D17) -> 169714821
A18: Szolgáltatások igénybe vétele | E18: =SUM(B18:D18) -> 0
A19: Adminisztratív költségek | E19: =SUM(B19:D19) -> 0
E20: =SUM(B20:D20) -> 0
E21: =SUM(B21:D21) -> 0
E22: =SUM(B22:D22) -> 0
A23: Összesen: | B23: =SUM(B16:B22) -> 169714821 | C23: =SUM(C16:C22) -> 0 | D23: =SUM(D16:D22) -> 0 | E23: =SUM(E16:E22) -> 169714821
A24: *Megjegyzés: 2017-ben 160 348 571 Ft kiutalásra került a pályázat megvalósításához
A26: EU-s projekt neve, azonosítója: | B26: TOP 3-2-1-16-BO1-2017-00055
A27: A Sajószögedi Kölcsey Ferenc Általános Iskola és Alapfokú Művészeti Iskola energetikai korszerűsítése a káros anyag
A28: kibocsátás csökkentése céljából | D28: =D4 -> Forintban!
A29: Források | B29: =+B15 -> 2018. | C29: =+C15 -> 2019. | D29: =+D15 -> 2019. után | E29: Összesen
A30: Saját erő | E30: =SUM(B30:D30) -> 0
A31: - saját erőből központi támogatás | E31: =SUM(B31:D31) -> 0
A32: EU-s forrás | B32: 117478820 | E32: =SUM(B32:D32) -> 117478820
A33: Társfinanszírozás | E33: =SUM(B33:D33) -> 0
A34: Hitel | E34: =SUM(B34:D34) -> 0
A35: Egyéb forrás | E35: =SUM(B35:D35) -> 0
E36: =SUM(B36:D36) -> 0
A37: Források összesen: | B37: =B30+SUM(B32:B36) -> 117478820 | C37: =C30+SUM(C32:C36) -> 0 | D37: =D30+SUM(D32:D36) -> 0 | E37: =E30+SUM(E32:E36) -> 117478820
A39: Kiadások, költségek | B39: =+B29 -> 2018. | C39: =+C29 -> 2019. | D39: =+D29 -> 2019. után | E39: Összesen
A40: Személyi jellegű | E40: =SUM(B40:D40) -> 0
A41: Beruházások, beszerzések | B41: 117478820 | E41: =SUM(B41:D41) -> 117478820
A42: Szolgáltatások igénybe vétele | E42: =SUM(B42:D42) -> 0
A43: Adminisztratív költségek | E43: =SUM(B43:D43) -> 0
E44: =SUM(B44:D44) -> 0
E45: =SUM(B45:D45) -> 0
E46: =SUM(B46:D46) -> 0
A47: Összesen: | B47: =SUM(B40:B46) -> 117478820 | C47: =SUM(C40:C46) -> 0 | D47: =SUM(D40:D46) -> 0 | E47: =SUM(E40:E46) -> 117478820
A49: EU-s projekt neve, azonosítója: | B49: TOP 1-4-1-16-BO1-2017-00018
A50: A foglalkoztatás és az életminőség javítása családbarát munkábaállást segítő intézmények, közszolgáltatások fejlesztésé-
A51: vel - Sajószögedi Zöld Sziget bölcsőde építése | D51: Forintban!
A52: Források | B52: 2018 | C52: 2019 | D52: 2019 után | E52: Összesen
A53: Saját erő | E53: =SUM(B53:D53) -> 0
A54: - saját erőből központi támogatás | E54: =SUM(B54:D54) -> 0
A55: EU-s forrás | B55: 170000000 | E55: =SUM(B55:D55) -> 170000000
A56: Társfinanszírozás | E56: =SUM(B56:D56) -> 0
A57: Hitel | E57: =SUM(B57:D57) -> 0
A58: Egyéb forrás | E58: =SUM(B58:D58) -> 0
E59: =SUM(B59:D59) -> 0
A60: Források összesen: | B60: =B53+SUM(B55:B59) -> 170000000 | C60: =C53+SUM(C55:C59) -> 0 | D60: =D53+SUM(D55:D59) -> 0 | E60: =E53+SUM(E55:E59) -> 170000000
A62: Kiadások, költségek | B62: =+B52 -> 2018 | C62: =+C52 -> 2019 | D62: =+D52 -> 2019 után | E62: Összesen
A63: Személyi jellegű | E63: =SUM(B63:D63) -> 0
A64: Beruházások, beszerzések | B64: 170000000 | E64: =SUM(B64:D64) -> 170000000
A65: Szolgáltatások igénybe vétele | E65: =SUM(B65:D65) -> 0
A66: Adminisztratív költségek | E66: =SUM(B66:D66) -> 0
E67: =SUM(B67:D67) -> 0
E68: =SUM(B68:D68) -> 0
E69: =SUM(B69:D69) -> 0
A70: Összesen: | B70: =SUM(B63:B69) -> 170000000 | C70: =SUM(C63:C69) -> 0 | D70: =SUM(D63:D69) -> 0 | E70: =SUM(E63:E69) -> 170000000

Sheet 9.1. sz. mell
C1: =+CONCATENATE("9.1. melléklet a ……/",LEFT(ÖSSZEFÜGGÉSEK!A5,4),". (….) önkormányzati rendelethez") -> 9.1. melléklet a ……/2018. (….) önkormányzati rendelethez
A2: Megnevezés | B2: Sajószöged Községi Önkormányzat | C2: 01
A3: Feladat megnevezése | B3: Összes bevétel, kiadás | C3: 01
C4: ='7.sz.mell.'!F2 -> Forintban!
A5: Száma | B5: Kiemelt előirányzat, előirányzat megnevezése | C5: Előirányzat
B6: A | C6: B
B7: Bevételek
A8: 1. | B8: Önkormányzat működési támogatásai (1.1.+…+.1.6.) | C8: =+C9+C10+C11+C12+C13+C14 -> 109212674
A9: 1.1. | B9: Helyi önkormányzatok működésének általános támogatása | C9: 30667486
A10: 1.2. | B10: Önkormányzatok egyes köznevelési feladatainak támogatása | C10: 46445433
A11: 1.3. | B11: Önkormányzatok szociális és gyermekjóléti, étkeztetési feladatainak támogatása | C11: 29146265
A12: 1.4. | B12: Önkormányzatok kulturális feladatainak támogatása | C12: 2697090
A13: 1.5. | B13: Működési célú kvi támogatások és kiegészítő támogatások | C13: 256400
A14: 1.6. | B14: Elszámolásból származó bevételek
A15: 2. | B15: Működési célú támogatások államháztartáson belülről (2.1.+…+.2.5.) | C15: =+C16+C17+C18+C19+C20 -> 14608139
A16: 2.1. | B16: Elvonások és befizetések bevételei
A17: 2.2. | B17: Működési célú garancia- és kezességvállalásból megtérülések
A18: 2.3. | B18: Működési célú visszatérítendő támogatások, kölcsönök visszatérülése
A19: 2.4. | B19: Működési célú visszatérítendő támogatások, kölcsönök igénybevétele
A20: 2.5. | B20: Egyéb működési célú támogatások bevételei | C20: 14608139
A21: 2.6. | B21: 2.5.-ből EU-s támogatás
A22: 3. | B22: Felhalmozási célú támogatások államháztartáson belülről (3.1.+…+3.5.) | C22: =+C23+C24+C25+C26+C27 -> 300655070
A23: 3.1. | B23: Felhalmozási célú önkormányzati támogatások
A24: 3.2. | B24: Felhalmozási célú garancia- és kezességvállalásból megtérülések
A25: 3.3. | B25: Felhalmozási célú visszatérítendő támogatások, kölcsönök visszatérülése
A26: 3.4. | B26: Felhalmozási célú visszatérítendő támogatások, kölcsönök igénybevétele
A27: 3.5. | B27: Egyéb felhalmozási célú támogatások bevételei | C27: 300655070
A28: 3.6. | B28: 3.5.-ből EU-s támogatás
A29: 4. | B29: Közhatalmi bevételek (4.1.+...+4.7.) | C29: =+C30+C34+C35+C36+C32+C33 -> 171790000
A30: 4.1. | B30: Vagyoni tipusú adók | C30: 101300000
A31: 4.2. | B31: Idegenforgalmi adó
A32: 4.3. | B32: Iparűzési adó | C32: 62350000
A33: 4.4. | B33: Talajterhelési díj | C33: 40000
A34: 4.5. | B34: Gépjárműadó | C34: 8000000
A35: 4.6. | B35: Egyéb áruhasználati és szolgáltatási adók
A36: 4.7. | B36: Egyéb közhatalmi bevételek | C36: 100000
A37: 5. | B37: Működési bevételek (5.1.+…+ 5.11.) | C37: =SUM(C38:C48) -> 16881218
A38: 5.1. | B38: Készletértékesítés ellenértéke
A39: 5.2. | B39: Szolgáltatások ellenértéke | C39: 2028000
A40: 5.3. | B40: Közvetített szolgáltatások értéke | C40: 700000
A41: 5.4. | B41: Tulajdonosi bevételek
A42: 5.5. | B42: Ellátási díjak | C42: 10632405
A43: 5.6. | B43: Kiszámlázott általános forgalmi adó | C43: 3520813
A44: 5.7. | B44: Általános forgalmi adó visszatérítése
A45: 5.8. | B45: Kamatbevételek és más nyereségjellegű bevételek
A46: 5.9. | B46: Egyéb pénzügyi műveletek bevételei
A47: 5.10. | B47: Biztosító által fizetett kártérítés
A48: 5.11. | B48: Egyéb működési bevételek
A49: 6. | B49: Felhalmozási bevételek (6.1.+…+6.5.) | C49: =SUM(C50:C54) -> 0
A50: 6.1. | B50: Immateriális javak értékesítése
A51: 6.2. | B51: Ingatlanok értékesítése
A52: 6.3. | B52: Egyéb tárgyi eszközök értékesítése
A53: 6.4. | B53: Részesedések értékesítése
A54: 6.5. | B54: Részesedések megszűnéséhez kapcsolódó bevételek
A55: 7. | B55: Működési célú átvett pénzeszközök (7.1. + … + 7.3.) | C55: =SUM(C56:C58) -> 0
A56: 7.1. | B56: Működési célú garancia- és kezességvállalásból megtérülések ÁH-n kívülről
A57: 7.2. | B57: Működési célú visszatérítendő támogatások, kölcsönök visszatér. ÁH-n kívülről
A58: 7.3. | B58: Egyéb működési célú átvett pénzeszköz
A59: 7.4. | B59: 7.3.-ból EU-s támogatás (közvetlen)
A60: 8. | B60: Felhalmozási célú átvett pénzeszközök (8.1.+8.2.+8.3.) | C60: =SUM(C61:C63) -> 1663367
A61: 8.1. | B61: Felhalm. célú garancia- és kezességvállalásból megtérülések ÁH-n kívülről
A62: 8.2. | B62: Felhalm. célú visszatérítendő támogatások, kölcsönök visszatér. ÁH-n kívülről | C62: 1663367
A63: 8.3. | B63: Egyéb felhalmozási célú átvett pénzeszköz
A64: 8.4. | B64: 8.3.-ból EU-s támogatás (közvetlen)
A65: 9. | B65: KÖLTSÉGVETÉSI BEVÉTELEK ÖSSZESEN: (1+…+8) | C65: =+C8+C15+C22+C29+C37+C49+C55+C60 -> 614810468
A66: 10. | B66: Hitel-, kölcsönfelvétel államháztartáson kívülről (10.1.+10.3.) | C66: =SUM(C67:C69) -> 0
A67: 10.1. | B67: Hosszú lejáratú hitelek, kölcsönök felvétele
A68: 10.2. | B68: Likviditási célú hitelek, kölcsönök felvétele pénzügyi vállalkozástól
A69: 10.3. | B69: Rövid lejáratú hitelek, kölcsönök felvétele
A70: 11. | B70: Belföldi értékpapírok bevételei (11.1. +…+ 11.4.) | C70: =SUM(C71:C74) -> 0
A71: 11.1. | B71: Forgatási célú belföldi értékpapírok beváltása, értékesítése
A72: 11.2. | B72: Éven belüli lejáratú belföldi értékpapírok kibocsátása
A73: 11.3. | B73: Befektetési célú belföldi értékpapírok beváltása, értékesítése
A74: 11.4. | B74: Éven túli lejáratú belföldi értékpapírok kibocsátása
A75: 12. | B75: Maradvány igénybevétele (12.1. + 12.2.) | C75: =SUM(C76:C77) -> 192019048
A76: 12.1. | B76: Előző év költségvetési maradványának igénybevétele | C76: 192019048
A77: 12.2. | B77: Előző év vállalkozási maradványának igénybevétele
A78: 13. | B78: Belföldi finanszírozás bevételei (13.1. + … + 13.3.) | C78: =SUM(C79:C81) -> 0
A79: 13.1. | B79: Államháztartáson belüli megelőlegezések
A80: 13.2. | B80: Államháztartáson belüli megelőlegezések törlesztése
A81: 13.3. | B81: Lekötött betétek megszüntetése
A82: 14. | B82: Külföldi finanszírozás bevételei (14.1.+…14.4.) | C82: =SUM(C83:C86) -> 0
A83: 14.1. | B83: Forgatási célú külföldi értékpapírok beváltása, értékesítése
A84: 14.2. | B84: Befektetési célú külföldi értékpapírok beváltása, értékesítése
A85: 14.3. | B85: Külföldi értékpapírok kibocsátása
A86: 14.4. | B86: Külföldi hitelek, kölcsönök felvétele
A87: 15. | B87: Váltóbevételek
A88: 16. | B88: Adóssághoz nem kapcsolódó származékos ügyletek bevételei
A89: 17. | B89: FINANSZÍROZÁSI BEVÉTELEK ÖSSZESEN: (10. + … +16.) | C89: =+C66+C70+C75+C78+C82+C88+C87 -> 192019048
A90: 18. | B90: BEVÉTELEK ÖSSZESEN: (9+17) | C90: =+C65+C89 -> 806829516
B92: Kiadások
A93: 1. | B93: Működési költségvetés kiadásai (1.1+…+1.5+1.18.) | C93: =+C94+C95+C96+C97+C98+C111 -> 156608673
A94: 1.1. | B94: Személyi juttatások | C94: 34247400
A95: 1.2. | B95: Munkaadókat terhelő járulékok és szociális hozzájárulási adó | C95: 6732529
A96: 1.3. | B96: Dologi kiadások | C96: 65938129
A97: 1.4. | B97: Ellátottak pénzbeli juttatásai | C97: 10180000
A98: 1.5 | B98: Egyéb működési célú kiadások | C98: 37010615
A99: 1.6. | B99: az 1.5-ből: - Előző évi elszámolásból származó befizetések
A100: 1.7. | B100: - Törvényi előíráson alapuló befizetések
A101: 1.8. | B101: - Elvonások és befizetések
...

Sheet 9.1.1. sz. mell 
C1: =+CONCATENATE("9.1.1. melléklet a ……/",LEFT(ÖSSZEFÜGGÉSEK!A5,4),". (….) önkormányzati rendelethez") -> 9.1.1. melléklet a ……/2018. (….) önkormányzati rendelethez
A2: Megnevezés | B2: Sajószöged Községi Önkormányzat | C2: 01
A3: Feladat megnevezése | B3: Kötelező feladatok bevételei, kiadása | C3: 02
C4: ='9.1. sz. mell'!C4 -> Forintban!
A5: Száma | B5: Kiemelt előirányzat, előirányzat megnevezése | C5: Előirányzat
B6: A | C6: B
B7: Bevételek
A8: 1. | B8: Önkormányzat működési támogatásai (1.1.+…+.1.6.) | C8: =+C9+C10+C11+C12+C13+C14 -> 109212674
A9: 1.1. | B9: Helyi önkormányzatok működésének általános támogatása | C9: 30667486
A10: 1.2. | B10: Önkormányzatok egyes köznevelési feladatainak támogatása | C10: 46445433
A11: 1.3. | B11: Önkormányzatok szociális és gyermekjóléti, étkeztetési feladatainak támogatása | C11: 29146265
A12: 1.4. | B12: Önkormányzatok kulturális feladatainak támogatása | C12: 2697090
A13: 1.5. | B13: Működési célú kvi támogatások és kiegészítő támogatások | C13: 256400
A14: 1.6. | B14: Elszámolásból származó bevételek
A15: 2. | B15: Működési célú támogatások államháztartáson belülről (2.1.+…+.2.5.) | C15: =+C16+C17+C18+C19+C20 -> 14608139
A16: 2.1. | B16: Elvonások és befizetések bevételei
A17: 2.2. | B17: Működési célú garancia- és kezességvállalásból megtérülések
A18: 2.3. | B18: Működési célú visszatérítendő támogatások, kölcsönök visszatérülése
A19: 2.4. | B19: Működési célú visszatérítendő támogatások, kölcsönök igénybevétele
A20: 2.5. | B20: Egyéb működési célú támogatások bevételei | C20: 14608139
A21: 2.6. | B21: 2.5.-ből EU-s támogatás
A22: 3. | B22: Felhalmozási célú támogatások államháztartáson belülről (3.1.+…+3.5.) | C22: =+C23+C24+C25+C26+C27 -> 300655070
A23: 3.1. | B23: Felhalmozási célú önkormányzati támogatások
A24: 3.2. | B24: Felhalmozási célú garancia- és kezességvállalásból megtérülések
A25: 3.3. | B25: Felhalmozási célú visszatérítendő támogatások, kölcsönök visszatérülése
A26: 3.4. | B26: Felhalmozási célú visszatérítendő támogatások, kölcsönök igénybevétele
A27: 3.5. | B27: Egyéb felhalmozási célú támogatások bevételei | C27: 300655070
A28: 3.6. | B28: 3.5.-ből EU-s támogatás | C28: 300655070
A29: 4. | B29: Közhatalmi bevételek (4.1.+...+4.7.) | C29: =SUM(C30:C36) -> 171790000
A30: 4.1. | B30: Vagyoni tipusú adók | C30: 101300000
A31: 4.2. | B31: Idegenforgalmi adó
A32: 4.3. | B32: Iparűzési adó | C32: 62350000
A33: 4.4. | B33: Talajterhelési díj | C33: 40000
A34: 4.5. | B34: Gépjárműadó | C34: 8000000
A35: 4.6. | B35: Egyéb áruhasználati és szolgáltatási adók
A36: 4.7. | B36: Egyéb közhatalmi bevételek | C36: 100000
A37: 5. | B37: Működési bevételek (5.1.+…+ 5.11.) | C37: =SUM(C38:C48) -> 16881218
A38: 5.1. | B38: Készletértékesítés ellenértéke
A39: 5.2. | B39: Szolgáltatások ellenértéke | C39: 2028000
A40: 5.3. | B40: Közvetített szolgáltatások értéke | C40: 700000
A41: 5.4. | B41: Tulajdonosi bevételek
A42: 5.5. | B42: Ellátási díjak | C42: 10632405
A43: 5.6. | B43: Kiszámlázott általános forgalmi adó | C43: 3520813
A44: 5.7. | B44: Általános forgalmi adó visszatérítése
A45: 5.8. | B45: Kamatbevételek és más nyereségjellegű bevételek
A46: 5.9. | B46: Egyéb pénzügyi műveletek bevételei
A47: 5.10. | B47: Biztosító által fizetett kártérítés
A48: 5.11. | B48: Egyéb működési bevételek
A49: 6. | B49: Felhalmozási bevételek (6.1.+…+6.5.) | C49: =SUM(C50:C54) -> 0
A50: 6.1. | B50: Immateriális javak értékesítése
A51: 6.2. | B51: Ingatlanok értékesítése
A52: 6.3. | B52: Egyéb tárgyi eszközök értékesítése
A53: 6.4. | B53: Részesedések értékesítése
A54: 6.5. | B54: Részesedések megszűnéséhez kapcsolódó bevételek
A55: 7. | B55: Működési célú átvett pénzeszközök (7.1. + … + 7.3.) | C55: =SUM(C56:C58) -> 0
A56: 7.1. | B56: Működési célú garancia- és kezességvállalásból megtérülések ÁH-n kívülről
A57: 7.2. | B57: Működési célú visszatérítendő támogatások, kölcsönök visszatér. ÁH-n kívülről
A58: 7.3. | B58: Egyéb működési célú átvett pénzeszköz
A59: 7.4. | B59: 7.3.-ból EU-s támogatás (közvetlen)
A60: 8. | B60: Felhalmozási célú átvett pénzeszközök (8.1.+8.2.+8.3.) | C60: =SUM(C61:C63) -> 1663367
A61: 8.1. | B61: Felhalm. célú garancia- és kezességvállalásból megtérülések ÁH-n kívülről
A62: 8.2. | B62: Felhalm. célú visszatérítendő támogatások, kölcsönök visszatér. ÁH-n kívülről | C62: 1663367
A63: 8.3. | B63: Egyéb felhalmozási célú átvett pénzeszköz
A64: 8.4. | B64: 8.3.-ból EU-s támogatás (közvetlen)
A65: 9. | B65: KÖLTSÉGVETÉSI BEVÉTELEK ÖSSZESEN: (1+…+8) | C65: =+C8+C15+C22+C29+C37+C49+C55+C60 -> 614810468
A66: 10. | B66: Hitel-, kölcsönfelvétel államháztartáson kívülről (10.1.+10.3.) | C66: =SUM(C67:C69) -> 0
A67: 10.1. | B67: Hosszú lejáratú hitelek, kölcsönök felvétele
A68: 10.2. | B68: Likviditási célú hitelek, kölcsönök felvétele pénzügyi vállalkozástól
A69: 10.3. | B69: Rövid lejáratú hitelek, kölcsönök felvétele
A70: 11. | B70: Belföldi értékpapírok bevételei (11.1. +…+ 11.4.) | C70: =SUM(C71:C74) -> 0
A71: 11.1. | B71: Forgatási célú belföldi értékpapírok beváltása, értékesítése
A72: 11.2. | B72: Éven belüli lejáratú belföldi értékpapírok kibocsátása
A73: 11.3. | B73: Befektetési célú belföldi értékpapírok beváltása, értékesítése
A74: 11.4. | B74: Éven túli lejáratú belföldi értékpapírok kibocsátása
A75: 12. | B75: Maradvány igénybevétele (12.1. + 12.2.) | C75: =SUM(C76:C77) -> 192019048
A76: 12.1. | B76: Előző év költségvetési maradványának igénybevétele | C76: 192019048
A77: 12.2. | B77: Előző év vállalkozási maradványának igénybevétele
A78: 13. | B78: Belföldi finanszírozás bevételei (13.1. + … + 13.3.) | C78: =SUM(C79:C81) -> 0
A79: 13.1. | B79: Államháztartáson belüli megelőlegezések
A80: 13.2. | B80: Államháztartáson belüli megelőlegezések törlesztése
A81: 13.3. | B81: Lekötött betétek megszüntetése
A82: 14. | B82: Külföldi finanszírozás bevételei (14.1.+…14.4.) | C82: =SUM(C83:C86) -> 0
A83: 14.1. | B83: Forgatási célú külföldi értékpapírok beváltása, értékesítése
A84: 14.2. | B84: Befektetési célú külföldi értékpapírok beváltása, értékesítése
A85: 14.3. | B85: Külföldi értékpapírok kibocsátása
A86: 14.4. | B86: Külföldi hitelek, kölcsönök felvétele
A87: 15. | B87: Váltóbevételek
A88: 16. | B88: Adóssághoz nem kapcsolódó származékos ügyletek bevételei
A89: 17. | B89: FINANSZÍROZÁSI BEVÉTELEK ÖSSZESEN: (10. + … +16.) | C89: =+C66+C70+C75+C78+C82+C88+C87 -> 192019048
A90: 18. | B90: BEVÉTELEK ÖSSZESEN: (9+17) | C90: =+C65+C89 -> 806829516
B92: Kiadások
A93: 1. | B93: Működési költségvetés kiadásai (1.1+…+1.5+1.18.) | C93: =+C94+C95+C96+C97+C98+C111 -> 156608673
A94: 1.1. | B94: Személyi juttatások | C94: 34247400
A95: 1.2. | B95: Munkaadókat terhelő járulékok és szociális hozzájárulási adó | C95: 6732529
A96: 1.3. | B96: Dologi kiadások | C96: 65938129
A97: 1.4. | B97: Ellátottak pénzbeli juttatásai | C97: 10180000
A98: 1.5 | B98: Egyéb működési célú kiadások | C98: 37010615
A99: 1.6. | B99: az 1.5-ből: - Előző évi elszámolásból származó befizetések
A100: 1.7. | B100: - Törvényi előíráson alapuló befizetések
A101: 1.8. | B101: - Elvonások és befizetések
...

Sheet 9.1.2. sz. mell 
C1: =+CONCATENATE("9.1.2. melléklet a ……/",LEFT(ÖSSZEFÜGGÉSEK!A5,4),". (….) önkormányzati rendelethez") -> 9.1.2. melléklet a ……/2018. (….) önkormányzati rendelethez
A2: Megnevezés | B2: Sajószöged Községi Önkormányzat | C2: 01
A3: Feladat megnevezése | B3: Önként vállalt feladatok bevételei, kiadása | C3: 03
C4: ='9.1.1. sz. mell '!C4 -> Forintban!
A5: Száma | B5: Kiemelt előirányzat, előirányzat megnevezése | C5: Előirányzat
B6: A | C6: B
B7: Bevételek
A8: 1. | B8: Önkormányzat működési támogatásai (1.1.+…+.1.6.) | C8: =+C9+C10+C11+C12+C13+C14 -> 0
A9: 1.1. | B9: Helyi önkormányzatok működésének általános támogatása | C9: 0
A10: 1.2. | B10: Önkormányzatok egyes köznevelési feladatainak támogatása
A11: 1.3. | B11: Önkormányzatok szociális és gyermekjóléti, étkeztetési feladatainak támogatása
A12: 1.4. | B12: Önkormányzatok kulturális feladatainak támogatása
A13: 1.5. | B13: Működési célú kvi támogatások és kiegészítő támogatások
A14: 1.6. | B14: Elszámolásból származó bevételek
A15: 2. | B15: Működési célú támogatások államháztartáson belülről (2.1.+…+.2.5.) | C15: =+C16+C17+C18+C19+C20 -> 0
A16: 2.1. | B16: Elvonások és befizetések bevételei
A17: 2.2. | B17: Működési célú garancia- és kezességvállalásból megtérülések
A18: 2.3. | B18: Működési célú visszatérítendő támogatások, kölcsönök visszatérülése
A19: 2.4. | B19: Működési célú visszatérítendő támogatások, kölcsönök igénybevétele
A20: 2.5. | B20: Egyéb működési célú támogatások bevételei
A21: 2.6. | B21: 2.5.-ből EU-s támogatás
A22: 3. | B22: Felhalmozási célú támogatások államháztartáson belülről (3.1.+…+3.5.) | C22: =+C23+C24+C25+C26+C27 -> 0
A23: 3.1. | B23: Felhalmozási célú önkormányzati támogatások
A24: 3.2. | B24: Felhalmozási célú garancia- és kezességvállalásból megtérülések
A25: 3.3. | B25: Felhalmozási célú visszatérítendő támogatások, kölcsönök visszatérülése
A26: 3.4. | B26: Felhalmozási célú visszatérítendő támogatások, kölcsönök igénybevétele
A27: 3.5. | B27: Egyéb felhalmozási célú támogatások bevételei
A28: 3.6. | B28: 3.5.-ből EU-s támogatás
A29: 4. | B29: Közhatalmi bevételek (4.1.+4.2.+4.3.+4.4.) | C29: =SUM(C30:C36) -> 0
A30: 4.1. | B30: Építményadó
A31: 4.2. | B31: Idegenforgalmi adó
A32: 4.3. | B32: Iparűzési adó
A33: 4.4. | B33: Talajterhelési díj
A34: 4.5. | B34: Gépjárműadó
A35: 4.6. | B35: Egyéb áruhasználati és szolgáltatási adók
A36: 4.7. | B36: Egyéb közhatalmi bevételek
A37: 5. | B37: Működési bevételek (5.1.+…+ 5.11.) | C37: =SUM(C38:C48) -> 0
A38: 5.1. | B38: Készletértékesítés ellenértéke
A39: 5.2. | B39: Szolgáltatások ellenértéke
A40: 5.3. | B40: Közvetített szolgáltatások értéke
A41: 5.4. | B41: Tulajdonosi bevételek
A42: 5.5. | B42: Ellátási díjak
A43: 5.6. | B43: Kiszámlázott általános forgalmi adó
A44: 5.7. | B44: Általános forgalmi adó visszatérítése
A45: 5.8. | B45: Kamatbevételek és más nyereség jellegű bevételek
A46: 5.9. | B46: Egyéb pénzügyi műveletek bevételei
A47: 5.10. | B47: Biztosító által fizetett kártérítés
A48: 5.11. | B48: Egyéb működési bevételek
A49: 6. | B49: Felhalmozási bevételek (6.1.+…+6.5.) | C49: =SUM(C50:C54) -> 0
A50: 6.1. | B50: Immateriális javak értékesítése
A51: 6.2. | B51: Ingatlanok értékesítése
A52: 6.3. | B52: Egyéb tárgyi eszközök értékesítése
A53: 6.4. | B53: Részesedések értékesítése
A54: 6.5. | B54: Részesedések megszűnéséhez kapcsolódó bevételek
A55: 7. | B55: Működési célú átvett pénzeszközök (7.1. + … + 7.3.) | C55: =SUM(C56:C58) -> 0
A56: 7.1. | B56: Működési célú garancia- és kezességvállalásból megtérülések ÁH-n kívülről
A57: 7.2. | B57: Működési célú visszatérítendő támogatások, kölcsönök visszatér. ÁH-n kívülről
A58: 7.3. | B58: Egyéb működési célú átvett pénzeszköz
A59: 7.4. | B59: 7.3.-ból EU-s támogatás (közvetlen)
A60: 8. | B60: Felhalmozási célú átvett pénzeszközök (8.1.+8.2.+8.3.) | C60: =SUM(C61:C63) -> 0
A61: 8.1. | B61: Felhalm. célú garancia- és kezességvállalásból megtérülések ÁH-n kívülről
A62: 8.2. | B62: Felhalm. célú visszatérítendő támogatások, kölcsönök visszatér. ÁH-n kívülről
A63: 8.3. | B63: Egyéb felhalmozási célú átvett pénzeszköz
A64: 8.4. | B64: 8.3.-ból EU-s támogatás (közvetlen)
A65: 9. | B65: KÖLTSÉGVETÉSI BEVÉTELEK ÖSSZESEN: (1+…+8) | C65: =+C8+C15+C22+C29+C37+C49+C55+C60 -> 0
A66: 10. | B66: Hitel-, kölcsönfelvétel államháztartáson kívülről (10.1.+10.3.) | C66: =SUM(C67:C69) -> 0
A67: 10.1. | B67: Hosszú lejáratú hitelek, kölcsönök felvétele
A68: 10.2. | B68: Likviditási célú hitelek, kölcsönök felvétele pénzügyi vállalkozástól
A69: 10.3. | B69: Rövid lejáratú hitelek, kölcsönök felvétele
A70: 11. | B70: Belföldi értékpapírok bevételei (11.1. +…+ 11.4.) | C70: =SUM(C71:C74) -> 0
A71: 11.1. | B71: Forgatási célú belföldi értékpapírok beváltása, értékesítése
A72: 11.2. | B72: Éven belüli lejáratú belföldi értékpapírok kibocsátása
A73: 11.3. | B73: Befektetési célú belföldi értékpapírok beváltása, értékesítése
A74: 11.4. | B74: Éven túli lejáratú belföldi értékpapírok kibocsátása
A75: 12. | B75: Maradvány igénybevétele (12.1. + 12.2.) | C75: =SUM(C76:C77) -> 0
A76: 12.1. | B76: Előző év költségvetési maradványának igénybevétele
A77: 12.2. | B77: Előző év vállalkozási maradványának igénybevétele
A78: 13. | B78: Belföldi finanszírozás bevételei (13.1. + … + 13.3.) | C78: =SUM(C79:C81) -> 0
A79: 13.1. | B79: Államháztartáson belüli megelőlegezések
A80: 13.2. | B80: Államháztartáson belüli megelőlegezések törlesztése
A81: 13.3. | B81: Lekötött betétek megszüntetése
A82: 14. | B82: Külföldi finanszírozás bevételei (14.1.+…14.4.) | C82: =SUM(C83:C86) -> 0
A83: 14.1. | B83: Forgatási célú külföldi értékpapírok beváltása, értékesítése
A84: 14.2. | B84: Befektetési célú külföldi értékpapírok beváltása, értékesítése
A85: 14.3. | B85: Külföldi értékpapírok kibocsátása
A86: 14.4. | B86: Külföldi hitelek, kölcsönök felvétele
A87: 15. | B87: Váltóbevételek
A88: 16. | B88: Adóssághoz nem kapcsolódó származékos ügyletek bevételei
A89: 17. | B89: FINANSZÍROZÁSI BEVÉTELEK ÖSSZESEN: (10. + … +16.) | C89: =+C66+C70+C75+C78+C82+C88+C87 -> 0
A90: 18. | B90: BEVÉTELEK ÖSSZESEN: (9+17) | C90: =+C65+C89 -> 0
B92: Kiadások
A93: 1. | B93: Működési költségvetés kiadásai (1.1+…+1.5+1.18.) | C93: =+C94+C95+C96+C97+C98+C111 -> 0
A94: 1.1. | B94: Személyi juttatások | C94: 0
A95: 1.2. | B95: Munkaadókat terhelő járulékok és szociális hozzájárulási adó
A96: 1.3. | B96: Dologi kiadások
A97: 1.4. | B97: Ellátottak pénzbeli juttatásai
A98: 1.5 | B98: Egyéb működési célú kiadások
A99: 1.6. | B99: az 1.5-ből: - Előző évi elszámolásból származó befizetések
A100: 1.7. | B100: - Törvényi előíráson alapuló befizetések
A101: 1.8. | B101: - Elvonások és befizetések
...

Sheet 9.1.3. sz. mell
C1: =+CONCATENATE("9.1.3. melléklet a ……/",LEFT(ÖSSZEFÜGGÉSEK!A5,4),". (….) önkormányzati rendelethez") -> 9.1.3. melléklet a ……/2018. (….) önkormányzati rendelethez
A2: Megnevezés | B2: Sajószöged Községi Önkormányzat | C2: 01
A3: Feladat megnevezése | B3: Államigazgatási feladatok bevételei, kiadása | C3: 04
C4: ='9.1.2. sz. mell '!C4 -> Forintban!
A5: Száma | B5: Kiemelt előirányzat, előirányzat megnevezése | C5: Előirányzat
B6: A | C6: B
B7: Bevételek
A8: 1. | B8: Önkormányzat működési támogatásai (1.1.+…+.1.6.) | C8: =+C9+C10+C11+C12+C13+C14 -> 0
A9: 1.1. | B9: Helyi önkormányzatok működésének általános támogatása
A10: 1.2. | B10: Önkormányzatok egyes köznevelési feladatainak támogatása
A11: 1.3. | B11: Önkormányzatok szociális és gyermekjóléti, étkeztetési feladatainak támogatása
A12: 1.4. | B12: Önkormányzatok kulturális feladatainak támogatása
A13: 1.5. | B13: Működési célú kvi támogatások és kiegészítő támogatások
A14: 1.6. | B14: Elszámolásból származó bevételek
A15: 2. | B15: Működési célú támogatások államháztartáson belülről (2.1.+…+.2.5.) | C15: =+C16+C17+C18+C19+C20 -> 0
A16: 2.1. | B16: Elvonások és befizetések bevételei
A17: 2.2. | B17: Működési célú garancia- és kezességvállalásból megtérülések
A18: 2.3. | B18: Működési célú visszatérítendő támogatások, kölcsönök visszatérülése
A19: 2.4. | B19: Működési célú visszatérítendő támogatások, kölcsönök igénybevétele
A20: 2.5. | B20: Egyéb működési célú támogatások bevételei
A21: 2.6. | B21: 2.5.-ből EU-s támogatás
A22: 3. | B22: Felhalmozási célú támogatások államháztartáson belülről (3.1.+…+3.5.) | C22: =+C23+C24+C25+C26+C27 -> 0
A23: 3.1. | B23: Felhalmozási célú önkormányzati támogatások
A24: 3.2. | B24: Felhalmozási célú garancia- és kezességvállalásból megtérülések
A25: 3.3. | B25: Felhalmozási célú visszatérítendő támogatások, kölcsönök visszatérülése
A26: 3.4. | B26: Felhalmozási célú visszatérítendő támogatások, kölcsönök igénybevétele
A27: 3.5. | B27: Egyéb felhalmozási célú támogatások bevételei
A28: 3.6. | B28: 3.5.-ből EU-s támogatás
A29: 4. | B29: Közhatalmi bevételek (4.1.+4.2.+4.3.+4.4.) | C29: =SUM(C30:C36) -> 0
A30: 4.1. | B30: Építményadó
A31: 4.2. | B31: Idegenforgalmi adó
A32: 4.3. | B32: Iparűzési adó
A33: 4.4. | B33: Talajterhelési díj
A34: 4.5. | B34: Gépjárműadó
A35: 4.6. | B35: Egyéb áruhasználati és szolgáltatási adók
A36: 4.7. | B36: Egyéb közhatalmi bevételek
A37: 5. | B37: Működési bevételek (5.1.+…+ 5.11.) | C37: =SUM(C38:C48) -> 0
A38: 5.1. | B38: Készletértékesítés ellenértéke
A39: 5.2. | B39: Szolgáltatások ellenértéke
A40: 5.3. | B40: Közvetített szolgáltatások értéke
A41: 5.4. | B41: Tulajdonosi bevételek
A42: 5.5. | B42: Ellátási díjak
A43: 5.6. | B43: Kiszámlázott általános forgalmi adó
A44: 5.7. | B44: Általános forgalmi adó visszatérítése
A45: 5.8. | B45: Kamatbevételek és más nyereségjellegű bevételek
A46: 5.9. | B46: Egyéb pénzügyi műveletek bevételei
A47: 5.10. | B47: Biztosító által fizetett kártérítés
A48: 5.11. | B48: Egyéb működési bevételek
A49: 6. | B49: Felhalmozási bevételek (6.1.+…+6.5.) | C49: =SUM(C50:C54) -> 0
A50: 6.1. | B50: Immateriális javak értékesítése
A51: 6.2. | B51: Ingatlanok értékesítése
A52: 6.3. | B52: Egyéb tárgyi eszközök értékesítése
A53: 6.4. | B53: Részesedések értékesítése
A54: 6.5. | B54: Részesedések megszűnéséhez kapcsolódó bevételek
A55: 7. | B55: Működési célú átvett pénzeszközök (7.1. + … + 7.3.) | C55: =SUM(C56:C58) -> 0
A56: 7.1. | B56: Működési célú garancia- és kezességvállalásból megtérülések ÁH-n kívülről
A57: 7.2. | B57: Működési célú visszatérítendő támogatások, kölcsönök visszatér. ÁH-n kívülről
A58: 7.3. | B58: Egyéb működési célú átvett pénzeszköz
A59: 7.4. | B59: 7.3.-ból EU-s támogatás (közvetlen)
A60: 8. | B60: Felhalmozási célú átvett pénzeszközök (8.1.+8.2.+8.3.) | C60: =SUM(C61:C63) -> 0
A61: 8.1. | B61: Felhalm. célú garancia- és kezességvállalásból megtérülések ÁH-n kívülről
A62: 8.2. | B62: Felhalm. célú visszatérítendő támogatások, kölcsönök visszatér. ÁH-n kívülről
A63: 8.3. | B63: Egyéb felhalmozási célú átvett pénzeszköz
A64: 8.4. | B64: 8.3.-ból EU-s támogatás (közvetlen)
A65: 9. | B65: KÖLTSÉGVETÉSI BEVÉTELEK ÖSSZESEN: (1+…+8) | C65: =+C8+C15+C22+C29+C37+C49+C55+C60 -> 0
A66: 10. | B66: Hitel-, kölcsönfelvétel államháztartáson kívülről (10.1.+10.3.) | C66: =SUM(C67:C69) -> 0
A67: 10.1. | B67: Hosszú lejáratú hitelek, kölcsönök felvétele
A68: 10.2. | B68: Likviditási célú hitelek, kölcsönök felvétele pénzügyi vállalkozástól
A69: 10.3. | B69: Rövid lejáratú hitelek, kölcsönök felvétele
A70: 11. | B70: Belföldi értékpapírok bevételei (11.1. +…+ 11.4.) | C70: =SUM(C71:C74) -> 0
A71: 11.1. | B71: Forgatási célú belföldi értékpapírok beváltása, értékesítése
A72: 11.2. | B72: Éven belüli lejáratú belföldi értékpapírok kibocsátása
A73: 11.3. | B73: Befektetési célú belföldi értékpapírok beváltása, értékesítése
A74: 11.4. | B74: Éven túli lejáratú belföldi értékpapírok kibocsátása
A75: 12. | B75: Maradvány igénybevétele (12.1. + 12.2.) | C75: =SUM(C76:C77) -> 0
A76: 12.1. | B76: Előző év költségvetési maradványának igénybevétele
A77: 12.2. | B77: Előző év vállalkozási maradványának igénybevétele
A78: 13. | B78: Belföldi finanszírozás bevételei (13.1. + … + 13.3.) | C78: =SUM(C79:C81) -> 0
A79: 13.1. | B79: Államháztartáson belüli megelőlegezések
A80: 13.2. | B80: Államháztartáson belüli megelőlegezések törlesztése
A81: 13.3. | B81: Lekötött betétek megszüntetése
A82: 14. | B82: Külföldi finanszírozás bevételei (14.1.+…14.4.) | C82: =SUM(C83:C86) -> 0
A83: 14.1. | B83: Forgatási célú külföldi értékpapírok beváltása, értékesítése
A84: 14.2. | B84: Befektetési célú külföldi értékpapírok beváltása, értékesítése
A85: 14.3. | B85: Külföldi értékpapírok kibocsátása
A86: 14.4. | B86: Külföldi hitelek, kölcsönök felvétele
A87: 15. | B87: Váltóbevételek
A88: 16. | B88: Adóssághoz nem kapcsolódó származékos ügyletek bevételei
A89: 17. | B89: FINANSZÍROZÁSI BEVÉTELEK ÖSSZESEN: (10. + … +16.) | C89: =+C66+C70+C75+C78+C82+C88+C87 -> 0
A90: 18. | B90: BEVÉTELEK ÖSSZESEN: (9+17) | C90: =+C65+C89 -> 0
B92: Kiadások
A93: 1. | B93: Működési költségvetés kiadásai (1.1+…+1.5+1.18.) | C93: =+C94+C95+C96+C97+C98+C111 -> 0
A94: 1.1. | B94: Személyi juttatások
A95: 1.2. | B95: Munkaadókat terhelő járulékok és szociális hozzájárulási adó
A96: 1.3. | B96: Dologi kiadások
A97: 1.4. | B97: Ellátottak pénzbeli juttatásai
A98: 1.5 | B98: Egyéb működési célú kiadások
A99: 1.6. | B99: az 1.5-ből: - Előző évi elszámolásból származó befizetések
A100: 1.7. | B100: - Törvényi előíráson alapuló befizetések
A101: 1.8. | B101: - Elvonások és befizetések
...

Sheet 9.2. sz. mell
C1: =+CONCATENATE("9.2. melléklet a ……/",LEFT(ÖSSZEFÜGGÉSEK!A5,4),". (….) önkormányzati rendelethez") -> 9.2. melléklet a ……/2018. (….) önkormányzati rendelethez
A2: Költségvetési szerv megnevezése | B2: Sajószögedi Polgármesteri Hivatal | C2: 02
A3: Feladat megnevezése | B3: Összes bevétel, kiadás
C4: ='9.1.3. sz. mell'!C4 -> Forintban!
A5: Száma | B5: Kiemelt előirányzat, előirányzat megnevezése | C5: Előirányzat
B6: A | C6: B
B7: Bevételek
A8: 1. | B8: Működési bevételek (1.1.+…+1.11.) | C8: =SUM(C9:C19) -> 0
A9: 1.1. | B9: Készletértékesítés ellenértéke
A10: 1.2. | B10: Szolgáltatások ellenértéke
A11: 1.3. | B11: Közvetített szolgáltatások értéke
A12: 1.4. | B12: Tulajdonosi bevételek
A13: 1.5. | B13: Ellátási díjak
A14: 1.6. | B14: Kiszámlázott általános forgalmi adó
A15: 1.7. | B15: Általános forgalmi adó visszatérülése
A16: 1.8. | B16: Kamatbevételek
A17: 1.9. | B17: Egyéb pénzügyi műveletek bevételei
A18: 1.10. | B18: Biztosító által fizetett kártérítés
A19: 1.11. | B19: Egyéb működési bevételek
A20: 2. | B20: Működési célú támogatások államháztartáson belülről (2.1.+…+2.3.) | C20: =SUM(C21:C23) -> 0
A21: 2.1. | B21: Elvonások és befizetések bevételei
A22: 2.2. | B22: Visszatérítendő támogatások, kölcsönök visszatérülése ÁH-n belülről
A23: 2.3. | B23: Egyéb működési célú támogatások bevételei államháztartáson belülről
A24: 2.4. | B24: 2.3-ból EU támogatás
A25: 3. | B25: Közhatalmi bevételek | C25: 20000
A26: 4. | B26: Felhalmozási célú támogatások államháztartáson belülről (4.1.+…+4.3.) | C26: =+C27+C28+C29 -> 0
A27: 4.1. | B27: Felhalmozási célú önkormányzati támogatások
A28: 4.2. | B28: Visszatérítendő támogatások, kölcsönök visszatérülése ÁH-n belülről
A29: 4.3. | B29: Egyéb felhalmozási célú támogatások bevételei államháztartáson belülről
A30: 4.4. | B30: 4.3.-ból EU-s támogatás
A31: 5. | B31: Felhalmozási bevételek (5.1.+…+5.3.) | C31: =+C32+C33+C34 -> 0
A32: 5.1. | B32: Immateriális javak értékesítése
A33: 5.2. | B33: Ingatlanok értékesítése
A34: 5.3. | B34: Egyéb tárgyi eszközök értékesítése
A35: 6. | B35: Működési célú átvett pénzeszközök
A36: 7. | B36: Felhalmozási célú átvett pénzeszközök
A37: 8. | B37: Költségvetési bevételek összesen (1.+…+7.) | C37: =+C8+C20+C25+C26+C31+C35+C36 -> 20000
A38: 9. | B38: Finanszírozási bevételek (9.1.+…+9.3.) | C38: =+C39+C40+C41 -> 58915793
A39: 9.1. | B39: Költségvetési maradvány igénybevétele | C39: 517641
A40: 9.2. | B40: Vállalkozási maradvány igénybevétele
A41: 9.3. | B41: Irányító szervi (önkormányzati) támogatás (intézményfinanszírozás) | C41: 58398152
A42: 10. | B42: BEVÉTELEK ÖSSZESEN: (8.+9.) | C42: =+C37+C38 -> 58935793
B45: Kiadások
A46: 1. | B46: Működési költségvetés kiadásai (1.1+…+1.5.) | C46: =SUM(C47:C51) -> 57665793
A47: 1.1. | B47: Személyi juttatások | C47: 35658288
A48: 1.2. | B48: Munkaadókat terhelő járulékok és szociális hozzájárulási adó | C48: 7697805
A49: 1.3. | B49: Dologi kiadások | C49: 14309700
A50: 1.4. | B50: Ellátottak pénzbeli juttatásai
A51: 1.5. | B51: Egyéb működési célú kiadások
A52: 2. | B52: Felhalmozási költségvetés kiadásai (2.1.+…+2.3.) | C52: =SUM(C53:C55) -> 1270000
A53: 2.1. | B53: Beruházások | C53: 1270000
A54: 2.2. | B54: Felújítások
A55: 2.3. | B55: Egyéb fejlesztési célú kiadások
A56: 2.4. | B56: 2.3.-ból EU-s támogatásból megvalósuló programok, projektek kiadása
A57: 3. | B57: Finanszírozási kiadások
A58: 4. | B58: KIADÁSOK ÖSSZESEN: (1.+2.+3.) | C58: =+C46+C52+C57 -> 58935793
A60: Éves tervezett létszám előirányzat (fő) | C60: 7
A61: Közfoglalkoztatottak létszáma (fő) | C61: 0

Sheet 9.2.1. sz. mell
C1: =+CONCATENATE("9.2.1. melléklet a ……/",LEFT(ÖSSZEFÜGGÉSEK!A5,4),". (….) önkormányzati rendelethez") -> 9.2.1. melléklet a ……/2018. (….) önkormányzati rendelethez
A2: Költségvetési szerv megnevezése | B2: Sajószögedi Polgármesteri Hivatal | C2: 02
A3: Feladat megnevezése | B3: Kötelező feladatok bevételei, kiadásai | C3: 01
C4: ='9.2. sz. mell'!C4 -> Forintban!
A5: Száma | B5: Kiemelt előirányzat, előirányzat megnevezése | C5: Előirányzat
B6: A | C6: B
B7: Bevételek
A8: 1. | B8: Működési bevételek (1.1.+…+1.11.) | C8: =SUM(C9:C19) -> 0
A9: 1.1. | B9: Készletértékesítés ellenértéke
A10: 1.2. | B10: Szolgáltatások ellenértéke
A11: 1.3. | B11: Közvetített szolgáltatások értéke
A12: 1.4. | B12: Tulajdonosi bevételek
A13: 1.5. | B13: Ellátási díjak
A14: 1.6. | B14: Kiszámlázott általános forgalmi adó
A15: 1.7. | B15: Általános forgalmi adó visszatérülése
A16: 1.8. | B16: Kamatbevételek
A17: 1.9. | B17: Egyéb pénzügyi műveletek bevételei
A18: 1.10. | B18: Biztosító által fizetett kártérítés
A19: 1.11. | B19: Egyéb működési bevételek
A20: 2. | B20: Működési célú támogatások államháztartáson belülről (2.1.+…+2.3.) | C20: =SUM(C21:C23) -> 0
A21: 2.1. | B21: Elvonások és befizetések bevételei
A22: 2.2. | B22: Visszatérítendő támogatások, kölcsönök visszatérülése ÁH-n belülről
A23: 2.3. | B23: Egyéb működési célú támogatások bevételei államháztartáson belülről
A24: 2.4. | B24: 2.3-ból EU támogatás
A25: 3. | B25: Közhatalmi bevételek | C25: 20000
A26: 4. | B26: Felhalmozási célú támogatások államháztartáson belülről (4.1.+…+4.3.) | C26: =+C27+C28+C29 -> 0
A27: 4.1. | B27: Felhalmozási célú önkormányzati támogatások
A28: 4.2. | B28: Visszatérítendő támogatások, kölcsönök visszatérülése ÁH-n belülről
A29: 4.3. | B29: Egyéb felhalmozási célú támogatások bevételei államháztartáson belülről
A30: 4.4. | B30: 4.3.-ból EU-s támogatás
A31: 5. | B31: Felhalmozási bevételek (5.1.+…+5.3.) | C31: =+C32+C33+C34 -> 0
A32: 5.1. | B32: Immateriális javak értékesítése
A33: 5.2. | B33: Ingatlanok értékesítése
A34: 5.3. | B34: Egyéb tárgyi eszközök értékesítése
A35: 6. | B35: Működési célú átvett pénzeszközök
A36: 7. | B36: Felhalmozási célú átvett pénzeszközök
A37: 8. | B37: Költségvetési bevételek összesen (1.+…+7.) | C37: =+C8+C20+C25+C26+C31+C35+C36 -> 20000
A38: 9. | B38: Finanszírozási bevételek (9.1.+…+9.3.) | C38: =+C39+C40+C41 -> 58915793
A39: 9.1. | B39: Költségvetési maradvány igénybevétele | C39: 517641
A40: 9.2. | B40: Vállalkozási maradvány igénybevétele
A41: 9.3. | B41: Irányító szervi (önkormányzati) támogatás (intézményfinanszírozás) | C41: 58398152
A42: 10. | B42: BEVÉTELEK ÖSSZESEN: (8.+9.) | C42: =+C37+C38 -> 58935793
B45: Kiadások
A46: 1. | B46: Működési költségvetés kiadásai (1.1+…+1.5.) | C46: =SUM(C47:C51) -> 57665793
A47: 1.1. | B47: Személyi juttatások | C47: 35658288
A48: 1.2. | B48: Munkaadókat terhelő járulékok és szociális hozzájárulási adó | C48: 7697805
A49: 1.3. | B49: Dologi kiadások | C49: 14309700
A50: 1.4. | B50: Ellátottak pénzbeli juttatásai
A51: 1.5. | B51: Egyéb működési célú kiadások
A52: 2. | B52: Felhalmozási költségvetés kiadásai (2.1.+…+2.3.) | C52: =SUM(C53:C55) -> 1270000
A53: 2.1. | B53: Beruházások | C53: 1270000
A54: 2.2. | B54: Felújítások
A55: 2.3. | B55: Egyéb fejlesztési célú kiadások
A56: 2.4. | B56: 2.3.-ból EU-s támogatásból megvalósuló programok, projektek kiadása
A57: 3. | B57: Finanszírozási kiadások
A58: 4. | B58: KIADÁSOK ÖSSZESEN: (1.+2.+3.) | C58: =+C46+C52+C57 -> 58935793
A60: Éves tervezett létszám előirányzat (fő) | C60: 7
A61: Közfoglalkoztatottak létszáma (fő) | C61: 0

Sheet 9.2.2. sz.  mell
C1: =+CONCATENATE("9.2.2. melléklet a ……/",LEFT(ÖSSZEFÜGGÉSEK!A5,4),". (….) önkormányzati rendelethez") -> 9.2.2. melléklet a ……/2018. (….) önkormányzati rendelethez
A2: Költségvetési szerv megnevezése | B2: Sajószögedi Polgármesteri Hivatal | C2: 02
A3: Feladat megnevezése | B3: Önként vállalt feladatok bevételei, kiadásai | C3: 02
C4: ='9.2.1. sz. mell'!C4 -> Forintban!
A5: Száma | B5: Kiemelt előirányzat, előirányzat megnevezése | C5: Előirányzat
B6: A | C6: B
B7: Bevételek
A8: 1. | B8: Működési bevételek (1.1.+…+1.11.) | C8: =SUM(C9:C19) -> 0
A9: 1.1. | B9: Készletértékesítés ellenértéke
A10: 1.2. | B10: Szolgáltatások ellenértéke
A11: 1.3. | B11: Közvetített szolgáltatások értéke
A12: 1.4. | B12: Tulajdonosi bevételek
A13: 1.5. | B13: Ellátási díjak
A14: 1.6. | B14: Kiszámlázott általános forgalmi adó
A15: 1.7. | B15: Általános forgalmi adó visszatérülése
A16: 1.8. | B16: Kamatbevételek
A17: 1.9. | B17: Egyéb pénzügyi műveletek bevételei
A18: 1.10. | B18: Biztosító által fizetett kártérítés
A19: 1.11. | B19: Egyéb működési bevételek
A20: 2. | B20: Működési célú támogatások államháztartáson belülről (2.1.+…+2.3.) | C20: =SUM(C21:C23) -> 0
A21: 2.1. | B21: Elvonások és befizetések bevételei
A22: 2.2. | B22: Visszatérítendő támogatások, kölcsönök visszatérülése ÁH-n belülről
A23: 2.3. | B23: Egyéb működési célú támogatások bevételei államháztartáson belülről
A24: 2.4. | B24: 2.3-ból EU támogatás
A25: 3. | B25: Közhatalmi bevételek
A26: 4. | B26: Felhalmozási célú támogatások államháztartáson belülről (4.1.+…+4.3.) | C26: =+C27+C28+C29 -> 0
A27: 4.1. | B27: Felhalmozási célú önkormányzati támogatások
A28: 4.2. | B28: Visszatérítendő támogatások, kölcsönök visszatérülése ÁH-n belülről
A29: 4.3. | B29: Egyéb felhalmozási célú támogatások bevételei államháztartáson belülről
A30: 4.4. | B30: 4.3.-ból EU-s támogatás
A31: 5. | B31: Felhalmozási bevételek (5.1.+…+5.3.) | C31: =+C32+C33+C34 -> 0
A32: 5.1. | B32: Immateriális javak értékesítése
A33: 5.2. | B33: Ingatlanok értékesítése
A34: 5.3. | B34: Egyéb tárgyi eszközök értékesítése
A35: 6. | B35: Működési célú átvett pénzeszközök
A36: 7. | B36: Felhalmozási célú átvett pénzeszközök
A37: 8. | B37: Költségvetési bevételek összesen (1.+…+7.) | C37: =+C8+C20+C25+C26+C31+C35+C36 -> 0
A38: 9. | B38: Finanszírozási bevételek (9.1.+…+9.3.) | C38: =+C39+C40+C41 -> 0
A39: 9.1. | B39: Költségvetési maradvány igénybevétele
A40: 9.2. | B40: Vállalkozási maradvány igénybevétele
A41: 9.3. | B41: Irányító szervi (önkormányzati) támogatás (intézményfinanszírozás)
A42: 10. | B42: BEVÉTELEK ÖSSZESEN: (8.+9.) | C42: =+C37+C38 -> 0
B45: Kiadások
A46: 1. | B46: Működési költségvetés kiadásai (1.1+…+1.5.) | C46: =SUM(C47:C51) -> 0
A47: 1.1. | B47: Személyi juttatások
A48: 1.2. | B48: Munkaadókat terhelő járulékok és szociális hozzájárulási adó
A49: 1.3. | B49: Dologi kiadások
A50: 1.4. | B50: Ellátottak pénzbeli juttatásai
A51: 1.5. | B51: Egyéb működési célú kiadások
A52: 2. | B52: Felhalmozási költségvetés kiadásai (2.1.+…+2.3.) | C52: =SUM(C53:C55) -> 0
A53: 2.1. | B53: Beruházások
A54: 2.2. | B54: Felújítások
A55: 2.3. | B55: Egyéb fejlesztési célú kiadások
A56: 2.4. | B56: 2.3.-ból EU-s támogatásból megvalósuló programok, projektek kiadása
A57: 3. | B57: Finanszírozási kiadások
A58: 4. | B58: KIADÁSOK ÖSSZESEN: (1.+2.+3.) | C58: =+C46+C52+C57 -> 0
A60: Éves tervezett létszám előirányzat (fő) | C60: 0
A61: Közfoglalkoztatottak létszáma (fő) | C61: 0

Sheet 9.2.3. sz. mell
C1: =+CONCATENATE("9.2.3. melléklet a ……/",LEFT(ÖSSZEFÜGGÉSEK!A5,4),". (….) önkormányzati rendelethez") -> 9.2.3. melléklet a ……/2018. (….) önkormányzati rendelethez
A2: Költségvetési szerv megnevezése | B2: Sajószögedi Polgármesteri Hivatal | C2: 02
A3: Feladat megnevezése | B3: Államigazgatási feladatok bevételei, kiadásai | C3: 03
C4: ='9.2.2. sz. mell'!C4 -> Forintban!
A5: Száma | B5: Kiemelt előirányzat, előirányzat megnevezése | C5: Előirányzat
B6: A | C6: B
B7: Bevételek
A8: 1. | B8: Működési bevételek (1.1.+…+1.11.) | C8: =SUM(C9:C19) -> 0
A9: 1.1. | B9: Készletértékesítés ellenértéke
A10: 1.2. | B10: Szolgáltatások ellenértéke
A11: 1.3. | B11: Közvetített szolgáltatások értéke
A12: 1.4. | B12: Tulajdonosi bevételek
A13: 1.5. | B13: Ellátási díjak
A14: 1.6. | B14: Kiszámlázott általános forgalmi adó
A15: 1.7. | B15: Általános forgalmi adó visszatérülése
A16: 1.8. | B16: Kamatbevételek
A17: 1.9. | B17: Egyéb pénzügyi műveletek bevételei
A18: 1.10. | B18: Biztosító által fizetett kártérítés
A19: 1.11. | B19: Egyéb működési bevételek
A20: 2. | B20: Működési célú támogatások államháztartáson belülről (2.1.+…+2.3.) | C20: =SUM(C21:C23) -> 0
A21: 2.1. | B21: Elvonások és befizetések bevételei
A22: 2.2. | B22: Visszatérítendő támogatások, kölcsönök visszatérülése ÁH-n belülről
A23: 2.3. | B23: Egyéb működési célú támogatások bevételei államháztartáson belülről
A24: 2.4. | B24: 2.3-ból EU támogatás
A25: 3. | B25: Közhatalmi bevételek
A26: 4. | B26: Felhalmozási célú támogatások államháztartáson belülről (4.1.+…+4.3.) | C26: =+C27+C28+C29 -> 0
A27: 4.1. | B27: Felhalmozási célú önkormányzati támogatások
A28: 4.2. | B28: Visszatérítendő támogatások, kölcsönök visszatérülése ÁH-n belülről
A29: 4.3. | B29: Egyéb felhalmozási célú támogatások bevételei államháztartáson belülről
A30: 4.4. | B30: 4.3.-ból EU-s támogatás
A31: 5. | B31: Felhalmozási bevételek (5.1.+…+5.3.) | C31: =+C32+C33+C34 -> 0
A32: 5.1. | B32: Immateriális javak értékesítése
A33: 5.2. | B33: Ingatlanok értékesítése
A34: 5.3. | B34: Egyéb tárgyi eszközök értékesítése
A35: 6. | B35: Működési célú átvett pénzeszközök
A36: 7. | B36: Felhalmozási célú átvett pénzeszközök
A37: 8. | B37: Költségvetési bevételek összesen (1.+…+7.) | C37: =+C8+C20+C25+C26+C31+C35+C36 -> 0
A38: 9. | B38: Finanszírozási bevételek (9.1.+…+9.3.) | C38: =+C39+C40+C41 -> 0
A39: 9.1. | B39: Költségvetési maradvány igénybevétele
A40: 9.2. | B40: Vállalkozási maradvány igénybevétele
A41: 9.3. | B41: Irányító szervi (önkormányzati) támogatás (intézményfinanszírozás)
A42: 10. | B42: BEVÉTELEK ÖSSZESEN: (8.+9.) | C42: =+C37+C38 -> 0
B45: Kiadások
A46: 1. | B46: Működési költségvetés kiadásai (1.1+…+1.5.) | C46: =SUM(C47:C51) -> 0
A47: 1.1. | B47: Személyi juttatások
A48: 1.2. | B48: Munkaadókat terhelő járulékok és szociális hozzájárulási adó
A49: 1.3. | B49: Dologi kiadások
A50: 1.4. | B50: Ellátottak pénzbeli juttatásai
A51: 1.5. | B51: Egyéb működési célú kiadások
A52: 2. | B52: Felhalmozási költségvetés kiadásai (2.1.+…+2.3.) | C52: =SUM(C53:C55) -> 0
A53: 2.1. | B53: Beruházások
A54: 2.2. | B54: Felújítások
A55: 2.3. | B55: Egyéb fejlesztési célú kiadások
A56: 2.4. | B56: 2.3.-ból EU-s támogatásból megvalósuló programok, projektek kiadása
A57: 3. | B57: Finanszírozási kiadások
A58: 4. | B58: KIADÁSOK ÖSSZESEN: (1.+2.+3.) | C58: =+C46+C52+C57 -> 0
A60: Éves tervezett létszám előirányzat (fő) | C60: 0
A61: Közfoglalkoztatottak létszáma (fő) | C61: 0

Sheet 9.3. sz. mell
C1: =+CONCATENATE("9.3. melléklet a ……/",LEFT(ÖSSZEFÜGGÉSEK!A5,4),". (….) önkormányzati rendelethez") -> 9.3. melléklet a ……/2018. (….) önkormányzati rendelethez
A2: Költségvetési szerv megnevezése | B2: Sajószögedi Általános Művelődési Központ | C2: 03
A3: Feladat megnevezése | B3: Összes bevétel, kiadás
C4: ='9.2.3. sz. mell'!C4 -> Forintban!
A5: Száma | B5: Kiemelt előirányzat, előirányzat megnevezése | C5: Előirányzat
B6: A | C6: B
B7: Bevételek
A8: 1. | B8: Működési bevételek (1.1.+…+1.11.) | C8: =SUM(C9:C19) -> 14002208
A9: 1.1. | B9: Készletértékesítés ellenértéke
A10: 1.2. | B10: Szolgáltatások ellenértéke | C10: 10450020
A11: 1.3. | B11: Közvetített szolgáltatások értéke
A12: 1.4. | B12: Tulajdonosi bevételek
A13: 1.5. | B13: Ellátási díjak | C13: 702900
A14: 1.6. | B14: Kiszámlázott általános forgalmi adó | C14: 2849288
A15: 1.7. | B15: Általános forgalmi adó visszatérülése
A16: 1.8. | B16: Kamatbevételek
A17: 1.9. | B17: Egyéb pénzügyi műveletek bevételei
A18: 1.10. | B18: Biztosító által fizetett kártérítés
A19: 1.11. | B19: Egyéb működési bevételek
A20: 2. | B20: Működési célú támogatások államháztartáson belülről (2.1.+…+2.3.) | C20: =SUM(C21:C23) -> 0
A21: 2.1. | B21: Elvonások és befizetések bevételei
A22: 2.2. | B22: Visszatérítendő támogatások, kölcsönök visszatérülése ÁH-n belülről
A23: 2.3. | B23: Egyéb működési célú támogatások bevételei államháztartáson belülről
A24: 2.4. | B24: 2.3.-ból EU támogatás
A25: 3. | B25: Közhatalmi bevételek
A26: 4. | B26: Felhalmozási célú támogatások államháztartáson belülről (4.1.+4.2.) | C26: =+C27+C28 -> 0
A27: 4.1. | B27: Visszatérítendő támogatások, kölcsönök visszatérülése ÁH-n belülről
A28: 4.2. | B28: Egyéb felhalmozási célú támogatások bevételei államháztartáson belülről
A29: 4.3. | B29: 4.2.-ből EU-s támogatás
A30: 5. | B30: Felhalmozási bevételek (5.1.+…+5.3.) | C30: =+C31+C32+C33 -> 0
A31: 5.1. | B31: Immateriális javak értékesítése
A32: 5.2. | B32: Ingatlanok értékesítése
A33: 5.3. | B33: Egyéb tárgyi eszközök értékesítése
A34: 6. | B34: Működési célú átvett pénzeszközök
A35: 7. | B35: Felhalmozási célú átvett pénzeszközök
A36: 8. | B36: KÖLTSÉGVETÉSI BEVÉTELEK ÖSSZESEN (1.+…+7.) | C36: =+C8+C20+C25+C26+C30+C34+C35 -> 14002208
A37: 9. | B37: Finanszírozási bevételek (9.1.+…+9.3.) | C37: =+C38+C39+C40 -> 108024512
A38: 9.1. | B38: Költségvetési maradvány igénybevétele | C38: 1305256
A39: 9.2. | B39: Vállalkozási maradvány igénybevétele
A40: 9.3. | B40: Irányító szervi (önkormányzati) támogatás (intézményfinanszírozás) | C40: 106719256
A41: 10. | B41: BEVÉTELEK ÖSSZESEN: (8.+9.) | C41: =+C36+C37 -> 122026720
B44: Kiadások
A45: 1. | B45: Működési költségvetés kiadásai (1.1+…+1.5.) | C45: =SUM(C46:C50) -> 120629720
A46: 1.1. | B46: Személyi juttatások | C46: 59921744
A47: 1.2. | B47: Munkaadókat terhelő járulékok és szociális hozzájárulási adó | C47: 12524911
A48: 1.3. | B48: Dologi kiadások | C48: 48183065
A49: 1.4. | B49: Ellátottak pénzbeli juttatásai
A50: 1.5. | B50: Egyéb működési célú kiadások
A51: 2. | B51: Felhalmozási költségvetés kiadásai (2.1.+…+2.3.) | C51: =SUM(C52:C54) -> 1397000
A52: 2.1. | B52: Beruházások | C52: 1397000
A53: 2.2. | B53: Felújítások
A54: 2.3. | B54: Egyéb fejlesztési célú kiadások
A55: 2.4. | B55: 2.3.-ból EU-s támogatásból megvalósuló programok, projektek kiadása
A56: 3. | B56: Finanszírozási kiadások
A57: 4. | B57: KIADÁSOK ÖSSZESEN: (1.+2.+3.) | C57: =+C45+C51+C56 -> 122026720
A59: Éves tervezett létszám előirányzat (fő) | C59: 17
A60: Közfoglalkoztatottak létszáma (fő) | C60: 0

Sheet 9.3.1. sz. mell
C1: =+CONCATENATE("9.3.1. melléklet a ……/",LEFT(ÖSSZEFÜGGÉSEK!A5,4),". (….) önkormányzati rendelethez") -> 9.3.1. melléklet a ……/2018. (….) önkormányzati rendelethez
A2: Költségvetési szerv megnevezése | B2: Sajószögedi Általános Művelődési Központ | C2: 03
A3: Feladat megnevezése | B3: Kötelező feladatok bevételei, kiadásai | C3: 01
C4: ='9.3. sz. mell'!C4 -> Forintban!
A5: Száma | B5: Kiemelt előirányzat, előirányzat megnevezése | C5: Előirányzat
B6: A | C6: B
B7: Bevételek
A8: 1. | B8: Működési bevételek (1.1.+…+1.11.) | C8: =SUM(C9:C19) -> 14002208
A9: 1.1. | B9: Készletértékesítés ellenértéke
A10: 1.2. | B10: Szolgáltatások ellenértéke | C10: 10450020
A11: 1.3. | B11: Közvetített szolgáltatások értéke
A12: 1.4. | B12: Tulajdonosi bevételek
A13: 1.5. | B13: Ellátási díjak | C13: 702900
A14: 1.6. | B14: Kiszámlázott általános forgalmi adó | C14: 2849288
A15: 1.7. | B15: Általános forgalmi adó visszatérülése
A16: 1.8. | B16: Kamatbevételek
A17: 1.9. | B17: Egyéb pénzügyi műveletek bevételei
A18: 1.10. | B18: Biztosító által fizetett kártérítés
A19: 1.11. | B19: Egyéb működési bevételek
A20: 2. | B20: Működési célú támogatások államháztartáson belülről (2.1.+…+2.3.) | C20: =SUM(C21:C23) -> 0
A21: 2.1. | B21: Elvonások és befizetések bevételei
A22: 2.2. | B22: Visszatérítendő támogatások, kölcsönök visszatérülése ÁH-n belülről
A23: 2.3. | B23: Egyéb működési célú támogatások bevételei államháztartáson belülről
A24: 2.4. | B24: 2.3.-ból EU támogatás
A25: 3. | B25: Közhatalmi bevételek
A26: 4. | B26: Felhalmozási célú támogatások államháztartáson belülről (4.1.+4.2.) | C26: =+C27+C28 -> 0
A27: 4.1. | B27: Visszatérítendő támogatások, kölcsönök visszatérülése ÁH-n belülről
A28: 4.2. | B28: Egyéb felhalmozási célú támogatások bevételei államháztartáson belülről
A29: 4.3. | B29: 4.2.-ből EU-s támogatás
A30: 5. | B30: Felhalmozási bevételek (5.1.+…+5.3.) | C30: =+C31+C32+C33 -> 0
A31: 5.1. | B31: Immateriális javak értékesítése
A32: 5.2. | B32: Ingatlanok értékesítése
A33: 5.3. | B33: Egyéb tárgyi eszközök értékesítése
A34: 6. | B34: Működési célú átvett pénzeszközök
A35: 7. | B35: Felhalmozási célú átvett pénzeszközök
A36: 8. | B36: KÖLTSÉGVETÉSI BEVÉTELEK ÖSSZESEN (1.+…+7.) | C36: =+C8+C20+C25+C26+C30+C34+C35 -> 14002208
A37: 9. | B37: Finanszírozási bevételek (9.1.+…+9.3.) | C37: =+C38+C39+C40 -> 108024512
A38: 9.1. | B38: Költségvetési maradvány igénybevétele | C38: 1305256
A39: 9.2. | B39: Vállalkozási maradvány igénybevétele
A40: 9.3. | B40: Irányító szervi (önkormányzati) támogatás (intézményfinanszírozás) | C40: 106719256
A41: 10. | B41: BEVÉTELEK ÖSSZESEN: (8.+9.) | C41: =+C36+C37 -> 122026720
B44: Kiadások
A45: 1. | B45: Működési költségvetés kiadásai (1.1+…+1.5.) | C45: =SUM(C46:C50) -> 120629720
A46: 1.1. | B46: Személyi juttatások | C46: 59921744
A47: 1.2. | B47: Munkaadókat terhelő járulékok és szociális hozzájárulási adó | C47: 12524911
A48: 1.3. | B48: Dologi kiadások | C48: 48183065
A49: 1.4. | B49: Ellátottak pénzbeli juttatásai
A50: 1.5. | B50: Egyéb működési célú kiadások
A51: 2. | B51: Felhalmozási költségvetés kiadásai (2.1.+…+2.3.) | C51: =SUM(C52:C54) -> 1397000
A52: 2.1. | B52: Beruházások | C52: 1397000
A53: 2.2. | B53: Felújítások
A54: 2.3. | B54: Egyéb fejlesztési célú kiadások
A55: 2.4. | B55: 2.3.-ból EU-s támogatásból megvalósuló programok, projektek kiadása
A56: 3. | B56: Finanszírozási kiadások
A57: 4. | B57: KIADÁSOK ÖSSZESEN: (1.+2.+3.) | C57: =+C45+C51+C56 -> 122026720
A59: Éves tervezett létszám előirányzat (fő) | C59: 17
A60: Közfoglalkoztatottak létszáma (fő) | C60: 0

Sheet 9.3.2. sz. mell
C1: =+CONCATENATE("9.3.2. melléklet a ……/",LEFT(ÖSSZEFÜGGÉSEK!A5,4),". (….) önkormányzati rendelethez") -> 9.3.2. melléklet a ……/2018. (….) önkormányzati rendelethez
A2: Költségvetési szerv megnevezése | B2: Sajószögedi Általános Művelődési Központ | C2: 03
A3: Feladat megnevezése | B3: Önként vállalt feladatok bevételei, kiadásai | C3: 02
C4: ='9.3.1. sz. mell'!C4 -> Forintban!
A5: Száma | B5: Kiemelt előirányzat, előirányzat megnevezése | C5: Előirányzat
B6: A | C6: B
B7: Bevételek
A8: 1. | B8: Működési bevételek (1.1.+…+1.11.) | C8: =SUM(C9:C19) -> 0
A9: 1.1. | B9: Készletértékesítés ellenértéke
A10: 1.2. | B10: Szolgáltatások ellenértéke
A11: 1.3. | B11: Közvetített szolgáltatások értéke
A12: 1.4. | B12: Tulajdonosi bevételek
A13: 1.5. | B13: Ellátási díjak
A14: 1.6. | B14: Kiszámlázott általános forgalmi adó
A15: 1.7. | B15: Általános forgalmi adó visszatérülése
A16: 1.8. | B16: Kamatbevételek
A17: 1.9. | B17: Egyéb pénzügyi műveletek bevételei
A18: 1.10. | B18: Biztosító által fizetett kártérítés
A19: 1.11. | B19: Egyéb működési bevételek
A20: 2. | B20: Működési célú támogatások államháztartáson belülről (2.1.+…+2.3.) | C20: =SUM(C21:C23) -> 0
A21: 2.1. | B21: Elvonások és befizetések bevételei
A22: 2.2. | B22: Visszatérítendő támogatások, kölcsönök visszatérülése ÁH-n belülről
A23: 2.3. | B23: Egyéb működési célú támogatások bevételei államháztartáson belülről
A24: 2.4. | B24: 2.3.-ból EU támogatás
A25: 3. | B25: Közhatalmi bevételek
A26: 4. | B26: Felhalmozási célú támogatások államháztartáson belülről (4.1.+4.2.) | C26: =+C27+C28 -> 0
A27: 4.1. | B27: Visszatérítendő támogatások, kölcsönök visszatérülése ÁH-n belülről
A28: 4.2. | B28: Egyéb felhalmozási célú támogatások bevételei államháztartáson belülről
A29: 4.3. | B29: 4.2.-ből EU-s támogatás
A30: 5. | B30: Felhalmozási bevételek (5.1.+…+5.3.) | C30: =+C31+C32+C33 -> 0
A31: 5.1. | B31: Immateriális javak értékesítése
A32: 5.2. | B32: Ingatlanok értékesítése
A33: 5.3. | B33: Egyéb tárgyi eszközök értékesítése
A34: 6. | B34: Működési célú átvett pénzeszközök
A35: 7. | B35: Felhalmozási célú átvett pénzeszközök
A36: 8. | B36: KÖLTSÉGVETÉSI BEVÉTELEK ÖSSZESEN (1.+…+7.) | C36: =+C8+C20+C25+C26+C30+C34+C35 -> 0
A37: 9. | B37: Finanszírozási bevételek (9.1.+…+9.3.) | C37: =+C38+C39+C40 -> 0
A38: 9.1. | B38: Költségvetési maradvány igénybevétele
A39: 9.2. | B39: Vállalkozási maradvány igénybevétele
A40: 9.3. | B40: Irányító szervi (önkormányzati) támogatás (intézményfinanszírozás)
A41: 10. | B41: BEVÉTELEK ÖSSZESEN: (8.+9.) | C41: =+C36+C37 -> 0
B44: Kiadások
A45: 1. | B45: Működési költségvetés kiadásai (1.1+…+1.5.) | C45: =SUM(C46:C50) -> 0
A46: 1.1. | B46: Személyi juttatások
A47: 1.2. | B47: Munkaadókat terhelő járulékok és szociális hozzájárulási adó
A48: 1.3. | B48: Dologi kiadások
A49: 1.4. | B49: Ellátottak pénzbeli juttatásai
A50: 1.5. | B50: Egyéb működési célú kiadások
A51: 2. | B51: Felhalmozási költségvetés kiadásai (2.1.+…+2.3.) | C51: =SUM(C52:C54) -> 0
A52: 2.1. | B52: Beruházások
A53: 2.2. | B53: Felújítások
A54: 2.3. | B54: Egyéb fejlesztési célú kiadások
A55: 2.4. | B55: 2.3.-ból EU-s támogatásból megvalósuló programok, projektek kiadása
A56: 3. | B56: Finanszírozási kiadások
A57: 4. | B57: KIADÁSOK ÖSSZESEN: (1.+2.+3.) | C57: =+C45+C51+C56 -> 0
A59: Éves tervezett létszám előirányzat (fő) | C59: 0
A60: Közfoglalkoztatottak létszáma (fő) | C60: 0

Sheet 9.3.3. sz. mell
C1: =+CONCATENATE("9.3.3. melléklet a ……/",LEFT(ÖSSZEFÜGGÉSEK!A5,4),". (….) önkormányzati rendelethez") -> 9.3.3. melléklet a ……/2018. (….) önkormányzati rendelethez
A2: Költségvetési szerv megnevezése | B2: Sajószögedi Általános Művelődési Központ | C2: 03
A3: Feladat megnevezése | B3: Államigazgatási feladatok bevételei, kiadásai | C3: 03
C4: ='9.3.2. sz. mell'!C4 -> Forintban!
A5: Száma | B5: Kiemelt előirányzat, előirányzat megnevezése | C5: Előirányzat
B6: A | C6: B
B7: Bevételek
A8: 1. | B8: Működési bevételek (1.1.+…+1.11.) | C8: =SUM(C9:C19) -> 0
A9: 1.1. | B9: Készletértékesítés ellenértéke
A10: 1.2. | B10: Szolgáltatások ellenértéke
A11: 1.3. | B11: Közvetített szolgáltatások értéke
A12: 1.4. | B12: Tulajdonosi bevételek
A13: 1.5. | B13: Ellátási díjak
A14: 1.6. | B14: Kiszámlázott általános forgalmi adó
A15: 1.7. | B15: Általános forgalmi adó visszatérülése
A16: 1.8. | B16: Kamatbevételek
A17: 1.9. | B17: Egyéb pénzügyi műveletek bevételei
A18: 1.10. | B18: Biztosító által fizetett kártérítés
A19: 1.11. | B19: Egyéb működési bevételek
A20: 2. | B20: Működési célú támogatások államháztartáson belülről (2.1.+…+2.3.) | C20: =SUM(C21:C23) -> 0
A21: 2.1. | B21: Elvonások és befizetések bevételei
A22: 2.2. | B22: Visszatérítendő támogatások, kölcsönök visszatérülése ÁH-n belülről
A23: 2.3. | B23: Egyéb működési célú támogatások bevételei államháztartáson belülről
A24: 2.4. | B24: 2.3.-ból EU támogatás
A25: 3. | B25: Közhatalmi bevételek
A26: 4. | B26: Felhalmozási célú támogatások államháztartáson belülről (4.1.+4.2.) | C26: =+C27+C28 -> 0
A27: 4.1. | B27: Visszatérítendő támogatások, kölcsönök visszatérülése ÁH-n belülről
A28: 4.2. | B28: Egyéb felhalmozási célú támogatások bevételei államháztartáson belülről
A29: 4.3. | B29: 4.2.-ből EU-s támogatás
A30: 5. | B30: Felhalmozási bevételek (5.1.+…+5.3.) | C30: =+C31+C32+C33 -> 0
A31: 5.1. | B31: Immateriális javak értékesítése
A32: 5.2. | B32: Ingatlanok értékesítése
A33: 5.3. | B33: Egyéb tárgyi eszközök értékesítése
A34: 6. | B34: Működési célú átvett pénzeszközök
A35: 7. | B35: Felhalmozási célú átvett pénzeszközök
A36: 8. | B36: KÖLTSÉGVETÉSI BEVÉTELEK ÖSSZESEN (1.+…+7.) | C36: =+C8+C20+C25+C26+C30+C34+C35 -> 0
A37: 9. | B37: Finanszírozási bevételek (9.1.+…+9.3.) | C37: =+C38+C39+C40 -> 0
A38: 9.1. | B38: Költségvetési maradvány igénybevétele
A39: 9.2. | B39: Vállalkozási maradvány igénybevétele
A40: 9.3. | B40: Irányító szervi (önkormányzati) támogatás (intézményfinanszírozás)
A41: 10. | B41: BEVÉTELEK ÖSSZESEN: (8.+9.) | C41: =+C36+C37 -> 0
B44: Kiadások
A45: 1. | B45: Működési költségvetés kiadásai (1.1+…+1.5.) | C45: =SUM(C46:C50) -> 0
A46: 1.1. | B46: Személyi juttatások
A47: 1.2. | B47: Munkaadókat terhelő járulékok és szociális hozzájárulási adó
A48: 1.3. | B48: Dologi kiadások
A49: 1.4. | B49: Ellátottak pénzbeli juttatásai
A50: 1.5. | B50: Egyéb működési célú kiadások
A51: 2. | B51: Felhalmozási költségvetés kiadásai (2.1.+…+2.3.) | C51: =SUM(C52:C54) -> 0
A52: 2.1. | B52: Beruházások
A53: 2.2. | B53: Felújítások
A54: 2.3. | B54: Egyéb fejlesztési célú kiadások
A55: 2.4. | B55: 2.3.-ból EU-s támogatásból megvalósuló programok, projektek kiadása
A56: 3. | B56: Finanszírozási kiadások
A57: 4. | B57: KIADÁSOK ÖSSZESEN: (1.+2.+3.) | C57: =+C45+C51+C56 -> 0
A59: Éves tervezett létszám előirányzat (fő) | C59: 0
A60: Közfoglalkoztatottak létszáma (fő) | C60: 0

Sheet 10.sz.mell
A1: Adatszolgáltatás az elismert tartozásállományról
A3: Költségvetési szerv neve: | C3: …………………………………
A5: Költségvetési szerv számlaszáma: | C5: ………………………………… | G5: NEMLEGES!
A7: Éves eredeti kiadási előirányzat: …………… Ft
A8: 30 napon túli elismert tartozásállomány összesen: ……………… Ft | G8: ='9.3.3. sz. mell'!C4 -> Forintban!
A9: Sor-szám | B9: Tartozásállomány megnevezése | C9: 30 nap alatti állomány | D9: 30-60 nap közötti állomány | E9: 60 napon túli állomány | F9: Át-ütemezett | G9: Összesen:
A10: 1. | B10: Állammal szembeni tartozások | G10: =SUM(C10:F10) -> 0
A11: 2. | B11: Központi költségvetéssel szemben fennálló tartozás | G11: =SUM(C11:F11) -> 0
A12: 3. | B12: Elkülönített állami pénzalapokkal szembeni tartozás | G12: =SUM(C12:F12) -> 0
A13: 4. | B13: TB alapokkal szembeni tartozás | G13: =SUM(C13:F13) -> 0
A14: 5. | B14: Tartozásállomány önkormányzatok és intézmények felé | G14: =SUM(C14:F14) -> 0
A15: 6. | B15: Egyéb tartozásállomány | G15: =SUM(C15:F15) -> 0
A16: 7. | B16: Összesen: | C16: =SUM(C10:C15) -> 0 | D16: =SUM(D10:D15) -> 0 | E16: =SUM(E10:E15) -> 0 | F16: =SUM(F10:F15) -> 0 | G16: =SUM(C16:F16) -> 0
A20: =+CONCATENATE("......................, ",LEFT(ÖSSZEFÜGGÉSEK!A5,4),". .......................... hó ..... nap") -> ......................, 2018. .......................... hó ..... nap
D24: költségvetési szerv vezetője

Sheet 1. sz tájékoztató t.
A1: B E V É T E L E K
A2: 1. sz. táblázat | E2: ='10.sz.mell'!G8 -> Forintban!
A3: Sor- szám | B3: Bevételi jogcím | C3: =+CONCATENATE(LEFT(ÖSSZEFÜGGÉSEK!A5,4)-2,". évi tény") -> 2016. évi tény | D3: =+CONCATENATE(LEFT(ÖSSZEFÜGGÉSEK!A5,4)-1,". évi várható") -> 2017. évi várható | E3: =+'1.1.sz.mell.'!C3 -> 2018. évi előirányzat
A4: A | B4: B | C4: C | D4: D | E4: E
A5: 1. | B5: Önkormányzat működési támogatásai (1.1.+…+.1.6.) | C5: =+C6+C7+C8+C9+C10+C11 -> 75520365 | D5: =+D6+D7+D8+D9+D10+D11 -> 104021991 | E5: =+E6+E7+E8+E9+E10+E11 -> 109212674
A6: 1.1. | B6: Helyi önkormányzatok működésének általános támogatása | C6: 20129106 | D6: 31994697 | E6: 30667486
A7: 1.2. | B7: Önkormányzatok egyes köznevelési feladatainak támogatása | C7: 26446800 | D7: 35984559 | E7: 46445433
A8: 1.3. | B8: Önkormányzatok szociális és gyermekjóléti feladatainak támogatása | C8: 24500716 | D8: 30290904 | E8: 29146265
A9: 1.4. | B9: Önkormányzatok kulturális feladatainak támogatása | C9: 2644990 | D9: 2975067 | E9: 2697090
A10: 1.5. | B10: Működési célú kvi támogatások és kiegészítő támogatások | C10: 1794129 | D10: 2609044 | E10: 256400
A11: 1.6. | B11: Elszámolásból származó bevételek | C11: 4624 | D11: 167720
A12: 2. | B12: Működési célú támogatások államháztartáson belülről (2.1.+…+.2.5.) | C12: =+C13+C14+C15+C16+C17 -> 22722438 | D12: =+D13+D14+D15+D16+D17 -> 18559507 | E12: =+E13+E14+E15+E16+E17 -> 14608139
A13: 2.1. | B13: Elvonások és befizetések bevételei
A14: 2.2. | B14: Működési célú garancia- és kezességvállalásból megtérülések
A15: 2.3. | B15: Működési célú visszatérítendő támogatások, kölcsönök visszatérülése
A16: 2.4. | B16: Működési célú visszatérítendő támogatások, kölcsönök igénybevétele
A17: 2.5. | B17: Egyéb működési célú támogatások bevételei | C17: 22722438 | D17: 18559507 | E17: 14608139
A18: 2.6. | B18: 2.5.-ből EU-s támogatás
A19: 3. | B19: Felhalmozási célú támogatások államháztartáson belülről (3.1.+…+3.5.) | C19: =+C20+C21+C22+C23+C24 -> 6000000 | D19: =+D20+D21+D22+D23+D24 -> 160348571 | E19: =+E20+E21+E22+E23+E24 -> 300655070
A20: 3.1. | B20: Felhalmozási célú önkormányzati támogatások | C20: 6000000
A21: 3.2. | B21: Felhalmozási célú garancia- és kezességvállalásból megtérülések
A22: 3.3. | B22: Felhalmozási célú visszatérítendő támogatások, kölcsönök visszatérülése
A23: 3.4. | B23: Felhalmozási célú visszatérítendő támogatások, kölcsönök igénybevétele
A24: 3.5. | B24: Egyéb felhalmozási célú támogatások bevételei | D24: 160348571 | E24: 300655070
A25: 3.6. | B25: 3.5.-ből EU-s támogatás | D25: 160348571 | E25: 300655070
A26: 4. | B26: Közhatalmi bevételek (4.1.+4.2.+4.3.+4.4.) | C26: =SUM(C27:C33) -> 133181150 | D26: =SUM(D27:D33) -> 165068881 | E26: =SUM(E27:E33) -> 171810000
A27: 4.1. | B27: Vagyoni tipusú adók | C27: 43362595 | D27: 70849138 | E27: 101300000
A28: 4.2. | B28: Idegenforgalmi adó
A29: 4.3. | B29: Iparűzési adó | C29: 81124886 | D29: 83502044 | E29: 62350000
A30: 4.4. | B30: Talajterhelési díj | E30: 40000
A31: 4.5. | B31: Gépjárműadó | C31: 8349286 | D31: 10027452 | E31: 8000000
A32: 4.6. | B32: Egyéb áruhasználati és szolgáltatási adók
A33: 4.7. | B33: Egyéb közhatalmi bevételek | C33: 344383 | D33: 690247 | E33: 120000
A34: 5. | B34: Működési bevételek (5.1.+…+ 5.11.) | C34: =SUM(C35:C45) -> 31650308 | D34: =SUM(D35:D45) -> 37011158 | E34: =SUM(E35:E45) -> 30883426
A35: 5.1. | B35: Készletértékesítés ellenértéke
A36: 5.2. | B36: Szolgáltatások ellenértéke | C36: 5522630 | D36: 13164306 | E36: 12478020
A37: 5.3. | B37: Közvetített szolgáltatások értéke | C37: 777810 | D37: 1334806 | E37: 700000
A38: 5.4. | B38: Tulajdonosi bevételek | C38: 10234855 | D38: 4684984
A39: 5.5. | B39: Ellátási díjak | C39: 9257731 | D39: 9149094 | E39: 11335305
A40: 5.6. | B40: Kiszámlázott általános forgalmi adó | C40: 5572189 | D40: 8657457 | E40: 6370101
A41: 5.7. | B41: Általános forgalmi adó visszatérítése
A42: 5.8. | B42: Kamatbevételek és más nyereségjellegű bevételek
A43: 5.9. | B43: Egyéb pénzügyi műveletek bevételei | C43: 70236 | D43: 20511
A44: 5.10. | B44: Biztosító által fizetett kártérítés
A45: 5.11. | B45: Egyéb működési bevételek | C45: 214857
A46: 6. | B46: Felhalmozási bevételek (6.1.+…+6.5.) | C46: =SUM(C47:C51) -> 2150000 | D46: =SUM(D47:D51) -> 8404650 | E46: =SUM(E47:E51) -> 0
A47: 6.1. | B47: Immateriális javak értékesítése
A48: 6.2. | B48: Ingatlanok értékesítése | C48: 2150000 | D48: 8404650
A49: 6.3. | B49: Egyéb tárgyi eszközök értékesítése
A50: 6.4. | B50: Részesedések értékesítése
A51: 6.5. | B51: Részesedések megszűnéséhez kapcsolódó bevételek
A52: 7. | B52: Működési célú átvett pénzeszközök (7.1. + … + 7.3.) | C52: =SUM(C53:C55) -> 520000 | D52: =SUM(D53:D55) -> 333500 | E52: =SUM(E53:E55) -> 0
A53: 7.1. | B53: Működési célú garancia- és kezességvállalásból megtérülések ÁH-n kívülről
A54: 7.2. | B54: Működési célú visszatérítendő támogatások, kölcsönök visszatér. ÁH-n kívülről
A55: 7.3. | B55: Egyéb működési célú átvett pénzeszköz | C55: 520000 | D55: 333500
A56: 7.4. | B56: 7.3.-ból EU-s támogatás (közvetlen)
A57: 8. | B57: Felhalmozási célú átvett pénzeszközök (8.1.+8.2.+8.3.) | C57: =SUM(C58:C60) -> 583430 | D57: =SUM(D58:D60) -> 780941 | E57: =SUM(E58:E60) -> 1663367
A58: 8.1. | B58: Felhalm. célú garancia- és kezességvállalásból megtérülések ÁH-n kívülről
A59: 8.2. | B59: Felhalm. célú visszatérítendő támogatások, kölcsönök visszatér. ÁH-n kívülről | C59: 583430 | D59: 780941 | E59: 1663367
A60: 8.3. | B60: Egyéb felhalmozási célú átvett pénzeszköz
A61: 8.4. | B61: 8.3.-ból EU-s támogatás (közvetlen)
A62: 9. | B62: KÖLTSÉGVETÉSI BEVÉTELEK ÖSSZESEN: (1+…+8) | C62: =+C5+C12+C19+C26+C34+C46+C52+C57 -> 272327691 | D62: =+D5+D12+D19+D26+D34+D46+D52+D57 -> 494529199 | E62: =+E5+E12+E19+E26+E34+E46+E52+E57 -> 628832676
A63: 10. | B63: Hitel-, kölcsönfelvétel államháztartáson kívülről (10.1.+…+10.3.) | C63: =SUM(C64:C66) -> 0 | D63: =SUM(D64:D66) -> 0 | E63: =SUM(E64:E66) -> 0
A64: 10.1. | B64: Hosszú lejáratú hitelek, kölcsönök felvétele
A65: 10.2. | B65: Likviditási célú hitelek, kölcsönök felvétele pénzügyi vállalkozástól
A66: 10.3. | B66: Rövid lejáratú hitelek, kölcsönök felvétele
A67: 11. | B67: Belföldi értékpapírok bevételei (11.1. +…+ 11.4.) | C67: =SUM(C68:C71) -> 115945929 | D67: =SUM(D68:D71) -> 83580042 | E67: =SUM(E68:E71) -> 0
A68: 11.1. | B68: Forgatási célú belföldi értékpapírok beváltása, értékesítése | C68: 115945929 | D68: 83580042
A69: 11.2. | B69: Éven belüli lejáratú belföldi értékpapírok kibocsátása
A70: 11.3. | B70: Befektetési célú belföldi értékpapírok beváltása, értékesítése
A71: 11.4. | B71: Éven túli lejáratú belföldi értékpapírok kibocsátása
A72: 12. | B72: Maradvány igénybevétele (12.1. + 12.2.) | C72: =SUM(C73:C74) -> 9929171 | D72: =SUM(D73:D74) -> 9602042 | E72: =SUM(E73:E74) -> 193841945
A73: 12.1. | B73: Előző év költségvetési maradványának igénybevétele | C73: 9929171 | D73: 9602042 | E73: 193841945
A74: 12.2. | B74: Előző év vállalkozási maradványának igénybevétele
A75: 13. | B75: Belföldi finanszírozás bevételei (13.1. + … + 13.3.) | C75: =SUM(C76:C78) -> 3277299 | D75: =SUM(D76:D78) -> 3680858 | E75: =SUM(E76:E78) -> 0
A76: 13.1. | B76: Államháztartáson belüli megelőlegezések | C76: 3277299 | D76: 3680858
A77: 13.2. | B77: Államháztartáson belüli megelőlegezések törlesztése
A78: 13.3. | B78: Lekötött betétek megszüntetése
A79: 14. | B79: Külföldi finanszírozás bevételei (14.1.+…14.4.) | C79: =SUM(C80:C83) -> 0 | D79: =SUM(D80:D83) -> 0 | E79: =SUM(E80:E83) -> 0
A80: 14.1. | B80: Forgatási célú külföldi értékpapírok beváltása, értékesítése
A81: 14.2. | B81: Befektetési célú külföldi értékpapírok beváltása, értékesítése
A82: 14.3. | B82: Külföldi értékpapírok kibocsátása
A83: 14.4. | B83: Külföldi hitelek, kölcsönök felvétele
A84: 15. | B84: Váltóbevételek
A85: 16. | B85: Adóssághoz nem kapcsolódó származékos ügyletek bevételei
A86: 17. | B86: FINANSZÍROZÁSI BEVÉTELEK ÖSSZESEN: (10. + … +16.) | C86: =+C63+C67+C72+C75+C79+C85+C84 -> 129152399 | D86: =+D63+D67+D72+D75+D79+D85+D84 -> 96862942 | E86: =+E63+E67+E72+E75+E79+E85+E84 -> 193841945
A87: 18. | B87: KÖLTSÉGVETÉSI ÉS FINANSZÍROZÁSI BEVÉTELEK ÖSSZESEN: (9+17) | C87: =+C62+C86 -> 401480090 | D87: =+D62+D86 -> 591392141 | E87: =+E62+E86 -> 822674621
A89: K I A D Á S O K
A90: 2. sz. táblázat | E90: =E2 -> Forintban!
A91: Sor-szám | B91: Kiadási jogcímek | C91: =+C3 -> 2016. évi tény | D91: =+D3 -> 2017. évi várható | E91: =+E3 -> 2018. évi előirányzat
A92: A | B92: B | C92: C | D92: D | E92: E
A93: 1. | B93: Működési költségvetés kiadásai (1.1+…+1.5.+1.18.) | C93: =C94+C95+C96+C97+C98+C111 -> 277010051 | D93: =D94+D95+D96+D97+D98+D111 -> 290484277 | E93: =E94+E95+E96+E97+E98+E111 -> 334904186
A94: 1.1. | B94: Személyi juttatások | C94: 105299578 | D94: 115179858 | E94: 129827432
A95: 1.2. | B95: Munkaadókat terhelő járulékok és szociális hozzájárulási adó | C95: 26988909 | D95: 25457987 | E95: 26955245
A96: 1.3. | B96: Dologi kiadások | C96: 99526084 | D96: 105901482 | E96: 128430894
A97: 1.4. | B97: Ellátottak pénzbeli juttatásai | C97: 10203003 | D97: 8395452 | E97: 10180000
A98: 1.5 | B98: Egyéb működési célú kiadások | C98: 34992477 | D98: 35549498 | E98: 37010615
A99: 1.6. | B99: - az 1.5-ből: - Előző évi elszámolásból származó befizetések | C99: 408831 | D99: 977678
A100: 1.7. | B100: - Törvényi előíráson alapuló befizetések
A101: 1.8. | B101: - Elvonások és befizetések
...

Sheet 2. sz tájékoztató t
A1: Többéves kihatással járó döntések számszerűsítése évenkénti bontásban és összesítve célok szerint
I2: ='1. sz tájékoztató t.'!E2 -> Forintban!
A3: Sor- szám | B3: Kötelezettség jogcíme | C3: Köt. váll. éve | D3: =+CONCATENATE(LEFT(ÖSSZEFÜGGÉSEK!A5,4)," előtti kifizetés") -> 2018 előtti kifizetés | E3: Kiadás vonzata évenként | I3: Összesen
E4: =+CONCATENATE(LEFT(ÖSSZEFÜGGÉSEK!A5,4),".") -> 2018. | F4: =+CONCATENATE(LEFT(ÖSSZEFÜGGÉSEK!A5,4)+1,".") -> 2019. | G4: =+CONCATENATE(LEFT(ÖSSZEFÜGGÉSEK!A5,4)+2,".") -> 2020. | H4: =+CONCATENATE(LEFT(ÖSSZEFÜGGÉSEK!A5,4)+2,".",CHAR(10)," után") -> 2020. után
A5: A | B5: B | C5: C | D5: D | E5: E | F5: F | G5: G | H5: H | I5: I=(D+E+F+G+H)
A6: 1. | B6: Működési célú finanszírozási kiadások (hiteltörlesztés, értékpapír vásárlás, stb.) | D6: =+D7+D8 -> 0 | E6: =+E7+E8 -> 0 | F6: =+F7+F8 -> 0 | G6: =+G7+G8 -> 0 | H6: =+H7+H8 -> 0 | I6: =SUM(D6:H6) -> 0
A7: 2. | B7: ............................ | I7: =SUM(D7:H7) -> 0 | J7: 2. tájékoztató tábla
A8: 3. | B8: ............................ | I8: =SUM(D8:H8) -> 0
A9: 4. | B9: Felhalmozási célú finanszírozási kiadások (hiteltörlesztés, értékpapír vásárlás, stb.) | D9: =+D10+D11 -> 0 | E9: =+E10+E11 -> 0 | F9: =+F10+F11 -> 0 | G9: =+G10+G11 -> 0 | H9: =+H10+H11 -> 0 | I9: =SUM(D9:H9) -> 0
A10: 5. | B10: ............................ | I10: =SUM(D10:H10) -> 0
A11: 6. | B11: ............................ | I11: =SUM(D11:H11) -> 0
A12: 7. | B12: Beruházási kiadások beruházásonként | D12: =+D13 -> 0 | E12: =+E13 -> 0 | F12: =+F13 -> 0 | G12: =+G13 -> 0 | H12: =+H13 -> 0 | I12: =SUM(D12:H12) -> 0
A13: 8. | B13: ............................ | I13: =SUM(D13:H13) -> 0
A14: 9. | B14: Felújítási kiadások felújításonként | D14: =+D15 -> 0 | E14: =+E15 -> 0 | F14: =+F15 -> 0 | G14: =+G15 -> 0 | H14: =+H15 -> 0 | I14: =SUM(D14:H14) -> 0
A15: 10. | B15: ............................ | I15: =SUM(D15:H15) -> 0
A16: 11. | B16: Egyéb (Pl.: garancia és kezességvállalás, stb.) | D16: =+D17 -> 0 | E16: =+E17 -> 0 | F16: =+F17 -> 0 | G16: =+G17 -> 0 | H16: =+H17 -> 0 | I16: =SUM(D16:H16) -> 0
A17: 12. | B17: ............................ | I17: =SUM(D17:H17) -> 0
A18: Összesen (1+4+7+9+11) | D18: =+D6+D9+D12+D14+D16 -> 0 | E18: =+E6+E9+E12+E14+E16 -> 0 | F18: =+F6+F9+F12+F14+F16 -> 0 | G18: =+G6+G9+G12+G14+G16 -> 0 | H18: =+H6+H9+H12+H14+H16 -> 0 | I18: =+I6+I9+I12+I14+I16 -> 0
A21: NEMLEGES!

Sheet 3.sz tájékoztató t.
A1: =+CONCATENATE("Előirányzat-felhasználási terv",CHAR(10),LEFT(ÖSSZEFÜGGÉSEK!A5,4),". évre") -> Előirányzat-felhasználási terv 2018. évre
O2: =#REF! -> #REF!
A3: Sor-szám | B3: Megnevezés | C3: Január | D3: Február | E3: Március | F3: Április | G3: Május | H3: Június | I3: Július | J3: Auguszt. | K3: Szept. | L3: Okt. | M3: Nov. | N3: Dec. | O3: Összesen:
A4: 1. | B4: Bevételek
A5: 2. | B5: Önkormányzatok működési támogatásai | C5: 9079690 | D5: 9079690 | E5: 9079690 | F5: 9079690 | G5: 9079690 | H5: 9079690 | I5: 9079690 | J5: 9079690 | K5: 9079690 | L5: 9079690 | M5: 9079690 | N5: 9079684 | O5: =SUM(C5:N5) -> 108956274
A6: 3. | B6: Működési célú támogatások ÁH-on belül | C6: 1238710 | D6: 1238710 | E6: 1238710 | F6: 1238710 | G6: 1238710 | H6: 1238710 | I6: 1238710 | J6: 1238710 | K6: 1238710 | L6: 1238710 | M6: 1238709 | N6: 1238730 | O6: =SUM(C6:N6) -> 14864539
A7: 4. | B7: Felhalmozási célú támogatások ÁH-on belül | O7: =SUM(C7:N7) -> 0
A8: 5. | B8: Közhatalmi bevételek | E8: 41343324 | F8: 14472212 | G8: 14610826 | H8: 14610826 | I8: 14610826 | J8: 14610826 | K8: 13698617 | L8: 14610826 | M8: 14610827 | N8: 14610890 | O8: =SUM(C8:N8) -> 171790000
A9: 6. | B9: Működési bevételek | C9: 2575114 | D9: 2575114 | E9: 2577177 | F9: 2575114 | G9: 2575114 | H9: 2575114 | I9: 2575114 | J9: 2575114 | K9: 2575114 | L9: 2575114 | M9: 2575114 | N9: 2575109 | O9: =SUM(C9:N9) -> 30903426
A10: 7. | B10: Felhalmozási bevételek | C10: 138614 | D10: 138614 | E10: 138614 | F10: 138614 | G10: 138614 | H10: 138614 | I10: 138614 | J10: 138614 | K10: 300793683 | L10: 138614 | M10: 138614 | N10: 138614 | O10: =SUM(C10:N10) -> 302318437
A11: 8. | B11: Működési célú átvett pénzeszközök | O11: =SUM(C11:N11) -> 0
A12: 9. | B12: Felhalmozási célú átvett pénzeszközök | O12: =SUM(C12:N12) -> 0
A13: 10. | B13: Finanszírozási bevételek | C13: 14472212 | D13: 14472212 | E13: 4055576 | K13: 160841945 | O13: =SUM(C13:N13) -> 193841945
A14: 11. | B14: Bevételek összesen: | C14: =SUM(C5:C13) -> 27504340 | D14: =SUM(D5:D13) -> 27504340 | E14: =SUM(E5:E13) -> 58433091 | F14: =SUM(F5:F13) -> 27504340 | G14: =SUM(G5:G13) -> 27642954 | H14: =SUM(H5:H13) -> 27642954 | I14: =SUM(I5:I13) -> 27642954 | J14: =SUM(J5:J13) -> 27642954 | ... N14: =SUM(N5:N13) -> 27643027 | O14: =SUM(C14:N14) -> 822674621
A15: 12. | B15: Kiadások
A16: 13. | B16: Személyi juttatások | C16: 10660202 | D16: 10660202 | E16: 12565202 | F16: 10660202 | G16: 10660202 | H16: 10660202 | I16: 10660202 | J16: 10660202 | K16: 10660202 | L16: 10660202 | M16: 10660202 | N16: 10660210 | O16: =SUM(C16:N16) -> 129827432
A17: 14. | B17: Munkaadókat terhelő járulékok és szociális hozzájárulási adó | C17: 2209015 | D17: 2209015 | E17: 2656078 | F17: 2209015 | G17: 2209015 | H17: 2209015 | I17: 2209015 | J17: 2209015 | K17: 2209015 | L17: 2209015 | M17: 2209015 | N17: 2209017 | O17: =SUM(C17:N17) -> 26955245
A18: 15. | B18: Dologi kiadások | C18: 10702572 | D18: 10702572 | E18: 10702572 | F18: 10702572 | G18: 10702572 | H18: 10702572 | I18: 10702572 | J18: 10702572 | K18: 10702572 | L18: 10702572 | M18: 10702572 | N18: 10702602 | O18: =SUM(C18:N18) -> 128430894
A19: 16. | B19: Ellátottak pénzbeli juttatásai | C19: 848333 | D19: 848333 | E19: 848333 | F19: 848333 | G19: 848333 | H19: 848333 | I19: 848333 | J19: 848333 | K19: 848333 | L19: 848333 | M19: 848333 | N19: 848337 | O19: =SUM(C19:N19) -> 10180000
A20: 17. | B20: Egyéb működési célú kiadások | C20: 3084218 | D20: 3084218 | E20: 3084218 | F20: 3084218 | G20: 3084218 | H20: 3084218 | I20: 3084218 | J20: 3084218 | K20: 3084218 | L20: 3084218 | M20: 3084218 | N20: 3084217 | O20: =SUM(C20:N20) -> 37010615
A21: 18. | B21: Beruházások | E21: 23806688 | K21: 457193747 | O21: =SUM(C21:N21) -> 481000435
A22: 19. | B22: Felújítások | E22: 1270000 | O22: =SUM(C22:N22) -> 1270000
A23: 20. | B23: Egyéb felhalmozási kiadások | E23: 3500000 | K23: 2000000 | O23: =SUM(C23:N23) -> 5500000
A24: 21. | B24: Finanszírozási kiadások | G24: 138614 | H24: 138614 | I24: 138614 | J24: 138614 | K24: 1529672 | L24: 138614 | M24: 138614 | N24: 138644 | O24: =SUM(C24:N24) -> 2500000
A25: 22. | B25: Kiadások összesen: | C25: =SUM(C16:C24) -> 27504340 | D25: =SUM(D16:D24) -> 27504340 | E25: =SUM(E16:E24) -> 58433091 | F25: =SUM(F16:F24) -> 27504340 | G25: =SUM(G16:G24) -> 27642954 | H25: =SUM(H16:H24) -> 27642954 | I25: =SUM(I16:I24) -> 27642954 | J25: =SUM(J16:J24) -> 27642954 | ... N25: =SUM(N16:N24) -> 27643027 | O25: =SUM(C25:N25) -> 822674621
A26: 23. | B26: Egyenleg | C26: =C14-C25 -> 0 | D26: =D14-D25 -> 0 | E26: =E14-E25 -> 0 | F26: =F14-F25 -> 0 | G26: =G14-G25 -> 0 | H26: =H14-H25 -> 0 | I26: =I14-I25 -> 0 | J26: =J14-J25 -> 0 | ... O26: =O14-O25 -> 0

Sheet 4.sz tájékoztató t.
A1: =+CONCATENATE("K I M U T A T Á S",CHAR(10),"a ",LEFT(ÖSSZEFÜGGÉSEK!A5,4),". évben céljelleggel juttatott támogatásokról") -> K I M U T A T Á S a 2018. évben céljelleggel juttatott támogatásokról
C3: Forintban
A4: Sor- szám | B4: Támogatott szervezet neve | C4: Támogatás célja | D4: Támogatás összge
A5: 1. | B5: Sajószöged Községi Testedző Kör | C5: működési támogatás | D5: 3850000
A6: 2. | B6: Polgárőr Egyesület Sajószöged | C6: működési támogatás | D6: 1630000
A7: 3. | B7: Egyéb civil szervezetek | C7: működési támogatás | D7: 1000000
A8: 4. | B8: Községüzemeltetési Kft. | C8: működési támogatás | D8: 26600000
A9: 5. | B9: Községüzemeltetési Kft. | C9: felhalmozási támogatás | D9: 3500000
A10: 6. | B10: Emberi Erőforrások Minisztériuma (felsőoktatásban tanulók) | C10: Bursa Hungarica ösztöndíj | D10: 500000
A11: 7. | B11: Humánszolgáltató Tiszaújváros | C11: jelzőrendszeres HSNY támogatása | D11: 232000
A12: 8. | B12: Rendelőintézet Tiszaújváros | C12: háziorvosi ügyelet és fogorvosi ellátás támogatása | D12: 3198615
A13: 9. | B13: Sajószögedi Polgármesteri Hivatal | C13: intézményfinanszírozás | D13: 56589547
A14: 10. | B14: Sajószögedi ÁMK-Család és Gyermekjóléti Szolgálat-Konyha | C14: intézményfinanszírozás | D14: 106719256
A15: 10.
A16: 11.
A17: 12.
A18: 13.
A19: 14.
A20: 15.
A21: 16.
A22: 17.
A23: 18.
A24: 19.
A25: 20.
A26: 21.
... A38: 33.
A39: Összesen: | D39: =SUM(D5:D38) -> 203819418
A40: Nem kötelező!

Sheet 5. sz tájékoztató t.
A1: B E V É T E L E K
A2: 1. sz. táblázat | E2: Forintban
A3: Sor- szám | B3: Bevételi jogcím | C3: =+CONCATENATE(LEFT(ÖSSZEFÜGGÉSEK!A5,4)+1,". évi") -> 2019. évi | D3: =+CONCATENATE(LEFT(ÖSSZEFÜGGÉSEK!A5,4)+2,". évi") -> 2020. évi | E3: =+CONCATENATE(LEFT(ÖSSZEFÜGGÉSEK!A5,4)+3,". évi") -> 2021. évi
A4: A | B4: B | C4: C | D4: D | E4: E
A5: 1. | B5: Önkormányzat működési támogatásai | C5: 102000000 | D5: 102000000 | E5: 102000000
A6: 2. | B6: Működési célú támogatások államháztartáson belülről | C6: 10000000 | D6: 10000000 | E6: 10000000
A7: 3. | B7: Felhalmozási célú támogatások államháztartáson belülről
A8: 4. | B8: Közhatalmi bevételek (4.1.+4.2.+4.3.+4.4.) | C8: =SUM(C9:C15) -> 169400000 | D8: =SUM(D9:D15) -> 169400000 | E8: =SUM(E9:E15) -> 169400000
A9: 4.1. | B9: Vagyoni tipusú adók | C9: 101000000 | D9: 101000000 | E9: 101000000
A10: 4.2. | B10: Idegenforgalmi adó
A11: 4.3. | B11: Iparűzési adó | C11: 60300000 | D11: 60300000 | E11: 60300000
A12: 4.4. | B12: Talajterhelési díj
A13: 4.5. | B13: Gépjárműadó | C13: 8000000 | D13: 8000000 | E13: 8000000
A14: 4.6. | B14: Egyéb áruhasználati és szolgáltatási adók
A15: 4.7. | B15: Egyéb közhatalmi bevételek | C15: 100000 | D15: 100000 | E15: 100000
A16: 5. | B16: Működési bevételek
A17: 6. | B17: Felhalmozási bevételek
A18: 7. | B18: Működési célú átvett pénzeszközök
A19: 8. | B19: Felhalmozási célú átvett pénzeszközök
A20: 9. | B20: KÖLTSÉGVETÉSI BEVÉTELEK ÖSSZESEN: (1+…+8) | C20: =+C5+C6+C7+C8+C16+C17+C18+C19 -> 281400000 | D20: =+D5+D6+D7+D8+D16+D17+D18+D19 -> 281400000 | E20: =+E5+E6+E7+E8+E16+E17+E18+E19 -> 281400000
A21: 10. | B21: FINANSZÍROZÁSI BEVÉTELEK ÖSSZESEN:
A22: 11. | B22: KÖLTSÉGVETÉSI ÉS FINANSZÍROZÁSI BEVÉTELEK ÖSSZESEN: (9+10) | C22: =+C20+C21 -> 281400000 | D22: =+D20+D21 -> 281400000 | E22: =+E20+E21 -> 281400000
A24: K I A D Á S O K
A25: 2. sz. táblázat | E25: =E2 -> Forintban
A26: Sor-szám | B26: Kiadási jogcímek | C26: =+C3 -> 2019. évi | D26: =+D3 -> 2020. évi | E26: =+E3 -> 2021. évi
A27: A | B27: B | C27: C | D27: D | E27: E
A28: 1. | B28: Működési költségvetés kiadásai | C28: 275400000 | D28: 275400000 | E28: 275400000
A29: 2. | B29: Felhalmozási költségvetés kiadásai (2.1.+2.2.+2.3.) | C29: 6000000 | D29: 6000000 | E29: 6000000
A30: 2.1. | B30: Beruházások
A31: 2.2. | B31: Felújítások
A32: 2.3. | B32: Egyéb felhalmozási kiadások
A33: 3. | B33: KÖLTSÉGVETÉSI KIADÁSOK ÖSSZESEN (1+2) | C33: =+C28+C29 -> 281400000 | D33: =+D28+D29 -> 281400000 | E33: =+E28+E29 -> 281400000
A34: 4. | B34: FINANSZÍROZÁSI KIADÁSOK ÖSSZESEN:
A35: 5. | B35: KIADÁSOK ÖSSZESEN: (3.+4.) | C35: =+C33+C34 -> 281400000 | D35: =+D33+D34 -> 281400000 | E35: =+E33+E34 -> 281400000

Sheet 6.sz.tájékoztató t.
B1: Az önkormányzat által adott közvetett támogatások (kedvezmények)
D2: ='[1]2. sz tájékoztató t'!I2 -> Forintban!
A3: Sor-szám | B3: Bevételi jogcím | C3: Kedvezmény nélkül elérhető bevétel | D3: Kedvezmények összege
A4: A | B4: B | C4: C | D4: D
A5: 1. | B5: Ellátottak térítési díjának méltányosságból történő elengedése | D5: 0
A6: 2. | B6: Ellátottak kártérítésének méltányosságból történő elengedése
A7: 3. | B7: Lakosság részére lakásépítéshez nyújtott kölcsön elengedése
A8: 4. | B8: Lakosság részére lakásfelújításhoz nyújtott kölcsön elengedése
A9: 5. | B9: Helyi adóból biztosított kedvezmény, mentesség összesen
A10: 6. | B10: -ebből: Építményadó
A11: 7. | B11: Telekadó
A12: 9. | B12: Magánszemélyek kommunális adója
A13: 10. | B13: Idegenforgalmi adó tartózkodás után
A14: 11. | B14: Idegenforgalmi adó épület után
A15: 12. | B15: Iparűzési adó állandó jelleggel végzett iparűzési tevékenység után
A16: 13. | B16: Gépjárműadóból biztosított kedvezmény, mentesség
A17: 14. | B17: Helyiségek hasznosítása utáni kedvezmény, mentesség
... A20: 17. | B20: Egyéb kölcsön elengedése
A21: 18.
A22: 19.
A23: 20.
A24: 21.
A25: 22.
A26: 23.
A27: 24.
A28: 25.
A29: 26.
A30: 27. | B30: Összesen: | C30: =+C5+C6+C7+C8+C9+C16+C17+C18+C19+C20+C21+C22+C23+C24+C25+C26+C27+C28+C29 -> 0 | D30: 0
