Workbook

Sheet ÖSSZEFÜGGÉSEK
A2: Költségvetési rendelet űrlapjainak összefüggései:
A5: 2016. évi előirányzat BEVÉTELEK
A7: 1.1. sz. melléklet Bevételek táblázat C. oszlop 9 sora = | B7: 2.1. számú melléklet C. oszlop 13. sor + 2.2. számú melléklet C. oszlop 12. sor
A8: 1.1. sz. melléklet Bevételek táblázat C. oszlop 17 sora = | B8: 2.1. számú melléklet C. oszlop 24. sor + 2.2. számú melléklet C. oszlop 25. sor
A9: 1.1. sz. melléklet Bevételek táblázat C. oszlop 18 sora = | B9: 2.1. számú melléklet C. oszlop 25. sor + 2.2. számú melléklet C. oszlop 26. sor
A12: =+CONCATENATE(LEFT(A5,4),". évi előirányzat KIADÁSOK") -> 2016. évi előirányzat KIADÁSOK
A14: 1.1. sz. melléklet Kiadások táblázat C. oszlop 3 sora = | B14: 2.1. számú melléklet E. oszlop 13. sor + 2.2. számú melléklet E. oszlop 12. sor
A15: 1.1. sz. melléklet Kiadások táblázat C. oszlop 10 sora = | B15: 2.1. számú melléklet E. oszlop 24. sor + 2.2. számú melléklet E. oszlop 25. sor
A16: 1.1. sz. melléklet Kiadások táblázat C. oszlop 11 sora = | B16: 2.1. számú melléklet E. oszlop 25. sor + 2.2. számú melléklet E. oszlop 26. sor

Sheet 1.1.sz.mell.
A1: B E V É T E L E K
A2: 1. sz. táblázat | C2: Ezer forintban
A3: Sor- szám | B3: Bevételi jogcím | C3: =+CONCATENATE(LEFT(ÖSSZEFÜGGÉSEK!A5,4),". évi előirányzat") -> 2016. évi előirányzat
B4: A | C4: B
A5: 1. | B5: Önkormányzat működési támogatásai (1.1.+…+.1.6.) | C5: =+C6+C7+C8+C9+C10+C11 -> 76533
A6: 1.1. | B6: Helyi önkormányzatok működésének általános támogatása | C6: 20129
A7: 1.2. | B7: Önkormányzatok egyes köznevelési feladatainak támogatása | C7: 24829
A8: 1.3. | B8: Önkormányzatok szociális és gyermekjóléti, étkeztetési feladatainak támogatása | C8: 29066
A9: 1.4. | B9: Önkormányzatok kulturális feladatainak támogatása | C9: 2509
A10: 1.5. | B10: Működési célú kvi támogatások és kiegészítő támogatások
A11: 1.6. | B11: Elszámolásból származó bevételek
A12: 2. | B12: Működési célú támogatások államháztartáson belülről (2.1.+…+.2.5.) | C12: =+C13+C14+C15+C16+C17 -> 16444
A13: 2.1. | B13: Elvonások és befizetések bevételei
A14: 2.2. | B14: Működési célú garancia- és kezességvállalásból megtérülések
A15: 2.3. | B15: Működési célú visszatérítendő támogatások, kölcsönök visszatérülése
A16: 2.4. | B16: Működési célú visszatérítendő támogatások, kölcsönök igénybevétele
A17: 2.5. | B17: Egyéb működési célú támogatások bevételei | C17: 16444
A18: 2.6. | B18: 2.5.-ből EU-s támogatás
A19: 3. | B19: Felhalmozási célú támogatások államháztartáson belülről (3.1.+…+3.5.) | C19: =+C20+C21+C22+C23+C24 -> 0
A20: 3.1. | B20: Felhalmozási célú önkormányzati támogatások
A21: 3.2. | B21: Felhalmozási célú garancia- és kezességvállalásból megtérülések
A22: 3.3. | B22: Felhalmozási célú visszatérítendő támogatások, kölcsönök visszatérülése
A23: 3.4. | B23: Felhalmozási célú visszatérítendő támogatások, kölcsönök igénybevétele
A24: 3.5. | B24: Egyéb felhalmozási célú támogatások bevételei
A25: 3.6. | B25: 3.5.-ből EU-s támogatás
A26: 4. | B26: Közhatalmi bevételek (4.1.+…+4.7.) | C26: =SUM(C27:C33) -> 124730
A27: 4.1. | B27: Építményadó és telekadó | C27: 32500
A28: 4.2. | B28: Idegenforgalmi adó
A29: 4.3. | B29: Iparűzési adó | C29: 85000
A30: 4.4. | B30: Talajterhelési díj | C30: 200
A31: 4.5. | B31: Gépjárműadó | C31: 7000
A32: 4.6. | B32: Egyéb áruhasználati és szolgáltatási adók
A33: 4.7. | B33: Egyéb közhatalmi bevételek | C33: 30
A34: 5. | B34: Működési bevételek (5.1.+…+ 5.11.) | C34: =SUM(C35:C45) -> 23217
A35: 5.1. | B35: Készletértékesítés ellenértéke
A36: 5.2. | B36: Szolgáltatások ellenértéke | C36: 1670
A37: 5.3. | B37: Közvetített szolgáltatások értéke | C37: 800
A38: 5.4. | B38: Tulajdonosi bevételek
A39: 5.5. | B39: Ellátási díjak | C39: 15896
A40: 5.6. | B40: Kiszámlázott általános forgalmi adó | C40: 4851
...

Sheet 1.2.sz.mell.
A1: B E V É T E L E K
A2: 1. sz. táblázat | C2: Ezer forintban
A3: Sor- szám | B3: Bevételi jogcím | C3: =+CONCATENATE(LEFT(ÖSSZEFÜGGÉSEK!A5,4),". évi előirányzat") -> 2016. évi előirányzat
B4: A | C4: B
A5: 1. | B5: Önkormányzat működési támogatásai (1.1.+…+.1.6.) | C5: =+C6+C7+C8+C9+C10+C11 -> 76533
A6: 1.1. | B6: Helyi önkormányzatok működésének általános támogatása | C6: 20129
A7: 1.2. | B7: Önkormányzatok egyes köznevelési feladatainak támogatása | C7: 24829
A8: 1.3. | B8: Önkormányzatok szociális és gyermekjóléti, étkeztetési feladatainak támogatása | C8: 29066
A9: 1.4. | B9: Önkormányzatok kulturális feladatainak támogatása | C9: 2509
A10: 1.5. | B10: Működési célú kvi támogatások és kiegészítő támogatások
A11: 1.6. | B11: Elszámolásból származó bevételek
A12: 2. | B12: Működési célú támogatások államháztartáson belülről (2.1.+…+.2.5.) | C12: =+C13+C14+C15+C16+C17 -> 16444
A13: 2.1. | B13: Elvonások és befizetések bevételei
A14: 2.2. | B14: Működési célú garancia- és kezességvállalásból megtérülések
A15: 2.3. | B15: Működési célú visszatérítendő támogatások, kölcsönök visszatérülése
A16: 2.4. | B16: Működési célú visszatérítendő támogatások, kölcsönök igénybevétele
A17: 2.5. | B17: Egyéb működési célú támogatások bevételei | C17: 16444
A18: 2.6. | B18: 2.5.-ből EU-s támogatás
A19: 3. | B19: Felhalmozási célú támogatások államháztartáson belülről (3.1.+…+3.5.) | C19: =+C20+C21+C22+C23+C24 -> 0
A20: 3.1. | B20: Felhalmozási célú önkormányzati támogatások
A21: 3.2. | B21: Felhalmozási célú garancia- és kezességvállalásból megtérülések
A22: 3.3. | B22: Felhalmozási célú visszatérítendő támogatások, kölcsönök visszatérülése
A23: 3.4. | B23: Felhalmozási célú visszatérítendő támogatások, kölcsönök igénybevétele
A24: 3.5. | B24: Egyéb felhalmozási célú támogatások bevételei
A25: 3.6. | B25: 3.5.-ből EU-s támogatás
A26: 4. | B26: Közhatalmi bevételek (4.1.+...+4.7.) | C26: =SUM(C27:C33) -> 124730
A27: 4.1. | B27: Építményadó és telekadó | C27: 32500
A28: 4.2. | B28: Idegenforgalmi adó
A29: 4.3. | B29: Iparűzési adó | C29: 85000
A30: 4.4. | B30: Talajterhelési díj | C30: 200
A31: 4.5. | B31: Gépjárműadó | C31: 7000
A32: 4.6. | B32: Egyéb áruhasználati és szolgáltatási adók
A33: 4.7. | B33: Egyéb közhatalmi bevételek | C33: 30
A34: 5. | B34: Működési bevételek (5.1.+…+ 5.11.) | C34: =SUM(C35:C45) -> 23217
A35: 5.1. | B35: Készletértékesítés ellenértéke
A36: 5.2. | B36: Szolgáltatások ellenértéke | C36: 1670
A37: 5.3. | B37: Közvetített szolgáltatások értéke | C37: 800
A38: 5.4. | B38: Tulajdonosi bevételek
A39: 5.5. | B39: Ellátási díjak | C39: 15896
A40: 5.6. | B40: Kiszámlázott általános forgalmi adó | C40: 4851
...

Sheet 1.3.sz.mell.
A1: B E V É T E L E K
A2: 1. sz. táblázat | C2: Ezer forintban
A3: Sor- szám | B3: Bevételi jogcím | C3: =+CONCATENATE(LEFT(ÖSSZEFÜGGÉSEK!A5,4),". évi előirányzat") -> 2016. évi előirányzat
B4: A | C4: B
A5: 1. | B5: Önkormányzat működési támogatásai (1.1.+…+.1.6.) | C5: =+C6+C7+C8+C9+C10+C11 -> 0
A6: 1.1. | B6: Helyi önkormányzatok működésének általános támogatása
A7: 1.2. | B7: Önkormányzatok egyes köznevelési feladatainak támogatása
A8: 1.3. | B8: Önkormányzatok szociális és gyermekjóléti, étkeztetési feladatainak támogatása
A9: 1.4. | B9: Önkormányzatok kulturális feladatainak támogatása
A10: 1.5. | B10: Működési célú kvi támogatások és kiegészítő támogatások
A11: 1.6. | B11: Elszámolásból származó bevételek
A12: 2. | B12: Működési célú támogatások államháztartáson belülről (2.1.+…+.2.5.) | C12: =+C13+C14+C15+C16+C17 -> 0
A13: 2.1. | B13: Elvonások és befizetések bevételei
A14: 2.2. | B14: Működési célú garancia- és kezességvállalásból megtérülések
A15: 2.3. | B15: Működési célú visszatérítendő támogatások, kölcsönök visszatérülése
A16: 2.4. | B16: Működési célú visszatérítendő támogatások, kölcsönök igénybevétele
A17: 2.5. | B17: Egyéb működési célú támogatások bevételei
A18: 2.6. | B18: 2.5.-ből EU-s támogatás
A19: 3. | B19: Felhalmozási célú támogatások államháztartáson belülről (3.1.+…+3.5.) | C19: =+C20+C21+C22+C23+C24 -> 0
A20: 3.1. | B20: Felhalmozási célú önkormányzati támogatások
A21: 3.2. | B21: Felhalmozási célú garancia- és kezességvállalásból megtérülések
A22: 3.3. | B22: Felhalmozási célú visszatérítendő támogatások, kölcsönök visszatérülése
A23: 3.4. | B23: Felhalmozási célú visszatérítendő támogatások, kölcsönök igénybevétele
A24: 3.5. | B24: Egyéb felhalmozási célú támogatások bevételei
A25: 3.6. | B25: 3.5.-ből EU-s támogatás
A26: 4. | B26: Közhatalmi bevételek (4.1.+…+4.7.) | C26: =SUM(C27:C33) -> 0
A27: 4.1. | B27: Építményadó
A28: 4.2. | B28: Idegenforgalmi adó
A29: 4.3. | B29: Iparűzési adó
A30: 4.4. | B30: Talajterhelési díj
A31: 4.5. | B31: Gépjárműadó
A32: 4.6. | B32: Egyéb áruhasználati és szolgáltatási adók
A33: 4.7. | B33: Egyéb közhatalmi bevételek
A34: 5. | B34: Működési bevételek (5.1.+…+ 5.11.) | C34: =SUM(C35:C45) -> 0
A35: 5.1. | B35: Készletértékesítés ellenértéke
A36: 5.2. | B36: Szolgáltatások ellenértéke
A37: 5.3. | B37: Közvetített szolgáltatások értéke
A38: 5.4. | B38: Tulajdonosi bevételek
A39: 5.5. | B39: Ellátási díjak
A40: 5.6. | B40: Kiszámlázott általános forgalmi adó
...

Sheet 1.4.sz.mell.
A1: B E V É T E L E K
A2: 1. sz. táblázat | C2: Ezer forintban
A3: Sor- szám | B3: Bevételi jogcím | C3: =+CONCATENATE(LEFT(ÖSSZEFÜGGÉSEK!A5,4),". évi előirányzat") -> 2016. évi előirányzat
B4: A | C4: B
A5: 1. | B5: Önkormányzat működési támogatásai (1.1.+…+.1.6.) | C5: =+C6+C7+C8+C9+C10+C11 -> 0
A6: 1.1. | B6: Helyi önkormányzatok működésének általános támogatása
A7: 1.2. | B7: Önkormányzatok egyes köznevelési feladatainak támogatása
A8: 1.3. | B8: Önkormányzatok szociális és gyermekjóléti, étkeztetési feladatainak támogatása
A9: 1.4. | B9: Önkormányzatok kulturális feladatainak támogatása
A10: 1.5. | B10: Működési célú kvi támogatások és kiegészítő támogatások
A11: 1.6. | B11: Elszámolásból származó bevételek
A12: 2. | B12: Működési célú támogatások államháztartáson belülről (2.1.+…+.2.5.) | C12: =+C13+C14+C15+C16+C17 -> 0
A13: 2.1. | B13: Elvonások és befizetések bevételei
A14: 2.2. | B14: Működési célú garancia- és kezességvállalásból megtérülések
A15: 2.3. | B15: Működési célú visszatérítendő támogatások, kölcsönök visszatérülése
A16: 2.4. | B16: Működési célú visszatérítendő támogatások, kölcsönök igénybevétele
A17: 2.5. | B17: Egyéb működési célú támogatások bevételei
A18: 2.6. | B18: 2.5.-ből EU-s támogatás
A19: 3. | B19: Felhalmozási célú támogatások államháztartáson belülről (3.1.+…+3.5.) | C19: =+C20+C21+C22+C23+C24 -> 0
A20: 3.1. | B20: Felhalmozási célú önkormányzati támogatások
A21: 3.2. | B21: Felhalmozási célú garancia- és kezességvállalásból megtérülések
A22: 3.3. | B22: Felhalmozási célú visszatérítendő támogatások, kölcsönök visszatérülése
A23: 3.4. | B23: Felhalmozási célú visszatérítendő támogatások, kölcsönök igénybevétele
A24: 3.5. | B24: Egyéb felhalmozási célú támogatások bevételei
A25: 3.6. | B25: 3.5.-ből EU-s támogatás
A26: 4. | B26: Közhatalmi bevételek (4.1.+...+4.7.) | C26: =SUM(C27:C33) -> 0
A27: 4.1. | B27: Építményadó
A28: 4.2. | B28: Idegenforgalmi adó
A29: 4.3. | B29: Iparűzési adó
A30: 4.4. | B30: Talajterhelési díj
A31: 4.5. | B31: Gépjárműadó
A32: 4.6. | B32: Egyéb áruhasználati és szolgáltatási adók
A33: 4.7. | B33: Egyéb közhatalmi bevételek
A34: 5. | B34: Működési bevételek (5.1.+…+ 5.11.) | C34: =SUM(C35:C45) -> 0
A35: 5.1. | B35: Készletértékesítés ellenértéke
A36: 5.2. | B36: Szolgáltatások ellenértéke
A37: 5.3. | B37: Közvetített szolgáltatások értéke
A38: 5.4. | B38: Tulajdonosi bevételek
A39: 5.5. | B39: Ellátási díjak
A40: 5.6. | B40: Kiszámlázott általános forgalmi adó
...

Sheet 2.1.sz.mell  
B1: I. Működési célú bevételek és kiadások mérlege (Önkormányzati szinten) | F1: =+CONCATENATE("2.1. melléklet a ………../",LEFT(ÖSSZEFÜGGÉSEK!A5,4),". (II.25.) önkormányzati rendelethez") -> 2.1. melléklet a ………../2016. (II.25.) önkormányzati rendelethez
E2: Ezer forintban !
A3: Sor- szám | B3: Bevételek | D3: Kiadások
B4: Megnevezés | C4: =+'1.1.sz.mell.'!C3 -> 2016. évi előirányzat | D4: Megnevezés | E4: =+C4 -> 2016. évi előirányzat
B5: A | C5: B | D5: C | E5: D
A6: 1. | B6: Önkormányzatok működési támogatásai | C6: 76533 | D6: Személyi juttatások | E6: 100875
A7: 2. | B7: Működési célú támogatások államháztartáson belülről | C7: 16444 | D7: Munkaadókat terhelő járulékok és szociális hozzájárulási adó | E7: 24775
A8: 3. | B8: 2.-ból EU-s támogatás | D8: Dologi kiadások | E8: 102862
A9: 4. | B9: Közhatalmi bevételek | C9: 124730 | D9: Ellátottak pénzbeli juttatásai | E9: 26149
A10: 5. | B10: Működési bevételek | C10: 23217 | D10: Egyéb működési célú kiadások | E10: 34962
A11: 6. | B11: Működési célú átvett pénzeszközök | D11: Tartalékok | E11: 5000
A12: 7. | B12: 6.-ból EU-s támogatás (közvetlen)
A13: 8.
A14: 9.
A15: 10.
A16: 11.
A17: 12.
A18: 13. | B18: Költségvetési bevételek összesen (1.+2.+4.+5.+6.+8.+…+12.) | C18: =SUM(C6:C17) -> 240924 | D18: Költségvetési kiadások összesen (1.+...+12.) | E18: =SUM(E6:E17) -> 294623
A19: 14. | B19: Hiány belső finanszírozásának bevételei (15.+…+18. ) | C19: =+C20+C21+C22+C23 -> 59599 | D19: Értékpapír vásárlása, visszavásárlása
A20: 15. | B20: Költségvetési maradvány igénybevétele | C20: 9923 | D20: Likviditási célú hitelek törlesztése
A21: 16. | B21: Vállalkozási maradvány igénybevétele | D21: Rövid lejáratú hitelek törlesztése
A22: 17. | B22: Betét visszavonásából származó bevétel | D22: Hosszú lejáratú hitelek törlesztése
A23: 18. | B23: Egyéb belső finanszírozási bevételek | C23: 49676 | D23: Kölcsön törlesztése
A24: 19. | B24: Hiány külső finanszírozásának bevételei (20.+…+21.) | C24: =+C25+C26 -> 0 | D24: Forgatási célú belföldi, külföldi értékpapírok vásárlása
A25: 20. | B25: Likviditási célú hitelek, kölcsönök felvétele | D25: Pénzeszközök lekötött betétként elhelyezése
A26: 21. | B26: Értékpapírok bevételei | D26: Adóssághoz nem kapcsolódó származékos ügyletek
A27: 22. | B27: Váltóbevételek | D27: Váltókiadások
A28: 23. | B28: Adóssághoz nem kapcsolódó származékos ügyletek bevételei
A29: 24. | B29: Működési célú finanszírozási bevételek összesen (14.+19.+22.+23.) | C29: =+C19+C24+C27+C28 -> 59599 | D29: Működési célú finanszírozási kiadások összesen (14.+...+23.) | E29: =SUM(E19:E28) -> 0
A30: 25. | B30: BEVÉTEL ÖSSZESEN (13.+24.) | C30: =+C18+C29 -> 300523 | D30: KIADÁSOK ÖSSZESEN (13.+24.) | E30: =+E18+E29 -> 294623
A31: 26. | B31: Költségvetési hiány: | C31: =IF(C18-E18<0,E18-C18,"-") -> 53699 | D31: Költségvetési többlet: | E31: =IF(C18-E18>0,C18-E18,"-") -> -
A32: 27. | B32: Tárgyévi hiány: | C32: =IF(C18+C29-E30<0,E30-(C18+C29),"-") -> - | D32: Tárgyévi többlet: | E32: =IF(C18+C29-E30>0,C18+C29-E30,"-") -> 5900

Sheet 2.2.sz.mell  
B1: II. Felhalmozási célú bevételek és kiadások mérlege (Önkormányzati szinten) | F1: =+CONCATENATE("2.2. melléklet a ………../",LEFT(ÖSSZEFÜGGÉSEK!A5,4),". (II.25.) önkormányzati rendelethez") -> 2.2. melléklet a ………../2016. (II.25.) önkormányzati rendelethez
E2: Ezer forintban !
A3: Sor- szám | B3: Bevételek | D3: Kiadások
B4: Megnevezés | C4: =+'2.1.sz.mell '!C4 -> 2016. évi előirányzat | D4: Megnevezés | E4: =+'2.1.sz.mell '!C4 -> 2016. évi előirányzat
B5: A | C5: B | D5: C | E5: D
A6: 1. | B6: Felhalmozási célú támogatások államháztartáson belülről | D6: Beruházások | E6: 9554
A7: 2. | B7: 1.-ből EU-s támogatás | D7: 1.-ből EU-s forrásból megvalósuló beruházás
A8: 3. | B8: Felhalmozási bevételek | C8: 15000 | D8: Felújítások | E8: 5446
A9: 4. | B9: Felhalmozási célú átvett pénzeszközök átvétele | D9: 3.-ból EU-s forrásból megvalósuló felújítás
A10: 5. | B10: 4.-ből EU-s támogatás (közvetlen) | D10: Egyéb felhalmozási kiadások | E10: 5900
A11: 6. | B11: Egyéb felhalmozási célú bevételek
A12: 7.
A13: 8.
A14: 9.
A15: 10.
A16: 11. | D16: Tartalékok
A17: 12. | B17: Költségvetési bevételek összesen: (1.+3.+4.+6.+…+11.) | C17: =+C6+C8+C9+C11+C12+C13+C14+C15+C16 -> 15000 | D17: Költségvetési kiadások összesen: (1.+3.+5.+...+11.) | E17: =+E6+E8+E10+E11+E12+E13+E14+E15+E16 -> 20900
A18: 13. | B18: Hiány belső finanszírozás bevételei ( 14+…+18) | C18: =+C19+C20+C21+C22+C23 -> 0 | D18: Értékpapír vásárlása, visszavásárlása
A19: 14. | B19: Költségvetési maradvány igénybevétele | D19: Hitelek törlesztése
A20: 15. | B20: Vállalkozási maradvány igénybevétele | D20: Rövid lejáratú hitelek törlesztése
A21: 16. | B21: Betét visszavonásából származó bevétel | D21: Hosszú lejáratú hitelek törlesztése
A22: 17. | B22: Értékpapír értékesítése | D22: Kölcsön törlesztése
A23: 18. | B23: Egyéb belső finanszírozási bevételek | D23: Befektetési célú belföldi, külföldi értékpapírok vásárlása
A24: 19. | B24: Hiány külső finanszírozásának bevételei (20+…+24 ) | C24: =+C25+C26+C27+C28+C29 -> 0 | D24: Betét elhelyezése
A25: 20. | B25: Hosszú lejáratú hitelek, kölcsönök felvétele | D25: Pénzügyi lízing kiadásai
A26: 21. | B26: Likviditási célú hitelek, kölcsönök felvétele
A27: 22. | B27: Rövid lejáratú hitelek, kölcsönök felvétele
A28: 23. | B28: Értékpapírok kibocsátása
A29: 24. | B29: Egyéb külső finanszírozási bevételek
A30: 25. | B30: Felhalmozási célú finanszírozási bevételek összesen (13.+19.) | C30: =+C18+C24 -> 0 | D30: Felhalmozási célú finanszírozási kiadások összesen (13.+...+24.) | E30: =SUM(E18:E29) -> 0
A31: 26. | B31: BEVÉTEL ÖSSZESEN (12+25) | C31: =+C17+C30 -> 15000 | D31: KIADÁSOK ÖSSZESEN (12+25) | E31: =+E17+E30 -> 20900
A32: 27. | B32: Költségvetési hiány: | C32: =IF(C17-E17<0,E17-C17,"-") -> 5900 | D32: Költségvetési többlet: | E32: =IF(C17-E17>0,C17-E17,"-") -> -
A33: 28. | B33: Tárgyévi hiány: | C33: =IF(C17+C30-E26<0,E26-(C17+C30),"-") -> - | D33: Tárgyévi többlet: | E33: =IF(C17+C30-E26>0,C17+C30-E26,"-") -> 15000

Sheet ELLENŐRZÉS-1.sz.2.a.sz.2.b.sz.
A1: Költségvetési rendelet űrlapjainak összefüggései: | E1: ELTÉRÉS
A4: =+ÖSSZEFÜGGÉSEK!A5 -> 2016. évi előirányzat BEVÉTELEK
A6: 1.1. sz. melléklet Bevételek táblázat C. oszlop 9 sora = | B6: =+'1.1.sz.mell.'!C62 -> 255924 | C6: 2.1. számú melléklet C. oszlop 13. sor + 2.2. számú melléklet C. oszlop 12. sor | D6: =+'2.1.sz.mell '!C18+'2.2.sz.mell '!C17 -> 255924 | E6: =+B6-D6 -> 0
A7: 1.1. sz. melléklet Bevételek táblázat C. oszlop 17 sora = | B7: =+'1.1.sz.mell.'!C86 -> 59599 | C7: 2.1. számú melléklet C. oszlop 24. sor + 2.2. számú melléklet C. oszlop 25. sor | D7: =+'2.1.sz.mell '!C29+'2.2.sz.mell '!C30 -> 59599 | E7: =+B7-D7 -> 0
A8: 1.1. sz. melléklet Bevételek táblázat C. oszlop 18 sora = | B8: =+'1.1.sz.mell.'!C87 -> 315523 | C8: 2.1. számú melléklet C. oszlop 25. sor + 2.2. számú melléklet C. oszlop 26. sor | D8: =+'2.1.sz.mell '!C30+'2.2.sz.mell '!C31 -> 315523 | E8: =+B8-D8 -> 0
A11: =+ÖSSZEFÜGGÉSEK!A12 -> 2016. évi előirányzat KIADÁSOK
A13: 1.1. sz. melléklet Kiadások táblázat C. oszlop 3 sora = | B13: =+'1.1.sz.mell.'!C128 -> 315523 | C13: 2.1. számú melléklet E. oszlop 13. sor + 2.2. számú melléklet E. oszlop 12. sor | D13: =+'2.1.sz.mell '!E18+'2.2.sz.mell '!E17 -> 315523 | E13: =+B13-D13 -> 0
A14: 1.1. sz. melléklet Kiadások táblázat C. oszlop 10 sora = | B14: =+'1.1.sz.mell.'!C153 -> 0 | C14: 2.1. számú melléklet E. oszlop 24. sor + 2.2. számú melléklet E. oszlop 25. sor | D14: =+'2.1.sz.mell '!E29+'2.2.sz.mell '!E30 -> 0 | E14: =+B14-D14 -> 0
A15: 1.1. sz. melléklet Kiadások táblázat C. oszlop 11 sora = | B15: =+'1.1.sz.mell.'!C154 -> 315523 | C15: 2.1. számú melléklet E. oszlop 25. sor + 2.2. számú melléklet E. oszlop 26. sor | D15: =+'2.1.sz.mell '!E30+'2.2.sz.mell '!E31 -> 315523 | E15: =+B15-D15 -> 0

Sheet 3.sz.mell.  
A1: Sajószöged Község Önkormányzata adósságot keletkeztető ügyletekből és kezességvállalásokból fennálló kötelezettségei
E2: Ezer forintban !
A3: Sor-szám | B3: MEGNEVEZÉS | C3: Évek | F3: Összesen (F=C+D+E)
C4: =+LEFT(ÖSSZEFÜGGÉSEK!A5,4)+1 -> 2017 | D4: =+C4+1 -> 2018 | E4: =+D4+1 -> 2019
B5: A | C5: B | D5: C | E5: D | F5: E
A6: 1. | B6: ------- | F6: =SUM(C6:E6) -> 0
A7: 2. | F7: =SUM(C7:E7) -> 0
A8: 3. | F8: =SUM(C8:E8) -> 0
A9: 4. | F9: =SUM(C9:E9) -> 0
A10: 5. | F10: =SUM(C10:E10) -> 0
A11: 6. | B11: ÖSSZES KÖTELEZETTSÉG | C11: =SUM(C6:C10) -> 0 | D11: =SUM(D6:D10) -> 0 | E11: =SUM(E6:E10) -> 0 | F11: =SUM(F6:F10) -> 0

Sheet 4.sz.mell.
A1: Sajószöged Község Önkormányzata saját bevételeinek részletezése az adósságot keletkeztető ügyletből származó tárgyévi fizetési kötelezettség megállapításához
C2: Ezer forintban !
A3: Sor-szám | B3: Bevételi jogcímek | C3: =+'1.1.sz.mell.'!C3 -> 2016. évi előirányzat
B4: A | C4: B
A5: 1. | B5: Helyi adóból és a települési adóból származó bevétel | C5: 117500
A6: 2. | B6: Az önkormányzati vagyon és az önkormányzatot megillető vagyoni értékű jog értékesítéséből és hasznosításából származó bevétel
A7: 3. | B7: Osztalék, koncessziós díj és hozambevétel
A8: 4. | B8: Tárgyi eszköz és az immateriális jószág, részvény, részesedés, vállalat értékesítéséből vagy privatizációból származó bevétel | C8: 15000
A9: 5. | B9: Bírság-, pótlék- és díjbevétel
A10: 6. | B10: Kezesség-, illetve garanciavállalással kapcsolatos megtérülés
A11: SAJÁT BEVÉTELEK ÖSSZESEN* | C11: =SUM(C5:C10) -> 132500
A12: *Az adósságot keletkeztető ügyletekhez történő hozzájárulás részletes szabályairól szóló 353/2011. (XII.31.) Korm. Rendelet 2.§ (1) bekezdése alapján.

Sheet 5.sz.mell.
A1: Sajószöged Község Önkormányzata 2016. évi adósságot keletkeztető fejlesztési céljai
C2: Ezer forintban !
A3: Sor-szám | B3: Fejlesztési cél leírása | C3: Fejlesztés várható kiadása
B4: A | C4: B
A5: 1. | B5: ---------------------------------
A6: 2.
A7: 3.
A8: 4. | B8: ADÓSSÁGOT KELETKEZTETŐ ÜGYLETEK VÁRHATÓ EGYÜTTES ÖSSZEGE | C8: =SUM(C5:C7) -> 0

Sheet 6.sz.mell.
A1: Beruházási (felhalmozási) kiadások előirányzata beruházásonként
F2: Ezer forintban !
A3: Beruházás megnevezése | B3: Teljes költség | C3: Kivitelezés kezdési és befejezési éve | D3: =+CONCATENATE("Felhasználás ",LEFT(ÖSSZEFÜGGÉSEK!A5,4)-1,". XII. 31-ig") -> Felhasználás 2015. XII. 31-ig | E3: =+'1.1.sz.mell.'!C3 -> 2016. évi előirányzat | F3: =+CONCATENATE(LEFT(ÖSSZEFÜGGÉSEK!A5,4),". utáni szükséglet") -> 2016. utáni szükséglet
A4: A | B4: B | C4: C | D4: D | E4: E | F4: F=(B-D-E)
A5: Térfigyelő kamerarendszer beüzemelése | B5: 3665 | C5: 2014-2015 | D5: 2636 | E5: 1029 | F5: =B5-D5-E5 -> 0
A6: Szabadidőpark villamos hálózat fejlesztése | B6: 1000 | C6: 2015-2015 | E6: 1000 | F6: =B6-D6-E6 -> 0
A7: Művelődési Háznál elektromos csatlakozó szekrény kiép. | B7: 560 | C7: 2015-2015. | E7: 560 | F7: =B7-D7-E7 -> 0
A8: Járdaprogram | B8: 2000 | C8: 2015-2015 | E8: 2000 | F8: =B8-D8-E8 -> 0
F9: =B9-D9-E9 -> 0
F10: =B10-D10-E10 -> 0
F11: =B11-D11-E11 -> 0
F12: =B12-D12-E12 -> 0
F13: =B13-D13-E13 -> 0
F14: =B14-D14-E14 -> 0
F15: =B15-D15-E15 -> 0
F16: =B16-D16-E16 -> 0
F17: =B17-D17-E17 -> 0
F18: =B18-D18-E18 -> 0
F19: =B19-D19-E19 -> 0
F20: =B20-D20-E20 -> 0
... F22: =B22-D22-E22 -> 0
A23: ÖSSZESEN: | B23: =SUM(B5:B22) -> 7225 | D23: =SUM(D5:D22) -> 2636 | E23: =SUM(E5:E22) -> 4589 | F23: =SUM(F5:F22) -> 0

Sheet 7.sz.mell.
A1: Felújítási kiadások előirányzata felújításonként
F2: Ezer forintban !
A3: Felújítás megnevezése | B3: Teljes költség | C3: Kivitelezés kezdési és befejezési éve | D3: =+'6.sz.mell.'!D3 -> Felhasználás 2015. XII. 31-ig | E3: =+'6.sz.mell.'!E3 -> 2016. évi előirányzat | F3: =+CONCATENATE(LEFT(ÖSSZEFÜGGÉSEK!A5,4),". utáni szükséglet ",CHAR(10),"") -> 2016. utáni szükséglet
A4: A | B4: B | C4: C | D4: D | E4: E | F4: F=(B-D-E)
A5: Belterületi utak felújítása | B5: 1346 | C5: 2016-2016 | E5: 1346 | F5: =B5-D5-E5 -> 0
A6: Iskolai tetőtéri ablakok cseréje | B6: 1000 | C6: 2016-2016 | E6: 1000 | F6: =B6-D6-E6 -> 0
A7: Teraszkorlát felújítás (PH) | B7: 400 | C7: 2016-2016 | E7: 400 | F7: =B7-D7-E7 -> 0
A8: Tűzlétra és kémény átépítés óvodaépület | B8: 700 | C8: 2016-2019 | E8: 700 | F8: =B8-D8-E8 -> 0
A9: Művelődési Ház fűtéskorszerűsítés és kazáncsere | B9: 2000 | C9: 2016-2016 | E9: 2000 | F9: =B9-D9-E9 -> 0
F10: =B10-D10-E10 -> 0
F11: =B11-D11-E11 -> 0
F12: =B12-D12-E12 -> 0
F13: =B13-D13-E13 -> 0
F14: =B14-D14-E14 -> 0
F15: =B15-D15-E15 -> 0
F16: =B16-D16-E16 -> 0
F17: =B17-D17-E17 -> 0
F18: =B18-D18-E18 -> 0
F19: =B19-D19-E19 -> 0
F20: =B20-D20-E20 -> 0
F21: =B21-D21-E21 -> 0
... F23: =B23-D23-E23 -> 0
A24: ÖSSZESEN: | B24: =SUM(B5:B23) -> 5446 | D24: =SUM(D5:D23) -> 0 | E24: =SUM(E5:E23) -> 5446 | F24: =SUM(F5:F23) -> 0

Sheet 8. sz. mell. 
A2: EU-s projekt neve, azonosítója:
D3: Ezer forintban!
A4: Források | B4: =CONCATENATE((LEFT(ÖSSZEFÜGGÉSEK!A5,4)),".") -> 2016. | C4: =CONCATENATE((LEFT(ÖSSZEFÜGGÉSEK!A5,4))+1,".") -> 2017. | D4: =CONCATENATE((LEFT(ÖSSZEFÜGGÉSEK!A5,4))+1,". után") -> 2017. után | E4: Összesen
A5: Saját erő | B5: 0 | E5: =SUM(B5:D5) -> 0
A6: - saját erőből központi támogatás | E6: =SUM(B6:D6) -> 0
A7: EU-s forrás | E7: =SUM(B7:D7) -> 0
A8: Társfinanszírozás | E8: =SUM(B8:D8) -> 0
A9: Hitel | E9: =SUM(B9:D9) -> 0
A10: Egyéb forrás | E10: =SUM(B10:D10) -> 0
E11: =SUM(B11:D11) -> 0
A12: Források összesen: | B12: =B5+SUM(B7:B11) -> 0 | C12: =C5+SUM(C7:C11) -> 0 | D12: =D5+SUM(D7:D11) -> 0 | E12: =E5+SUM(E7:E11) -> 0
A14: Kiadások, költségek | B14: =+B4 -> 2016. | C14: =+C4 -> 2017. | D14: =+D4 -> 2017. után | E14: Összesen
A15: Személyi jellegű | B15: 0 | E15: =SUM(B15:D15) -> 0
A16: Beruházások, beszerzések | E16: =SUM(B16:D16) -> 0
A17: Szolgáltatások igénybe vétele | E17: =SUM(B17:D17) -> 0
A18: Adminisztratív költségek | E18: =SUM(B18:D18) -> 0
E19: =SUM(B19:D19) -> 0
E20: =SUM(B20:D20) -> 0
E21: =SUM(B21:D21) -> 0
A22: Összesen: | B22: =SUM(B15:B21) -> 0 | C22: =SUM(C15:C21) -> 0 | D22: =SUM(D15:D21) -> 0 | E22: =SUM(E15:E21) -> 0
A25: EU-s projekt neve, azonosítója:
D26: Ezer forintban!
A27: Források | B27: =+B14 -> 2016. | C27: =+C14 -> 2017. | D27: =+D14 -> 2017. után | E27: Összesen
A28: Saját erő | E28: =SUM(B28:D28) -> 0
A29: - saját erőből központi támogatás | E29: =SUM(B29:D29) -> 0
A30: EU-s forrás | E30: =SUM(B30:D30) -> 0
A31: Társfinanszírozás | E31: =SUM(B31:D31) -> 0
A32: Hitel | E32: =SUM(B32:D32) -> 0
A33: Egyéb forrás | E33: =SUM(B33:D33) -> 0
E34: =SUM(B34:D34) -> 0
A35: Források összesen: | B35: =B28+SUM(B30:B34) -> 0 | C35: =C28+SUM(C30:C34) -> 0 | D35: =D28+SUM(D30:D34) -> 0 | E35: =E28+SUM(E30:E34) -> 0
A37: Kiadások, költségek | B37: =+B27 -> 2016. | C37: =+C27 -> 2017. | D37: =+D27 -> 2017. után | E37: Összesen
A38: Személyi jellegű | E38: =SUM(B38:D38) -> 0
A39: Beruházások, beszerzések | E39: =SUM(B39:D39) -> 0
A40: Szolgáltatások igénybe vétele | E40: =SUM(B40:D40) -> 0
A41: Adminisztratív költségek | E41: =SUM(B41:D41) -> 0
E42: =SUM(B42:D42) -> 0
E43: =SUM(B43:D43) -> 0
E44: =SUM(B44:D44) -> 0
A45: Összesen: | B45: =SUM(B38:B44) -> 0 | C45: =SUM(C38:C44) -> 0 | D45: =SUM(D38:D44) -> 0 | E45: =SUM(E38:E44) -> 0
...

Sheet 9.1. sz. mell
C1: =+CONCATENATE("9.1. melléklet a ……/",LEFT(ÖSSZEFÜGGÉSEK!A5,4),". (II.25.) önkormányzati rendelethez") -> 9.1. melléklet a ……/2016. (II.25.) önkormányzati rendelethez
A2: Megnevezés | B2: Önkormányzat | C2: 01
A3: Feladat megnevezése | B3: Összes bevétel, kiadás | C3: 01
C4: Ezer forintban !
A5: Száma | B5: Kiemelt előirányzat, előirányzat megnevezése | C5: Előirányzat
B6: A | C6: B
B7: Bevételek
A8: 1. | B8: Önkormányzat működési támogatásai (1.1.+…+.1.6.) | C8: =+C9+C10+C11+C12+C13+C14 -> 76533
A9: 1.1. | B9: Helyi önkormányzatok működésének általános támogatása | C9: 20129
A10: 1.2. | B10: Önkormányzatok egyes köznevelési feladatainak támogatása | C10: 24829
A11: 1.3. | B11: Önkormányzatok szociális és gyermekjóléti, étkeztetési feladatainak támogatása | C11: 29066
A12: 1.4. | B12: Önkormányzatok kulturális feladatainak támogatása | C12: 2509
A13: 1.5. | B13: Működési célú kvi támogatások és kiegészítő támogatások
A14: 1.6. | B14: Elszámolásból származó bevételek
A15: 2. | B15: Működési célú támogatások államháztartáson belülről (2.1.+…+.2.5.) | C15: =+C16+C17+C18+C19+C20 -> 16444
A16: 2.1. | B16: Elvonások és befizetések bevételei
A17: 2.2. | B17: Működési célú garancia- és kezességvállalásból megtérülések
A18: 2.3. | B18: Működési célú visszatérítendő támogatások, kölcsönök visszatérülése
A19: 2.4. | B19: Működési célú visszatérítendő támogatások, kölcsönök igénybevétele
A20: 2.5. | B20: Egyéb működési célú támogatások bevételei | C20: 16444
A21: 2.6. | B21: 2.5.-ből EU-s támogatás
A22: 3. | B22: Felhalmozási célú támogatások államháztartáson belülről (3.1.+…+3.5.) | C22: =+C23+C24+C25+C26+C27 -> 0
A23: 3.1. | B23: Felhalmozási célú önkormányzati támogatások
A24: 3.2. | B24: Felhalmozási célú garancia- és kezességvállalásból megtérülések
A25: 3.3. | B25: Felhalmozási célú visszatérítendő támogatások, kölcsönök visszatérülése
A26: 3.4. | B26: Felhalmozási célú visszatérítendő támogatások, kölcsönök igénybevétele
A27: 3.5. | B27: Egyéb felhalmozási célú támogatások bevételei
A28: 3.6. | B28: 3.5.-ből EU-s támogatás
A29: 4. | B29: Közhatalmi bevételek (4.1.+...+4.7.) | C29: =C30+C31+C32+C33+C34+C35+C36 -> 124700
A30: 4.1. | B30: Vagyoni típusú adók | C30: 32500
A31: 4.2. | B31: Idegenforgalmi adó
A32: 4.3. | B32: Iparűzési adó | C32: 85000
A33: 4.4. | B33: Talajterhelési díj | C33: 200
A34: 4.5. | B34: Gépjárműadó | C34: 7000
A35: 4.6. | B35: Egyéb áruhasználati és szolgáltatási adók
A36: 4.7. | B36: Egyéb közhatalmi bevételek
A37: 5. | B37: Működési bevételek (5.1.+…+ 5.11.) | C37: =SUM(C38:C48) -> 23117
A38: 5.1. | B38: Készletértékesítés ellenértéke
A39: 5.2. | B39: Szolgáltatások ellenértéke | C39: 1570
A40: 5.3. | B40: Közvetített szolgáltatások értéke | C40: 800
...

Sheet 9.1.1. sz. mell 
C1: =+CONCATENATE("9.1.1. melléklet a ……/",LEFT(ÖSSZEFÜGGÉSEK!A5,4),". (II.25.) önkormányzati rendelethez") -> 9.1.1. melléklet a ……/2016. (II.25.) önkormányzati rendelethez
A2: Megnevezés | B2: Önkormányzat | C2: 01
A3: Feladat megnevezése | B3: Kötelező feladatok bevételei, kiadása | C3: 02
C4: Ezer forintban !
A5: Száma | B5: Kiemelt előirányzat, előirányzat megnevezése | C5: Előirányzat
B6: A | C6: B
B7: Bevételek
A8: 1. | B8: Önkormányzat működési támogatásai (1.1.+…+.1.6.) | C8: =+C9+C10+C11+C12+C13+C14 -> 76533
A9: 1.1. | B9: Helyi önkormányzatok működésének általános támogatása | C9: 20129
A10: 1.2. | B10: Önkormányzatok egyes köznevelési feladatainak támogatása | C10: 24829
A11: 1.3. | B11: Önkormányzatok szociális és gyermekjóléti, étkeztetési feladatainak támogatása | C11: 29066
A12: 1.4. | B12: Önkormányzatok kulturális feladatainak támogatása | C12: 2509
A13: 1.5. | B13: Működési célú kvi támogatások és kiegészítő támogatások
A14: 1.6. | B14: Elszámolásból származó bevételek
A15: 2. | B15: Működési célú támogatások államháztartáson belülről (2.1.+…+.2.5.) | C15: =+C16+C17+C18+C19+C20 -> 16444
A16: 2.1. | B16: Elvonások és befizetések bevételei
A17: 2.2. | B17: Működési célú garancia- és kezességvállalásból megtérülések
A18: 2.3. | B18: Működési célú visszatérítendő támogatások, kölcsönök visszatérülése
A19: 2.4. | B19: Működési célú visszatérítendő támogatások, kölcsönök igénybevétele
A20: 2.5. | B20: Egyéb működési célú támogatások bevételei | C20: 16444
A21: 2.6. | B21: 2.5.-ből EU-s támogatás
A22: 3. | B22: Felhalmozási célú támogatások államháztartáson belülről (3.1.+…+3.5.) | C22: =+C23+C24+C25+C26+C27 -> 0
A23: 3.1. | B23: Felhalmozási célú önkormányzati támogatások
A24: 3.2. | B24: Felhalmozási célú garancia- és kezességvállalásból megtérülések
A25: 3.3. | B25: Felhalmozási célú visszatérítendő támogatások, kölcsönök visszatérülése
A26: 3.4. | B26: Felhalmozási célú visszatérítendő támogatások, kölcsönök igénybevétele
A27: 3.5. | B27: Egyéb felhalmozási célú támogatások bevételei
A28: 3.6. | B28: 3.5.-ből EU-s támogatás
A29: 4. | B29: Közhatalmi bevételek (4.1.+...+4.7.) | C29: =SUM(C30:C36) -> 124700
A30: 4.1. | B30: Vagyoni típusú adók | C30: 32500
A31: 4.2. | B31: Idegenforgalmi adó
A32: 4.3. | B32: Iparűzési adó | C32: 85000
A33: 4.4. | B33: Talajterhelési díj | C33: 200
A34: 4.5. | B34: Gépjárműadó | C34: 7000
A35: 4.6. | B35: Egyéb áruhasználati és szolgáltatási adók
A36: 4.7. | B36: Egyéb közhatalmi bevételek
A37: 5. | B37: Működési bevételek (5.1.+…+ 5.11.) | C37: =SUM(C38:C48) -> 23117
A38: 5.1. | B38: Készletértékesítés ellenértéke
A39: 5.2. | B39: Szolgáltatások ellenértéke | C39: 1570
A40: 5.3. | B40: Közvetített szolgáltatások értéke | C40: 800
...

Sheet 9.1.2. sz. mell 
C1: =+CONCATENATE("9.1.2. melléklet a ……/",LEFT(ÖSSZEFÜGGÉSEK!A5,4),". (II.25.) önkormányzati rendelethez") -> 9.1.2. melléklet a ……/2016. (II.25.) önkormányzati rendelethez
A2: Megnevezés | B2: Önkormányzat | C2: 01
A3: Feladat megnevezése | B3: Önként vállalt feladatok bevételei, kiadása | C3: 03
C4: Ezer forintban !
A5: Száma | B5: Kiemelt előirányzat, előirányzat megnevezése | C5: Előirányzat
B6: A | C6: B
B7: Bevételek
A8: 1. | B8: Önkormányzat működési támogatásai (1.1.+…+.1.6.) | C8: =+C9+C10+C11+C12+C13+C14 -> 0
A9: 1.1. | B9: Helyi önkormányzatok működésének általános támogatása
A10: 1.2. | B10: Önkormányzatok egyes köznevelési feladatainak támogatása
A11: 1.3. | B11: Önkormányzatok szociális és gyermekjóléti, étkeztetési feladatainak támogatása
A12: 1.4. | B12: Önkormányzatok kulturális feladatainak támogatása
A13: 1.5. | B13: Működési célú kvi támogatások és kiegészítő támogatások
A14: 1.6. | B14: Elszámolásból származó bevételek
A15: 2. | B15: Működési célú támogatások államháztartáson belülről (2.1.+…+.2.5.) | C15: =+C16+C17+C18+C19+C20 -> 0
A16: 2.1. | B16: Elvonások és befizetések bevételei
A17: 2.2. | B17: Működési célú garancia- és kezességvállalásból megtérülések
A18: 2.3. | B18: Működési célú visszatérítendő támogatások, kölcsönök visszatérülése
A19: 2.4. | B19: Működési célú visszatérítendő támogatások, kölcsönök igénybevétele
A20: 2.5. | B20: Egyéb működési célú támogatások bevételei
A21: 2.6. | B21: 2.5.-ből EU-s támogatás
A22: 3. | B22: Felhalmozási célú támogatások államháztartáson belülről (3.1.+…+3.5.) | C22: =+C23+C24+C25+C26+C27 -> 0
A23: 3.1. | B23: Felhalmozási célú önkormányzati támogatások
A24: 3.2. | B24: Felhalmozási célú garancia- és kezességvállalásból megtérülések
A25: 3.3. | B25: Felhalmozási célú visszatérítendő támogatások, kölcsönök visszatérülése
A26: 3.4. | B26: Felhalmozási célú visszatérítendő támogatások, kölcsönök igénybevétele
A27: 3.5. | B27: Egyéb felhalmozási célú támogatások bevételei
A28: 3.6. | B28: 3.5.-ből EU-s támogatás
A29: 4. | B29: Közhatalmi bevételek (4.1.+4.2.+4.3.+4.4.) | C29: =SUM(C30:C36) -> 0
A30: 4.1. | B30: Építményadó
A31: 4.2. | B31: Idegenforgalmi adó
A32: 4.3. | B32: Iparűzési adó
A33: 4.4. | B33: Talajterhelési díj
A34: 4.5. | B34: Gépjárműadó
A35: 4.6. | B35: Egyéb áruhasználati és szolgáltatási adók
A36: 4.7. | B36: Egyéb közhatalmi bevételek
A37: 5. | B37: Működési bevételek (5.1.+…+ 5.11.) | C37: =SUM(C38:C48) -> 0
A38: 5.1. | B38: Készletértékesítés ellenértéke
A39: 5.2. | B39: Szolgáltatások ellenértéke
A40: 5.3. | B40: Közvetített szolgáltatások értéke
...

Sheet 9.1.3. sz. mell
C1: =+CONCATENATE("9.1.3. melléklet a ……/",LEFT(ÖSSZEFÜGGÉSEK!A5,4),". (II.25.) önkormányzati rendelethez") -> 9.1.3. melléklet a ……/2016. (II.25.) önkormányzati rendelethez
A2: Megnevezés | B2: Önkormányzat | C2: 01
A3: Feladat megnevezése | B3: Államigazgatási feladatok bevételei, kiadása | C3: 04
C4: Ezer forintban !
A5: Száma | B5: Kiemelt előirányzat, előirányzat megnevezése | C5: Előirányzat
B6: A | C6: B
B7: Bevételek
A8: 1. | B8: Önkormányzat működési támogatásai (1.1.+…+.1.6.) | C8: =+C9+C10+C11+C12+C13+C14 -> 0
A9: 1.1. | B9: Helyi önkormányzatok működésének általános támogatása
A10: 1.2. | B10: Önkormányzatok egyes köznevelési feladatainak támogatása
A11: 1.3. | B11: Önkormányzatok szociális és gyermekjóléti, étkeztetési feladatainak támogatása
A12: 1.4. | B12: Önkormányzatok kulturális feladatainak támogatása
A13: 1.5. | B13: Működési célú kvi támogatások és kiegészítő támogatások
A14: 1.6. | B14: Elszámolásból származó bevételek
A15: 2. | B15: Működési célú támogatások államháztartáson belülről (2.1.+…+.2.5.) | C15: =+C16+C17+C18+C19+C20 -> 0
A16: 2.1. | B16: Elvonások és befizetések bevételei
A17: 2.2. | B17: Működési célú garancia- és kezességvállalásból megtérülések
A18: 2.3. | B18: Működési célú visszatérítendő támogatások, kölcsönök visszatérülése
A19: 2.4. | B19: Működési célú visszatérítendő támogatások, kölcsönök igénybevétele
A20: 2.5. | B20: Egyéb működési célú támogatások bevételei
A21: 2.6. | B21: 2.5.-ből EU-s támogatás
A22: 3. | B22: Felhalmozási célú támogatások államháztartáson belülről (3.1.+…+3.5.) | C22: =+C23+C24+C25+C26+C27 -> 0
A23: 3.1. | B23: Felhalmozási célú önkormányzati támogatások
A24: 3.2. | B24: Felhalmozási célú garancia- és kezességvállalásból megtérülések
A25: 3.3. | B25: Felhalmozási célú visszatérítendő támogatások, kölcsönök visszatérülése
A26: 3.4. | B26: Felhalmozási célú visszatérítendő támogatások, kölcsönök igénybevétele
A27: 3.5. | B27: Egyéb felhalmozási célú támogatások bevételei
A28: 3.6. | B28: 3.5.-ből EU-s támogatás
A29: 4. | B29: Közhatalmi bevételek (4.1.+4.2.+4.3.+4.4.) | C29: =SUM(C30:C36) -> 0
A30: 4.1. | B30: Építményadó
A31: 4.2. | B31: Idegenforgalmi adó
A32: 4.3. | B32: Iparűzési adó
A33: 4.4. | B33: Talajterhelési díj
A34: 4.5. | B34: Gépjárműadó
A35: 4.6. | B35: Egyéb áruhasználati és szolgáltatási adók
A36: 4.7. | B36: Egyéb közhatalmi bevételek
A37: 5. | B37: Működési bevételek (5.1.+…+ 5.11.) | C37: =SUM(C38:C48) -> 0
A38: 5.1. | B38: Készletértékesítés ellenértéke
A39: 5.2. | B39: Szolgáltatások ellenértéke
A40: 5.3. | B40: Közvetített szolgáltatások értéke
...

Sheet 9.2. sz. mell
C1: =+CONCATENATE("9.2. melléklet a ……/",LEFT(ÖSSZEFÜGGÉSEK!A5,4),". (II.25.) önkormányzati rendelethez") -> 9.2. melléklet a ……/2016. (II.25.) önkormányzati rendelethez
A2: Költségvetési szerv megnevezése | B2: Sajószögedi Polgármesteri Hivatal | C2: 02
A3: Feladat megnevezése | B3: Összes bevétel, kiadás
C4: Ezer forintban !
A5: Száma | B5: Kiemelt előirányzat, előirányzat megnevezése | C5: Előirányzat
B6: A | C6: B
B7: Bevételek
A8: 1. | B8: Működési bevételek (1.1.+…+1.11.) | C8: =SUM(C9:C19) -> 0
A9: 1.1. | B9: Készletértékesítés ellenértéke
A10: 1.2. | B10: Szolgáltatások ellenértéke
A11: 1.3. | B11: Közvetített szolgáltatások értéke
A12: 1.4. | B12: Tulajdonosi bevételek
A13: 1.5. | B13: Ellátási díjak
A14: 1.6. | B14: Kiszámlázott általános forgalmi adó
A15: 1.7. | B15: Általános forgalmi adó visszatérülése
A16: 1.8. | B16: Kamatbevételek
A17: 1.9. | B17: Egyéb pénzügyi műveletek bevételei
A18: 1.10. | B18: Biztosító által fizetett kártérítés
A19: 1.11. | B19: Egyéb működési bevételek
A20: 2. | B20: Működési célú támogatások államháztartáson belülről (2.1.+…+2.3.) | C20: =SUM(C21:C23) -> 0
A21: 2.1. | B21: Elvonások és befizetések bevételei
A22: 2.2. | B22: Visszatérítendő támogatások, kölcsönök visszatérülése ÁH-n belülről
A23: 2.3. | B23: Egyéb működési célú támogatások bevételei államháztartáson belülről
A24: 2.4. | B24: 2.3-ból EU támogatás
A25: 3. | B25: Közhatalmi bevételek | C25: 30
A26: 4. | B26: Felhalmozási célú támogatások államháztartáson belülről (4.1.+…+4.3.) | C26: =+C27+C28+C29 -> 0
A27: 4.1. | B27: Felhalmozási célú önkormányzati támogatások
A28: 4.2. | B28: Visszatérítendő támogatások, kölcsönök visszatérülése ÁH-n belülről
A29: 4.3. | B29: Egyéb felhalmozási célú támogatások bevételei államháztartáson belülről
A30: 4.4. | B30: 4.3.-ból EU-s támogatás
A31: 5. | B31: Felhalmozási bevételek (5.1.+…+5.3.) | C31: =+C32+C33+C34 -> 0
A32: 5.1. | B32: Immateriális javak értékesítése
A33: 5.2. | B33: Ingatlanok értékesítése
A34: 5.3. | B34: Egyéb tárgyi eszközök értékesítése
A35: 6. | B35: Működési célú átvett pénzeszközök
A36: 7. | B36: Felhalmozási célú átvett pénzeszközök
A37: 8. | B37: Költségvetési bevételek összesen (1.+…+7.) | C37: =+C8+C20+C25+C26+C31+C35+C36 -> 30
A38: 9. | B38: Finanszírozási bevételek (9.1.+…+9.3.) | C38: =+C39+C40+C41 -> 48851
A39: 9.1. | B39: Költségvetési maradvány igénybevétele | C39: 1574
A40: 9.2. | B40: Vállalkozási maradvány igénybevétele
...

Sheet 9.2.1. sz. mell
C1: =+CONCATENATE("9.2.1. melléklet a ……/",LEFT(ÖSSZEFÜGGÉSEK!A5,4),". (II.25.) önkormányzati rendelethez") -> 9.2.1. melléklet a ……/2016. (II.25.) önkormányzati rendelethez
A2: Költségvetési szerv megnevezése | B2: Sajószögedi Polgármesteri Hivatal | C2: 02
A3: Feladat megnevezése | B3: Kötelező feladatok bevételei, kiadásai | C3: 01
C4: Ezer forintban !
A5: Száma | B5: Kiemelt előirányzat, előirányzat megnevezése | C5: Előirányzat
B6: A | C6: B
B7: Bevételek
A8: 1. | B8: Működési bevételek (1.1.+…+1.11.) | C8: =SUM(C9:C19) -> 0
A9: 1.1. | B9: Készletértékesítés ellenértéke
A10: 1.2. | B10: Szolgáltatások ellenértéke
A11: 1.3. | B11: Közvetített szolgáltatások értéke
A12: 1.4. | B12: Tulajdonosi bevételek
A13: 1.5. | B13: Ellátási díjak
A14: 1.6. | B14: Kiszámlázott általános forgalmi adó
A15: 1.7. | B15: Általános forgalmi adó visszatérülése
A16: 1.8. | B16: Kamatbevételek
A17: 1.9. | B17: Egyéb pénzügyi műveletek bevételei
A18: 1.10. | B18: Biztosító által fizetett kártérítés
A19: 1.11. | B19: Egyéb működési bevételek
A20: 2. | B20: Működési célú támogatások államháztartáson belülről (2.1.+…+2.3.) | C20: =SUM(C21:C23) -> 0
A21: 2.1. | B21: Elvonások és befizetések bevételei
A22: 2.2. | B22: Visszatérítendő támogatások, kölcsönök visszatérülése ÁH-n belülről
A23: 2.3. | B23: Egyéb működési célú támogatások bevételei államháztartáson belülről
A24: 2.4. | B24: 2.3-ból EU támogatás
A25: 3. | B25: Közhatalmi bevételek | C25: 30
A26: 4. | B26: Felhalmozási célú támogatások államháztartáson belülről (4.1.+…+4.3.) | C26: =+C27+C28+C29 -> 0
A27: 4.1. | B27: Felhalmozási célú önkormányzati támogatások
A28: 4.2. | B28: Visszatérítendő támogatások, kölcsönök visszatérülése ÁH-n belülről
A29: 4.3. | B29: Egyéb felhalmozási célú támogatások bevételei államháztartáson belülről
A30: 4.4. | B30: 4.3.-ból EU-s támogatás
A31: 5. | B31: Felhalmozási bevételek (5.1.+…+5.3.) | C31: =+C32+C33+C34 -> 0
A32: 5.1. | B32: Immateriális javak értékesítése
A33: 5.2. | B33: Ingatlanok értékesítése
A34: 5.3. | B34: Egyéb tárgyi eszközök értékesítése
A35: 6. | B35: Működési célú átvett pénzeszközök
A36: 7. | B36: Felhalmozási célú átvett pénzeszközök
A37: 8. | B37: Költségvetési bevételek összesen (1.+…+7.) | C37: =+C8+C20+C25+C26+C31+C35+C36 -> 30
A38: 9. | B38: Finanszírozási bevételek (9.1.+…+9.3.) | C38: =+C39+C40+C41 -> 48851
A39: 9.1. | B39: Költségvetési maradvány igénybevétele | C39: 1574
A40: 9.2. | B40: Vállalkozási maradvány igénybevétele
...

Sheet 9.2.2. sz.  mell
C1: =+CONCATENATE("9.2.2. melléklet a ……/",LEFT(ÖSSZEFÜGGÉSEK!A5,4),". (II.25.) önkormányzati rendelethez") -> 9.2.2. melléklet a ……/2016. (II.25.) önkormányzati rendelethez
A2: Költségvetési szerv megnevezése | B2: Sajószögedi Polgármesteri Hivatal | C2: 02
A3: Feladat megnevezése | B3: Önként vállalt feladatok bevételei, kiadásai | C3: 02
C4: Ezer forintban !
A5: Száma | B5: Kiemelt előirányzat, előirányzat megnevezése | C5: Előirányzat
B6: A | C6: B
B7: Bevételek
A8: 1. | B8: Működési bevételek (1.1.+…+1.11.) | C8: =SUM(C9:C19) -> 0
A9: 1.1. | B9: Készletértékesítés ellenértéke
A10: 1.2. | B10: Szolgáltatások ellenértéke
A11: 1.3. | B11: Közvetített szolgáltatások értéke
A12: 1.4. | B12: Tulajdonosi bevételek
A13: 1.5. | B13: Ellátási díjak
A14: 1.6. | B14: Kiszámlázott általános forgalmi adó
A15: 1.7. | B15: Általános forgalmi adó visszatérülése
A16: 1.8. | B16: Kamatbevételek
A17: 1.9. | B17: Egyéb pénzügyi műveletek bevételei
A18: 1.10. | B18: Biztosító által fizetett kártérítés
A19: 1.11. | B19: Egyéb működési bevételek
A20: 2. | B20: Működési célú támogatások államháztartáson belülről (2.1.+…+2.3.) | C20: =SUM(C21:C23) -> 0
A21: 2.1. | B21: Elvonások és befizetések bevételei
A22: 2.2. | B22: Visszatérítendő támogatások, kölcsönök visszatérülése ÁH-n belülről
A23: 2.3. | B23: Egyéb működési célú támogatások bevételei államháztartáson belülről
A24: 2.4. | B24: 2.3-ból EU támogatás
A25: 3. | B25: Közhatalmi bevételek
A26: 4. | B26: Felhalmozási célú támogatások államháztartáson belülről (4.1.+…+4.3.) | C26: =+C27+C28+C29 -> 0
A27: 4.1. | B27: Felhalmozási célú önkormányzati támogatások
A28: 4.2. | B28: Visszatérítendő támogatások, kölcsönök visszatérülése ÁH-n belülről
A29: 4.3. | B29: Egyéb felhalmozási célú támogatások bevételei államháztartáson belülről
A30: 4.4. | B30: 4.3.-ból EU-s támogatás
A31: 5. | B31: Felhalmozási bevételek (5.1.+…+5.3.) | C31: =+C32+C33+C34 -> 0
A32: 5.1. | B32: Immateriális javak értékesítése
A33: 5.2. | B33: Ingatlanok értékesítése
A34: 5.3. | B34: Egyéb tárgyi eszközök értékesítése
A35: 6. | B35: Működési célú átvett pénzeszközök
A36: 7. | B36: Felhalmozási célú átvett pénzeszközök
A37: 8. | B37: Költségvetési bevételek összesen (1.+…+7.) | C37: =+C8+C20+C25+C26+C31+C35+C36 -> 0
A38: 9. | B38: Finanszírozási bevételek (9.1.+…+9.3.) | C38: =+C39+C40+C41 -> 0
A39: 9.1. | B39: Költségvetési maradvány igénybevétele
A40: 9.2. | B40: Vállalkozási maradvány igénybevétele
...

Sheet 9.2.3. sz. mell
C1: =+CONCATENATE("9.2.3. melléklet a ……/",LEFT(ÖSSZEFÜGGÉSEK!A5,4),". (II.25.) önkormányzati rendelethez") -> 9.2.3. melléklet a ……/2016. (II.25.) önkormányzati rendelethez
A2: Költségvetési szerv megnevezése | B2: Sajószögedi Polgármesteri Hivatal | C2: 02
A3: Feladat megnevezése | B3: Államigazgatási feladatok bevételei, kiadásai | C3: 03
C4: Ezer forintban !
A5: Száma | B5: Kiemelt előirányzat, előirányzat megnevezése | C5: Előirányzat
B6: A | C6: B
B7: Bevételek
A8: 1. | B8: Működési bevételek (1.1.+…+1.11.) | C8: =SUM(C9:C19) -> 0
A9: 1.1. | B9: Készletértékesítés ellenértéke
A10: 1.2. | B10: Szolgáltatások ellenértéke
A11: 1.3. | B11: Közvetített szolgáltatások értéke
A12: 1.4. | B12: Tulajdonosi bevételek
A13: 1.5. | B13: Ellátási díjak
A14: 1.6. | B14: Kiszámlázott általános forgalmi adó
A15: 1.7. | B15: Általános forgalmi adó visszatérülése
A16: 1.8. | B16: Kamatbevételek
A17: 1.9. | B17: Egyéb pénzügyi műveletek bevételei
A18: 1.10. | B18: Biztosító által fizetett kártérítés
A19: 1.11. | B19: Egyéb működési bevételek
A20: 2. | B20: Működési célú támogatások államháztartáson belülről (2.1.+…+2.3.) | C20: =SUM(C21:C23) -> 0
A21: 2.1. | B21: Elvonások és befizetések bevételei
A22: 2.2. | B22: Visszatérítendő támogatások, kölcsönök visszatérülése ÁH-n belülről
A23: 2.3. | B23: Egyéb működési célú támogatások bevételei államháztartáson belülről
A24: 2.4. | B24: 2.3-ból EU támogatás
A25: 3. | B25: Közhatalmi bevételek
A26: 4. | B26: Felhalmozási célú támogatások államháztartáson belülről (4.1.+…+4.3.) | C26: =+C27+C28+C29 -> 0
A27: 4.1. | B27: Felhalmozási célú önkormányzati támogatások
A28: 4.2. | B28: Visszatérítendő támogatások, kölcsönök visszatérülése ÁH-n belülről
A29: 4.3. | B29: Egyéb felhalmozási célú támogatások bevételei államháztartáson belülről
A30: 4.4. | B30: 4.3.-ból EU-s támogatás
A31: 5. | B31: Felhalmozási bevételek (5.1.+…+5.3.) | C31: =+C32+C33+C34 -> 0
A32: 5.1. | B32: Immateriális javak értékesítése
A33: 5.2. | B33: Ingatlanok értékesítése
A34: 5.3. | B34: Egyéb tárgyi eszközök értékesítése
A35: 6. | B35: Működési célú átvett pénzeszközök
A36: 7. | B36: Felhalmozási célú átvett pénzeszközök
A37: 8. | B37: Költségvetési bevételek összesen (1.+…+7.) | C37: =+C8+C20+C25+C26+C31+C35+C36 -> 0
A38: 9. | B38: Finanszírozási bevételek (9.1.+…+9.3.) | C38: =+C39+C40+C41 -> 0
A39: 9.1. | B39: Költségvetési maradvány igénybevétele
A40: 9.2. | B40: Vállalkozási maradvány igénybevétele
...

Sheet 9.3. sz. mell
C1: =+CONCATENATE("9.3. melléklet a ……/",LEFT(ÖSSZEFÜGGÉSEK!A5,4),". (II.25.) önkormányzati rendelethez") -> 9.3. melléklet a ……/2016. (II.25.) önkormányzati rendelethez
A2: Költségvetési szerv megnevezése | B2: Sajószögedi Általános Művelődési Központ | C2: 03
A3: Feladat megnevezése | B3: Összes bevétel, kiadás
C4: Ezer forintban !
A5: Száma | B5: Kiemelt előirányzat, előirányzat megnevezése | C5: Előirányzat
B6: A | C6: B
B7: Bevételek
A8: 1. | B8: Működési bevételek (1.1.+…+1.11.) | C8: =SUM(C9:C19) -> 100
A9: 1.1. | B9: Készletértékesítés ellenértéke
A10: 1.2. | B10: Szolgáltatások ellenértéke | C10: 100
A11: 1.3. | B11: Közvetített szolgáltatások értéke
A12: 1.4. | B12: Tulajdonosi bevételek
A13: 1.5. | B13: Ellátási díjak
A14: 1.6. | B14: Kiszámlázott általános forgalmi adó
A15: 1.7. | B15: Általános forgalmi adó visszatérülése
A16: 1.8. | B16: Kamatbevételek
A17: 1.9. | B17: Egyéb pénzügyi műveletek bevételei
A18: 1.10. | B18: Biztosító által fizetett kártérítés
A19: 1.11. | B19: Egyéb működési bevételek
A20: 2. | B20: Működési célú támogatások államháztartáson belülről (2.1.+…+2.3.) | C20: =SUM(C21:C23) -> 0
A21: 2.1. | B21: Elvonások és befizetések bevételei
A22: 2.2. | B22: Visszatérítendő támogatások, kölcsönök visszatérülése ÁH-n belülről
A23: 2.3. | B23: Egyéb működési célú támogatások bevételei államháztartáson belülről
A24: 2.4. | B24: 2.3.-ból EU támogatás
A25: 3. | B25: Közhatalmi bevételek
A26: 4. | B26: Felhalmozási célú támogatások államháztartáson belülről (4.1.+4.2.) | C26: =+C27+C28 -> 0
A27: 4.1. | B27: Visszatérítendő támogatások, kölcsönök visszatérülése ÁH-n belülről
A28: 4.2. | B28: Egyéb felhalmozási célú támogatások bevételei államháztartáson belülről
A29: 4.3. | B29: 4.2.-ből EU-s támogatás
A30: 5. | B30: Felhalmozási bevételek (5.1.+…+5.3.) | C30: =+C31+C32+C33 -> 0
A31: 5.1. | B31: Immateriális javak értékesítése
A32: 5.2. | B32: Ingatlanok értékesítése
A33: 5.3. | B33: Egyéb tárgyi eszközök értékesítése
A34: 6. | B34: Működési célú átvett pénzeszközök
A35: 7. | B35: Felhalmozási célú átvett pénzeszközök
A36: 8. | B36: KÖLTSÉGVETÉSI BEVÉTELEK ÖSSZESEN (1.+…+7.) | C36: =+C8+C20+C25+C26+C30+C34+C35 -> 100
A37: 9. | B37: Finanszírozási bevételek (9.1.+…+9.3.) | C37: =+C38+C39+C40 -> 73327
A38: 9.1. | B38: Költségvetési maradvány igénybevétele | C38: 1545
A39: 9.2. | B39: Vállalkozási maradvány igénybevétele
A40: 9.3. | B40: Irányító szervi (önkormányzati) támogatás (intézményfinanszírozás) | C40: 71782
...

Sheet 9.3.1. sz. mell
C1: =+CONCATENATE("9.3.1. melléklet a ……/",LEFT(ÖSSZEFÜGGÉSEK!A5,4),". (II.25.) önkormányzati rendelethez") -> 9.3.1. melléklet a ……/2016. (II.25.) önkormányzati rendelethez
A2: Költségvetési szerv megnevezése | B2: Sajószögedi Általános Művelődési Központ | C2: 03
A3: Feladat megnevezése | B3: Kötelező feladatok bevételei, kiadásai | C3: 01
C4: Ezer forintban !
A5: Száma | B5: Kiemelt előirányzat, előirányzat megnevezése | C5: Előirányzat
B6: A | C6: B
B7: Bevételek
A8: 1. | B8: Működési bevételek (1.1.+…+1.11.) | C8: =SUM(C9:C19) -> 100
A9: 1.1. | B9: Készletértékesítés ellenértéke
A10: 1.2. | B10: Szolgáltatások ellenértéke | C10: 100
A11: 1.3. | B11: Közvetített szolgáltatások értéke
A12: 1.4. | B12: Tulajdonosi bevételek
A13: 1.5. | B13: Ellátási díjak
A14: 1.6. | B14: Kiszámlázott általános forgalmi adó
A15: 1.7. | B15: Általános forgalmi adó visszatérülése
A16: 1.8. | B16: Kamatbevételek
A17: 1.9. | B17: Egyéb pénzügyi műveletek bevételei
A18: 1.10. | B18: Biztosító által fizetett kártérítés
A19: 1.11. | B19: Egyéb működési bevételek
A20: 2. | B20: Működési célú támogatások államháztartáson belülről (2.1.+…+2.3.) | C20: =SUM(C21:C23) -> 0
A21: 2.1. | B21: Elvonások és befizetések bevételei
A22: 2.2. | B22: Visszatérítendő támogatások, kölcsönök visszatérülése ÁH-n belülről
A23: 2.3. | B23: Egyéb működési célú támogatások bevételei államháztartáson belülről
A24: 2.4. | B24: 2.3.-ból EU támogatás
A25: 3. | B25: Közhatalmi bevételek
A26: 4. | B26: Felhalmozási célú támogatások államháztartáson belülről (4.1.+4.2.) | C26: =+C27+C28 -> 0
A27: 4.1. | B27: Visszatérítendő támogatások, kölcsönök visszatérülése ÁH-n belülről
A28: 4.2. | B28: Egyéb felhalmozási célú támogatások bevételei államháztartáson belülről
A29: 4.3. | B29: 4.2.-ből EU-s támogatás
A30: 5. | B30: Felhalmozási bevételek (5.1.+…+5.3.) | C30: =+C31+C32+C33 -> 0
A31: 5.1. | B31: Immateriális javak értékesítése
A32: 5.2. | B32: Ingatlanok értékesítése
A33: 5.3. | B33: Egyéb tárgyi eszközök értékesítése
A34: 6. | B34: Működési célú átvett pénzeszközök
A35: 7. | B35: Felhalmozási célú átvett pénzeszközök
A36: 8. | B36: KÖLTSÉGVETÉSI BEVÉTELEK ÖSSZESEN (1.+…+7.) | C36: =+C8+C20+C25+C26+C30+C34+C35 -> 100
A37: 9. | B37: Finanszírozási bevételek (9.1.+…+9.3.) | C37: =+C38+C39+C40 -> 73327
A38: 9.1. | B38: Költségvetési maradvány igénybevétele | C38: 1545
A39: 9.2. | B39: Vállalkozási maradvány igénybevétele
A40: 9.3. | B40: Irányító szervi (önkormányzati) támogatás (intézményfinanszírozás) | C40: 71782
...

Sheet 9.3.2. sz. mell
C1: =+CONCATENATE("9.3.2. melléklet a ……/",LEFT(ÖSSZEFÜGGÉSEK!A5,4),". (II.25.) önkormányzati rendelethez") -> 9.3.2. melléklet a ……/2016. (II.25.) önkormányzati rendelethez
A2: Költségvetési szerv megnevezése | B2: Sajószögedi Általános Művelődési Központ | C2: 03
A3: Feladat megnevezése | B3: Önként vállalt feladatok bevételei, kiadásai | C3: 02
C4: Ezer forintban !
A5: Száma | B5: Kiemelt előirányzat, előirányzat megnevezése | C5: Előirányzat
B6: A | C6: B
B7: Bevételek
A8: 1. | B8: Működési bevételek (1.1.+…+1.11.) | C8: =SUM(C9:C19) -> 0
A9: 1.1. | B9: Készletértékesítés ellenértéke
A10: 1.2. | B10: Szolgáltatások ellenértéke
A11: 1.3. | B11: Közvetített szolgáltatások értéke
A12: 1.4. | B12: Tulajdonosi bevételek
A13: 1.5. | B13: Ellátási díjak
A14: 1.6. | B14: Kiszámlázott általános forgalmi adó
A15: 1.7. | B15: Általános forgalmi adó visszatérülése
A16: 1.8. | B16: Kamatbevételek
A17: 1.9. | B17: Egyéb pénzügyi műveletek bevételei
A18: 1.10. | B18: Biztosító által fizetett kártérítés
A19: 1.11. | B19: Egyéb működési bevételek
A20: 2. | B20: Működési célú támogatások államháztartáson belülről (2.1.+…+2.3.) | C20: =SUM(C21:C23) -> 0
A21: 2.1. | B21: Elvonások és befizetések bevételei
A22: 2.2. | B22: Visszatérítendő támogatások, kölcsönök visszatérülése ÁH-n belülről
A23: 2.3. | B23: Egyéb működési célú támogatások bevételei államháztartáson belülről
A24: 2.4. | B24: 2.3.-ból EU támogatás
A25: 3. | B25: Közhatalmi bevételek
A26: 4. | B26: Felhalmozási célú támogatások államháztartáson belülről (4.1.+4.2.) | C26: =+C27+C28 -> 0
A27: 4.1. | B27: Visszatérítendő támogatások, kölcsönök visszatérülése ÁH-n belülről
A28: 4.2. | B28: Egyéb felhalmozási célú támogatások bevételei államháztartáson belülről
A29: 4.3. | B29: 4.2.-ből EU-s támogatás
A30: 5. | B30: Felhalmozási bevételek (5.1.+…+5.3.) | C30: =+C31+C32+C33 -> 0
A31: 5.1. | B31: Immateriális javak értékesítése
A32: 5.2. | B32: Ingatlanok értékesítése
A33: 5.3. | B33: Egyéb tárgyi eszközök értékesítése
A34: 6. | B34: Működési célú átvett pénzeszközök
A35: 7. | B35: Felhalmozási célú átvett pénzeszközök
A36: 8. | B36: KÖLTSÉGVETÉSI BEVÉTELEK ÖSSZESEN (1.+…+7.) | C36: =+C8+C20+C25+C26+C30+C34+C35 -> 0
A37: 9. | B37: Finanszírozási bevételek (9.1.+…+9.3.) | C37: =+C38+C39+C40 -> 0
A38: 9.1. | B38: Költségvetési maradvány igénybevétele
A39: 9.2. | B39: Vállalkozási maradvány igénybevétele
A40: 9.3. | B40: Irányító szervi (önkormányzati) támogatás (intézményfinanszírozás)
...

Sheet 9.3.3. sz. mell
C1: =+CONCATENATE("9.3.3. melléklet a ……/",LEFT(ÖSSZEFÜGGÉSEK!A5,4),". (II.25.) önkormányzati rendelethez") -> 9.3.3. melléklet a ……/2016. (II.25.) önkormányzati rendelethez
A2: Költségvetési szerv megnevezése | B2: Sajószögedi Általános Művelődési Központ | C2: 03
A3: Feladat megnevezése | B3: Államigazgatási feladatok bevételei, kiadásai | C3: 03
C4: Ezer forintban !
A5: Száma | B5: Kiemelt előirányzat, előirányzat megnevezése | C5: Előirányzat
B6: A | C6: B
B7: Bevételek
A8: 1. | B8: Működési bevételek (1.1.+…+1.11.) | C8: =SUM(C9:C19) -> 0
A9: 1.1. | B9: Készletértékesítés ellenértéke
A10: 1.2. | B10: Szolgáltatások ellenértéke
A11: 1.3. | B11: Közvetített szolgáltatások értéke
A12: 1.4. | B12: Tulajdonosi bevételek
A13: 1.5. | B13: Ellátási díjak
A14: 1.6. | B14: Kiszámlázott általános forgalmi adó
A15: 1.7. | B15: Általános forgalmi adó visszatérülése
A16: 1.8. | B16: Kamatbevételek
A17: 1.9. | B17: Egyéb pénzügyi műveletek bevételei
A18: 1.10. | B18: Biztosító által fizetett kártérítés
A19: 1.11. | B19: Egyéb működési bevételek
A20: 2. | B20: Működési célú támogatások államháztartáson belülről (2.1.+…+2.3.) | C20: =SUM(C21:C23) -> 0
A21: 2.1. | B21: Elvonások és befizetések bevételei
A22: 2.2. | B22: Visszatérítendő támogatások, kölcsönök visszatérülése ÁH-n belülről
A23: 2.3. | B23: Egyéb működési célú támogatások bevételei államháztartáson belülről
A24: 2.4. | B24: 2.3.-ból EU támogatás
A25: 3. | B25: Közhatalmi bevételek
A26: 4. | B26: Felhalmozási célú támogatások államháztartáson belülről (4.1.+4.2.) | C26: =+C27+C28 -> 0
A27: 4.1. | B27: Visszatérítendő támogatások, kölcsönök visszatérülése ÁH-n belülről
A28: 4.2. | B28: Egyéb felhalmozási célú támogatások bevételei államháztartáson belülről
A29: 4.3. | B29: 4.2.-ből EU-s támogatás
A30: 5. | B30: Felhalmozási bevételek (5.1.+…+5.3.) | C30: =+C31+C32+C33 -> 0
A31: 5.1. | B31: Immateriális javak értékesítése
A32: 5.2. | B32: Ingatlanok értékesítése
A33: 5.3. | B33: Egyéb tárgyi eszközök értékesítése
A34: 6. | B34: Működési célú átvett pénzeszközök
A35: 7. | B35: Felhalmozási célú átvett pénzeszközök
A36: 8. | B36: KÖLTSÉGVETÉSI BEVÉTELEK ÖSSZESEN (1.+…+7.) | C36: =+C8+C20+C25+C26+C30+C34+C35 -> 0
A37: 9. | B37: Finanszírozási bevételek (9.1.+…+9.3.) | C37: =+C38+C39+C40 -> 0
A38: 9.1. | B38: Költségvetési maradvány igénybevétele
A39: 9.2. | B39: Vállalkozási maradvány igénybevétele
A40: 9.3. | B40: Irányító szervi (önkormányzati) támogatás (intézményfinanszírozás)
...

Sheet 1. sz tájékoztató t.
A1: B E V É T E L E K
A2: 1. sz. táblázat | E2: Ezer forintban
A3: Sor- szám | B3: Bevételi jogcím | C3: =+CONCATENATE(LEFT(ÖSSZEFÜGGÉSEK!A5,4)-2,". évi tény") -> 2014. évi tény | D3: =+CONCATENATE(LEFT(ÖSSZEFÜGGÉSEK!A5,4)-1,". évi várható") -> 2015. évi várható | E3: =+'1.1.sz.mell.'!C3 -> 2016. évi előirányzat
A4: A | B4: B | C4: C | D4: D | E4: E
A5: 1. | B5: Önkormányzat működési támogatásai (1.1.+…+.1.6.) | C5: =+C6+C7+C8+C9+C10+C11 -> 79054 | D5: =+D6+D7+D8+D9+D10+D11 -> 77153 | E5: =+E6+E7+E8+E9+E10+E11 -> 76533
A6: 1.1. | B6: Helyi önkormányzatok működésének általános támogatása | C6: 18606 | D6: 19403 | E6: 20129
A7: 1.2. | B7: Önkormányzatok egyes köznevelési feladatainak támogatása | C7: 24155 | D7: 25929 | E7: 24829
A8: 1.3. | B8: Önkormányzatok szociális és gyermekjóléti feladatainak támogatása | C8: 30529 | D8: 26979 | E8: 29066
A9: 1.4. | B9: Önkormányzatok kulturális feladatainak támogatása | C9: 2514 | D9: 2656 | E9: 2509
A10: 1.5. | B10: Működési célú kvi támogatások és kiegészítő támogatások | C10: 3250 | D10: 2055
A11: 1.6. | B11: Elszámolásból származó bevételek | D11: 131
A12: 2. | B12: Működési célú támogatások államháztartáson belülről (2.1.+…+.2.5.) | C12: =+C13+C14+C15+C16+C17 -> 19250 | D12: =+D13+D14+D15+D16+D17 -> 21871 | E12: =+E13+E14+E15+E16+E17 -> 16444
A13: 2.1. | B13: Elvonások és befizetések bevételei
A14: 2.2. | B14: Működési célú garancia- és kezességvállalásból megtérülések
A15: 2.3. | B15: Működési célú visszatérítendő támogatások, kölcsönök visszatérülése
A16: 2.4. | B16: Működési célú visszatérítendő támogatások, kölcsönök igénybevétele
A17: 2.5. | B17: Egyéb működési célú támogatások bevételei | C17: 19250 | D17: 21871 | E17: 16444
A18: 2.6. | B18: 2.5.-ből EU-s támogatás | D18: 960
A19: 3. | B19: Felhalmozási célú támogatások államháztartáson belülről (3.1.+…+3.5.) | C19: =+C20+C21+C22+C23+C24 -> 235 | D19: =+D20+D21+D22+D23+D24 -> 107 | E19: =+E20+E21+E22+E23+E24 -> 0
A20: 3.1. | B20: Felhalmozási célú önkormányzati támogatások | C20: 235 | D20: 107
A21: 3.2. | B21: Felhalmozási célú garancia- és kezességvállalásból megtérülések
A22: 3.3. | B22: Felhalmozási célú visszatérítendő támogatások, kölcsönök visszatérülése
A23: 3.4. | B23: Felhalmozási célú visszatérítendő támogatások, kölcsönök igénybevétele
A24: 3.5. | B24: Egyéb felhalmozási célú támogatások bevételei
A25: 3.6. | B25: 3.5.-ből EU-s támogatás
A26: 4. | B26: Közhatalmi bevételek (4.1.+4.2.+4.3.+4.4.) | C26: =SUM(C27:C33) -> 128260 | D26: =SUM(D27:D33) -> 176381 | E26: =SUM(E27:E33) -> 124730
A27: 4.1. | B27: Építményadó és telekadó | C27: 5065 | D27: 74822 | E27: 32500
A28: 4.2. | B28: Idegenforgalmi adó
A29: 4.3. | B29: Iparűzési adó | C29: 114166 | D29: 92978 | E29: 85000
A30: 4.4. | B30: Talajterhelési díj | C30: 808 | D30: 503 | E30: 200
A31: 4.5. | B31: Gépjárműadó | C31: 7434 | D31: 7800 | E31: 7000
