Workbook

Sheet ÖSSZEFÜGGÉSEK
A2: Költségvetési rendelet űrlapjainak összefüggései:
A5: 2016. évi előirányzat BEVÉTELEK
A7: 1.1. sz. melléklet Bevételek táblázat C. oszlop 9 sora = | B7: 2.1. számú melléklet C. oszlop 13. sor + 2.2. számú melléklet C. oszlop 12. sor
A8: 1.1. sz. melléklet Bevételek táblázat C. oszlop 17 sora = | B8: 2.1. számú melléklet C. oszlop 24. sor + 2.2. számú melléklet C. oszlop 25. sor
A9: 1.1. sz. melléklet Bevételek táblázat C. oszlop 18 sora = | B9: 2.1. számú melléklet C. oszlop 25. sor + 2.2. számú melléklet C. oszlop 26. sor
A12: =+CONCATENATE(LEFT(A5,4),". évi előirányzat KIADÁSOK") -> 2016. évi előirányzat KIADÁSOK
A14: 1.1. sz. melléklet Kiadások táblázat C. oszlop 3 sora = | B14: 2.1. számú melléklet E. oszlop 13. sor + 2.2. számú melléklet E. oszlop 12. sor
A15: 1.1. sz. melléklet Kiadások táblázat C. oszlop 10 sora = | B15: 2.1. számú melléklet E. oszlop 24. sor + 2.2. számú melléklet E. oszlop 25. sor
A16: 1.1. sz. melléklet Kiadások táblázat C. oszlop 11 sora = | B16: 2.1. számú melléklet E. oszlop 25. sor + 2.2. számú melléklet E. oszlop 26. sor

Sheet 1.1.sz.mell.
A1: B E V É T E L E K
A2: 1. sz. táblázat | C2: Ezer forintban
A3: Sor- szám | B3: Bevételi jogcím | C3: =+CONCATENATE(LEFT(ÖSSZEFÜGGÉSEK!A5,4),". évi előirányzat") -> 2016. évi előirányzat
B4: A | C4: B
A5: 1. | B5: Önkormányzat működési támogatásai (1.1.+…+.1.6.) | C5: =+C6+C7+C8+C9+C10+C11 -> 76533
A6: 1.1. | B6: Helyi önkormányzatok működésének általános támogatása | C6: 20129
A7: 1.2. | B7: Önkormányzatok egyes köznevelési feladatainak támogatása | C7: 24829
A8: 1.3. | B8: Önkormányzatok szociális és gyermekjóléti, étkeztetési feladatainak támogatása | C8: 29066
A9: 1.4. | B9: Önkormányzatok kulturális feladatainak támogatása | C9: 2509
A10: 1.5. | B10: Működési célú kvi támogatások és kiegészítő támogatások
A11: 1.6. | B11: Elszámolásból származó bevételek
A12: 2. | B12: Működési célú támogatások államháztartáson belülről (2.1.+…+.2.5.) | C12: =+C13+C14+C15+C16+C17 -> 16444
A13: 2.1. | B13: Elvonások és befizetések bevételei
A14: 2.2. | B14: Működési célú garancia- és kezességvállalásból megtérülések
A15: 2.3. | B15: Működési célú visszatérítendő támogatások, kölcsönök visszatérülése
A16: 2.4. | B16: Működési célú visszatérítendő támogatások, kölcsönök igénybevétele
A17: 2.5. | B17: Egyéb működési célú támogatások bevételei | C17: 16444
A18: 2.6. | B18: 2.5.-ből EU-s támogatás
A19: 3. | B19: Felhalmozási célú támogatások államháztartáson belülről (3.1.+…+3.5.) | C19: =+C20+C21+C22+C23+C24 -> 0
A20: 3.1. | B20: Felhalmozási célú önkormányzati támogatások
A21: 3.2. | B21: Felhalmozási célú garancia- és kezességvállalásból megtérülések
A22: 3.3. | B22: Felhalmozási célú visszatérítendő támogatások, kölcsönök visszatérülése
A23: 3.4. | B23: Felhalmozási célú visszatérítendő támogatások, kölcsönök igénybevétele
A24: 3.5. | B24: Egyéb felhalmozási célú támogatások bevételei
A25: 3.6. | B25: 3.5.-ből EU-s támogatás
A26: 4. | B26: Közhatalmi bevételek (4.1.+…+4.7.) | C26: =SUM(C27:C33) -> 124730
A27: 4.1. | B27: Építményadó és telekadó | C27: 32500
A28: 4.2. | B28: Idegenforgalmi adó
A29: 4.3. | B29: Iparűzési adó | C29: 85000
A30: 4.4. | B30: Talajterhelési díj | C30: 200
A31: 4.5. | B31: Gépjárműadó | C31: 7000
A32: 4.6. | B32: Egyéb áruhasználati és szolgáltatási adók
A33: 4.7. | B33: Egyéb közhatalmi bevételek | C33: 30
A34: 5. | B34: Működési bevételek (5.1.+…+ 5.11.) | C34: =SUM(C35:C45) -> 23217
A35: 5.1. | B35: Készletértékesítés ellenértéke
A36: 5.2. | B36: Szolgáltatások ellenértéke | C36: 1670
A37: 5.3. | B37: Közvetített szolgáltatások értéke | C37: 800
A38: 5.4. | B38: Tulajdonosi bevételek
A39: 5.5. | B39: Ellátási díjak | C39: 15896
A40: 5.6. | B40: Kiszámlázott általános forgalmi adó | C40: 4851
A41: 5.7. | B41: Általános forgalmi adó visszatérítése
A42: 5.8. | B42: Kamatbevételek és más nyereségjellegű bevételek
A43: 5.9. | B43: Egyéb pénzügyi műveletek bevételei
A44: 5.10. | B44: Biztosító által fizetett kártérítés
A45: 5.11. | B45: Egyéb működési bevételek
A46: 6. | B46: Felhalmozási bevételek (6.1.+…+6.5.) | C46: =SUM(C47:C51) -> 15000
A47: 6.1. | B47: Immateriális javak értékesítése
A48: 6.2. | B48: Ingatlanok értékesítése | C48: 15000
A49: 6.3. | B49: Egyéb tárgyi eszközök értékesítése
A50: 6.4. | B50: Részesedések értékesítése
A51: 6.5. | B51: Részesedések megszűnéséhez kapcsolódó bevételek
A52: 7. | B52: Működési célú átvett pénzeszközök (7.1. + … + 7.3.) | C52: =SUM(C53:C55) -> 0
A53: 7.1. | B53: Működési célú garancia- és kezességvállalásból megtérülések ÁH-n kívülről
A54: 7.2. | B54: Működési célú visszatérítendő támogatások, kölcsönök visszatér. ÁH-n kívülről
A55: 7.3. | B55: Egyéb működési célú átvett pénzeszköz
A56: 7.4. | B56: 7.3.-ból EU-s támogatás (közvetlen)
A57: 8. | B57: Felhalmozási célú átvett pénzeszközök (8.1.+8.2.+8.3.) | C57: =SUM(C58:C60) -> 0
A58: 8.1. | B58: Felhalm. célú garancia- és kezességvállalásból megtérülések ÁH-n kívülről
A59: 8.2. | B59: Felhalm. célú visszatérítendő támogatások, kölcsönök visszatér. ÁH-n kívülről
A60: 8.3. | B60: Egyéb felhalmozási célú átvett pénzeszköz
A61: 8.4. | B61: 8.3.-ból EU-s támogatás (közvetlen)
A62: 9. | B62: KÖLTSÉGVETÉSI BEVÉTELEK ÖSSZESEN: (1+…+8) | C62: =+C5+C12+C19+C26+C34+C46+C52+C57 -> 255924
A63: 10. | B63: Hitel-, kölcsönfelvétel államháztartáson kívülről (10.1.+10.3.) | C63: =SUM(C64:C66) -> 0
A64: 10.1. | B64: Hosszú lejáratú hitelek, kölcsönök felvétele
A65: 10.2. | B65: Likviditási célú hitelek, kölcsönök felvétele pénzügyi vállalkozástól
A66: 10.3. | B66: Rövid lejáratú hitelek, kölcsönök felvétele
A67: 11. | B67: Belföldi értékpapírok bevételei (11.1. +…+ 11.4.) | C67: =SUM(C68:C71) -> 49676
A68: 11.1. | B68: Forgatási célú belföldi értékpapírok beváltása, értékesítése | C68: 49676
A69: 11.2. | B69: Forgatási célú belföldi értékpapírok kibocsátása
A70: 11.3. | B70: Befektetési célú belföldi értékpapírok beváltása, értékesítése
A71: 11.4. | B71: Befektetési célú belföldi értékpapírok kibocsátása
A72: 12. | B72: Maradvány igénybevétele (12.1. + 12.2.) | C72: =SUM(C73:C74) -> 9923
A73: 12.1. | B73: Előző év költségvetési maradványának igénybevétele | C73: 9923
A74: 12.2. | B74: Előző év vállalkozási maradványának igénybevétele
A75: 13. | B75: Belföldi finanszírozás bevételei (13.1. + … + 13.3.) | C75: =SUM(C76:C78) -> 0
A76: 13.1. | B76: Államháztartáson belüli megelőlegezések
A77: 13.2. | B77: Államháztartáson belüli megelőlegezések törlesztése
A78: 13.3. | B78: Betétek megszüntetése
A79: 14. | B79: Külföldi finanszírozás bevételei (14.1.+…14.4.) | C79: =SUM(C80:C83) -> 0
A80: 14.1. | B80: Forgatási célú külföldi értékpapírok beváltása, értékesítése
A81: 14.2. | B81: Befektetési célú külföldi értékpapírok beváltása, értékesítése
A82: 14.3. | B82: Külföldi értékpapírok kibocsátása
A83: 14.4. | B83: Külföldi hitelek, kölcsönök felvétele
A84: 15. | B84: Váltóbevételek
A85: 16. | B85: Adóssághoz nem kapcsolódó származékos ügyletek bevételei
A86: 17. | B86: FINANSZÍROZÁSI BEVÉTELEK ÖSSZESEN: (10. + … +16.) | C86: =+C63+C67+C72+C75+C79+C85+C84 -> 59599
A87: 18. | B87: KÖLTSÉGVETÉSI ÉS FINANSZÍROZÁSI BEVÉTELEK ÖSSZESEN: (9+17) | C87: =+C62+C86 -> 315523
A89: K I A D Á S O K
A90: 2. sz. táblázat | C90: Ezer forintban
A91: Sor- szám | B91: Kiadási jogcímek | C91: =+C3 -> 2016. évi előirányzat
B92: A | C92: B
A93: 1. | B93: Működési költségvetés kiadásai (1.1+…+1.5.+1.18.) | C93: =C94+C95+C96+C97+C98+C111 -> 294623
A94: 1.1. | B94: Személyi juttatások | C94: 100875
A95: 1.2. | B95: Munkaadókat terhelő járulékok és szociális hozzájárulási adó | C95: 24775
A96: 1.3. | B96: Dologi kiadások | C96: 102862
A97: 1.4. | B97: Ellátottak pénzbeli juttatásai | C97: 26149
A98: 1.5 | B98: Egyéb működési célú kiadások | C98: 34962
A99: 1.6. | B99: - az 1.5-ből: - Előző évi elszámolásból származó befizetések
A100: 1.7. | B100: - Törvényi előíráson alapuló befizetések
A101: 1.8. | B101: - Elvonások és befizetések
...

Sheet 1.2.sz.mell.
A1: B E V É T E L E K
A2: 1. sz. táblázat | C2: Ezer forintban
A3: Sor- szám | B3: Bevételi jogcím | C3: =+CONCATENATE(LEFT(ÖSSZEFÜGGÉSEK!A5,4),". évi előirányzat") -> 2016. évi előirányzat
B4: A | C4: B
A5: 1. | B5: Önkormányzat működési támogatásai (1.1.+…+.1.6.) | C5: =+C6+C7+C8+C9+C10+C11 -> 76533
A6: 1.1. | B6: Helyi önkormányzatok működésének általános támogatása | C6: 20129
A7: 1.2. | B7: Önkormányzatok egyes köznevelési feladatainak támogatása | C7: 24829
A8: 1.3. | B8: Önkormányzatok szociális és gyermekjóléti, étkeztetési feladatainak támogatása | C8: 29066
A9: 1.4. | B9: Önkormányzatok kulturális feladatainak támogatása | C9: 2509
A10: 1.5. | B10: Működési célú kvi támogatások és kiegészítő támogatások
A11: 1.6. | B11: Elszámolásból származó bevételek
A12: 2. | B12: Működési célú támogatások államháztartáson belülről (2.1.+…+.2.5.) | C12: =+C13+C14+C15+C16+C17 -> 16444
A13: 2.1. | B13: Elvonások és befizetések bevételei
A14: 2.2. | B14: Működési célú garancia- és kezességvállalásból megtérülések
A15: 2.3. | B15: Működési célú visszatérítendő támogatások, kölcsönök visszatérülése
A16: 2.4. | B16: Működési célú visszatérítendő támogatások, kölcsönök igénybevétele
A17: 2.5. | B17: Egyéb működési célú támogatások bevételei | C17: 16444
A18: 2.6. | B18: 2.5.-ből EU-s támogatás
A19: 3. | B19: Felhalmozási célú támogatások államháztartáson belülről (3.1.+…+3.5.) | C19: =+C20+C21+C22+C23+C24 -> 0
A20: 3.1. | B20: Felhalmozási célú önkormányzati támogatások
A21: 3.2. | B21: Felhalmozási célú garancia- és kezességvállalásból megtérülések
A22: 3.3. | B22: Felhalmozási célú visszatérítendő támogatások, kölcsönök visszatérülése
A23: 3.4. | B23: Felhalmozási célú visszatérítendő támogatások, kölcsönök igénybevétele
A24: 3.5. | B24: Egyéb felhalmozási célú támogatások bevételei
A25: 3.6. | B25: 3.5.-ből EU-s támogatás
A26: 4. | B26: Közhatalmi bevételek (4.1.+...+4.7.) | C26: =SUM(C27:C33) -> 124730
A27: 4.1. | B27: Építményadó és telekadó | C27: 32500
A28: 4.2. | B28: Idegenforgalmi adó
A29: 4.3. | B29: Iparűzési adó | C29: 85000
A30: 4.4. | B30: Talajterhelési díj | C30: 200
A31: 4.5. | B31: Gépjárműadó | C31: 7000
A32: 4.6. | B32: Egyéb áruhasználati és szolgáltatási adók
A33: 4.7. | B33: Egyéb közhatalmi bevételek | C33: 30
A34: 5. | B34: Működési bevételek (5.1.+…+ 5.11.) | C34: =SUM(C35:C45) -> 23217
A35: 5.1. | B35: Készletértékesítés ellenértéke
A36: 5.2. | B36: Szolgáltatások ellenértéke | C36: 1670
A37: 5.3. | B37: Közvetített szolgáltatások értéke | C37: 800
A38: 5.4. | B38: Tulajdonosi bevételek
A39: 5.5. | B39: Ellátási díjak | C39: 15896
A40: 5.6. | B40: Kiszámlázott általános forgalmi adó | C40: 4851
A41: 5.7. | B41: Általános forgalmi adó visszatérítése
A42: 5.8. | B42: Kamatbevételek és más nyereségjellegű bevételek
A43: 5.9. | B43: Egyéb pénzügyi műveletek bevételei
A44: 5.10. | B44: Biztosító által fizetett kártérítés
A45: 5.11. | B45: Egyéb működési bevételek
A46: 6. | B46: Felhalmozási bevételek (6.1.+…+6.5.) | C46: =SUM(C47:C51) -> 15000
A47: 6.1. | B47: Immateriális javak értékesítése
A48: 6.2. | B48: Ingatlanok értékesítése | C48: 15000
A49: 6.3. | B49: Egyéb tárgyi eszközök értékesítése
A50: 6.4. | B50: Részesedések értékesítése
A51: 6.5. | B51: Részesedések megszűnéséhez kapcsolódó bevételek
A52: 7. | B52: Működési célú átvett pénzeszközök (7.1. + … + 7.3.) | C52: =SUM(C53:C55) -> 0
A53: 7.1. | B53: Működési célú garancia- és kezességvállalásból megtérülések ÁH-n kívülről
A54: 7.2. | B54: Működési célú visszatérítendő támogatások, kölcsönök visszatér. ÁH-n kívülről
A55: 7.3. | B55: Egyéb működési célú átvett pénzeszköz
A56: 7.4. | B56: 7.3.-ból EU-s támogatás (közvetlen)
A57: 8. | B57: Felhalmozási célú átvett pénzeszközök (8.1.+8.2.+8.3.) | C57: =SUM(C58:C60) -> 0
A58: 8.1. | B58: Felhalm. célú garancia- és kezességvállalásból megtérülések ÁH-n kívülről
A59: 8.2. | B59: Felhalm. célú visszatérítendő támogatások, kölcsönök visszatér. ÁH-n kívülről
A60: 8.3. | B60: Egyéb felhalmozási célú átvett pénzeszköz
A61: 8.4. | B61: 8.3.-ból EU-s támogatás (közvetlen)
A62: 9. | B62: KÖLTSÉGVETÉSI BEVÉTELEK ÖSSZESEN: (1+…+8) | C62: =+C5+C12+C19+C26+C34+C46+C52+C57 -> 255924
A63: 10. | B63: Hitel-, kölcsönfelvétel államháztartáson kívülről (10.1.+10.3.) | C63: =SUM(C64:C66) -> 0
A64: 10.1. | B64: Hosszú lejáratú hitelek, kölcsönök felvétele
A65: 10.2. | B65: Likviditási célú hitelek, kölcsönök felvétele pénzügyi vállalkozástól
A66: 10.3. | B66: Rövid lejáratú hitelek, kölcsönök felvétele
A67: 11. | B67: Belföldi értékpapírok bevételei (11.1. +…+ 11.4.) | C67: =SUM(C68:C71) -> 49676
A68: 11.1. | B68: Forgatási célú belföldi értékpapírok beváltása, értékesítése | C68: 49676
A69: 11.2. | B69: Forgatási célú belföldi értékpapírok kibocsátása
A70: 11.3. | B70: Befektetési célú belföldi értékpapírok beváltása, értékesítése
A71: 11.4. | B71: Befektetési célú belföldi értékpapírok kibocsátása
A72: 12. | B72: Maradvány igénybevétele (12.1. + 12.2.) | C72: =SUM(C73:C74) -> 9923
A73: 12.1. | B73: Előző év költségvetési maradványának igénybevétele | C73: 9923
A74: 12.2. | B74: Előző év vállalkozási maradványának igénybevétele
A75: 13. | B75: Belföldi finanszírozás bevételei (13.1. + … + 13.3.) | C75: =SUM(C76:C78) -> 0
A76: 13.1. | B76: Államháztartáson belüli megelőlegezések
A77: 13.2. | B77: Államháztartáson belüli megelőlegezések törlesztése
A78: 13.3. | B78: Betétek megszüntetése
A79: 14. | B79: Külföldi finanszírozás bevételei (14.1.+…14.4.) | C79: =SUM(C80:C83) -> 0
A80: 14.1. | B80: Forgatási célú külföldi értékpapírok beváltása, értékesítése
A81: 14.2. | B81: Befektetési célú külföldi értékpapírok beváltása, értékesítése
A82: 14.3. | B82: Külföldi értékpapírok kibocsátása
A83: 14.4. | B83: Külföldi hitelek, kölcsönök felvétele
A84: 15. | B84: Váltóbevételek
A85: 16. | B85: Adóssághoz nem kapcsolódó származékos ügyletek bevételei
A86: 17. | B86: FINANSZÍROZÁSI BEVÉTELEK ÖSSZESEN: (10. + … +16.) | C86: =+C63+C67+C72+C75+C79+C85+C84 -> 59599
A87: 18. | B87: KÖLTSÉGVETÉSI ÉS FINANSZÍROZÁSI BEVÉTELEK ÖSSZESEN: (9+17) | C87: =+C62+C86 -> 315523
A89: K I A D Á S O K
A90: 2. sz. táblázat | C90: Ezer forintban
A91: Sor- szám | B91: Kiadási jogcímek | C91: =+C3 -> 2016. évi előirányzat
B92: A | C92: B
A93: 1. | B93: Működési költségvetés kiadásai (1.1+…+1.5.+1.18.) | C93: =C94+C95+C96+C97+C98+C111 -> 294623
A94: 1.1. | B94: Személyi juttatások | C94: 100875
A95: 1.2. | B95: Munkaadókat terhelő járulékok és szociális hozzájárulási adó | C95: 24775
A96: 1.3. | B96: Dologi kiadások | C96: 102862
A97: 1.4. | B97: Ellátottak pénzbeli juttatásai | C97: 26149
A98: 1.5 | B98: Egyéb működési célú kiadások | C98: 34962
A99: 1.6. | B99: - az 1.5-ből: - Előző évi elszámolásból származó befizetések
A100: 1.7. | B100: - Törvényi előíráson alapuló befizetések
A101: 1.8. | B101: - Elvonások és befizetések
...

Sheet 1.3.sz.mell.
A1: B E V É T E L E K
A2: 1. sz. táblázat | C2: Ezer forintban
A3: Sor- szám | B3: Bevételi jogcím | C3: =+CONCATENATE(LEFT(ÖSSZEFÜGGÉSEK!A5,4),". évi előirányzat") -> 2016. évi előirányzat
B4: A | C4: B
A5: 1. | B5: Önkormányzat működési támogatásai (1.1.+…+.1.6.) | C5: =+C6+C7+C8+C9+C10+C11 -> 0
A6: 1.1. | B6: Helyi önkormányzatok működésének általános támogatása
A7: 1.2. | B7: Önkormányzatok egyes köznevelési feladatainak támogatása
A8: 1.3. | B8: Önkormányzatok szociális és gyermekjóléti, étkeztetési feladatainak támogatása
A9: 1.4. | B9: Önkormányzatok kulturális feladatainak támogatása
A10: 1.5. | B10: Működési célú kvi támogatások és kiegészítő támogatások
A11: 1.6. | B11: Elszámolásból származó bevételek
A12: 2. | B12: Működési célú támogatások államháztartáson belülről (2.1.+…+.2.5.) | C12: =+C13+C14+C15+C16+C17 -> 0
A13: 2.1. | B13: Elvonások és befizetések bevételei
A14: 2.2. | B14: Működési célú garancia- és kezességvállalásból megtérülések
A15: 2.3. | B15: Működési célú visszatérítendő támogatások, kölcsönök visszatérülése
A16: 2.4. | B16: Működési célú visszatérítendő támogatások, kölcsönök igénybevétele
A17: 2.5. | B17: Egyéb működési célú támogatások bevételei
A18: 2.6. | B18: 2.5.-ből EU-s támogatás
A19: 3. | B19: Felhalmozási célú támogatások államháztartáson belülről (3.1.+…+3.5.) | C19: =+C20+C21+C22+C23+C24 -> 0
A20: 3.1. | B20: Felhalmozási célú önkormányzati támogatások
A21: 3.2. | B21: Felhalmozási célú garancia- és kezességvállalásból megtérülések
A22: 3.3. | B22: Felhalmozási célú visszatérítendő támogatások, kölcsönök visszatérülése
A23: 3.4. | B23: Felhalmozási célú visszatérítendő támogatások, kölcsönök igénybevétele
A24: 3.5. | B24: Egyéb felhalmozási célú támogatások bevételei
A25: 3.6. | B25: 3.5.-ből EU-s támogatás
A26: 4. | B26: Közhatalmi bevételek (4.1.+…+4.7.) | C26: =SUM(C27:C33) -> 0
A27: 4.1. | B27: Építményadó
A28: 4.2. | B28: Idegenforgalmi adó
A29: 4.3. | B29: Iparűzési adó
A30: 4.4. | B30: Talajterhelési díj
A31: 4.5. | B31: Gépjárműadó
A32: 4.6. | B32: Egyéb áruhasználati és szolgáltatási adók
A33: 4.7. | B33: Egyéb közhatalmi bevételek
A34: 5. | B34: Működési bevételek (5.1.+…+ 5.11.) | C34: =SUM(C35:C45) -> 0
A35: 5.1. | B35: Készletértékesítés ellenértéke
A36: 5.2. | B36: Szolgáltatások ellenértéke
A37: 5.3. | B37: Közvetített szolgáltatások értéke
A38: 5.4. | B38: Tulajdonosi bevételek
A39: 5.5. | B39: Ellátási díjak
A40: 5.6. | B40: Kiszámlázott általános forgalmi adó
A41: 5.7. | B41: Általános forgalmi adó visszatérítése
A42: 5.8. | B42: Kamatbevételek és más nyereségjellegű bevételek
A43: 5.9. | B43: Egyéb pénzügyi műveletek bevételei
A44: 5.10. | B44: Biztosító által fizetett kártérítés
A45: 5.11. | B45: Egyéb működési bevételek
A46: 6. | B46: Felhalmozási bevételek (6.1.+…+6.5.) | C46: =SUM(C47:C51) -> 0
A47: 6.1. | B47: Immateriális javak értékesítése
A48: 6.2. | B48: Ingatlanok értékesítése
A49: 6.3. | B49: Egyéb tárgyi eszközök értékesítése
A50: 6.4. | B50: Részesedések értékesítése
A51: 6.5. | B51: Részesedések megszűnéséhez kapcsolódó bevételek
A52: 7. | B52: Működési célú átvett pénzeszközök (7.1. + … + 7.3.) | C52: =SUM(C53:C55) -> 0
A53: 7.1. | B53: Működési célú garancia- és kezességvállalásból megtérülések ÁH-n kívülről
A54: 7.2. | B54: Működési célú visszatérítendő támogatások, kölcsönök visszatér. ÁH-n kívülről
A55: 7.3. | B55: Egyéb működési célú átvett pénzeszköz
A56: 7.4. | B56: 7.3.-ból EU-s támogatás (közvetlen)
A57: 8. | B57: Felhalmozási célú átvett pénzeszközök (8.1.+8.2.+8.3.) | C57: =SUM(C58:C60) -> 0
A58: 8.1. | B58: Felhalm. célú garancia- és kezességvállalásból megtérülések ÁH-n kívülről
A59: 8.2. | B59: Felhalm. célú visszatérítendő támogatások, kölcsönök visszatér. ÁH-n kívülről
A60: 8.3. | B60: Egyéb felhalmozási célú átvett pénzeszköz
A61: 8.4. | B61: 8.3.-ból EU-s támogatás (közvetlen)
A62: 9. | B62: KÖLTSÉGVETÉSI BEVÉTELEK ÖSSZESEN: (1+…+8) | C62: =+C5+C12+C19+C26+C34+C46+C52+C57 -> 0
A63: 10. | B63: Hitel-, kölcsönfelvétel államháztartáson kívülről (10.1.+10.3.) | C63: =SUM(C64:C66) -> 0
A64: 10.1. | B64: Hosszú lejáratú hitelek, kölcsönök felvétele
A65: 10.2. | B65: Likviditási célú hitelek, kölcsönök felvétele pénzügyi vállalkozástól
A66: 10.3. | B66: Rövid lejáratú hitelek, kölcsönök felvétele
A67: 11. | B67: Belföldi értékpapírok bevételei (11.1. +…+ 11.4.) | C67: =SUM(C68:C71) -> 0
A68: 11.1. | B68: Forgatási célú belföldi értékpapírok beváltása, értékesítése
A69: 11.2. | B69: Forgatási célú belföldi értékpapírok kibocsátása
A70: 11.3. | B70: Befektetési célú belföldi értékpapírok beváltása, értékesítése
A71: 11.4. | B71: Befektetési célú belföldi értékpapírok kibocsátása
A72: 12. | B72: Maradvány igénybevétele (12.1. + 12.2.) | C72: =SUM(C73:C74) -> 0
A73: 12.1. | B73: Előző év költségvetési maradványának igénybevétele
A74: 12.2. | B74: Előző év vállalkozási maradványának igénybevétele
A75: 13. | B75: Belföldi finanszírozás bevételei (13.1. + … + 13.3.) | C75: =SUM(C76:C78) -> 0
A76: 13.1. | B76: Államháztartáson belüli megelőlegezések
A77: 13.2. | B77: Államháztartáson belüli megelőlegezések törlesztése
A78: 13.3. | B78: Betétek megszüntetése
A79: 14. | B79: Külföldi finanszírozás bevételei (14.1.+…14.4.) | C79: =SUM(C80:C83) -> 0
A80: 14.1. | B80: Forgatási célú külföldi értékpapírok beváltása, értékesítése
A81: 14.2. | B81: Befektetési célú külföldi értékpapírok beváltása, értékesítése
A82: 14.3. | B82: Külföldi értékpapírok kibocsátása
A83: 14.4. | B83: Külföldi hitelek, kölcsönök felvétele
A84: 15. | B84: Váltóbevételek
A85: 16. | B85: Adóssághoz nem kapcsolódó származékos ügyletek bevételei
A86: 17. | B86: FINANSZÍROZÁSI BEVÉTELEK ÖSSZESEN: (10. + … +16.) | C86: =+C63+C67+C72+C75+C79+C85+C84 -> 0
A87: 18. | B87: KÖLTSÉGVETÉSI ÉS FINANSZÍROZÁSI BEVÉTELEK ÖSSZESEN: (9+17) | C87: =+C62+C86 -> 0
A89: K I A D Á S O K
A90: 2. sz. táblázat | C90: Ezer forintban
A91: Sor- szám | B91: Kiadási jogcímek | C91: =+C3 -> 2016. évi előirányzat
B92: A | C92: B
A93: 1. | B93: Működési költségvetés kiadásai (1.1+…+1.5.+1.18.) | C93: =C94+C95+C96+C97+C98+C111 -> 0
A94: 1.1. | B94: Személyi juttatások
A95: 1.2. | B95: Munkaadókat terhelő járulékok és szociális hozzájárulási adó
A96: 1.3. | B96: Dologi kiadások
A97: 1.4. | B97: Ellátottak pénzbeli juttatásai
A98: 1.5 | B98: Egyéb működési célú kiadások
A99: 1.6. | B99: - az 1.5-ből: - Előző évi elszámolásból származó befizetések
A100: 1.7. | B100: - Törvényi előíráson alapuló befizetések
A101: 1.8. | B101: - Elvonások és befizetések
...

Sheet 1.4.sz.mell.
A1: B E V É T E L E K
A2: 1. sz. táblázat | C2: Ezer forintban
A3: Sor- szám | B3: Bevételi jogcím | C3: =+CONCATENATE(LEFT(ÖSSZEFÜGGÉSEK!A5,4),". évi előirányzat") -> 2016. évi előirányzat
B4: A | C4: B
A5: 1. | B5: Önkormányzat működési támogatásai (1.1.+…+.1.6.) | C5: =+C6+C7+C8+C9+C10+C11 -> 0
A6: 1.1. | B6: Helyi önkormányzatok működésének általános támogatása
A7: 1.2. | B7: Önkormányzatok egyes köznevelési feladatainak támogatása
A8: 1.3. | B8: Önkormányzatok szociális és gyermekjóléti, étkeztetési feladatainak támogatása
A9: 1.4. | B9: Önkormányzatok kulturális feladatainak támogatása
A10: 1.5. | B10: Működési célú kvi támogatások és kiegészítő támogatások
A11: 1.6. | B11: Elszámolásból származó bevételek
A12: 2. | B12: Működési célú támogatások államháztartáson belülről (2.1.+…+.2.5.) | C12: =+C13+C14+C15+C16+C17 -> 0
A13: 2.1. | B13: Elvonások és befizetések bevételei
A14: 2.2. | B14: Működési célú garancia- és kezességvállalásból megtérülések
A15: 2.3. | B15: Működési célú visszatérítendő támogatások, kölcsönök visszatérülése
A16: 2.4. | B16: Működési célú visszatérítendő támogatások, kölcsönök igénybevétele
A17: 2.5. | B17: Egyéb működési célú támogatások bevételei
A18: 2.6. | B18: 2.5.-ből EU-s támogatás
A19: 3. | B19: Felhalmozási célú támogatások államháztartáson belülről (3.1.+…+3.5.) | C19: =+C20+C21+C22+C23+C24 -> 0
A20: 3.1. | B20: Felhalmozási célú önkormányzati támogatások
A21: 3.2. | B21: Felhalmozási célú garancia- és kezességvállalásból megtérülések
A22: 3.3. | B22: Felhalmozási célú visszatérítendő támogatások, kölcsönök visszatérülése
A23: 3.4. | B23: Felhalmozási célú visszatérítendő támogatások, kölcsönök igénybevétele
A24: 3.5. | B24: Egyéb felhalmozási célú támogatások bevételei
A25: 3.6. | B25: 3.5.-ből EU-s támogatás
A26: 4. | B26: Közhatalmi bevételek (4.1.+...+4.7.) | C26: =SUM(C27:C33) -> 0
A27: 4.1. | B27: Építményadó
A28: 4.2. | B28: Idegenforgalmi adó
A29: 4.3. | B29: Iparűzési adó
A30: 4.4. | B30: Talajterhelési díj
A31: 4.5. | B31: Gépjárműadó
A32: 4.6. | B32: Egyéb áruhasználati és szolgáltatási adók
A33: 4.7. | B33: Egyéb közhatalmi bevételek
A34: 5. | B34: Működési bevételek (5.1.+…+ 5.11.) | C34: =SUM(C35:C45) -> 0
A35: 5.1. | B35: Készletértékesítés ellenértéke
A36: 5.2. | B36: Szolgáltatások ellenértéke
A37: 5.3. | B37: Közvetített szolgáltatások értéke
A38: 5.4. | B38: Tulajdonosi bevételek
A39: 5.5. | B39: Ellátási díjak
A40: 5.6. | B40: Kiszámlázott általános forgalmi adó
A41: 5.7. | B41: Általános forgalmi adó visszatérítése
A42: 5.8. | B42: Kamatbevételek és más nyereségjellegű bevételek
A43: 5.9. | B43: Egyéb pénzügyi műveletek bevételei
A44: 5.10. | B44: Biztosító által fizetett kártérítés
A45: 5.11. | B45: Egyéb működési bevételek
A46: 6. | B46: Felhalmozási bevételek (6.1.+…+6.5.) | C46: =SUM(C47:C51) -> 0
A47: 6.1. | B47: Immateriális javak értékesítése
A48: 6.2. | B48: Ingatlanok értékesítése
A49: 6.3. | B49: Egyéb tárgyi eszközök értékesítése
A50: 6.4. | B50: Részesedések értékesítése
A51: 6.5. | B51: Részesedések megszűnéséhez kapcsolódó bevételek
A52: 7. | B52: Működési célú átvett pénzeszközök (7.1. + … + 7.3.) | C52: =SUM(C53:C55) -> 0
A53: 7.1. | B53: Működési célú garancia- és kezességvállalásból megtérülések ÁH-n kívülről
A54: 7.2. | B54: Működési célú visszatérítendő támogatások, kölcsönök visszatér. ÁH-n kívülről
A55: 7.3. | B55: Egyéb működési célú átvett pénzeszköz
A56: 7.4. | B56: 7.3.-ból EU-s támogatás (közvetlen)
A57: 8. | B57: Felhalmozási célú átvett pénzeszközök (8.1.+8.2.+8.3.) | C57: =SUM(C58:C60) -> 0
A58: 8.1. | B58: Felhalm. célú garancia- és kezességvállalásból megtérülések ÁH-n kívülről
A59: 8.2. | B59: Felhalm. célú visszatérítendő támogatások, kölcsönök visszatér. ÁH-n kívülről
A60: 8.3. | B60: Egyéb felhalmozási célú átvett pénzeszköz
A61: 8.4. | B61: 8.3.-ból EU-s támogatás (közvetlen)
A62: 9. | B62: KÖLTSÉGVETÉSI BEVÉTELEK ÖSSZESEN: (1+…+8) | C62: =+C5+C12+C19+C26+C34+C46+C52+C57 -> 0
A63: 10. | B63: Hitel-, kölcsönfelvétel államháztartáson kívülről (10.1.+10.3.) | C63: =SUM(C64:C66) -> 0
A64: 10.1. | B64: Hosszú lejáratú hitelek, kölcsönök felvétele
A65: 10.2. | B65: Likviditási célú hitelek, kölcsönök felvétele pénzügyi vállalkozástól
A66: 10.3. | B66: Rövid lejáratú hitelek, kölcsönök felvétele
A67: 11. | B67: Belföldi értékpapírok bevételei (11.1. +…+ 11.4.) | C67: =SUM(C68:C71) -> 0
A68: 11.1. | B68: Forgatási célú belföldi értékpapírok beváltása, értékesítése
A69: 11.2. | B69: Forgatási célú belföldi értékpapírok kibocsátása
A70: 11.3. | B70: Befektetési célú belföldi értékpapírok beváltása, értékesítése
A71: 11.4. | B71: Befektetési célú belföldi értékpapírok kibocsátása
A72: 12. | B72: Maradvány igénybevétele (12.1. + 12.2.) | C72: =SUM(C73:C74) -> 0
A73: 12.1. | B73: Előző év költségvetési maradványának igénybevétele
A74: 12.2. | B74: Előző év vállalkozási maradványának igénybevétele
A75: 13. | B75: Belföldi finanszírozás bevételei (13.1. + … + 13.3.) | C75: =SUM(C76:C78) -> 0
A76: 13.1. | B76: Államháztartáson belüli megelőlegezések
A77: 13.2. | B77: Államháztartáson belüli megelőlegezések törlesztése
A78: 13.3. | B78: Betétek megszüntetése
A79: 14. | B79: Külföldi finanszírozás bevételei (14.1.+…14.4.) | C79: =SUM(C80:C83) -> 0
A80: 14.1. | B80: Forgatási célú külföldi értékpapírok beváltása, értékesítése
A81: 14.2. | B81: Befektetési célú külföldi értékpapírok beváltása, értékesítése
A82: 14.3. | B82: Külföldi értékpapírok kibocsátása
A83: 14.4. | B83: Külföldi hitelek, kölcsönök felvétele
A84: 15. | B84: Váltóbevételek
A85: 16. | B85: Adóssághoz nem kapcsolódó származékos ügyletek bevételei
A86: 17. | B86: FINANSZÍROZÁSI BEVÉTELEK ÖSSZESEN: (10. + … +16.) | C86: =+C63+C67+C72+C75+C79+C85+C84 -> 0
A87: 18. | B87: KÖLTSÉGVETÉSI ÉS FINANSZÍROZÁSI BEVÉTELEK ÖSSZESEN: (9+17) | C87: =+C62+C86 -> 0
A89: K I A D Á S O K
A90: 2. sz. táblázat | C90: Ezer forintban
A91: Sor- szám | B91: Kiadási jogcímek | C91: =+C3 -> 2016. évi előirányzat
B92: A | C92: B
A93: 1. | B93: Működési költségvetés kiadásai (1.1+…+1.5.+1.18.) | C93: =C94+C95+C96+C97+C98+C111 -> 0
A94: 1.1. | B94: Személyi juttatások
A95: 1.2. | B95: Munkaadókat terhelő járulékok és szociális hozzájárulási adó
A96: 1.3. | B96: Dologi kiadások
A97: 1.4. | B97: Ellátottak pénzbeli juttatásai
A98: 1.5 | B98: Egyéb működési célú kiadások
A99: 1.6. | B99: - az 1.5-ből: - Előző évi elszámolásból származó befizetések
A100: 1.7. | B100: - Törvényi előíráson alapuló befizetések
A101: 1.8. | B101: - Elvonások és befizetések
...

Sheet 2.1.sz.mell  
B1: I. Működési célú bevételek és kiadások mérlege (Önkormányzati szinten) | F1: =+CONCATENATE("2.1. melléklet a ………../",LEFT(ÖSSZEFÜGGÉSEK!A5,4),". (II.25.) önkormányzati rendelethez") -> 2.1. melléklet a ………../2016. (II.25.) önkormányzati rendelethez
E2: Ezer forintban !
A3: Sor- szám | B3: Bevételek | D3: Kiadások
B4: Megnevezés | C4: =+'1.1.sz.mell.'!C3 -> 2016. évi előirányzat | D4: Megnevezés | E4: =+C4 -> 2016. évi előirányzat
B5: A | C5: B | D5: C | E5: D
A6: 1. | B6: Önkormányzatok működési támogatásai | C6: 76533 | D6: Személyi juttatások | E6: 100875
A7: 2. | B7: Működési célú támogatások államháztartáson belülről | C7: 16444 | D7: Munkaadókat terhelő járulékok és szociális hozzájárulási adó | E7: 24775
A8: 3. | B8: 2.-ból EU-s támogatás | D8: Dologi kiadások | E8: 102862
A9: 4. | B9: Közhatalmi bevételek | C9: 124730 | D9: Ellátottak pénzbeli juttatásai | E9: 26149
A10: 5. | B10: Működési bevételek | C10: 23217 | D10: Egyéb működési célú kiadások | E10: 34962
A11: 6. | B11: Működési célú átvett pénzeszközök | D11: Tartalékok | E11: 5000
A12: 7. | B12: 6.-ból EU-s támogatás (közvetlen)
A13: 8.
A14: 9.
A15: 10.
A16: 11.
A17: 12.
A18: 13. | B18: Költségvetési bevételek összesen (1.+2.+4.+5.+6.+8.+…+12.) | C18: =SUM(C6:C17) -> 240924 | D18: Költségvetési kiadások összesen (1.+...+12.) | E18: =SUM(E6:E17) -> 294623
A19: 14. | B19: Hiány belső finanszírozásának bevételei (15.+…+18. ) | C19: =+C20+C21+C22+C23 -> 59599 | D19: Értékpapír vásárlása, visszavásárlása
A20: 15. | B20: Költségvetési maradvány igénybevétele | C20: 9923 | D20: Likviditási célú hitelek törlesztése
A21: 16. | B21: Vállalkozási maradvány igénybevétele | D21: Rövid lejáratú hitelek törlesztése
A22: 17. | B22: Betét visszavonásából származó bevétel | D22: Hosszú lejáratú hitelek törlesztése
A23: 18. | B23: Egyéb belső finanszírozási bevételek | C23: 49676 | D23: Kölcsön törlesztése
A24: 19. | B24: Hiány külső finanszírozásának bevételei (20.+…+21.) | C24: =+C25+C26 -> 0 | D24: Forgatási célú belföldi, külföldi értékpapírok vásárlása
A25: 20. | B25: Likviditási célú hitelek, kölcsönök felvétele | D25: Pénzeszközök lekötött betétként elhelyezése
A26: 21. | B26: Értékpapírok bevételei | D26: Adóssághoz nem kapcsolódó származékos ügyletek
A27: 22. | B27: Váltóbevételek | D27: Váltókiadások
A28: 23. | B28: Adóssághoz nem kapcsolódó származékos ügyletek bevételei
A29: 24. | B29: Működési célú finanszírozási bevételek összesen (14.+19.+22.+23.) | C29: =+C19+C24+C27+C28 -> 59599 | D29: Működési célú finanszírozási kiadások összesen (14.+...+23.) | E29: =SUM(E19:E28) -> 0
A30: 25. | B30: BEVÉTEL ÖSSZESEN (13.+24.) | C30: =+C18+C29 -> 300523 | D30: KIADÁSOK ÖSSZESEN (13.+24.) | E30: =+E18+E29 -> 294623
A31: 26. | B31: Költségvetési hiány: | C31: =IF(C18-E18<0,E18-C18,"-") -> 53699 | D31: Költségvetési többlet: | E31: =IF(C18-E18>0,C18-E18,"-") -> -
A32: 27. | B32: Tárgyévi hiány: | C32: =IF(C18+C29-E30<0,E30-(C18+C29),"-") -> - | D32: Tárgyévi többlet: | E32: =IF(C18+C29-E30>0,C18+C29-E30,"-") -> 5900

Sheet 2.2.sz.mell  
B1: II. Felhalmozási célú bevételek és kiadások mérlege (Önkormányzati szinten) | F1: =+CONCATENATE("2.2. melléklet a ………../",LEFT(ÖSSZEFÜGGÉSEK!A5,4),". (II.25.) önkormányzati rendelethez") -> 2.2. melléklet a ………../2016. (II.25.) önkormányzati rendelethez
E2: Ezer forintban !
A3: Sor- szám | B3: Bevételek | D3: Kiadások
B4: Megnevezés | C4: =+'2.1.sz.mell '!C4 -> 2016. évi előirányzat | D4: Megnevezés | E4: =+'2.1.sz.mell '!C4 -> 2016. évi előirányzat
B5: A | C5: B | D5: C | E5: D
A6: 1. | B6: Felhalmozási célú támogatások államháztartáson belülről | D6: Beruházások | E6: 9554
A7: 2. | B7: 1.-ből EU-s támogatás | D7: 1.-ből EU-s forrásból megvalósuló beruházás
A8: 3. | B8: Felhalmozási bevételek | C8: 15000 | D8: Felújítások | E8: 5446
A9: 4. | B9: Felhalmozási célú átvett pénzeszközök átvétele | D9: 3.-ból EU-s forrásból megvalósuló felújítás
A10: 5. | B10: 4.-ből EU-s támogatás (közvetlen) | D10: Egyéb felhalmozási kiadások | E10: 5900
A11: 6. | B11: Egyéb felhalmozási célú bevételek
A12: 7.
A13: 8.
A14: 9.
A15: 10.
A16: 11. | D16: Tartalékok
A17: 12. | B17: Költségvetési bevételek összesen: (1.+3.+4.+6.+…+11.) | C17: =+C6+C8+C9+C11+C12+C13+C14+C15+C16 -> 15000 | D17: Költségvetési kiadások összesen: (1.+3.+5.+...+11.) | E17: =+E6+E8+E10+E11+E12+E13+E14+E15+E16 -> 20900
A18: 13. | B18: Hiány belső finanszírozás bevételei ( 14+…+18) | C18: =+C19+C20+C21+C22+C23 -> 0 | D18: Értékpapír vásárlása, visszavásárlása
A19: 14. | B19: Költségvetési maradvány igénybevétele | D19: Hitelek törlesztése
A20: 15. | B20: Vállalkozási maradvány igénybevétele | D20: Rövid lejáratú hitelek törlesztése
A21: 16. | B21: Betét visszavonásából származó bevétel | D21: Hosszú lejáratú hitelek törlesztése
A22: 17. | B22: Értékpapír értékesítése | D22: Kölcsön törlesztése
A23: 18. | B23: Egyéb belső finanszírozási bevételek | D23: Befektetési célú belföldi, külföldi értékpapírok vásárlása
A24: 19. | B24: Hiány külső finanszírozásának bevételei (20+…+24 ) | C24: =+C25+C26+C27+C28+C29 -> 0 | D24: Betét elhelyezése
A25: 20. | B25: Hosszú lejáratú hitelek, kölcsönök felvétele | D25: Pénzügyi lízing kiadásai
A26: 21. | B26: Likviditási célú hitelek, kölcsönök felvétele
A27: 22. | B27: Rövid lejáratú hitelek, kölcsönök felvétele
A28: 23. | B28: Értékpapírok kibocsátása
A29: 24. | B29: Egyéb külső finanszírozási bevételek
A30: 25. | B30: Felhalmozási célú finanszírozási bevételek összesen (13.+19.) | C30: =+C18+C24 -> 0 | D30: Felhalmozási célú finanszírozási kiadások összesen (13.+...+24.) | E30: =SUM(E18:E29) -> 0
A31: 26. | B31: BEVÉTEL ÖSSZESEN (12+25) | C31: =+C17+C30 -> 15000 | D31: KIADÁSOK ÖSSZESEN (12+25) | E31: =+E17+E30 -> 20900
A32: 27. | B32: Költségvetési hiány: | C32: =IF(C17-E17<0,E17-C17,"-") -> 5900 | D32: Költségvetési többlet: | E32: =IF(C17-E17>0,C17-E17,"-") -> -
A33: 28. | B33: Tárgyévi hiány: | C33: =IF(C17+C30-E26<0,E26-(C17+C30),"-") -> - | D33: Tárgyévi többlet: | E33: =IF(C17+C30-E26>0,C17+C30-E26,"-") -> 15000

Sheet ELLENŐRZÉS-1.sz.2.a.sz.2.b.sz.
A1: Költségvetési rendelet űrlapjainak összefüggései: | E1: ELTÉRÉS
A4: =+ÖSSZEFÜGGÉSEK!A5 -> 2016. évi előirányzat BEVÉTELEK
A6: 1.1. sz. melléklet Bevételek táblázat C. oszlop 9 sora = | B6: =+'1.1.sz.mell.'!C62 -> 255924 | C6: 2.1. számú melléklet C. oszlop 13. sor + 2.2. számú melléklet C. oszlop 12. sor | D6: =+'2.1.sz.mell '!C18+'2.2.sz.mell '!C17 -> 255924 | E6: =+B6-D6 -> 0
A7: 1.1. sz. melléklet Bevételek táblázat C. oszlop 17 sora = | B7: =+'1.1.sz.mell.'!C86 -> 59599 | C7: 2.1. számú melléklet C. oszlop 24. sor + 2.2. számú melléklet C. oszlop 25. sor | D7: =+'2.1.sz.mell '!C29+'2.2.sz.mell '!C30 -> 59599 | E7: =+B7-D7 -> 0
A8: 1.1. sz. melléklet Bevételek táblázat C. oszlop 18 sora = | B8: =+'1.1.sz.mell.'!C87 -> 315523 | C8: 2.1. számú melléklet C. oszlop 25. sor + 2.2. számú melléklet C. oszlop 26. sor | D8: =+'2.1.sz.mell '!C30+'2.2.sz.mell '!C31 -> 315523 | E8: =+B8-D8 -> 0
A11: =+ÖSSZEFÜGGÉSEK!A12 -> 2016. évi előirányzat KIADÁSOK
A13: 1.1. sz. melléklet Kiadások táblázat C. oszlop 3 sora = | B13: =+'1.1.sz.mell.'!C128 -> 315523 | C13: 2.1. számú melléklet E. oszlop 13. sor + 2.2. számú melléklet E. oszlop 12. sor | D13: =+'2.1.sz.mell '!E18+'2.2.sz.mell '!E17 -> 315523 | E13: =+B13-D13 -> 0
A14: 1.1. sz. melléklet Kiadások táblázat C. oszlop 10 sora = | B14: =+'1.1.sz.mell.'!C153 -> 0 | C14: 2.1. számú melléklet E. oszlop 24. sor + 2.2. számú melléklet E. oszlop 25. sor | D14: =+'2.1.sz.mell '!E29+'2.2.sz.mell '!E30 -> 0 | E14: =+B14-D14 -> 0
A15: 1.1. sz. melléklet Kiadások táblázat C. oszlop 11 sora = | B15: =+'1.1.sz.mell.'!C154 -> 315523 | C15: 2.1. számú melléklet E. oszlop 25. sor + 2.2. számú melléklet E. oszlop 26. sor | D15: =+'2.1.sz.mell '!E30+'2.2.sz.mell '!E31 -> 315523 | E15: =+B15-D15 -> 0

Sheet 3.sz.mell.  
A1: Sajószöged Község Önkormányzata adósságot keletkeztető ügyletekből és kezességvállalásokból fennálló kötelezettségei
E2: Ezer forintban !
A3: Sor-szám | B3: MEGNEVEZÉS | C3: Évek | F3: Összesen (F=C+D+E)
C4: =+LEFT(ÖSSZEFÜGGÉSEK!A5,4)+1 -> 2017 | D4: =+C4+1 -> 2018 | E4: =+D4+1 -> 2019
B5: A | C5: B | D5: C | E5: D | F5: E
A6: 1. | B6: ------- | F6: =SUM(C6:E6) -> 0
A7: 2. | F7: =SUM(C7:E7) -> 0
A8: 3. | F8: =SUM(C8:E8) -> 0
A9: 4. | F9: =SUM(C9:E9) -> 0
A10: 5. | F10: =SUM(C10:E10) -> 0
A11: 6. | B11: ÖSSZES KÖTELEZETTSÉG | C11: =SUM(C6:C10) -> 0 | D11: =SUM(D6:D10) -> 0 | E11: =SUM(E6:E10) -> 0 | F11: =SUM(F6:F10) -> 0

Sheet 4.sz.mell.
A1: Sajószöged Község Önkormányzata saját bevételeinek részletezése az adósságot keletkeztető ügyletből származó tárgyévi fizetési kötelezettség megállapításához
C2: Ezer forintban !
A3: Sor-szám | B3: Bevételi jogcímek | C3: =+'1.1.sz.mell.'!C3 -> 2016. évi előirányzat
B4: A | C4: B
A5: 1. | B5: Helyi adóból és a települési adóból származó bevétel | C5: 117500
A6: 2. | B6: Az önkormányzati vagyon és az önkormányzatot megillető vagyoni értékű jog értékesítéséből és hasznosításából származó bevétel
A7: 3. | B7: Osztalék, koncessziós díj és hozambevétel
A8: 4. | B8: Tárgyi eszköz és az immateriális jószág, részvény, részesedés, vállalat értékesítéséből vagy privatizációból származó bevétel | C8: 15000
A9: 5. | B9: Bírság-, pótlék- és díjbevétel
A10: 6. | B10: Kezesség-, illetve garanciavállalással kapcsolatos megtérülés
A11: SAJÁT BEVÉTELEK ÖSSZESEN* | C11: =SUM(C5:C10) -> 132500
A12: *Az adósságot keletkeztető ügyletekhez történő hozzájárulás részletes szabályairól szóló 353/2011. (XII.31.) Korm. Rendelet 2.§ (1) bekezdése alapján.

Sheet 5.sz.mell.
A1: Sajószöged Község Önkormányzata 2016. évi adósságot keletkeztető fejlesztési céljai
C2: Ezer forintban !
A3: Sor-szám | B3: Fejlesztési cél leírása | C3: Fejlesztés várható kiadása
B4: A | C4: B
A5: 1. | B5: ---------------------------------
A6: 2.
A7: 3.
A8: 4. | B8: ADÓSSÁGOT KELETKEZTETŐ ÜGYLETEK VÁRHATÓ EGYÜTTES ÖSSZEGE | C8: =SUM(C5:C7) -> 0

Sheet 6.sz.mell.
A1: Beruházási (felhalmozási) kiadások előirányzata beruházásonként
F2: Ezer forintban !
A3: Beruházás megnevezése | B3: Teljes költség | C3: Kivitelezés kezdési és befejezési éve | D3: =+CONCATENATE("Felhasználás ",LEFT(ÖSSZEFÜGGÉSEK!A5,4)-1,". XII. 31-ig") -> Felhasználás 2015. XII. 31-ig | E3: =+'1.1.sz.mell.'!C3 -> 2016. évi előirányzat | F3: =+CONCATENATE(LEFT(ÖSSZEFÜGGÉSEK!A5,4),". utáni szükséglet") -> 2016. utáni szükséglet
A4: A | B4: B | C4: C | D4: D | E4: E | F4: F=(B-D-E)
A5: Térfigyelő kamerarendszer beüzemelése | B5: 3665 | C5: 2014-2015 | D5: 2636 | E5: 1029 | F5: =B5-D5-E5 -> 0
A6: Szabadidőpark villamos hálózat fejlesztése | B6: 1000 | C6: 2015-2015 | E6: 1000 | F6: =B6-D6-E6 -> 0
A7: Művelődési Háznál elektromos csatlakozó szekrény kiép. | B7: 560 | C7: 2015-2015. | E7: 560 | F7: =B7-D7-E7 -> 0
A8: Járdaprogram | B8: 2000 | C8: 2015-2015 | E8: 2000 | F8: =B8-D8-E8 -> 0
F9: =B9-D9-E9 -> 0
F10: =B10-D10-E10 -> 0
F11: =B11-D11-E11 -> 0
F12: =B12-D12-E12 -> 0
F13: =B13-D13-E13 -> 0
F14: =B14-D14-E14 -> 0
F15: =B15-D15-E15 -> 0
F16: =B16-D16-E16 -> 0
F17: =B17-D17-E17 -> 0
F18: =B18-D18-E18 -> 0
F19: =B19-D19-E19 -> 0
F20: =B20-D20-E20 -> 0
... F22: =B22-D22-E22 -> 0
A23: ÖSSZESEN: | B23: =SUM(B5:B22) -> 7225 | D23: =SUM(D5:D22) -> 2636 | E23: =SUM(E5:E22) -> 4589 | F23: =SUM(F5:F22) -> 0

Sheet 7.sz.mell.
A1: Felújítási kiadások előirányzata felújításonként
F2: Ezer forintban !
A3: Felújítás megnevezése | B3: Teljes költség | C3: Kivitelezés kezdési és befejezési éve | D3: =+'6.sz.mell.'!D3 -> Felhasználás 2015. XII. 31-ig | E3: =+'6.sz.mell.'!E3 -> 2016. évi előirányzat | F3: =+CONCATENATE(LEFT(ÖSSZEFÜGGÉSEK!A5,4),". utáni szükséglet ",CHAR(10),"") -> 2016. utáni szükséglet
A4: A | B4: B | C4: C | D4: D | E4: E | F4: F=(B-D-E)
A5: Belterületi utak felújítása | B5: 1346 | C5: 2016-2016 | E5: 1346 | F5: =B5-D5-E5 -> 0
A6: Iskolai tetőtéri ablakok cseréje | B6: 1000 | C6: 2016-2016 | E6: 1000 | F6: =B6-D6-E6 -> 0
A7: Teraszkorlát felújítás (PH) | B7: 400 | C7: 2016-2016 | E7: 400 | F7: =B7-D7-E7 -> 0
A8: Tűzlétra és kémény átépítés óvodaépület | B8: 700 | C8: 2016-2019 | E8: 700 | F8: =B8-D8-E8 -> 0
A9: Művelődési Ház fűtéskorszerűsítés és kazáncsere | B9: 2000 | C9: 2016-2016 | E9: 2000 | F9: =B9-D9-E9 -> 0
F10: =B10-D10-E10 -> 0
F11: =B11-D11-E11 -> 0
F12: =B12-D12-E12 -> 0
F13: =B13-D13-E13 -> 0
F14: =B14-D14-E14 -> 0
F15: =B15-D15-E15 -> 0
F16: =B16-D16-E16 -> 0
F17: =B17-D17-E17 -> 0
F18: =B18-D18-E18 -> 0
F19: =B19-D19-E19 -> 0
F20: =B20-D20-E20 -> 0
F21: =B21-D21-E21 -> 0
... F23: =B23-D23-E23 -> 0
A24: ÖSSZESEN: | B24: =SUM(B5:B23) -> 5446 | D24: =SUM(D5:D23) -> 0 | E24: =SUM(E5:E23) -> 5446 | F24: =SUM(F5:F23) -> 0

Sheet 8. sz. mell. 
A2: EU-s projekt neve, azonosítója:
D3: Ezer forintban!
A4: Források | B4: =CONCATENATE((LEFT(ÖSSZEFÜGGÉSEK!A5,4)),".") -> 2016. | C4: =CONCATENATE((LEFT(ÖSSZEFÜGGÉSEK!A5,4))+1,".") -> 2017. | D4: =CONCATENATE((LEFT(ÖSSZEFÜGGÉSEK!A5,4))+1,". után") -> 2017. után | E4: Összesen
A5: Saját erő | B5: 0 | E5: =SUM(B5:D5) -> 0
A6: - saját erőből központi támogatás | E6: =SUM(B6:D6) -> 0
A7: EU-s forrás | E7: =SUM(B7:D7) -> 0
A8: Társfinanszírozás | E8: =SUM(B8:D8) -> 0
A9: Hitel | E9: =SUM(B9:D9) -> 0
A10: Egyéb forrás | E10: =SUM(B10:D10) -> 0
E11: =SUM(B11:D11) -> 0
A12: Források összesen: | B12: =B5+SUM(B7:B11) -> 0 | C12: =C5+SUM(C7:C11) -> 0 | D12: =D5+SUM(D7:D11) -> 0 | E12: =E5+SUM(E7:E11) -> 0
A14: Kiadások, költségek | B14: =+B4 -> 2016. | C14: =+C4 -> 2017. | D14: =+D4 -> 2017. után | E14: Összesen
A15: Személyi jellegű | B15: 0 | E15: =SUM(B15:D15) -> 0
A16: Beruházások, beszerzések | E16: =SUM(B16:D16) -> 0
A17: Szolgáltatások igénybe vétele | E17: =SUM(B17:D17) -> 0
A18: Adminisztratív költségek | E18: =SUM(B18:D18) -> 0
E19: =SUM(B19:D19) -> 0
E20: =SUM(B20:D20) -> 0
E21: =SUM(B21:D21) -> 0
A22: Összesen: | B22: =SUM(B15:B21) -> 0 | C22: =SUM(C15:C21) -> 0 | D22: =SUM(D15:D21) -> 0 | E22: =SUM(E15:E21) -> 0
A25: EU-s projekt neve, azonosítója:
D26: Ezer forintban!
A27: Források | B27: =+B14 -> 2016. | C27: =+C14 -> 2017. | D27: =+D14 -> 2017. után | E27: Összesen
A28: Saját erő | E28: =SUM(B28:D28) -> 0
A29: - saját erőből központi támogatás | E29: =SUM(B29:D29) -> 0
A30: EU-s forrás | E30: =SUM(B30:D30) -> 0
A31: Társfinanszírozás | E31: =SUM(B31:D31) -> 0
A32: Hitel | E32: =SUM(B32:D32) -> 0
A33: Egyéb forrás | E33: =SUM(B33:D33) -> 0
E34: =SUM(B34:D34) -> 0
A35: Források összesen: | B35: =B28+SUM(B30:B34) -> 0 | C35: =C28+SUM(C30:C34) -> 0 | D35: =D28+SUM(D30:D34) -> 0 | E35: =E28+SUM(E30:E34) -> 0
A37: Kiadások, költségek | B37: =+B27 -> 2016. | C37: =+C27 -> 2017. | D37: =+D27 -> 2017. után | E37: Összesen
A38: Személyi jellegű | E38: =SUM(B38:D38) -> 0
A39: Beruházások, beszerzések | E39: =SUM(B39:D39) -> 0
A40: Szolgáltatások igénybe vétele | E40: =SUM(B40:D40) -> 0
A41: Adminisztratív költségek | E41: =SUM(B41:D41) -> 0
E42: =SUM(B42:D42) -> 0
E43: =SUM(B43:D43) -> 0
E44: =SUM(B44:D44) -> 0
A45: Összesen: | B45: =SUM(B38:B44) -> 0 | C45: =SUM(C38:C44) -> 0 | D45: =SUM(D38:D44) -> 0 | E45: =SUM(E38:E44) -> 0
A47: =+CONCATENATE("Önkormányzaton kívüli EU-s projektekhez történő hozzájárulás ",LEFT(ÖSSZEFÜGGÉSEK!A5,4),". évi előirányzat") -> Önkormányzaton kívüli EU-s projektekhez történő hozzájárulás 2016. évi előirányzat
A49: Támogatott neve | D49: Hozzájárulás (E Ft)
D50: 0
A52: Összesen: | D52: =SUM(D50:E51) -> 0

Sheet 9.1. sz. mell
C1: =+CONCATENATE("9.1. melléklet a ……/",LEFT(ÖSSZEFÜGGÉSEK!A5,4),". (II.25.) önkormányzati rendelethez") -> 9.1. melléklet a ……/2016. (II.25.) önkormányzati rendelethez
A2: Megnevezés | B2: Önkormányzat | C2: 01
A3: Feladat megnevezése | B3: Összes bevétel, kiadás | C3: 01
C4: Ezer forintban !
A5: Száma | B5: Kiemelt előirányzat, előirányzat megnevezése | C5: Előirányzat
B6: A | C6: B
B7: Bevételek
A8: 1. | B8: Önkormányzat működési támogatásai (1.1.+…+.1.6.) | C8: =+C9+C10+C11+C12+C13+C14 -> 76533
A9: 1.1. | B9: Helyi önkormányzatok működésének általános támogatása | C9: 20129
A10: 1.2. | B10: Önkormányzatok egyes köznevelési feladatainak támogatása | C10: 24829
A11: 1.3. | B11: Önkormányzatok szociális és gyermekjóléti, étkeztetési feladatainak támogatása | C11: 29066
A12: 1.4. | B12: Önkormányzatok kulturális feladatainak támogatása | C12: 2509
A13: 1.5. | B13: Működési célú kvi támogatások és kiegészítő támogatások
A14: 1.6. | B14: Elszámolásból származó bevételek
A15: 2. | B15: Működési célú támogatások államháztartáson belülről (2.1.+…+.2.5.) | C15: =+C16+C17+C18+C19+C20 -> 16444
A16: 2.1. | B16: Elvonások és befizetések bevételei
A17: 2.2. | B17: Működési célú garancia- és kezességvállalásból megtérülések
A18: 2.3. | B18: Működési célú visszatérítendő támogatások, kölcsönök visszatérülése
A19: 2.4. | B19: Működési célú visszatérítendő támogatások, kölcsönök igénybevétele
A20: 2.5. | B20: Egyéb működési célú támogatások bevételei | C20: 16444
A21: 2.6. | B21: 2.5.-ből EU-s támogatás
A22: 3. | B22: Felhalmozási célú támogatások államháztartáson belülről (3.1.+…+3.5.) | C22: =+C23+C24+C25+C26+C27 -> 0
A23: 3.1. | B23: Felhalmozási célú önkormányzati támogatások
A24: 3.2. | B24: Felhalmozási célú garancia- és kezességvállalásból megtérülések
A25: 3.3. | B25: Felhalmozási célú visszatérítendő támogatások, kölcsönök visszatérülése
A26: 3.4. | B26: Felhalmozási célú visszatérítendő támogatások, kölcsönök igénybevétele
A27: 3.5. | B27: Egyéb felhalmozási célú támogatások bevételei
A28: 3.6. | B28: 3.5.-ből EU-s támogatás
A29: 4. | B29: Közhatalmi bevételek (4.1.+...+4.7.) | C29: =C30+C31+C32+C33+C34+C35+C36 -> 124700
A30: 4.1. | B30: Vagyoni típusú adók | C30: 32500
A31: 4.2. | B31: Idegenforgalmi adó
A32: 4.3. | B32: Iparűzési adó | C32: 85000
A33: 4.4. | B33: Talajterhelési díj | C33: 200
A34: 4.5. | B34: Gépjárműadó | C34: 7000
A35: 4.6. | B35: Egyéb áruhasználati és szolgáltatási adók
A36: 4.7. | B36: Egyéb közhatalmi bevételek
A37: 5. | B37: Működési bevételek (5.1.+…+ 5.11.) | C37: =SUM(C38:C48) -> 23117
A38: 5.1. | B38: Készletértékesítés ellenértéke
A39: 5.2. | B39: Szolgáltatások ellenértéke | C39: 1570
A40: 5.3. | B40: Közvetített szolgáltatások értéke | C40: 800
A41: 5.4. | B41: Tulajdonosi bevételek
A42: 5.5. | B42: Ellátási díjak | C42: 15896
A43: 5.6. | B43: Kiszámlázott általános forgalmi adó | C43: 4851
A44: 5.7. | B44: Általános forgalmi adó visszatérítése
A45: 5.8. | B45: Kamatbevételek és más nyereségjellegű bevételek
A46: 5.9. | B46: Egyéb pénzügyi műveletek bevételei
A47: 5.10. | B47: Biztosító által fizetett kártérítés
A48: 5.11. | B48: Egyéb működési bevételek
A49: 6. | B49: Felhalmozási bevételek (6.1.+…+6.5.) | C49: =SUM(C50:C54) -> 15000
A50: 6.1. | B50: Immateriális javak értékesítése
A51: 6.2. | B51: Ingatlanok értékesítése | C51: 15000
A52: 6.3. | B52: Egyéb tárgyi eszközök értékesítése
A53: 6.4. | B53: Részesedések értékesítése
A54: 6.5. | B54: Részesedések megszűnéséhez kapcsolódó bevételek
A55: 7. | B55: Működési célú átvett pénzeszközök (7.1. + … + 7.3.) | C55: =SUM(C56:C58) -> 0
A56: 7.1. | B56: Működési célú garancia- és kezességvállalásból megtérülések ÁH-n kívülről
A57: 7.2. | B57: Működési célú visszatérítendő támogatások, kölcsönök visszatér. ÁH-n kívülről
A58: 7.3. | B58: Egyéb működési célú átvett pénzeszköz
A59: 7.4. | B59: 7.3.-ból EU-s támogatás (közvetlen)
A60: 8. | B60: Felhalmozási célú átvett pénzeszközök (8.1.+8.2.+8.3.) | C60: =SUM(C61:C63) -> 0
A61: 8.1. | B61: Felhalm. célú garancia- és kezességvállalásból megtérülések ÁH-n kívülről
A62: 8.2. | B62: Felhalm. célú visszatérítendő támogatások, kölcsönök visszatér. ÁH-n kívülről
A63: 8.3. | B63: Egyéb felhalmozási célú átvett pénzeszköz
A64: 8.4. | B64: 8.3.-ból EU-s támogatás (közvetlen)
A65: 9. | B65: KÖLTSÉGVETÉSI BEVÉTELEK ÖSSZESEN: (1+…+8) | C65: =+C8+C15+C22+C29+C37+C49+C55+C60 -> 255794
A66: 10. | B66: Hitel-, kölcsönfelvétel államháztartáson kívülről (10.1.+10.3.) | C66: =SUM(C67:C69) -> 0
A67: 10.1. | B67: Hosszú lejáratú hitelek, kölcsönök felvétele
A68: 10.2. | B68: Likviditási célú hitelek, kölcsönök felvétele pénzügyi vállalkozástól
A69: 10.3. | B69: Rövid lejáratú hitelek, kölcsönök felvétele
A70: 11. | B70: Belföldi értékpapírok bevételei (11.1. +…+ 11.4.) | C70: =SUM(C71:C74) -> 49676
A71: 11.1. | B71: Forgatási célú belföldi értékpapírok beváltása, értékesítése | C71: 49676
A72: 11.2. | B72: Forgatási célú belföldi értékpapírok kibocsátása
A73: 11.3. | B73: Befektetési célú belföldi értékpapírok beváltása, értékesítése
A74: 11.4. | B74: Befektetési célú belföldi értékpapírok kibocsátása
A75: 12. | B75: Maradvány igénybevétele (12.1. + 12.2.) | C75: =SUM(C76:C77) -> 6804
A76: 12.1. | B76: Előző év költségvetési maradványának igénybevétele | C76: 6804
A77: 12.2. | B77: Előző év vállalkozási maradványának igénybevétele
A78: 13. | B78: Belföldi finanszírozás bevételei (13.1. + … + 13.3.) | C78: =SUM(C79:C81) -> 0
A79: 13.1. | B79: Államháztartáson belüli megelőlegezések
A80: 13.2. | B80: Államháztartáson belüli megelőlegezések törlesztése
A81: 13.3. | B81: Betétek megszüntetése
A82: 14. | B82: Külföldi finanszírozás bevételei (14.1.+…14.4.) | C82: =SUM(C83:C86) -> 0
A83: 14.1. | B83: Forgatási célú külföldi értékpapírok beváltása, értékesítése
A84: 14.2. | B84: Befektetési célú külföldi értékpapírok beváltása, értékesítése
A85: 14.3. | B85: Külföldi értékpapírok kibocsátása
A86: 14.4. | B86: Külföldi hitelek, kölcsönök felvétele
A87: 15. | B87: Váltóbevételek
A88: 16. | B88: Adóssághoz nem kapcsolódó származékos ügyletek bevételei
A89: 17. | B89: FINANSZÍROZÁSI BEVÉTELEK ÖSSZESEN: (10. + … +16.) | C89: =+C66+C70+C75+C78+C82+C88+C87 -> 56480
A90: 18. | B90: BEVÉTELEK ÖSSZESEN: (9+17) | C90: =+C65+C89 -> 312274
B92: Kiadások
A93: 1. | B93: Működési költségvetés kiadásai (1.1+…+1.5+1.18.) | C93: =+C94+C95+C96+C97+C98+C111 -> 176391
A94: 1.1. | B94: Személyi juttatások | C94: 36656
A95: 1.2. | B95: Munkaadókat terhelő járulékok és szociális hozzájárulási adó | C95: 7878
A96: 1.3. | B96: Dologi kiadások | C96: 65746
A97: 1.4. | B97: Ellátottak pénzbeli juttatásai | C97: 26149
A98: 1.5 | B98: Egyéb működési célú kiadások | C98: 34962
A99: 1.6. | B99: az 1.5-ből: - Előző évi elszámolásból származó befizetések
A100: 1.7. | B100: - Törvényi előíráson alapuló befizetések
A101: 1.8. | B101: - Elvonások és befizetések
...

Sheet 9.1.1. sz. mell 
C1: =+CONCATENATE("9.1.1. melléklet a ……/",LEFT(ÖSSZEFÜGGÉSEK!A5,4),". (II.25.) önkormányzati rendelethez") -> 9.1.1. melléklet a ……/2016. (II.25.) önkormányzati rendelethez
A2: Megnevezés | B2: Önkormányzat | C2: 01
A3: Feladat megnevezése | B3: Kötelező feladatok bevételei, kiadása | C3: 02
C4: Ezer forintban !
A5: Száma | B5: Kiemelt előirányzat, előirányzat megnevezése | C5: Előirányzat
B6: A | C6: B
B7: Bevételek
A8: 1. | B8: Önkormányzat működési támogatásai (1.1.+…+.1.6.) | C8: =+C9+C10+C11+C12+C13+C14 -> 76533
A9: 1.1. | B9: Helyi önkormányzatok működésének általános támogatása | C9: 20129
A10: 1.2. | B10: Önkormányzatok egyes köznevelési feladatainak támogatása | C10: 24829
A11: 1.3. | B11: Önkormányzatok szociális és gyermekjóléti, étkeztetési feladatainak támogatása | C11: 29066
A12: 1.4. | B12: Önkormányzatok kulturális feladatainak támogatása | C12: 2509
A13: 1.5. | B13: Működési célú kvi támogatások és kiegészítő támogatások
A14: 1.6. | B14: Elszámolásból származó bevételek
A15: 2. | B15: Működési célú támogatások államháztartáson belülről (2.1.+…+.2.5.) | C15: =+C16+C17+C18+C19+C20 -> 16444
A16: 2.1. | B16: Elvonások és befizetések bevételei
A17: 2.2. | B17: Működési célú garancia- és kezességvállalásból megtérülések
A18: 2.3. | B18: Működési célú visszatérítendő támogatások, kölcsönök visszatérülése
A19: 2.4. | B19: Működési célú visszatérítendő támogatások, kölcsönök igénybevétele
A20: 2.5. | B20: Egyéb működési célú támogatások bevételei | C20: 16444
A21: 2.6. | B21: 2.5.-ből EU-s támogatás
A22: 3. | B22: Felhalmozási célú támogatások államháztartáson belülről (3.1.+…+3.5.) | C22: =+C23+C24+C25+C26+C27 -> 0
A23: 3.1. | B23: Felhalmozási célú önkormányzati támogatások
A24: 3.2. | B24: Felhalmozási célú garancia- és kezességvállalásból megtérülések
A25: 3.3. | B25: Felhalmozási célú visszatérítendő támogatások, kölcsönök visszatérülése
A26: 3.4. | B26: Felhalmozási célú visszatérítendő támogatások, kölcsönök igénybevétele
A27: 3.5. | B27: Egyéb felhalmozási célú támogatások bevételei
A28: 3.6. | B28: 3.5.-ből EU-s támogatás
A29: 4. | B29: Közhatalmi bevételek (4.1.+...+4.7.) | C29: =SUM(C30:C36) -> 124700
A30: 4.1. | B30: Vagyoni típusú adók | C30: 32500
A31: 4.2. | B31: Idegenforgalmi adó
A32: 4.3. | B32: Iparűzési adó | C32: 85000
A33: 4.4. | B33: Talajterhelési díj | C33: 200
A34: 4.5. | B34: Gépjárműadó | C34: 7000
A35: 4.6. | B35: Egyéb áruhasználati és szolgáltatási adók
A36: 4.7. | B36: Egyéb közhatalmi bevételek
A37: 5. | B37: Működési bevételek (5.1.+…+ 5.11.) | C37: =SUM(C38:C48) -> 23117
A38: 5.1. | B38: Készletértékesítés ellenértéke
A39: 5.2. | B39: Szolgáltatások ellenértéke | C39: 1570
A40: 5.3. | B40: Közvetített szolgáltatások értéke | C40: 800
A41: 5.4. | B41: Tulajdonosi bevételek
A42: 5.5. | B42: Ellátási díjak | C42: 15896
A43: 5.6. | B43: Kiszámlázott általános forgalmi adó | C43: 4851
A44: 5.7. | B44: Általános forgalmi adó visszatérítése
A45: 5.8. | B45: Kamatbevételek és más nyereségjellegű bevételek
A46: 5.9. | B46: Egyéb pénzügyi műveletek bevételei
A47: 5.10. | B47: Biztosító által fizetett kártérítés
A48: 5.11. | B48: Egyéb működési bevételek
A49: 6. | B49: Felhalmozási bevételek (6.1.+…+6.5.) | C49: =SUM(C50:C54) -> 15000
A50: 6.1. | B50: Immateriális javak értékesítése
A51: 6.2. | B51: Ingatlanok értékesítése | C51: 15000
A52: 6.3. | B52: Egyéb tárgyi eszközök értékesítése
A53: 6.4. | B53: Részesedések értékesítése
A54: 6.5. | B54: Részesedések megszűnéséhez kapcsolódó bevételek
A55: 7. | B55: Működési célú átvett pénzeszközök (7.1. + … + 7.3.) | C55: =SUM(C56:C58) -> 0
A56: 7.1. | B56: Működési célú garancia- és kezességvállalásból megtérülések ÁH-n kívülről
A57: 7.2. | B57: Működési célú visszatérítendő támogatások, kölcsönök visszatér. ÁH-n kívülről
A58: 7.3. | B58: Egyéb működési célú átvett pénzeszköz
A59: 7.4. | B59: 7.3.-ból EU-s támogatás (közvetlen)
A60: 8. | B60: Felhalmozási célú átvett pénzeszközök (8.1.+8.2.+8.3.) | C60: =SUM(C61:C63) -> 0
A61: 8.1. | B61: Felhalm. célú garancia- és kezességvállalásból megtérülések ÁH-n kívülről
A62: 8.2. | B62: Felhalm. célú visszatérítendő támogatások, kölcsönök visszatér. ÁH-n kívülről
A63: 8.3. | B63: Egyéb felhalmozási célú átvett pénzeszköz
A64: 8.4. | B64: 8.3.-ból EU-s támogatás (közvetlen)
A65: 9. | B65: KÖLTSÉGVETÉSI BEVÉTELEK ÖSSZESEN: (1+…+8) | C65: =+C8+C15+C22+C29+C37+C49+C55+C60 -> 255794
A66: 10. | B66: Hitel-, kölcsönfelvétel államháztartáson kívülről (10.1.+10.3.) | C66: =SUM(C67:C69) -> 0
A67: 10.1. | B67: Hosszú lejáratú hitelek, kölcsönök felvétele
A68: 10.2. | B68: Likviditási célú hitelek, kölcsönök felvétele pénzügyi vállalkozástól
A69: 10.3. | B69: Rövid lejáratú hitelek, kölcsönök felvétele
A70: 11. | B70: Belföldi értékpapírok bevételei (11.1. +…+ 11.4.) | C70: =SUM(C71:C74) -> 49676
A71: 11.1. | B71: Forgatási célú belföldi értékpapírok beváltása, értékesítése | C71: 49676
A72: 11.2. | B72: Forgatási célú belföldi értékpapírok kibocsátása
A73: 11.3. | B73: Befektetési célú belföldi értékpapírok beváltása, értékesítése
A74: 11.4. | B74: Befektetési célú belföldi értékpapírok kibocsátása
A75: 12. | B75: Maradvány igénybevétele (12.1. + 12.2.) | C75: =SUM(C76:C77) -> 6804
A76: 12.1. | B76: Előző év költségvetési maradványának igénybevétele | C76: 6804
A77: 12.2. | B77: Előző év vállalkozási maradványának igénybevétele
A78: 13. | B78: Belföldi finanszírozás bevételei (13.1. + … + 13.3.) | C78: =SUM(C79:C81) -> 0
A79: 13.1. | B79: Államháztartáson belüli megelőlegezések
A80: 13.2. | B80: Államháztartáson belüli megelőlegezések törlesztése
A81: 13.3. | B81: Betétek megszüntetése
A82: 14. | B82: Külföldi finanszírozás bevételei (14.1.+…14.4.) | C82: =SUM(C83:C86) -> 0
A83: 14.1. | B83: Forgatási célú külföldi értékpapírok beváltása, értékesítése
A84: 14.2. | B84: Befektetési célú külföldi értékpapírok beváltása, értékesítése
A85: 14.3. | B85: Külföldi értékpapírok kibocsátása
A86: 14.4. | B86: Külföldi hitelek, kölcsönök felvétele
A87: 15. | B87: Váltóbevételek
A88: 16. | B88: Adóssághoz nem kapcsolódó származékos ügyletek bevételei
A89: 17. | B89: FINANSZÍROZÁSI BEVÉTELEK ÖSSZESEN: (10. + … +16.) | C89: =+C66+C70+C75+C78+C82+C88+C87 -> 56480
A90: 18. | B90: BEVÉTELEK ÖSSZESEN: (9+17) | C90: =+C65+C89 -> 312274
B92: Kiadások
A93: 1. | B93: Működési költségvetés kiadásai (1.1+…+1.5+1.18.) | C93: =+C94+C95+C96+C97+C98+C111 -> 176391
A94: 1.1. | B94: Személyi juttatások | C94: 36656
A95: 1.2. | B95: Munkaadókat terhelő járulékok és szociális hozzájárulási adó | C95: 7878
A96: 1.3. | B96: Dologi kiadások | C96: 65746
A97: 1.4. | B97: Ellátottak pénzbeli juttatásai | C97: 26149
A98: 1.5 | B98: Egyéb működési célú kiadások | C98: 34962
A99: 1.6. | B99: az 1.5-ből: - Előző évi elszámolásból származó befizetések
A100: 1.7. | B100: - Törvényi előíráson alapuló befizetések
A101: 1.8. | B101: - Elvonások és befizetések
...

Sheet 9.1.2. sz. mell 
C1: =+CONCATENATE("9.1.2. melléklet a ……/",LEFT(ÖSSZEFÜGGÉSEK!A5,4),". (II.25.) önkormányzati rendelethez") -> 9.1.2. melléklet a ……/2016. (II.25.) önkormányzati rendelethez
A2: Megnevezés | B2: Önkormányzat | C2: 01
A3: Feladat megnevezése | B3: Önként vállalt feladatok bevételei, kiadása | C3: 03
C4: Ezer forintban !
A5: Száma | B5: Kiemelt előirányzat, előirányzat megnevezése | C5: Előirányzat
B6: A | C6: B
B7: Bevételek
A8: 1. | B8: Önkormányzat működési támogatásai (1.1.+…+.1.6.) | C8: =+C9+C10+C11+C12+C13+C14 -> 0
A9: 1.1. | B9: Helyi önkormányzatok működésének általános támogatása
A10: 1.2. | B10: Önkormányzatok egyes köznevelési feladatainak támogatása
A11: 1.3. | B11: Önkormányzatok szociális és gyermekjóléti, étkeztetési feladatainak támogatása
A12: 1.4. | B12: Önkormányzatok kulturális feladatainak támogatása
A13: 1.5. | B13: Működési célú kvi támogatások és kiegészítő támogatások
A14: 1.6. | B14: Elszámolásból származó bevételek
A15: 2. | B15: Működési célú támogatások államháztartáson belülről (2.1.+…+.2.5.) | C15: =+C16+C17+C18+C19+C20 -> 0
A16: 2.1. | B16: Elvonások és befizetések bevételei
A17: 2.2. | B17: Működési célú garancia- és kezességvállalásból megtérülések
A18: 2.3. | B18: Működési célú visszatérítendő támogatások, kölcsönök visszatérülése
A19: 2.4. | B19: Működési célú visszatérítendő támogatások, kölcsönök igénybevétele
A20: 2.5. | B20: Egyéb működési célú támogatások bevételei
A21: 2.6. | B21: 2.5.-ből EU-s támogatás
A22: 3. | B22: Felhalmozási célú támogatások államháztartáson belülről (3.1.+…+3.5.) | C22: =+C23+C24+C25+C26+C27 -> 0
A23: 3.1. | B23: Felhalmozási célú önkormányzati támogatások
A24: 3.2. | B24: Felhalmozási célú garancia- és kezességvállalásból megtérülések
A25: 3.3. | B25: Felhalmozási célú visszatérítendő támogatások, kölcsönök visszatérülése
A26: 3.4. | B26: Felhalmozási célú visszatérítendő támogatások, kölcsönök igénybevétele
A27: 3.5. | B27: Egyéb felhalmozási célú támogatások bevételei
A28: 3.6. | B28: 3.5.-ből EU-s támogatás
A29: 4. | B29: Közhatalmi bevételek (4.1.+4.2.+4.3.+4.4.) | C29: =SUM(C30:C36) -> 0
A30: 4.1. | B30: Építményadó
A31: 4.2. | B31: Idegenforgalmi adó
A32: 4.3. | B32: Iparűzési adó
A33: 4.4. | B33: Talajterhelési díj
A34: 4.5. | B34: Gépjárműadó
A35: 4.6. | B35: Egyéb áruhasználati és szolgáltatási adók
A36: 4.7. | B36: Egyéb közhatalmi bevételek
A37: 5. | B37: Működési bevételek (5.1.+…+ 5.11.) | C37: =SUM(C38:C48) -> 0
A38: 5.1. | B38: Készletértékesítés ellenértéke
A39: 5.2. | B39: Szolgáltatások ellenértéke
A40: 5.3. | B40: Közvetített szolgáltatások értéke
A41: 5.4. | B41: Tulajdonosi bevételek
A42: 5.5. | B42: Ellátási díjak
A43: 5.6. | B43: Kiszámlázott általános forgalmi adó
A44: 5.7. | B44: Általános forgalmi adó visszatérítése
A45: 5.8. | B45: Kamatbevételek és más nyereség jellegű bevételek
A46: 5.9. | B46: Egyéb pénzügyi műveletek bevételei
A47: 5.10. | B47: Biztosító által fizetett kártérítés
A48: 5.11. | B48: Egyéb működési bevételek
A49: 6. | B49: Felhalmozási bevételek (6.1.+…+6.5.) | C49: =SUM(C50:C54) -> 0
A50: 6.1. | B50: Immateriális javak értékesítése
A51: 6.2. | B51: Ingatlanok értékesítése
A52: 6.3. | B52: Egyéb tárgyi eszközök értékesítése
A53: 6.4. | B53: Részesedések értékesítése
A54: 6.5. | B54: Részesedések megszűnéséhez kapcsolódó bevételek
A55: 7. | B55: Működési célú átvett pénzeszközök (7.1. + … + 7.3.) | C55: =SUM(C56:C58) -> 0
A56: 7.1. | B56: Működési célú garancia- és kezességvállalásból megtérülések ÁH-n kívülről
A57: 7.2. | B57: Működési célú visszatérítendő támogatások, kölcsönök visszatér. ÁH-n kívülről
A58: 7.3. | B58: Egyéb működési célú átvett pénzeszköz
A59: 7.4. | B59: 7.3.-ból EU-s támogatás (közvetlen)
A60: 8. | B60: Felhalmozási célú átvett pénzeszközök (8.1.+8.2.+8.3.) | C60: =SUM(C61:C63) -> 0
A61: 8.1. | B61: Felhalm. célú garancia- és kezességvállalásból megtérülések ÁH-n kívülről
A62: 8.2. | B62: Felhalm. célú visszatérítendő támogatások, kölcsönök visszatér. ÁH-n kívülről
A63: 8.3. | B63: Egyéb felhalmozási célú átvett pénzeszköz
A64: 8.4. | B64: 8.3.-ból EU-s támogatás (közvetlen)
A65: 9. | B65: KÖLTSÉGVETÉSI BEVÉTELEK ÖSSZESEN: (1+…+8) | C65: =+C8+C15+C22+C29+C37+C49+C55+C60 -> 0
A66: 10. | B66: Hitel-, kölcsönfelvétel államháztartáson kívülről (10.1.+10.3.) | C66: =SUM(C67:C69) -> 0
A67: 10.1. | B67: Hosszú lejáratú hitelek, kölcsönök felvétele
A68: 10.2. | B68: Likviditási célú hitelek, kölcsönök felvétele pénzügyi vállalkozástól
A69: 10.3. | B69: Rövid lejáratú hitelek, kölcsönök felvétele
A70: 11. | B70: Belföldi értékpapírok bevételei (11.1. +…+ 11.4.) | C70: =SUM(C71:C74) -> 0
A71: 11.1. | B71: Forgatási célú belföldi értékpapírok beváltása, értékesítése
A72: 11.2. | B72: Forgatási célú belföldi értékpapírok kibocsátása
A73: 11.3. | B73: Befektetési célú belföldi értékpapírok beváltása, értékesítése
A74: 11.4. | B74: Befektetési célú belföldi értékpapírok kibocsátása
A75: 12. | B75: Maradvány igénybevétele (12.1. + 12.2.) | C75: =SUM(C76:C77) -> 0
A76: 12.1. | B76: Előző év költségvetési maradványának igénybevétele
A77: 12.2. | B77: Előző év vállalkozási maradványának igénybevétele
A78: 13. | B78: Belföldi finanszírozás bevételei (13.1. + … + 13.3.) | C78: =SUM(C79:C81) -> 0
A79: 13.1. | B79: Államháztartáson belüli megelőlegezések
A80: 13.2. | B80: Államháztartáson belüli megelőlegezések törlesztése
A81: 13.3. | B81: Betétek megszüntetése
A82: 14. | B82: Külföldi finanszírozás bevételei (14.1.+…14.4.) | C82: =SUM(C83:C86) -> 0
A83: 14.1. | B83: Forgatási célú külföldi értékpapírok beváltása, értékesítése
A84: 14.2. | B84: Befektetési célú külföldi értékpapírok beváltása, értékesítése
A85: 14.3. | B85: Külföldi értékpapírok kibocsátása
A86: 14.4. | B86: Külföldi hitelek, kölcsönök felvétele
A87: 15. | B87: Váltóbevételek
A88: 16. | B88: Adóssághoz nem kapcsolódó származékos ügyletek bevételei
A89: 17. | B89: FINANSZÍROZÁSI BEVÉTELEK ÖSSZESEN: (10. + … +16.) | C89: =+C66+C70+C75+C78+C82+C88+C87 -> 0
A90: 18. | B90: BEVÉTELEK ÖSSZESEN: (9+17) | C90: =+C65+C89 -> 0
B92: Kiadások
A93: 1. | B93: Működési költségvetés kiadásai (1.1+…+1.5+1.18.) | C93: =+C94+C95+C96+C97+C98+C111 -> 0
A94: 1.1. | B94: Személyi juttatások
A95: 1.2. | B95: Munkaadókat terhelő járulékok és szociális hozzájárulási adó
A96: 1.3. | B96: Dologi kiadások
A97: 1.4. | B97: Ellátottak pénzbeli juttatásai
A98: 1.5 | B98: Egyéb működési célú kiadások
A99: 1.6. | B99: az 1.5-ből: - Előző évi elszámolásból származó befizetések
A100: 1.7. | B100: - Törvényi előíráson alapuló befizetések
A101: 1.8. | B101: - Elvonások és befizetések
...

Sheet 9.1.3. sz. mell
C1: =+CONCATENATE("9.1.3. melléklet a ……/",LEFT(ÖSSZEFÜGGÉSEK!A5,4),". (II.25.) önkormányzati rendelethez") -> 9.1.3. melléklet a ……/2016. (II.25.) önkormányzati rendelethez
A2: Megnevezés | B2: Önkormányzat | C2: 01
A3: Feladat megnevezése | B3: Államigazgatási feladatok bevételei, kiadása | C3: 04
C4: Ezer forintban !
A5: Száma | B5: Kiemelt előirányzat, előirányzat megnevezése | C5: Előirányzat
B6: A | C6: B
B7: Bevételek
A8: 1. | B8: Önkormányzat működési támogatásai (1.1.+…+.1.6.) | C8: =+C9+C10+C11+C12+C13+C14 -> 0
A9: 1.1. | B9: Helyi önkormányzatok működésének általános támogatása
A10: 1.2. | B10: Önkormányzatok egyes köznevelési feladatainak támogatása
A11: 1.3. | B11: Önkormányzatok szociális és gyermekjóléti, étkeztetési feladatainak támogatása
A12: 1.4. | B12: Önkormányzatok kulturális feladatainak támogatása
A13: 1.5. | B13: Működési célú kvi támogatások és kiegészítő támogatások
A14: 1.6. | B14: Elszámolásból származó bevételek
A15: 2. | B15: Működési célú támogatások államháztartáson belülről (2.1.+…+.2.5.) | C15: =+C16+C17+C18+C19+C20 -> 0
A16: 2.1. | B16: Elvonások és befizetések bevételei
A17: 2.2. | B17: Működési célú garancia- és kezességvállalásból megtérülések
A18: 2.3. | B18: Működési célú visszatérítendő támogatások, kölcsönök visszatérülése
A19: 2.4. | B19: Működési célú visszatérítendő támogatások, kölcsönök igénybevétele
A20: 2.5. | B20: Egyéb működési célú támogatások bevételei
A21: 2.6. | B21: 2.5.-ből EU-s támogatás
A22: 3. | B22: Felhalmozási célú támogatások államháztartáson belülről (3.1.+…+3.5.) | C22: =+C23+C24+C25+C26+C27 -> 0
A23: 3.1. | B23: Felhalmozási célú önkormányzati támogatások
A24: 3.2. | B24: Felhalmozási célú garancia- és kezességvállalásból megtérülések
A25: 3.3. | B25: Felhalmozási célú visszatérítendő támogatások, kölcsönök visszatérülése
A26: 3.4. | B26: Felhalmozási célú visszatérítendő támogatások, kölcsönök igénybevétele
A27: 3.5. | B27: Egyéb felhalmozási célú támogatások bevételei
A28: 3.6. | B28: 3.5.-ből EU-s támogatás
A29: 4. | B29: Közhatalmi bevételek (4.1.+4.2.+4.3.+4.4.) | C29: =SUM(C30:C36) -> 0
A30: 4.1. | B30: Építményadó
A31: 4.2. | B31: Idegenforgalmi adó
A32: 4.3. | B32: Iparűzési adó
A33: 4.4. | B33: Talajterhelési díj
A34: 4.5. | B34: Gépjárműadó
A35: 4.6. | B35: Egyéb áruhasználati és szolgáltatási adók
A36: 4.7. | B36: Egyéb közhatalmi bevételek
A37: 5. | B37: Működési bevételek (5.1.+…+ 5.11.) | C37: =SUM(C38:C48) -> 0
A38: 5.1. | B38: Készletértékesítés ellenértéke
A39: 5.2. | B39: Szolgáltatások ellenértéke
A40: 5.3. | B40: Közvetített szolgáltatások értéke
A41: 5.4. | B41: Tulajdonosi bevételek
A42: 5.5. | B42: Ellátási díjak
A43: 5.6. | B43: Kiszámlázott általános forgalmi adó
A44: 5.7. | B44: Általános forgalmi adó visszatérítése
A45: 5.8. | B45: Kamatbevételek és más nyereségjellegű bevételek
A46: 5.9. | B46: Egyéb pénzügyi műveletek bevételei
A47: 5.10. | B47: Biztosító által fizetett kártérítés
A48: 5.11. | B48: Egyéb működési bevételek
A49: 6. | B49: Felhalmozási bevételek (6.1.+…+6.5.) | C49: =SUM(C50:C54) -> 0
A50: 6.1. | B50: Immateriális javak értékesítése
A51: 6.2. | B51: Ingatlanok értékesítése
A52: 6.3. | B52: Egyéb tárgyi eszközök értékesítése
A53: 6.4. | B53: Részesedések értékesítése
A54: 6.5. | B54: Részesedések megszűnéséhez kapcsolódó bevételek
A55: 7. | B55: Működési célú átvett pénzeszközök (7.1. + … + 7.3.) | C55: =SUM(C56:C58) -> 0
A56: 7.1. | B56: Működési célú garancia- és kezességvállalásból megtérülések ÁH-n kívülről
A57: 7.2. | B57: Működési célú visszatérítendő támogatások, kölcsönök visszatér. ÁH-n kívülről
A58: 7.3. | B58: Egyéb működési célú átvett pénzeszköz
A59: 7.4. | B59: 7.3.-ból EU-s támogatás (közvetlen)
A60: 8. | B60: Felhalmozási célú átvett pénzeszközök (8.1.+8.2.+8.3.) | C60: =SUM(C61:C63) -> 0
A61: 8.1. | B61: Felhalm. célú garancia- és kezességvállalásból megtérülések ÁH-n kívülről
A62: 8.2. | B62: Felhalm. célú visszatérítendő támogatások, kölcsönök visszatér. ÁH-n kívülről
A63: 8.3. | B63: Egyéb felhalmozási célú átvett pénzeszköz
A64: 8.4. | B64: 8.3.-ból EU-s támogatás (közvetlen)
A65: 9. | B65: KÖLTSÉGVETÉSI BEVÉTELEK ÖSSZESEN: (1+…+8) | C65: =+C8+C15+C22+C29+C37+C49+C55+C60 -> 0
A66: 10. | B66: Hitel-, kölcsönfelvétel államháztartáson kívülről (10.1.+10.3.) | C66: =SUM(C67:C69) -> 0
A67: 10.1. | B67: Hosszú lejáratú hitelek, kölcsönök felvétele
A68: 10.2. | B68: Likviditási célú hitelek, kölcsönök felvétele pénzügyi vállalkozástól
A69: 10.3. | B69: Rövid lejáratú hitelek, kölcsönök felvétele
A70: 11. | B70: Belföldi értékpapírok bevételei (11.1. +…+ 11.4.) | C70: =SUM(C71:C74) -> 0
A71: 11.1. | B71: Forgatási célú belföldi értékpapírok beváltása, értékesítése
A72: 11.2. | B72: Forgatási célú belföldi értékpapírok kibocsátása
A73: 11.3. | B73: Befektetési célú belföldi értékpapírok beváltása, értékesítése
A74: 11.4. | B74: Befektetési célú belföldi értékpapírok kibocsátása
A75: 12. | B75: Maradvány igénybevétele (12.1. + 12.2.) | C75: =SUM(C76:C77) -> 0
A76: 12.1. | B76: Előző év költségvetési maradványának igénybevétele
A77: 12.2. | B77: Előző év vállalkozási maradványának igénybevétele
A78: 13. | B78: Belföldi finanszírozás bevételei (13.1. + … + 13.3.) | C78: =SUM(C79:C81) -> 0
A79: 13.1. | B79: Államháztartáson belüli megelőlegezések
A80: 13.2. | B80: Államháztartáson belüli megelőlegezések törlesztése
A81: 13.3. | B81: Betétek megszüntetése
A82: 14. | B82: Külföldi finanszírozás bevételei (14.1.+…14.4.) | C82: =SUM(C83:C86) -> 0
A83: 14.1. | B83: Forgatási célú külföldi értékpapírok beváltása, értékesítése
A84: 14.2. | B84: Befektetési célú külföldi értékpapírok beváltása, értékesítése
A85: 14.3. | B85: Külföldi értékpapírok kibocsátása
A86: 14.4. | B86: Külföldi hitelek, kölcsönök felvétele
A87: 15. | B87: Váltóbevételek
A88: 16. | B88: Adóssághoz nem kapcsolódó származékos ügyletek bevételei
A89: 17. | B89: FINANSZÍROZÁSI BEVÉTELEK ÖSSZESEN: (10. + … +16.) | C89: =+C66+C70+C75+C78+C82+C88+C87 -> 0
A90: 18. | B90: BEVÉTELEK ÖSSZESEN: (9+17) | C90: =+C65+C89 -> 0
B92: Kiadások
A93: 1. | B93: Működési költségvetés kiadásai (1.1+…+1.5+1.18.) | C93: =+C94+C95+C96+C97+C98+C111 -> 0
A94: 1.1. | B94: Személyi juttatások
A95: 1.2. | B95: Munkaadókat terhelő járulékok és szociális hozzájárulási adó
A96: 1.3. | B96: Dologi kiadások
A97: 1.4. | B97: Ellátottak pénzbeli juttatásai
A98: 1.5 | B98: Egyéb működési célú kiadások
A99: 1.6. | B99: az 1.5-ből: - Előző évi elszámolásból származó befizetések
A100: 1.7. | B100: - Törvényi előíráson alapuló befizetések
A101: 1.8. | B101: - Elvonások és befizetések
...

Sheet 9.2. sz. mell
C1: =+CONCATENATE("9.2. melléklet a ……/",LEFT(ÖSSZEFÜGGÉSEK!A5,4),". (II.25.) önkormányzati rendelethez") -> 9.2. melléklet a ……/2016. (II.25.) önkormányzati rendelethez
A2: Költségvetési szerv megnevezése | B2: Sajószögedi Polgármesteri Hivatal | C2: 02
A3: Feladat megnevezése | B3: Összes bevétel, kiadás
C4: Ezer forintban !
A5: Száma | B5: Kiemelt előirányzat, előirányzat megnevezése | C5: Előirányzat
B6: A | C6: B
B7: Bevételek
A8: 1. | B8: Működési bevételek (1.1.+…+1.11.) | C8: =SUM(C9:C19) -> 0
A9: 1.1. | B9: Készletértékesítés ellenértéke
A10: 1.2. | B10: Szolgáltatások ellenértéke
A11: 1.3. | B11: Közvetített szolgáltatások értéke
A12: 1.4. | B12: Tulajdonosi bevételek
A13: 1.5. | B13: Ellátási díjak
A14: 1.6. | B14: Kiszámlázott általános forgalmi adó
A15: 1.7. | B15: Általános forgalmi adó visszatérülése
A16: 1.8. | B16: Kamatbevételek
A17: 1.9. | B17: Egyéb pénzügyi műveletek bevételei
A18: 1.10. | B18: Biztosító által fizetett kártérítés
A19: 1.11. | B19: Egyéb működési bevételek
A20: 2. | B20: Működési célú támogatások államháztartáson belülről (2.1.+…+2.3.) | C20: =SUM(C21:C23) -> 0
A21: 2.1. | B21: Elvonások és befizetések bevételei
A22: 2.2. | B22: Visszatérítendő támogatások, kölcsönök visszatérülése ÁH-n belülről
A23: 2.3. | B23: Egyéb működési célú támogatások bevételei államháztartáson belülről
A24: 2.4. | B24: 2.3-ból EU támogatás
A25: 3. | B25: Közhatalmi bevételek | C25: 30
A26: 4. | B26: Felhalmozási célú támogatások államháztartáson belülről (4.1.+…+4.3.) | C26: =+C27+C28+C29 -> 0
A27: 4.1. | B27: Felhalmozási célú önkormányzati támogatások
A28: 4.2. | B28: Visszatérítendő támogatások, kölcsönök visszatérülése ÁH-n belülről
A29: 4.3. | B29: Egyéb felhalmozási célú támogatások bevételei államháztartáson belülről
A30: 4.4. | B30: 4.3.-ból EU-s támogatás
A31: 5. | B31: Felhalmozási bevételek (5.1.+…+5.3.) | C31: =+C32+C33+C34 -> 0
A32: 5.1. | B32: Immateriális javak értékesítése
A33: 5.2. | B33: Ingatlanok értékesítése
A34: 5.3. | B34: Egyéb tárgyi eszközök értékesítése
A35: 6. | B35: Működési célú átvett pénzeszközök
A36: 7. | B36: Felhalmozási célú átvett pénzeszközök
A37: 8. | B37: Költségvetési bevételek összesen (1.+…+7.) | C37: =+C8+C20+C25+C26+C31+C35+C36 -> 30
A38: 9. | B38: Finanszírozási bevételek (9.1.+…+9.3.) | C38: =+C39+C40+C41 -> 48851
A39: 9.1. | B39: Költségvetési maradvány igénybevétele | C39: 1574
A40: 9.2. | B40: Vállalkozási maradvány igénybevétele
A41: 9.3. | B41: Irányító szervi (önkormányzati) támogatás (intézményfinanszírozás) | C41: 47277
A42: 10. | B42: BEVÉTELEK ÖSSZESEN: (8.+9.) | C42: =+C37+C38 -> 48881
B45: Kiadások
A46: 1. | B46: Működési költségvetés kiadásai (1.1+…+1.5.) | C46: =SUM(C47:C51) -> 47611
A47: 1.1. | B47: Személyi juttatások | C47: 27805
A48: 1.2. | B48: Munkaadókat terhelő járulékok és szociális hozzájárulási adó | C48: 7072
A49: 1.3. | B49: Dologi kiadások | C49: 12734
A50: 1.4. | B50: Ellátottak pénzbeli juttatásai
A51: 1.5. | B51: Egyéb működési célú kiadások
A52: 2. | B52: Felhalmozási költségvetés kiadásai (2.1.+…+2.3.) | C52: =SUM(C53:C55) -> 1270
A53: 2.1. | B53: Beruházások | C53: 1270
A54: 2.2. | B54: Felújítások
A55: 2.3. | B55: Egyéb fejlesztési célú kiadások
A56: 2.4. | B56: 2.3.-ból EU-s támogatásból megvalósuló programok, projektek kiadása
A57: 3. | B57: Finanszírozási kiadások
A58: 4. | B58: KIADÁSOK ÖSSZESEN: (1.+2.+3.) | C58: =+C46+C52+C57 -> 48881
A60: Éves tervezett létszám előirányzat (fő) | C60: 7
A61: Közfoglalkoztatottak létszáma (fő) | C61: 0

Sheet 9.2.1. sz. mell
C1: =+CONCATENATE("9.2.1. melléklet a ……/",LEFT(ÖSSZEFÜGGÉSEK!A5,4),". (II.25.) önkormányzati rendelethez") -> 9.2.1. melléklet a ……/2016. (II.25.) önkormányzati rendelethez
A2: Költségvetési szerv megnevezése | B2: Sajószögedi Polgármesteri Hivatal | C2: 02
A3: Feladat megnevezése | B3: Kötelező feladatok bevételei, kiadásai | C3: 01
C4: Ezer forintban !
A5: Száma | B5: Kiemelt előirányzat, előirányzat megnevezése | C5: Előirányzat
B6: A | C6: B
B7: Bevételek
A8: 1. | B8: Működési bevételek (1.1.+…+1.11.) | C8: =SUM(C9:C19) -> 0
A9: 1.1. | B9: Készletértékesítés ellenértéke
A10: 1.2. | B10: Szolgáltatások ellenértéke
A11: 1.3. | B11: Közvetített szolgáltatások értéke
A12: 1.4. | B12: Tulajdonosi bevételek
A13: 1.5. | B13: Ellátási díjak
A14: 1.6. | B14: Kiszámlázott általános forgalmi adó
A15: 1.7. | B15: Általános forgalmi adó visszatérülése
A16: 1.8. | B16: Kamatbevételek
A17: 1.9. | B17: Egyéb pénzügyi műveletek bevételei
A18: 1.10. | B18: Biztosító által fizetett kártérítés
A19: 1.11. | B19: Egyéb működési bevételek
A20: 2. | B20: Működési célú támogatások államháztartáson belülről (2.1.+…+2.3.) | C20: =SUM(C21:C23) -> 0
A21: 2.1. | B21: Elvonások és befizetések bevételei
A22: 2.2. | B22: Visszatérítendő támogatások, kölcsönök visszatérülése ÁH-n belülről
A23: 2.3. | B23: Egyéb működési célú támogatások bevételei államháztartáson belülről
A24: 2.4. | B24: 2.3-ból EU támogatás
A25: 3. | B25: Közhatalmi bevételek | C25: 30
A26: 4. | B26: Felhalmozási célú támogatások államháztartáson belülről (4.1.+…+4.3.) | C26: =+C27+C28+C29 -> 0
A27: 4.1. | B27: Felhalmozási célú önkormányzati támogatások
A28: 4.2. | B28: Visszatérítendő támogatások, kölcsönök visszatérülése ÁH-n belülről
A29: 4.3. | B29: Egyéb felhalmozási célú támogatások bevételei államháztartáson belülről
A30: 4.4. | B30: 4.3.-ból EU-s támogatás
A31: 5. | B31: Felhalmozási bevételek (5.1.+…+5.3.) | C31: =+C32+C33+C34 -> 0
A32: 5.1. | B32: Immateriális javak értékesítése
A33: 5.2. | B33: Ingatlanok értékesítése
A34: 5.3. | B34: Egyéb tárgyi eszközök értékesítése
A35: 6. | B35: Működési célú átvett pénzeszközök
A36: 7. | B36: Felhalmozási célú átvett pénzeszközök
A37: 8. | B37: Költségvetési bevételek összesen (1.+…+7.) | C37: =+C8+C20+C25+C26+C31+C35+C36 -> 30
A38: 9. | B38: Finanszírozási bevételek (9.1.+…+9.3.) | C38: =+C39+C40+C41 -> 48851
A39: 9.1. | B39: Költségvetési maradvány igénybevétele | C39: 1574
A40: 9.2. | B40: Vállalkozási maradvány igénybevétele
A41: 9.3. | B41: Irányító szervi (önkormányzati) támogatás (intézményfinanszírozás) | C41: 47277
A42: 10. | B42: BEVÉTELEK ÖSSZESEN: (8.+9.) | C42: =+C37+C38 -> 48881
B45: Kiadások
A46: 1. | B46: Működési költségvetés kiadásai (1.1+…+1.5.) | C46: =SUM(C47:C51) -> 47611
A47: 1.1. | B47: Személyi juttatások | C47: 27805
A48: 1.2. | B48: Munkaadókat terhelő járulékok és szociális hozzájárulási adó | C48: 7072
A49: 1.3. | B49: Dologi kiadások | C49: 12734
A50: 1.4. | B50: Ellátottak pénzbeli juttatásai
A51: 1.5. | B51: Egyéb működési célú kiadások
A52: 2. | B52: Felhalmozási költségvetés kiadásai (2.1.+…+2.3.) | C52: =SUM(C53:C55) -> 1270
A53: 2.1. | B53: Beruházások | C53: 1270
A54: 2.2. | B54: Felújítások
A55: 2.3. | B55: Egyéb fejlesztési célú kiadások
A56: 2.4. | B56: 2.3.-ból EU-s támogatásból megvalósuló programok, projektek kiadása
A57: 3. | B57: Finanszírozási kiadások
A58: 4. | B58: KIADÁSOK ÖSSZESEN: (1.+2.+3.) | C58: =+C46+C52+C57 -> 48881
A60: Éves tervezett létszám előirányzat (fő) | C60: 7
A61: Közfoglalkoztatottak létszáma (fő) | C61: 0

Sheet 9.2.2. sz.  mell
C1: =+CONCATENATE("9.2.2. melléklet a ……/",LEFT(ÖSSZEFÜGGÉSEK!A5,4),". (II.25.) önkormányzati rendelethez") -> 9.2.2. melléklet a ……/2016. (II.25.) önkormányzati rendelethez
A2: Költségvetési szerv megnevezése | B2: Sajószögedi Polgármesteri Hivatal | C2: 02
A3: Feladat megnevezése | B3: Önként vállalt feladatok bevételei, kiadásai | C3: 02
C4: Ezer forintban !
A5: Száma | B5: Kiemelt előirányzat, előirányzat megnevezése | C5: Előirányzat
B6: A | C6: B
B7: Bevételek
A8: 1. | B8: Működési bevételek (1.1.+…+1.11.) | C8: =SUM(C9:C19) -> 0
A9: 1.1. | B9: Készletértékesítés ellenértéke
A10: 1.2. | B10: Szolgáltatások ellenértéke
A11: 1.3. | B11: Közvetített szolgáltatások értéke
A12: 1.4. | B12: Tulajdonosi bevételek
A13: 1.5. | B13: Ellátási díjak
A14: 1.6. | B14: Kiszámlázott általános forgalmi adó
A15: 1.7. | B15: Általános forgalmi adó visszatérülése
A16: 1.8. | B16: Kamatbevételek
A17: 1.9. | B17: Egyéb pénzügyi műveletek bevételei
A18: 1.10. | B18: Biztosító által fizetett kártérítés
A19: 1.11. | B19: Egyéb működési bevételek
A20: 2. | B20: Működési célú támogatások államháztartáson belülről (2.1.+…+2.3.) | C20: =SUM(C21:C23) -> 0
A21: 2.1. | B21: Elvonások és befizetések bevételei
A22: 2.2. | B22: Visszatérítendő támogatások, kölcsönök visszatérülése ÁH-n belülről
A23: 2.3. | B23: Egyéb működési célú támogatások bevételei államháztartáson belülről
A24: 2.4. | B24: 2.3-ból EU támogatás
A25: 3. | B25: Közhatalmi bevételek
A26: 4. | B26: Felhalmozási célú támogatások államháztartáson belülről (4.1.+…+4.3.) | C26: =+C27+C28+C29 -> 0
A27: 4.1. | B27: Felhalmozási célú önkormányzati támogatások
A28: 4.2. | B28: Visszatérítendő támogatások, kölcsönök visszatérülése ÁH-n belülről
A29: 4.3. | B29: Egyéb felhalmozási célú támogatások bevételei államháztartáson belülről
A30: 4.4. | B30: 4.3.-ból EU-s támogatás
A31: 5. | B31: Felhalmozási bevételek (5.1.+…+5.3.) | C31: =+C32+C33+C34 -> 0
A32: 5.1. | B32: Immateriális javak értékesítése
A33: 5.2. | B33: Ingatlanok értékesítése
A34: 5.3. | B34: Egyéb tárgyi eszközök értékesítése
A35: 6. | B35: Működési célú átvett pénzeszközök
A36: 7. | B36: Felhalmozási célú átvett pénzeszközök
A37: 8. | B37: Költségvetési bevételek összesen (1.+…+7.) | C37: =+C8+C20+C25+C26+C31+C35+C36 -> 0
A38: 9. | B38: Finanszírozási bevételek (9.1.+…+9.3.) | C38: =+C39+C40+C41 -> 0
A39: 9.1. | B39: Költségvetési maradvány igénybevétele
A40: 9.2. | B40: Vállalkozási maradvány igénybevétele
A41: 9.3. | B41: Irányító szervi (önkormányzati) támogatás (intézményfinanszírozás)
A42: 10. | B42: BEVÉTELEK ÖSSZESEN: (8.+9.) | C42: =+C37+C38 -> 0
B45: Kiadások
A46: 1. | B46: Működési költségvetés kiadásai (1.1+…+1.5.) | C46: =SUM(C47:C51) -> 0
A47: 1.1. | B47: Személyi juttatások
A48: 1.2. | B48: Munkaadókat terhelő járulékok és szociális hozzájárulási adó
A49: 1.3. | B49: Dologi kiadások
A50: 1.4. | B50: Ellátottak pénzbeli juttatásai
A51: 1.5. | B51: Egyéb működési célú kiadások
A52: 2. | B52: Felhalmozási költségvetés kiadásai (2.1.+…+2.3.) | C52: =SUM(C53:C55) -> 0
A53: 2.1. | B53: Beruházások
A54: 2.2. | B54: Felújítások
A55: 2.3. | B55: Egyéb fejlesztési célú kiadások
A56: 2.4. | B56: 2.3.-ból EU-s támogatásból megvalósuló programok, projektek kiadása
A57: 3. | B57: Finanszírozási kiadások
A58: 4. | B58: KIADÁSOK ÖSSZESEN: (1.+2.+3.) | C58: =+C46+C52+C57 -> 0
A60: Éves tervezett létszám előirányzat (fő)
A61: Közfoglalkoztatottak létszáma (fő)

Sheet 9.2.3. sz. mell
C1: =+CONCATENATE("9.2.3. melléklet a ……/",LEFT(ÖSSZEFÜGGÉSEK!A5,4),". (II.25.) önkormányzati rendelethez") -> 9.2.3. melléklet a ……/2016. (II.25.) önkormányzati rendelethez
A2: Költségvetési szerv megnevezése | B2: Sajószögedi Polgármesteri Hivatal | C2: 02
A3: Feladat megnevezése | B3: Államigazgatási feladatok bevételei, kiadásai | C3: 03
C4: Ezer forintban !
A5: Száma | B5: Kiemelt előirányzat, előirányzat megnevezése | C5: Előirányzat
B6: A | C6: B
B7: Bevételek
A8: 1. | B8: Működési bevételek (1.1.+…+1.11.) | C8: =SUM(C9:C19) -> 0
A9: 1.1. | B9: Készletértékesítés ellenértéke
A10: 1.2. | B10: Szolgáltatások ellenértéke
A11: 1.3. | B11: Közvetített szolgáltatások értéke
A12: 1.4. | B12: Tulajdonosi bevételek
A13: 1.5. | B13: Ellátási díjak
A14: 1.6. | B14: Kiszámlázott általános forgalmi adó
A15: 1.7. | B15: Általános forgalmi adó visszatérülése
A16: 1.8. | B16: Kamatbevételek
A17: 1.9. | B17: Egyéb pénzügyi műveletek bevételei
A18: 1.10. | B18: Biztosító által fizetett kártérítés
A19: 1.11. | B19: Egyéb működési bevételek
A20: 2. | B20: Működési célú támogatások államháztartáson belülről (2.1.+…+2.3.) | C20: =SUM(C21:C23) -> 0
A21: 2.1. | B21: Elvonások és befizetések bevételei
A22: 2.2. | B22: Visszatérítendő támogatások, kölcsönök visszatérülése ÁH-n belülről
A23: 2.3. | B23: Egyéb működési célú támogatások bevételei államháztartáson belülről
A24: 2.4. | B24: 2.3-ból EU támogatás
A25: 3. | B25: Közhatalmi bevételek
A26: 4. | B26: Felhalmozási célú támogatások államháztartáson belülről (4.1.+…+4.3.) | C26: =+C27+C28+C29 -> 0
A27: 4.1. | B27: Felhalmozási célú önkormányzati támogatások
A28: 4.2. | B28: Visszatérítendő támogatások, kölcsönök visszatérülése ÁH-n belülről
A29: 4.3. | B29: Egyéb felhalmozási célú támogatások bevételei államháztartáson belülről
A30: 4.4. | B30: 4.3.-ból EU-s támogatás
A31: 5. | B31: Felhalmozási bevételek (5.1.+…+5.3.) | C31: =+C32+C33+C34 -> 0
A32: 5.1. | B32: Immateriális javak értékesítése
A33: 5.2. | B33: Ingatlanok értékesítése
A34: 5.3. | B34: Egyéb tárgyi eszközök értékesítése
A35: 6. | B35: Működési célú átvett pénzeszközök
A36: 7. | B36: Felhalmozási célú átvett pénzeszközök
A37: 8. | B37: Költségvetési bevételek összesen (1.+…+7.) | C37: =+C8+C20+C25+C26+C31+C35+C36 -> 0
A38: 9. | B38: Finanszírozási bevételek (9.1.+…+9.3.) | C38: =+C39+C40+C41 -> 0
A39: 9.1. | B39: Költségvetési maradvány igénybevétele
A40: 9.2. | B40: Vállalkozási maradvány igénybevétele
A41: 9.3. | B41: Irányító szervi (önkormányzati) támogatás (intézményfinanszírozás)
A42: 10. | B42: BEVÉTELEK ÖSSZESEN: (8.+9.) | C42: =+C37+C38 -> 0
B45: Kiadások
A46: 1. | B46: Működési költségvetés kiadásai (1.1+…+1.5.) | C46: =SUM(C47:C51) -> 0
A47: 1.1. | B47: Személyi juttatások
A48: 1.2. | B48: Munkaadókat terhelő járulékok és szociális hozzájárulási adó
A49: 1.3. | B49: Dologi kiadások
A50: 1.4. | B50: Ellátottak pénzbeli juttatásai
A51: 1.5. | B51: Egyéb működési célú kiadások
A52: 2. | B52: Felhalmozási költségvetés kiadásai (2.1.+…+2.3.) | C52: =SUM(C53:C55) -> 0
A53: 2.1. | B53: Beruházások
A54: 2.2. | B54: Felújítások
A55: 2.3. | B55: Egyéb fejlesztési célú kiadások
A56: 2.4. | B56: 2.3.-ból EU-s támogatásból megvalósuló programok, projektek kiadása
A57: 3. | B57: Finanszírozási kiadások
A58: 4. | B58: KIADÁSOK ÖSSZESEN: (1.+2.+3.) | C58: =+C46+C52+C57 -> 0
A60: Éves tervezett létszám előirányzat (fő)
A61: Közfoglalkoztatottak létszáma (fő)

Sheet 9.3. sz. mell
C1: =+CONCATENATE("9.3. melléklet a ……/",LEFT(ÖSSZEFÜGGÉSEK!A5,4),". (II.25.) önkormányzati rendelethez") -> 9.3. melléklet a ……/2016. (II.25.) önkormányzati rendelethez
A2: Költségvetési szerv megnevezése | B2: Sajószögedi Általános Művelődési Központ | C2: 03
A3: Feladat megnevezése | B3: Összes bevétel, kiadás
C4: Ezer forintban !
A5: Száma | B5: Kiemelt előirányzat, előirányzat megnevezése | C5: Előirányzat
B6: A | C6: B
B7: Bevételek
A8: 1. | B8: Működési bevételek (1.1.+…+1.11.) | C8: =SUM(C9:C19) -> 100
A9: 1.1. | B9: Készletértékesítés ellenértéke
A10: 1.2. | B10: Szolgáltatások ellenértéke | C10: 100
A11: 1.3. | B11: Közvetített szolgáltatások értéke
A12: 1.4. | B12: Tulajdonosi bevételek
A13: 1.5. | B13: Ellátási díjak
A14: 1.6. | B14: Kiszámlázott általános forgalmi adó
A15: 1.7. | B15: Általános forgalmi adó visszatérülése
A16: 1.8. | B16: Kamatbevételek
A17: 1.9. | B17: Egyéb pénzügyi műveletek bevételei
A18: 1.10. | B18: Biztosító által fizetett kártérítés
A19: 1.11. | B19: Egyéb működési bevételek
A20: 2. | B20: Működési célú támogatások államháztartáson belülről (2.1.+…+2.3.) | C20: =SUM(C21:C23) -> 0
A21: 2.1. | B21: Elvonások és befizetések bevételei
A22: 2.2. | B22: Visszatérítendő támogatások, kölcsönök visszatérülése ÁH-n belülről
A23: 2.3. | B23: Egyéb működési célú támogatások bevételei államháztartáson belülről
A24: 2.4. | B24: 2.3.-ból EU támogatás
A25: 3. | B25: Közhatalmi bevételek
A26: 4. | B26: Felhalmozási célú támogatások államháztartáson belülről (4.1.+4.2.) | C26: =+C27+C28 -> 0
A27: 4.1. | B27: Visszatérítendő támogatások, kölcsönök visszatérülése ÁH-n belülről
A28: 4.2. | B28: Egyéb felhalmozási célú támogatások bevételei államháztartáson belülről
A29: 4.3. | B29: 4.2.-ből EU-s támogatás
A30: 5. | B30: Felhalmozási bevételek (5.1.+…+5.3.) | C30: =+C31+C32+C33 -> 0
A31: 5.1. | B31: Immateriális javak értékesítése
A32: 5.2. | B32: Ingatlanok értékesítése
A33: 5.3. | B33: Egyéb tárgyi eszközök értékesítése
A34: 6. | B34: Működési célú átvett pénzeszközök
A35: 7. | B35: Felhalmozási célú átvett pénzeszközök
A36: 8. | B36: KÖLTSÉGVETÉSI BEVÉTELEK ÖSSZESEN (1.+…+7.) | C36: =+C8+C20+C25+C26+C30+C34+C35 -> 100
A37: 9. | B37: Finanszírozási bevételek (9.1.+…+9.3.) | C37: =+C38+C39+C40 -> 73327
A38: 9.1. | B38: Költségvetési maradvány igénybevétele | C38: 1545
A39: 9.2. | B39: Vállalkozási maradvány igénybevétele
A40: 9.3. | B40: Irányító szervi (önkormányzati) támogatás (intézményfinanszírozás) | C40: 71782
A41: 10. | B41: BEVÉTELEK ÖSSZESEN: (8.+9.) | C41: =+C36+C37 -> 73427
B44: Kiadások
A45: 1. | B45: Működési költségvetés kiadásai (1.1+…+1.5.) | C45: =SUM(C46:C50) -> 70621
A46: 1.1. | B46: Személyi juttatások | C46: 36414
A47: 1.2. | B47: Munkaadókat terhelő járulékok és szociális hozzájárulási adó | C47: 9825
A48: 1.3. | B48: Dologi kiadások | C48: 24382
A49: 1.4. | B49: Ellátottak pénzbeli juttatásai
A50: 1.5. | B50: Egyéb működési célú kiadások
A51: 2. | B51: Felhalmozási költségvetés kiadásai (2.1.+…+2.3.) | C51: =SUM(C52:C54) -> 2806
A52: 2.1. | B52: Beruházások | C52: 2806
A53: 2.2. | B53: Felújítások
A54: 2.3. | B54: Egyéb fejlesztési célú kiadások
A55: 2.4. | B55: 2.3.-ból EU-s támogatásból megvalósuló programok, projektek kiadása
A56: 3. | B56: Finanszírozási kiadások
A57: 4. | B57: KIADÁSOK ÖSSZESEN: (1.+2.+3.) | C57: =+C45+C51+C56 -> 73427
A59: Éves tervezett létszám előirányzat (fő) | C59: 13
A60: Közfoglalkoztatottak létszáma (fő) | C60: 0

Sheet 9.3.1. sz. mell
C1: =+CONCATENATE("9.3.1. melléklet a ……/",LEFT(ÖSSZEFÜGGÉSEK!A5,4),". (II.25.) önkormányzati rendelethez") -> 9.3.1. melléklet a ……/2016. (II.25.) önkormányzati rendelethez
A2: Költségvetési szerv megnevezése | B2: Sajószögedi Általános Művelődési Központ | C2: 03
A3: Feladat megnevezése | B3: Kötelező feladatok bevételei, kiadásai | C3: 01
C4: Ezer forintban !
A5: Száma | B5: Kiemelt előirányzat, előirányzat megnevezése | C5: Előirányzat
B6: A | C6: B
B7: Bevételek
A8: 1. | B8: Működési bevételek (1.1.+…+1.11.) | C8: =SUM(C9:C19) -> 100
A9: 1.1. | B9: Készletértékesítés ellenértéke
A10: 1.2. | B10: Szolgáltatások ellenértéke | C10: 100
A11: 1.3. | B11: Közvetített szolgáltatások értéke
A12: 1.4. | B12: Tulajdonosi bevételek
A13: 1.5. | B13: Ellátási díjak
A14: 1.6. | B14: Kiszámlázott általános forgalmi adó
A15: 1.7. | B15: Általános forgalmi adó visszatérülése
A16: 1.8. | B16: Kamatbevételek
A17: 1.9. | B17: Egyéb pénzügyi műveletek bevételei
A18: 1.10. | B18: Biztosító által fizetett kártérítés
A19: 1.11. | B19: Egyéb működési bevételek
A20: 2. | B20: Működési célú támogatások államháztartáson belülről (2.1.+…+2.3.) | C20: =SUM(C21:C23) -> 0
A21: 2.1. | B21: Elvonások és befizetések bevételei
A22: 2.2. | B22: Visszatérítendő támogatások, kölcsönök visszatérülése ÁH-n belülről
A23: 2.3. | B23: Egyéb működési célú támogatások bevételei államháztartáson belülről
A24: 2.4. | B24: 2.3.-ból EU támogatás
A25: 3. | B25: Közhatalmi bevételek
A26: 4. | B26: Felhalmozási célú támogatások államháztartáson belülről (4.1.+4.2.) | C26: =+C27+C28 -> 0
A27: 4.1. | B27: Visszatérítendő támogatások, kölcsönök visszatérülése ÁH-n belülről
A28: 4.2. | B28: Egyéb felhalmozási célú támogatások bevételei államháztartáson belülről
A29: 4.3. | B29: 4.2.-ből EU-s támogatás
A30: 5. | B30: Felhalmozási bevételek (5.1.+…+5.3.) | C30: =+C31+C32+C33 -> 0
A31: 5.1. | B31: Immateriális javak értékesítése
A32: 5.2. | B32: Ingatlanok értékesítése
A33: 5.3. | B33: Egyéb tárgyi eszközök értékesítése
A34: 6. | B34: Működési célú átvett pénzeszközök
A35: 7. | B35: Felhalmozási célú átvett pénzeszközök
A36: 8. | B36: KÖLTSÉGVETÉSI BEVÉTELEK ÖSSZESEN (1.+…+7.) | C36: =+C8+C20+C25+C26+C30+C34+C35 -> 100
A37: 9. | B37: Finanszírozási bevételek (9.1.+…+9.3.) | C37: =+C38+C39+C40 -> 73327
A38: 9.1. | B38: Költségvetési maradvány igénybevétele | C38: 1545
A39: 9.2. | B39: Vállalkozási maradvány igénybevétele
A40: 9.3. | B40: Irányító szervi (önkormányzati) támogatás (intézményfinanszírozás) | C40: 71782
A41: 10. | B41: BEVÉTELEK ÖSSZESEN: (8.+9.) | C41: =+C36+C37 -> 73427
B44: Kiadások
A45: 1. | B45: Működési költségvetés kiadásai (1.1+…+1.5.) | C45: =SUM(C46:C50) -> 70621
A46: 1.1. | B46: Személyi juttatások | C46: 36414
A47: 1.2. | B47: Munkaadókat terhelő járulékok és szociális hozzájárulási adó | C47: 9825
A48: 1.3. | B48: Dologi kiadások | C48: 24382
A49: 1.4. | B49: Ellátottak pénzbeli juttatásai
A50: 1.5. | B50: Egyéb működési célú kiadások
A51: 2. | B51: Felhalmozási költségvetés kiadásai (2.1.+…+2.3.) | C51: =SUM(C52:C54) -> 2806
A52: 2.1. | B52: Beruházások | C52: 2806
A53: 2.2. | B53: Felújítások
A54: 2.3. | B54: Egyéb fejlesztési célú kiadások
A55: 2.4. | B55: 2.3.-ból EU-s támogatásból megvalósuló programok, projektek kiadása
A56: 3. | B56: Finanszírozási kiadások
A57: 4. | B57: KIADÁSOK ÖSSZESEN: (1.+2.+3.) | C57: =+C45+C51+C56 -> 73427
A59: Éves tervezett létszám előirányzat (fő) | C59: 13
A60: Közfoglalkoztatottak létszáma (fő) | C60: 0

Sheet 9.3.2. sz. mell
C1: =+CONCATENATE("9.3.2. melléklet a ……/",LEFT(ÖSSZEFÜGGÉSEK!A5,4),". (II.25.) önkormányzati rendelethez") -> 9.3.2. melléklet a ……/2016. (II.25.) önkormányzati rendelethez
A2: Költségvetési szerv megnevezése | B2: Sajószögedi Általános Művelődési Központ | C2: 03
A3: Feladat megnevezése | B3: Önként vállalt feladatok bevételei, kiadásai | C3: 02
C4: Ezer forintban !
A5: Száma | B5: Kiemelt előirányzat, előirányzat megnevezése | C5: Előirányzat
B6: A | C6: B
B7: Bevételek
A8: 1. | B8: Működési bevételek (1.1.+…+1.11.) | C8: =SUM(C9:C19) -> 0
A9: 1.1. | B9: Készletértékesítés ellenértéke
A10: 1.2. | B10: Szolgáltatások ellenértéke
A11: 1.3. | B11: Közvetített szolgáltatások értéke
A12: 1.4. | B12: Tulajdonosi bevételek
A13: 1.5. | B13: Ellátási díjak
A14: 1.6. | B14: Kiszámlázott általános forgalmi adó
A15: 1.7. | B15: Általános forgalmi adó visszatérülése
A16: 1.8. | B16: Kamatbevételek
A17: 1.9. | B17: Egyéb pénzügyi műveletek bevételei
A18: 1.10. | B18: Biztosító által fizetett kártérítés
A19: 1.11. | B19: Egyéb működési bevételek
A20: 2. | B20: Működési célú támogatások államháztartáson belülről (2.1.+…+2.3.) | C20: =SUM(C21:C23) -> 0
A21: 2.1. | B21: Elvonások és befizetések bevételei
A22: 2.2. | B22: Visszatérítendő támogatások, kölcsönök visszatérülése ÁH-n belülről
A23: 2.3. | B23: Egyéb működési célú támogatások bevételei államháztartáson belülről
A24: 2.4. | B24: 2.3.-ból EU támogatás
A25: 3. | B25: Közhatalmi bevételek
A26: 4. | B26: Felhalmozási célú támogatások államháztartáson belülről (4.1.+4.2.) | C26: =+C27+C28 -> 0
A27: 4.1. | B27: Visszatérítendő támogatások, kölcsönök visszatérülése ÁH-n belülről
A28: 4.2. | B28: Egyéb felhalmozási célú támogatások bevételei államháztartáson belülről
A29: 4.3. | B29: 4.2.-ből EU-s támogatás
A30: 5. | B30: Felhalmozási bevételek (5.1.+…+5.3.) | C30: =+C31+C32+C33 -> 0
A31: 5.1. | B31: Immateriális javak értékesítése
A32: 5.2. | B32: Ingatlanok értékesítése
A33: 5.3. | B33: Egyéb tárgyi eszközök értékesítése
A34: 6. | B34: Működési célú átvett pénzeszközök
A35: 7. | B35: Felhalmozási célú átvett pénzeszközök
A36: 8. | B36: KÖLTSÉGVETÉSI BEVÉTELEK ÖSSZESEN (1.+…+7.) | C36: =+C8+C20+C25+C26+C30+C34+C35 -> 0
A37: 9. | B37: Finanszírozási bevételek (9.1.+…+9.3.) | C37: =+C38+C39+C40 -> 0
A38: 9.1. | B38: Költségvetési maradvány igénybevétele
A39: 9.2. | B39: Vállalkozási maradvány igénybevétele
A40: 9.3. | B40: Irányító szervi (önkormányzati) támogatás (intézményfinanszírozás)
A41: 10. | B41: BEVÉTELEK ÖSSZESEN: (8.+9.) | C41: =+C36+C37 -> 0
B44: Kiadások
A45: 1. | B45: Működési költségvetés kiadásai (1.1+…+1.5.) | C45: =SUM(C46:C50) -> 0
A46: 1.1. | B46: Személyi juttatások
A47: 1.2. | B47: Munkaadókat terhelő járulékok és szociális hozzájárulási adó
A48: 1.3. | B48: Dologi kiadások
A49: 1.4. | B49: Ellátottak pénzbeli juttatásai
A50: 1.5. | B50: Egyéb működési célú kiadások
A51: 2. | B51: Felhalmozási költségvetés kiadásai (2.1.+…+2.3.) | C51: =SUM(C52:C54) -> 0
A52: 2.1. | B52: Beruházások
A53: 2.2. | B53: Felújítások
A54: 2.3. | B54: Egyéb fejlesztési célú kiadások
A55: 2.4. | B55: 2.3.-ból EU-s támogatásból megvalósuló programok, projektek kiadása
A56: 3. | B56: Finanszírozási kiadások
A57: 4. | B57: KIADÁSOK ÖSSZESEN: (1.+2.+3.) | C57: =+C45+C51+C56 -> 0
A59: Éves tervezett létszám előirányzat (fő)
A60: Közfoglalkoztatottak létszáma (fő)

Sheet 9.3.3. sz. mell
C1: =+CONCATENATE("9.3.3. melléklet a ……/",LEFT(ÖSSZEFÜGGÉSEK!A5,4),". (II.25.) önkormányzati rendelethez") -> 9.3.3. melléklet a ……/2016. (II.25.) önkormányzati rendelethez
A2: Költségvetési szerv megnevezése | B2: Sajószögedi Általános Művelődési Központ | C2: 03
A3: Feladat megnevezése | B3: Államigazgatási feladatok bevételei, kiadásai | C3: 03
C4: Ezer forintban !
A5: Száma | B5: Kiemelt előirányzat, előirányzat megnevezése | C5: Előirányzat
B6: A | C6: B
B7: Bevételek
A8: 1. | B8: Működési bevételek (1.1.+…+1.11.) | C8: =SUM(C9:C19) -> 0
A9: 1.1. | B9: Készletértékesítés ellenértéke
A10: 1.2. | B10: Szolgáltatások ellenértéke
A11: 1.3. | B11: Közvetített szolgáltatások értéke
A12: 1.4. | B12: Tulajdonosi bevételek
A13: 1.5. | B13: Ellátási díjak
A14: 1.6. | B14: Kiszámlázott általános forgalmi adó
A15: 1.7. | B15: Általános forgalmi adó visszatérülése
A16: 1.8. | B16: Kamatbevételek
A17: 1.9. | B17: Egyéb pénzügyi műveletek bevételei
A18: 1.10. | B18: Biztosító által fizetett kártérítés
A19: 1.11. | B19: Egyéb működési bevételek
A20: 2. | B20: Működési célú támogatások államháztartáson belülről (2.1.+…+2.3.) | C20: =SUM(C21:C23) -> 0
A21: 2.1. | B21: Elvonások és befizetések bevételei
A22: 2.2. | B22: Visszatérítendő támogatások, kölcsönök visszatérülése ÁH-n belülről
A23: 2.3. | B23: Egyéb működési célú támogatások bevételei államháztartáson belülről
A24: 2.4. | B24: 2.3.-ból EU támogatás
A25: 3. | B25: Közhatalmi bevételek
A26: 4. | B26: Felhalmozási célú támogatások államháztartáson belülről (4.1.+4.2.) | C26: =+C27+C28 -> 0
A27: 4.1. | B27: Visszatérítendő támogatások, kölcsönök visszatérülése ÁH-n belülről
A28: 4.2. | B28: Egyéb felhalmozási célú támogatások bevételei államháztartáson belülről
A29: 4.3. | B29: 4.2.-ből EU-s támogatás
A30: 5. | B30: Felhalmozási bevételek (5.1.+…+5.3.) | C30: =+C31+C32+C33 -> 0
A31: 5.1. | B31: Immateriális javak értékesítése
A32: 5.2. | B32: Ingatlanok értékesítése
A33: 5.3. | B33: Egyéb tárgyi eszközök értékesítése
A34: 6. | B34: Működési célú átvett pénzeszközök
A35: 7. | B35: Felhalmozási célú átvett pénzeszközök
A36: 8. | B36: KÖLTSÉGVETÉSI BEVÉTELEK ÖSSZESEN (1.+…+7.) | C36: =+C8+C20+C25+C26+C30+C34+C35 -> 0
A37: 9. | B37: Finanszírozási bevételek (9.1.+…+9.3.) | C37: =+C38+C39+C40 -> 0
A38: 9.1. | B38: Költségvetési maradvány igénybevétele
A39: 9.2. | B39: Vállalkozási maradvány igénybevétele
A40: 9.3. | B40: Irányító szervi (önkormányzati) támogatás (intézményfinanszírozás)
A41: 10. | B41: BEVÉTELEK ÖSSZESEN: (8.+9.) | C41: =+C36+C37 -> 0
B44: Kiadások
A45: 1. | B45: Működési költségvetés kiadásai (1.1+…+1.5.) | C45: =SUM(C46:C50) -> 0
A46: 1.1. | B46: Személyi juttatások
A47: 1.2. | B47: Munkaadókat terhelő járulékok és szociális hozzájárulási adó
A48: 1.3. | B48: Dologi kiadások
A49: 1.4. | B49: Ellátottak pénzbeli juttatásai
A50: 1.5. | B50: Egyéb működési célú kiadások
A51: 2. | B51: Felhalmozási költségvetés kiadásai (2.1.+…+2.3.) | C51: =SUM(C52:C54) -> 0
A52: 2.1. | B52: Beruházások
A53: 2.2. | B53: Felújítások
A54: 2.3. | B54: Egyéb fejlesztési célú kiadások
A55: 2.4. | B55: 2.3.-ból EU-s támogatásból megvalósuló programok, projektek kiadása
A56: 3. | B56: Finanszírozási kiadások
A57: 4. | B57: KIADÁSOK ÖSSZESEN: (1.+2.+3.) | C57: =+C45+C51+C56 -> 0
A59: Éves tervezett létszám előirányzat (fő)
A60: Közfoglalkoztatottak létszáma (fő)

Sheet 1. sz tájékoztató t.
A1: B E V É T E L E K
A2: 1. sz. táblázat | E2: Ezer forintban
A3: Sor- szám | B3: Bevételi jogcím | C3: =+CONCATENATE(LEFT(ÖSSZEFÜGGÉSEK!A5,4)-2,". évi tény") -> 2014. évi tény | D3: =+CONCATENATE(LEFT(ÖSSZEFÜGGÉSEK!A5,4)-1,". évi várható") -> 2015. évi várható | E3: =+'1.1.sz.mell.'!C3 -> 2016. évi előirányzat
A4: A | B4: B | C4: C | D4: D | E4: E
A5: 1. | B5: Önkormányzat működési támogatásai (1.1.+…+.1.6.) | C5: =+C6+C7+C8+C9+C10+C11 -> 79054 | D5: =+D6+D7+D8+D9+D10+D11 -> 77153 | E5: =+E6+E7+E8+E9+E10+E11 -> 76533
A6: 1.1. | B6: Helyi önkormányzatok működésének általános támogatása | C6: 18606 | D6: 19403 | E6: 20129
A7: 1.2. | B7: Önkormányzatok egyes köznevelési feladatainak támogatása | C7: 24155 | D7: 25929 | E7: 24829
A8: 1.3. | B8: Önkormányzatok szociális és gyermekjóléti feladatainak támogatása | C8: 30529 | D8: 26979 | E8: 29066
A9: 1.4. | B9: Önkormányzatok kulturális feladatainak támogatása | C9: 2514 | D9: 2656 | E9: 2509
A10: 1.5. | B10: Működési célú kvi támogatások és kiegészítő támogatások | C10: 3250 | D10: 2055
A11: 1.6. | B11: Elszámolásból származó bevételek | D11: 131
A12: 2. | B12: Működési célú támogatások államháztartáson belülről (2.1.+…+.2.5.) | C12: =+C13+C14+C15+C16+C17 -> 19250 | D12: =+D13+D14+D15+D16+D17 -> 21871 | E12: =+E13+E14+E15+E16+E17 -> 16444
A13: 2.1. | B13: Elvonások és befizetések bevételei
A14: 2.2. | B14: Működési célú garancia- és kezességvállalásból megtérülések
A15: 2.3. | B15: Működési célú visszatérítendő támogatások, kölcsönök visszatérülése
A16: 2.4. | B16: Működési célú visszatérítendő támogatások, kölcsönök igénybevétele
A17: 2.5. | B17: Egyéb működési célú támogatások bevételei | C17: 19250 | D17: 21871 | E17: 16444
A18: 2.6. | B18: 2.5.-ből EU-s támogatás | D18: 960
A19: 3. | B19: Felhalmozási célú támogatások államháztartáson belülről (3.1.+…+3.5.) | C19: =+C20+C21+C22+C23+C24 -> 235 | D19: =+D20+D21+D22+D23+D24 -> 107 | E19: =+E20+E21+E22+E23+E24 -> 0
A20: 3.1. | B20: Felhalmozási célú önkormányzati támogatások | C20: 235 | D20: 107
A21: 3.2. | B21: Felhalmozási célú garancia- és kezességvállalásból megtérülések
A22: 3.3. | B22: Felhalmozási célú visszatérítendő támogatások, kölcsönök visszatérülése
A23: 3.4. | B23: Felhalmozási célú visszatérítendő támogatások, kölcsönök igénybevétele
A24: 3.5. | B24: Egyéb felhalmozási célú támogatások bevételei
A25: 3.6. | B25: 3.5.-ből EU-s támogatás
A26: 4. | B26: Közhatalmi bevételek (4.1.+4.2.+4.3.+4.4.) | C26: =SUM(C27:C33) -> 128260 | D26: =SUM(D27:D33) -> 176381 | E26: =SUM(E27:E33) -> 124730
A27: 4.1. | B27: Építményadó és telekadó | C27: 5065 | D27: 74822 | E27: 32500
A28: 4.2. | B28: Idegenforgalmi adó
A29: 4.3. | B29: Iparűzési adó | C29: 114166 | D29: 92978 | E29: 85000
A30: 4.4. | B30: Talajterhelési díj | C30: 808 | D30: 503 | E30: 200
A31: 4.5. | B31: Gépjárműadó | C31: 7434 | D31: 7800 | E31: 7000
A32: 4.6. | B32: Egyéb áruhasználati és szolgáltatási adók
A33: 4.7. | B33: Egyéb közhatalmi bevételek | C33: 787 | D33: 278 | E33: 30
A34: 5. | B34: Működési bevételek (5.1.+…+ 5.11.) | C34: =SUM(C35:C45) -> 24887 | D34: =SUM(D35:D45) -> 53265 | E34: =SUM(E35:E45) -> 23217
A35: 5.1. | B35: Készletértékesítés ellenértéke
A36: 5.2. | B36: Szolgáltatások ellenértéke | C36: 3026 | D36: 3725 | E36: 1670
A37: 5.3. | B37: Közvetített szolgáltatások értéke | C37: 762 | D37: 981 | E37: 800
A38: 5.4. | B38: Tulajdonosi bevételek | D38: 18230
A39: 5.5. | B39: Ellátási díjak | C39: 14074 | D39: 15176 | E39: 15896
A40: 5.6. | B40: Kiszámlázott általános forgalmi adó | C40: 4361 | D40: 9721 | E40: 4851
A41: 5.7. | B41: Általános forgalmi adó visszatérítése | C41: 2464 | D41: 563
A42: 5.8. | B42: Kamatbevételek és más nyereségjellegű bevételek | C42: 6 | D42: 4317
A43: 5.9. | B43: Egyéb pénzügyi műveletek bevételei
A44: 5.10. | B44: Biztosító által fizetett kártérítés
A45: 5.11. | B45: Egyéb működési bevételek | C45: 194 | D45: 552
A46: 6. | B46: Felhalmozási bevételek (6.1.+…+6.5.) | C46: =SUM(C47:C51) -> 504 | D46: =SUM(D47:D51) -> 0 | E46: =SUM(E47:E51) -> 15000
A47: 6.1. | B47: Immateriális javak értékesítése
A48: 6.2. | B48: Ingatlanok értékesítése | E48: 15000
A49: 6.3. | B49: Egyéb tárgyi eszközök értékesítése | C49: 504
A50: 6.4. | B50: Részesedések értékesítése
A51: 6.5. | B51: Részesedések megszűnéséhez kapcsolódó bevételek
A52: 7. | B52: Működési célú átvett pénzeszközök (7.1. + … + 7.3.) | C52: =SUM(C53:C55) -> 21770 | D52: =SUM(D53:D55) -> 18091 | E52: =SUM(E53:E55) -> 0
A53: 7.1. | B53: Működési célú garancia- és kezességvállalásból megtérülések ÁH-n kívülről
A54: 7.2. | B54: Működési célú visszatérítendő támogatások, kölcsönök visszatér. ÁH-n kívülről | C54: 19856 | D54: 17641
A55: 7.3. | B55: Egyéb működési célú átvett pénzeszköz | C55: 1914 | D55: 450
A56: 7.4. | B56: 7.3.-ból EU-s támogatás (közvetlen)
A57: 8. | B57: Felhalmozási célú átvett pénzeszközök (8.1.+8.2.+8.3.) | C57: =SUM(C58:C60) -> 12500 | D57: =SUM(D58:D60) -> 543 | E57: =SUM(E58:E60) -> 0
A58: 8.1. | B58: Felhalm. célú garancia- és kezességvállalásból megtérülések ÁH-n kívülről
A59: 8.2. | B59: Felhalm. célú visszatérítendő támogatások, kölcsönök visszatér. ÁH-n kívülről | D59: 257
A60: 8.3. | B60: Egyéb felhalmozási célú átvett pénzeszköz | C60: 12500 | D60: 286
A61: 8.4. | B61: 8.3.-ból EU-s támogatás (közvetlen)
A62: 9. | B62: KÖLTSÉGVETÉSI BEVÉTELEK ÖSSZESEN: (1+…+8) | C62: =+C5+C12+C19+C26+C34+C46+C52+C57 -> 286460 | D62: =+D5+D12+D19+D26+D34+D46+D52+D57 -> 347411 | E62: =+E5+E12+E19+E26+E34+E46+E52+E57 -> 255924
A63: 10. | B63: Hitel-, kölcsönfelvétel államháztartáson kívülről (10.1.+…+10.3.) | C63: =SUM(C64:C66) -> 0 | D63: =SUM(D64:D66) -> 0 | E63: =SUM(E64:E66) -> 0
A64: 10.1. | B64: Hosszú lejáratú hitelek, kölcsönök felvétele
A65: 10.2. | B65: Likviditási célú hitelek, kölcsönök felvétele pénzügyi vállalkozástól
A66: 10.3. | B66: Rövid lejáratú hitelek, kölcsönök felvétele
A67: 11. | B67: Belföldi értékpapírok bevételei (11.1. +…+ 11.4.) | C67: =SUM(C68:C71) -> 18100 | D67: =SUM(D68:D71) -> 88683 | E67: =SUM(E68:E71) -> 49676
A68: 11.1. | B68: Forgatási célú belföldi értékpapírok beváltása, értékesítése | C68: 18100 | D68: 88683 | E68: 49676
A69: 11.2. | B69: Forgatási célú belföldi értékpapírok kibocsátása
A70: 11.3. | B70: Befektetési célú belföldi értékpapírok beváltása, értékesítése
A71: 11.4. | B71: Befektetési célú belföldi értékpapírok kibocsátása
A72: 12. | B72: Maradvány igénybevétele (12.1. + 12.2.) | C72: =SUM(C73:C74) -> 3765 | D72: =SUM(D73:D74) -> 12773 | E72: =SUM(E73:E74) -> 9923
A73: 12.1. | B73: Előző év költségvetési maradványának igénybevétele | C73: 3765 | D73: 12773 | E73: 9923
A74: 12.2. | B74: Előző év vállalkozási maradványának igénybevétele
A75: 13. | B75: Belföldi finanszírozás bevételei (13.1. + … + 13.3.) | C75: =SUM(C76:C78) -> 2173 | D75: =SUM(D76:D78) -> 2712 | E75: =SUM(E76:E78) -> 0
A76: 13.1. | B76: Államháztartáson belüli megelőlegezések | C76: 2173 | D76: 2712
A77: 13.2. | B77: Államháztartáson belüli megelőlegezések törlesztése
A78: 13.3. | B78: Betétek megszüntetése
A79: 14. | B79: Külföldi finanszírozás bevételei (14.1.+…14.4.) | C79: =SUM(C80:C83) -> 0 | D79: =SUM(D80:D83) -> 0 | E79: =SUM(E80:E83) -> 0
A80: 14.1. | B80: Forgatási célú külföldi értékpapírok beváltása, értékesítése
A81: 14.2. | B81: Befektetési célú külföldi értékpapírok beváltása, értékesítése
A82: 14.3. | B82: Külföldi értékpapírok kibocsátása
A83: 14.4. | B83: Külföldi hitelek, kölcsönök felvétele
A84: 15. | B84: Váltóbevételek
A85: 16. | B85: Adóssághoz nem kapcsolódó származékos ügyletek bevételei
A86: 17. | B86: FINANSZÍROZÁSI BEVÉTELEK ÖSSZESEN: (10. + … +16.) | C86: =+C63+C67+C72+C75+C79+C85+C84 -> 24038 | D86: =+D63+D67+D72+D75+D79+D85+D84 -> 104168 | E86: =+E63+E67+E72+E75+E79+E85+E84 -> 59599
A87: 18. | B87: KÖLTSÉGVETÉSI ÉS FINANSZÍROZÁSI BEVÉTELEK ÖSSZESEN: (9+17) | C87: =+C62+C86 -> 310498 | D87: =+D62+D86 -> 451579 | E87: =+E62+E86 -> 315523
A89: K I A D Á S O K
A90: 2. sz. táblázat | E90: Ezer forintban
A91: Sor-szám | B91: Kiadási jogcímek | C91: =+C3 -> 2014. évi tény | D91: =+D3 -> 2015. évi várható | E91: =+E3 -> 2016. évi előirányzat
A92: A | B92: B | C92: C | D92: D | E92: E
A93: 1. | B93: Működési költségvetés kiadásai (1.1+…+1.5.+1.18.) | C93: =C94+C95+C96+C97+C98+C111 -> 297093 | D93: =D94+D95+D96+D97+D98+D111 -> 268252 | E93: =E94+E95+E96+E97+E98+E111 -> 294623
A94: 1.1. | B94: Személyi juttatások | C94: 95634 | D94: 96099 | E94: 100875
A95: 1.2. | B95: Munkaadókat terhelő járulékok és szociális hozzájárulási adó | C95: 22380 | D95: 22845 | E95: 24775
A96: 1.3. | B96: Dologi kiadások | C96: 89459 | D96: 95762 | E96: 102862
A97: 1.4. | B97: Ellátottak pénzbeli juttatásai | C97: 24777 | D97: 19837 | E97: 26149
A98: 1.5 | B98: Egyéb működési célú kiadások | C98: 64843 | D98: 33709 | E98: 34962
A99: 1.6. | B99: - az 1.5-ből: - Előző évi elszámolásból származó befizetések | C99: 5
A100: 1.7. | B100: - Törvényi előíráson alapuló befizetések
A101: 1.8. | B101: - Elvonások és befizetések | D101: 86
...

Sheet 2. sz tájékoztató t
A1: Többéves kihatással járó döntések számszerűsítése évenkénti bontásban és összesítve célok szerint
I2: Ezer forintban !
A3: Sor- szám | B3: Kötelezettség jogcíme | C3: Köt. váll. éve | D3: =+CONCATENATE(LEFT(ÖSSZEFÜGGÉSEK!A5,4)," előtti kifizetés") -> 2016 előtti kifizetés | E3: Kiadás vonzata évenként | I3: Összesen
E4: =+CONCATENATE(LEFT(ÖSSZEFÜGGÉSEK!A5,4),".") -> 2016. | F4: =+CONCATENATE(LEFT(ÖSSZEFÜGGÉSEK!A5,4)+1,".") -> 2017. | G4: =+CONCATENATE(LEFT(ÖSSZEFÜGGÉSEK!A5,4)+2,".") -> 2018. | H4: =+CONCATENATE(LEFT(ÖSSZEFÜGGÉSEK!A5,4)+2,".",CHAR(10)," után") -> 2018. után
A5: A | B5: B | C5: C | D5: D | E5: E | F5: F | G5: G | H5: H | I5: I=(D+E+F+G+H)
A6: 1. | B6: Bon Copy Kft. (fénymásoló karbantartás) | C6: 2013 | D6: 1433 | E6: 555 | F6: 555 | G6: 231 | I6: =SUM(D6:H6) -> 2774
A7: 2. | B7: Mithrandir Kft (informatikai karbantartás) | C7: 2014 | D7: 2578 | E7: 1956 | F7: 1956 | G7: 1956 | H7: 1956 | I7: =SUM(D7:H7) -> 10402 | J7: 2. tájékoztató tábla
A8: 3. | B8: Mi-Véd Kft. (távfelügyelet) | C8: 2014 | D8: 244 | E8: 122 | F8: 122 | G8: 122 | H8: 122 | I8: =SUM(D8:H8) -> 732
A9: 4. | B9: Közvill Zrt. (közvilágítás korszerűsítéshez hzj) | C9: 2006 | D9: 12702 | E9: 566 | F9: =+F10+F11 -> 0 | G9: =+G10+G11 -> 0 | H9: =+H10+H11 -> 0 | I9: =SUM(D9:H9) -> 13268
A10: 5. | I10: =SUM(D10:H10) -> 0
A11: 6. | I11: =SUM(D11:H11) -> 0
A12: 7. | D12: =+D13 -> 0 | E12: =+E13 -> 0 | F12: =+F13 -> 0 | G12: =+G13 -> 0 | H12: =+H13 -> 0 | I12: =SUM(D12:H12) -> 0
A13: 8. | I13: =SUM(D13:H13) -> 0
A14: 9. | D14: =+D15 -> 0 | E14: =+E15 -> 0 | F14: =+F15 -> 0 | G14: =+G15 -> 0 | H14: =+H15 -> 0 | I14: =SUM(D14:H14) -> 0
A15: 10. | I15: =SUM(D15:H15) -> 0
A16: 11. | D16: =+D17 -> 0 | E16: =+E17 -> 0 | F16: =+F17 -> 0 | G16: =+G17 -> 0 | H16: =+H17 -> 0 | I16: =SUM(D16:H16) -> 0
A17: 12. | I17: 0
A18: Összesen (1+4+7+9+11) | D18: =+D6+D9+D12+D14+D16 -> 14135 | E18: =+E6+E9+E12+E14+E16 -> 1121 | F18: =+F6+F9+F12+F14+F16 -> 555 | G18: =+G6+G9+G12+G14+G16 -> 231 | H18: =+H6+H9+H12+H14+H16 -> 0 | I18: =+I6+I9+I12+I14+I16 -> 16042

Sheet 3.sz tájékoztató t.
A1: =+CONCATENATE("Előirányzat-felhasználási terv",CHAR(10),LEFT(ÖSSZEFÜGGÉSEK!A5,4),". évre") -> Előirányzat-felhasználási terv 2016. évre
O2: Ezer forintban !
A3: Sor-szám | B3: Megnevezés | C3: Január | D3: Február | E3: Március | F3: Április | G3: Május | H3: Június | I3: Július | J3: Auguszt. | K3: Szept. | L3: Okt. | M3: Nov. | N3: Dec. | O3: Összesen:
A4: 1. | B4: Bevételek
A5: 2. | B5: Önkormányzatok működési támogatásai | C5: 6377 | D5: 6377 | E5: 6377 | F5: 6377 | G5: 6377 | H5: 6377 | I5: 6377 | J5: 6377 | K5: 6377 | L5: 6377 | M5: 6377 | N5: 6386 | O5: =SUM(C5:N5) -> 76533
A6: 3. | B6: Működési célú támogatások ÁH-on belül | C6: 1370 | D6: 1370 | E6: 1370 | F6: 1370 | G6: 1370 | H6: 1370 | I6: 1370 | J6: 1370 | K6: 1370 | L6: 1370 | M6: 1370 | N6: 1374 | O6: =SUM(C6:N6) -> 16444
A7: 4. | B7: Felhalmozási célú támogatások ÁH-on belül | O7: =SUM(C7:N7) -> 0
A8: 5. | B8: Közhatalmi bevételek | D8: 13651 | E8: 24101 | F8: 13651 | K8: 27777 | L8: 15737 | M8: 15737 | N8: 14076 | O8: =SUM(C8:N8) -> 124730
A9: 6. | B9: Működési bevételek | C9: 1934 | D9: 1934 | E9: 1934 | F9: 1934 | G9: 1934 | H9: 1934 | I9: 1934 | J9: 1934 | K9: 1934 | L9: 1934 | M9: 1934 | N9: 1943 | O9: =SUM(C9:N9) -> 23217
A10: 7. | B10: Felhalmozási bevételek | H10: 5000 | I10: 5000 | J10: 5000 | O10: =SUM(C10:N10) -> 15000
A11: 8. | B11: Működési célú átvett pénzeszközök | O11: =SUM(C11:N11) -> 0
A12: 9. | B12: Felhalmozási célú átvett pénzeszközök | O12: =SUM(C12:N12) -> 0
A13: 10. | B13: Finanszírozási bevételek | C13: 13651 | G13: 13651 | H13: 8651 | I13: 7441 | J13: 7441 | N13: 8764 | O13: =SUM(C13:N13) -> 59599
A14: 11. | B14: Bevételek összesen: | C14: =SUM(C5:C13) -> 23332 | D14: =SUM(D5:D13) -> 23332 | E14: =SUM(E5:E13) -> 33782 | F14: =SUM(F5:F13) -> 23332 | G14: =SUM(G5:G13) -> 23332 | H14: =SUM(H5:H13) -> 23332 | I14: =SUM(I5:I13) -> 22122 | J14: =SUM(J5:J13) -> 22122 | ... N14: =SUM(N5:N13) -> 32543 | O14: =SUM(C14:N14) -> 315523
A15: 12. | B15: Kiadások
A16: 13. | B16: Személyi juttatások | C16: 8406 | D16: 8406 | E16: 8406 | F16: 8406 | G16: 8406 | H16: 8406 | I16: 8406 | J16: 8406 | K16: 8406 | L16: 8406 | M16: 8406 | N16: 8409 | O16: =SUM(C16:N16) -> 100875
A17: 14. | B17: Munkaadókat terhelő járulékok és szociális hozzájárulási adó | C17: 2064 | D17: 2064 | E17: 2064 | F17: 2064 | G17: 2064 | H17: 2064 | I17: 2064 | J17: 2064 | K17: 2064 | L17: 2064 | M17: 2064 | N17: 2071 | O17: =SUM(C17:N17) -> 24775
A18: 15. | B18: Dologi kiadások | C18: 8571 | D18: 8571 | E18: 8571 | F18: 8571 | G18: 8571 | H18: 8571 | I18: 8571 | J18: 8571 | K18: 8571 | L18: 8571 | M18: 8571 | N18: 13581 | O18: =SUM(C18:N18) -> 107862
A19: 16. | B19: Ellátottak pénzbeli juttatásai | C19: 1510 | D19: 1510 | E19: 1510 | F19: 1510 | G19: 1510 | H19: 1510 | I19: 300 | J19: 300 | K19: 3596 | L19: 3596 | M19: 3596 | N19: 5701 | O19: =SUM(C19:N19) -> 26149
A20: 17. | B20: Egyéb működési célú kiadások | C20: 2781 | D20: 2781 | E20: 2781 | F20: 2781 | G20: 2781 | H20: 2781 | I20: 2781 | J20: 2781 | K20: 4371 | L20: 2781 | M20: 2781 | N20: 2781 | O20: =SUM(C20:N20) -> 34962
A21: 18. | B21: Beruházások | E21: 4777 | K21: 4777 | O21: =SUM(C21:N21) -> 9554
A22: 19. | B22: Felújítások | E22: 2723 | K22: 2723 | O22: =SUM(C22:N22) -> 5446
A23: 20. | B23: Egyéb felhalmozási kiadások | E23: 2950 | K23: 2950 | O23: =SUM(C23:N23) -> 5900
A24: 21. | B24: Finanszírozási kiadások | O24: =SUM(C24:N24) -> 0
A25: 22. | B25: Kiadások összesen: | C25: =SUM(C16:C24) -> 23332 | D25: =SUM(D16:D24) -> 23332 | E25: =SUM(E16:E24) -> 33782 | F25: =SUM(F16:F24) -> 23332 | G25: =SUM(G16:G24) -> 23332 | H25: =SUM(H16:H24) -> 23332 | I25: =SUM(I16:I24) -> 22122 | J25: =SUM(J16:J24) -> 22122 | ... N25: =SUM(N16:N24) -> 32543 | O25: =SUM(C25:N25) -> 315523
A26: 23. | B26: Egyenleg | C26: =C14-C25 -> 0 | D26: =D14-D25 -> 0 | E26: =E14-E25 -> 0 | F26: =F14-F25 -> 0 | G26: =G14-G25 -> 0 | H26: =H14-H25 -> 0 | I26: =I14-I25 -> 0 | J26: =J14-J25 -> 0 | ... O26: =O14-O25 -> 0

Sheet 4.sz tájékoztató t.
A1: =+CONCATENATE("K I M U T A T Á S",CHAR(10),"a ",LEFT(ÖSSZEFÜGGÉSEK!A5,4),". évben céljelleggel juttatott támogatásokról") -> K I M U T A T Á S a 2016. évben céljelleggel juttatott támogatásokról
C3: Ezer forintban !
A4: Sor- szám | B4: Támogatott szervezet neve | C4: Támogatás célja | D4: Támogatás összge
A5: 1. | B5: Sajószöged Községi Testedző Kör | C5: működési | D5: 3850
A6: 2. | B6: Sajószöged Polgárőr Egyesület | C6: működési | D6: 1630
A7: 3. | B7: Egyéb civil szerzvetetk | C7: működési | D7: 2000
A8: 4. | B8: Sajószöged Önkormányzat Községüzemeltetési Kft. | C8: működési | D8: 24500
A9: 5. | B9: Sajószöged Önkormányzat Községüzemeltetési Kft. | C9: felhalmozási | D9: 5900
A10: 6. | B10: Sajószögedi Polgármesteri Hivatal | C10: intézményfinanszírozás | D10: 47277
A11: 7. | B11: Sajószögedi Általános Művelődési Központ | C11: intézményfinanszírozás | D11: 71782
A12: 8.
A13: 9.
A14: 10.
A15: 11.
A16: 12.
A17: 13.
A18: 14.
A19: 15.
A20: 16.
A21: 17.
A22: 18.
A23: 19.
... A37: 33.
A38: Összesen: | D38: =SUM(D5:D37) -> 156939
A39: Nem kötelező!

Sheet 5.sz tájékoztató t.
A1: B E V É T E L E K
A2: 1. sz. táblázat | E2: Ezer forintban
A3: Sor- szám | B3: Bevételi jogcím | C3: =+CONCATENATE(LEFT(ÖSSZEFÜGGÉSEK!A5,4)+1,". évi") -> 2017. évi | D3: =+CONCATENATE(LEFT(ÖSSZEFÜGGÉSEK!A5,4)+2,". évi") -> 2018. évi | E3: =+CONCATENATE(LEFT(ÖSSZEFÜGGÉSEK!A5,4)+3,". évi") -> 2019. évi
A4: A | B4: B | C4: C | D4: D | E4: E
A5: 1. | B5: Önkormányzat működési támogatásai | C5: 72500 | D5: 72600 | E5: 72900
A6: 2. | B6: Működési célú támogatások államháztartáson belülről
A7: 3. | B7: Felhalmozási célú támogatások államháztartáson belülről
A8: 4. | B8: Közhatalmi bevételek (4.1.+4.2.+4.3.+4.4.) | C8: =SUM(C9:C15) -> 134400 | D8: =SUM(D9:D15) -> 134400 | E8: =SUM(E9:E15) -> 134400
A9: 4.1. | B9: Építményadó és telekadó | C9: 32000 | D9: 32000 | E9: 32000
A10: 4.2. | B10: Idegenforgalmi adó
A11: 4.3. | B11: Iparűzési adó | C11: 95000 | D11: 95000 | E11: 95000
A12: 4.4. | B12: Talajterhelési díj
A13: 4.5. | B13: Gépjárműadó | C13: 7000 | D13: 7000 | E13: 7000
A14: 4.6. | B14: Egyéb áruhasználati és szolgáltatási adók
A15: 4.7. | B15: Egyéb közhatalmi bevételek | C15: 400 | D15: 400 | E15: 400
A16: 5. | B16: Működési bevételek | C16: 13600 | D16: 14000 | E16: 15100
A17: 6. | B17: Felhalmozási bevételek
A18: 7. | B18: Működési célú átvett pénzeszközök
A19: 8. | B19: Felhalmozási célú átvett pénzeszközök
A20: 9. | B20: KÖLTSÉGVETÉSI BEVÉTELEK ÖSSZESEN: (1+…+8) | C20: =+C5+C6+C7+C8+C16+C17+C18+C19 -> 220500 | D20: =+D5+D6+D7+D8+D16+D17+D18+D19 -> 221000 | E20: =+E5+E6+E7+E8+E16+E17+E18+E19 -> 222400
A21: 10. | B21: FINANSZÍROZÁSI BEVÉTELEK ÖSSZESEN:
A22: 11. | B22: KÖLTSÉGVETÉSI ÉS FINANSZÍROZÁSI BEVÉTELEK ÖSSZESEN: (9+10) | C22: =+C20+C21 -> 220500 | D22: =+D20+D21 -> 221000 | E22: =+E20+E21 -> 222400
A24: K I A D Á S O K
A25: 2. sz. táblázat | E25: Ezer forintban
A26: Sor-szám | B26: Kiadási jogcímek | C26: =+C3 -> 2017. évi | D26: =+D3 -> 2018. évi | E26: =+E3 -> 2019. évi
A27: A | B27: B | C27: C | D27: D | E27: E
A28: 1. | B28: Működési költségvetés kiadásai | C28: 220500 | D28: 221000 | E28: 222400
A29: 2. | B29: Felhalmozási költségvetés kiadásai (2.1.+2.2.+2.3.) | C29: =+C30+C31+C32 -> 0 | D29: =+D30+D31+D32 -> 0 | E29: =+E30+E31+E32 -> 0
A30: 2.1. | B30: Beruházások
A31: 2.2. | B31: Felújítások
A32: 2.3. | B32: Egyéb felhalmozási kiadások
A33: 3. | B33: KÖLTSÉGVETÉSI KIADÁSOK ÖSSZESEN (1+2) | C33: =+C28+C29 -> 220500 | D33: =+D28+D29 -> 221000 | E33: =+E28+E29 -> 222400
A34: 4. | B34: FINANSZÍROZÁSI KIADÁSOK ÖSSZESEN:
A35: 5. | B35: KIADÁSOK ÖSSZESEN: (3.+4.) | C35: =+C33+C34 -> 220500 | D35: =+D33+D34 -> 221000 | E35: =+E33+E34 -> 222400

Sheet 6.sz tájékoztató t.
A1: Sajószöged Községi Önkormányzat és önálló intézményei
A3: 2016. évi LÉTSZÁMKERETE
A6: 1. | B6: Sajószöged Községi Önkormányzat
A7: 1.1 | B7: Önkormányzati igazgatás-Polgármester | I7: 1 | J7: fő
A8: 1.2 | B8: Házi segítségnyújtás | I8: 1 | J8: fő
A9: 1.3 | B9: Védőnői szolgálat | I9: 2 | J9: fő
A10: 1.4 | B10: Községgazdálkodás | I10: 3 | J10: fő
A11: 1.5 | B11: Választott tisztségviselők | I11: 8 | J11: fő
A12: 1.6 | B12: Közfoglalkoztatottak | I12: 15 | J12: fő
B13: Sajószöged Községi Önkormányzat összesen | I13: =SUM(I7:I12) -> 30 | J13: fő
A16: 2. | B16: Polgármesteri Hivatal | I16: 7 | J16: fő
B17: Ebből: | C17: 1 fő jegyző
C18: 6 fő ügyintéző
B19: Polgármesteri Hivatal összesen | I19: 7 | J19: fő
A21: 3. | B21: Általános Művelődési Központ
B22: Napközi Otthonos Óvoda | I22: 10 | J22: fő
B23: Ebből: | C23: 1 fő ÁMK igazgató/óvodavezető
C24: 3 fő óvónő
C25: 2 fő óvodai nevelő munkát közvetlenül segítő
C26: 4 fő óvodai konyha ellátása
C27: Ebből: | D27: 1 fő szakács
D28: 1 fő élelmezésvezető
D29: 2 fő konyhalány
B30: Művelődési Ház és Könyvtár | I30: 2 | J30: fő
B31: Ebből: | C31: 1 fő könyvtáros
C32: 1 fő takarító
B33: Család- és gyermekjóléti szolgálat | I33: 1 | J33: fő
B34: Sajószögedi Általános Művelődési Központ összesen | I34: 13 | J34: fő
A36: 4. | B36: Tervezett létszámkeret összesen | I36: =I34+I19+I13 -> 50 | J36: fő
B37: Tervezett létszámkeret közfoglalkoztatottak nélkül | I37: 35 | J37: fő
