Workbook

Sheet ÖSSZEFÜGGÉSEK
A1: Költségvetési rendelet módosítás űrlapjainak összefüggései:
A6: 2018. évi eredeti előirányzat BEVÉTELEK
A9: 1.1. sz. melléklet Bevételek táblázat C. oszlop 9 sora = | B9: 2.1. számú melléklet C. oszlop 13. sor + 2.2. számú melléklet C. oszlop 12. sor
A10: 1.1 sz. melléklet Bevételek táblázat C. oszlop 17 sora = | B10: 2.1. számú melléklet C. oszlop 24. sor + 2.2. számú melléklet C. oszlop 25. sor
A11: 1.1 sz. melléklet Bevételek táblázat C. oszlop 18 sora = | B11: 2.1. számú melléklet C. oszlop 25. sor + 2.2. számú melléklet C. oszlop 26. sor
A13: =+CONCATENATE(LEFT(A6,4),". évi előirányzat módosítások BEVÉTELEK") -> 2018. évi előirányzat módosítások BEVÉTELEK
A15: 1.1. sz. melléklet Bevételek táblázat D. oszlop 9 sora = | B15: 2.1. számú melléklet D. oszlop 13. sor + 2.2. számú melléklet D. oszlop 12. sor
A16: 1.1. sz. melléklet Bevételek táblázat D. oszlop 17 sora = | B16: 2.1. számú melléklet D. oszlop 24. sor + 2.2. számú melléklet D. oszlop 25. sor
A17: 1.1. sz. melléklet Bevételek táblázat D. oszlop 18 sora = | B17: 2.1. számú melléklet D. oszlop 25. sor + 2.2. számú melléklet D. oszlop 26. sor
A19: =+CONCATENATE(LEFT(A6,4),". módosítás utáni módosított előrirányzatok BEVÉTELEK") -> 2018. módosítás utáni módosított előrirányzatok BEVÉTELEK
A21: 1.1. sz. melléklet Bevételek táblázat E. oszlop 9 sora = | B21: 2.1. számú melléklet E. oszlop 13. sor + 2.2. számú melléklet E. oszlop 12. sor
A22: 1.1. sz. melléklet Bevételek táblázat E. oszlop 17 sora = | B22: 2.1. számú melléklet E. oszlop 24. sor + 2.2. számú melléklet E. oszlop 25. sor
A23: 1.1. sz. melléklet Bevételek táblázat E. oszlop 18 sora = | B23: 2.1. számú melléklet E. oszlop 25. sor + 2.2. számú melléklet E. oszlop 26. sor
A25: =+CONCATENATE(LEFT(A6,4),". évi eredeti előirányzat KIADÁSOK") -> 2018. évi eredeti előirányzat KIADÁSOK
A27: 1.1.sz. melléklet Kiadások táblázat C. oszlop 3 sora = | B27: 2.1. számú melléklet G. oszlop 13. sor + 2.2. számú melléklet G. oszlop 12. sor
A28: 1.1. sz. melléklet Kiadások táblázat C. oszlop 10 sora = | B28: 2.1. számú melléklet G. oszlop 24. sor + 2.2. számú melléklet G. oszlop 25. sor
A29: 1.1. sz. melléklet Kiadások táblázat C. oszlop 11 sora = | B29: 2.1. számú melléklet G. oszlop 25. sor + 2.2. számú melléklet G. oszlop 26. sor
A31: =+CONCATENATE(LEFT(A6,4),". évi előirányzat módosítások KIADÁSOK") -> 2018. évi előirányzat módosítások KIADÁSOK
A33: 1.1. sz. melléklet Kiadások táblázat D. oszlop 3 sora = | B33: 2.1. számú melléklet H. oszlop 13. sor + 2.2. számú melléklet H. oszlop 12. sor
A34: 1.1. sz. melléklet Kiadások táblázat D. oszlop 10 sora = | B34: 2.1. számú melléklet H. oszlop 24. sor + 2.2. számú melléklet H. oszlop 25. sor
A35: 1.1. sz. melléklet Kiadások táblázat D. oszlop 11 sora = | B35: 2.1. számú melléklet H. oszlop 25. sor + 2.2. számú melléklet H. oszlop 26. sor
A37: =+CONCATENATE(LEFT(A6,4),". módosítás utáni módosított előirányzatok KIADÁSOK") -> 2018. módosítás utáni módosított előirányzatok KIADÁSOK
A39: 1.1. sz. melléklet Kiadások táblázat E. oszlop 3 sora = | B39: 2.1. számú melléklet I. oszlop 13. sor + 2.2. számú melléklet I. oszlop 12. sor
A40: 1.1. sz. melléklet Kiadások táblázat E. oszlop 10 sora = | B40: 2.1. számú melléklet I. oszlop 24. sor + 2.2. számú melléklet I. oszlop 25. sor
A41: 1.1.sz. melléklet Kiadások táblázat E. oszlop 11 sora = | B41: 2.1. számú melléklet I. oszlop 25. sor + 2.2. számú melléklet I. oszlop 26. sor

Sheet 1.1.sz.mell.
A1: B E V É T E L E K
A2: 1. sz. táblázat | G2: Forintban!
A3: Sor- szám | B3: Bevételi jogcím | C3: =+CONCATENATE(LEFT(ÖSSZEFÜGGÉSEK!A6,4),". évi") -> 2018. évi
C4: Eredeti előirányzat | D4: Korábbi módosítások | E4: 1. sz. módosítás | F4: Módosítások összesen | G4: 1.számú módosítás utáni előirányzat
A5: A | B5: B | C5: C | D5: D | E5: E | F5: F=(D+…+E) | G5: G=(C+F)
A6: 1. | B6: Önkormányzat működési támogatásai (1.1.+…+.1.6.) | C6: =+C7+C8+C9+C10+C11+C12 -> 109212674 | D6: =+D7+D8+D9+D10+D11+D12 -> 0 | E6: =+E7+E8+E9+E10+E11+E12 -> 1866028 | F6: =+F7+F8+F9+F10+F11+F12 -> 1866028 | G6: =+G7+G8+G9+G10+G11+G12 -> 111078702
A7: 1.1. | B7: Helyi önkormányzatok működésének általános támogatása | C7: 30667486 | E7: 34770 | F7: =D7+E7 -> 34770 | G7: =C7+F7 -> 30702256
A8: 1.2. | B8: Önkormányzatok egyes köznevelési feladatainak támogatása | C8: 46445433 | E8: -616433 | F8: =D8+E8 -> -616433 | G8: =C8+F8 -> 45829000
A9: 1.3. | B9: Önkormányzatok szociális és gyermekjóléti feladatainak támogatása | C9: 29146265 | E9: -987223 | F9: =D9+E9 -> -987223 | G9: =C9+F9 -> 28159042
A10: 1.4. | B10: Önkormányzatok kulturális feladatainak támogatása | C10: 2697090 | E10: 569796 | F10: =D10+E10 -> 569796 | G10: =C10+F10 -> 3266886
A11: 1.5. | B11: Működési célú kvi támogatások és kiegészítő támogatások | C11: 256400 | E11: 2827798 | F11: =D11+E11 -> 2827798 | G11: =C11+F11 -> 3084198
A12: 1.6. | B12: Elszámolásból származó bevételek | E12: 37320 | F12: =D12+E12 -> 37320 | G12: =C12+F12 -> 37320
A13: 2. | B13: Működési célú támogatások államháztartáson belülről (2.1.+…+.2.5.) | C13: =+C14+C15+C16+C17+C18 -> 14608139 | D13: =+D14+D15+D16+D17+D18 -> 0 | E13: =+E14+E15+E16+E17+E18 -> 303207 | F13: =+F14+F15+F16+F17+F18 -> 303207 | G13: =+G14+G15+G16+G17+G18 -> 14911346
A14: 2.1. | B14: Elvonások és befizetések bevételei | F14: =D14+E14 -> 0 | G14: =C14+F14 -> 0
A15: 2.2. | B15: Működési célú garancia- és kezességvállalásból megtérülések | F15: =D15+E15 -> 0 | G15: =C15+F15 -> 0
A16: 2.3. | B16: Működési célú visszatérítendő támogatások, kölcsönök visszatérülése | F16: =D16+E16 -> 0 | G16: =C16+F16 -> 0
A17: 2.4. | B17: Működési célú visszatérítendő támogatások, kölcsönök igénybevétele | F17: =D17+E17 -> 0 | G17: =C17+F17 -> 0
A18: 2.5. | B18: Egyéb működési célú támogatások bevételei | C18: 14608139 | E18: 303207 | F18: =D18+E18 -> 303207 | G18: =C18+F18 -> 14911346
A19: 2.6. | B19: 2.5.-ből EU-s támogatás | F19: =D19+E19 -> 0 | G19: =C19+F19 -> 0
A20: 3. | B20: Felhalmozási célú támogatások államháztartáson belülről (3.1.+…+3.5.) | C20: =+C21+C22+C23+C24+C25 -> 300655070 | D20: =+D21+D22+D23+D24+D25 -> 0 | E20: =+E21+E22+E23+E24+E25 -> -134720246 | F20: =+F21+F22+F23+F24+F25 -> -134720246 | G20: =+G21+G22+G23+G24+G25 -> 165934824
A21: 3.1. | B21: Felhalmozási célú önkormányzati támogatások | F21: =D21+E21 -> 0 | G21: =C21+F21 -> 0
A22: 3.2. | B22: Felhalmozási célú garancia- és kezességvállalásból megtérülések | F22: =D22+E22 -> 0 | G22: =C22+F22 -> 0
A23: 3.3. | B23: Felhalmozási célú visszatérítendő támogatások, kölcsönök visszatérülése | F23: =D23+E23 -> 0 | G23: =C23+F23 -> 0
A24: 3.4. | B24: Felhalmozási célú visszatérítendő támogatások, kölcsönök igénybevétele | F24: =D24+E24 -> 0 | G24: =C24+F24 -> 0
A25: 3.5. | B25: Egyéb felhalmozási célú támogatások bevételei | C25: 300655070 | E25: -134720246 | F25: =D25+E25 -> -134720246 | G25: =C25+F25 -> 165934824
A26: 3.6. | B26: 3.5.-ből EU-s támogatás | F26: =D26+E26 -> 0 | G26: =C26+F26 -> 0
A27: 4. | B27: Közhatalmi bevételek (4.1.+...+4.7.) | C27: =+C28+C29+C30+C31+C32+C33+C34 -> 171810000 | D27: =+D28+D29+D30+D31+D32+D33+D34 -> 0 | E27: =+E28+E29+E30+E31+E32+E33+E34 -> 48059139 | F27: =+F28+F29+F30+F31+F32+F33+F34 -> 48059139 | G27: =+G28+G29+G30+G31+G32+G33+G34 -> 219869139
A28: 4.1. | B28: Építményadó | C28: 101300000 | E28: 4288114 | F28: =D28+E28 -> 4288114 | G28: =C28+F28 -> 105588114
A29: 4.2. | B29: Idegenforgalmi adó | F29: =D29+E29 -> 0 | G29: =C29+F29 -> 0
A30: 4.3. | B30: Iparűzési adó | C30: 62350000 | E30: 39184174 | F30: =D30+E30 -> 39184174 | G30: =C30+F30 -> 101534174
A31: 4.4. | B31: Talajterhelési díj | F31: =D31+E31 -> 0 | G31: =C31+F31 -> 0
A32: 4.5. | B32: Gépjárműadó | C32: 8000000 | E32: 3432383 | F32: =D32+E32 -> 3432383 | G32: =C32+F32 -> 11432383
A33: 4.6. | B33: Egyéb áruhasználati és szolgáltatási adók | F33: =D33+E33 -> 0 | G33: =C33+F33 -> 0
A34: 4.7. | B34: Egyéb közhatalmi bevételek | C34: 160000 | E34: 1154468 | F34: =D34+E34 -> 1154468 | G34: =C34+F34 -> 1314468
A35: 5. | B35: Működési bevételek (5.1.+…+ 5.11.) | C35: =SUM(C36:C46) -> 30883426 | D35: =SUM(D36:D46) -> 0 | E35: =SUM(E36:E46) -> 12318428 | F35: =SUM(F36:F46) -> 12318428 | G35: =SUM(G36:G46) -> 43201854
A36: 5.1. | B36: Készletértékesítés ellenértéke | F36: =D36+E36 -> 0 | G36: =C36+F36 -> 0
A37: 5.2. | B37: Szolgáltatások ellenértéke | C37: 12478020 | E37: -5417919 | F37: =D37+E37 -> -5417919 | G37: =C37+F37 -> 7060101
A38: 5.3. | B38: Közvetített szolgáltatások értéke | C38: 700000 | E38: 990990 | F38: =D38+E38 -> 990990 | G38: =C38+F38 -> 1690990
A39: 5.4. | B39: Tulajdonosi bevételek | E39: 14159586 | F39: =D39+E39 -> 14159586 | G39: =C39+F39 -> 14159586
A40: 5.5. | B40: Ellátási díjak | C40: 11335305 | E40: -1345229 | F40: =D40+E40 -> -1345229 | G40: =C40+F40 -> 9990076
A41: 5.6. | B41: Kiszámlázott általános forgalmi adó | C41: 6370101 | E41: 3523031 | F41: =D41+E41 -> 3523031 | G41: =C41+F41 -> 9893132
A42: 5.7. | B42: Általános forgalmi adó visszatérítése | F42: =D42+E42 -> 0 | G42: =C42+F42 -> 0
A43: 5.8. | B43: Kamatbevételek és más nyereségjellegű bevételek | E43: 20831 | F43: =D43+E43 -> 20831 | G43: =C43+F43 -> 20831
A44: 5.9. | B44: Egyéb pénzügyi műveletek bevételei | F44: =D44+E44 -> 0 | G44: =C44+F44 -> 0
A45: 5.10. | B45: Biztosító által fizetett kártérítés | F45: =D45+E45 -> 0 | G45: =C45+F45 -> 0
A46: 5.11. | B46: Egyéb működési bevételek | E46: 387138 | F46: =D46+E46 -> 387138 | G46: =C46+F46 -> 387138
A47: 6. | B47: Felhalmozási bevételek (6.1.+…+6.5.) | C47: =SUM(C48:C52) -> 0 | D47: =SUM(D48:D52) -> 0 | E47: =SUM(E48:E52) -> 4349740 | F47: =SUM(F48:F52) -> 4349740 | G47: =SUM(G48:G52) -> 4349740
A48: 6.1. | B48: Immateriális javak értékesítése | F48: =D48+E48 -> 0 | G48: =C48+F48 -> 0
A49: 6.2. | B49: Ingatlanok értékesítése | E49: 4349740 | F49: =D49+E49 -> 4349740 | G49: =C49+F49 -> 4349740
A50: 6.3. | B50: Egyéb tárgyi eszközök értékesítése | F50: =D50+E50 -> 0 | G50: =C50+F50 -> 0
A51: 6.4. | B51: Részesedések értékesítése | F51: =D51+E51 -> 0 | G51: =C51+F51 -> 0
A52: 6.5. | B52: Részesedések megszűnéséhez kapcsolódó bevételek | F52: =D52+E52 -> 0 | G52: =C52+F52 -> 0
A53: 7. | B53: Működési célú átvett pénzeszközök (7.1. + … + 7.3.) | C53: =SUM(C54:C56) -> 0 | D53: =SUM(D54:D56) -> 0 | E53: =SUM(E54:E56) -> 4735711 | F53: =SUM(F54:F56) -> 4735711 | G53: =SUM(G54:G56) -> 4735711
A54: 7.1. | B54: Működési célú garancia- és kezességvállalásból megtérülések ÁH-n kívülről | F54: =D54+E54 -> 0 | G54: =C54+F54 -> 0
A55: 7.2. | B55: Működési célú visszatérítendő támogatások, kölcsönök visszatér. ÁH-n kívülről | F55: =D55+E55 -> 0 | G55: =C55+F55 -> 0
A56: 7.3. | B56: Egyéb működési célú átvett pénzeszköz | E56: 4735711 | F56: =D56+E56 -> 4735711 | G56: =C56+F56 -> 4735711
A57: 7.4. | B57: 7.3.-ból EU-s támogatás (közvetlen) | F57: =D57+E57 -> 0 | G57: =C57+F57 -> 0
A58: 8. | B58: Felhalmozási célú átvett pénzeszközök (8.1.+8.2.+8.3.) | C58: =SUM(C59:C61) -> 1663367 | D58: =SUM(D59:D61) -> 0 | E58: =SUM(E59:E61) -> -22497 | F58: =SUM(F59:F61) -> -22497 | G58: =SUM(G59:G61) -> 1640870
A59: 8.1. | B59: Felhalm. célú garancia- és kezességvállalásból megtérülések ÁH-n kívülről | F59: =D59+E59 -> 0 | G59: =C59+F59 -> 0
A60: 8.2. | B60: Felhalm. célú visszatérítendő támogatások, kölcsönök visszatér. ÁH-n kívülről | F60: =D60+E60 -> 0 | G60: =C60+F60 -> 0
A61: 8.3. | B61: Egyéb felhalmozási célú átvett pénzeszköz | C61: 1663367 | E61: -22497 | F61: =D61+E61 -> -22497 | G61: =C61+F61 -> 1640870
A62: 8.4. | B62: 8.3.-ból EU-s támogatás (közvetlen) | F62: =D62+E62 -> 0 | G62: =C62+F62 -> 0
A63: 9. | B63: KÖLTSÉGVETÉSI BEVÉTELEK ÖSSZESEN: (1+…+8) | C63: =+C6+C13+C20+C27+C35+C47+C53+C58 -> 628832676 | D63: =+D6+D13+D20+D27+D35+D47+D53+D58 -> 0 | E63: =+E6+E13+E20+E27+E35+E47+E53+E58 -> -63110490 | F63: =+F6+F13+F20+F27+F35+F47+F53+F58 -> -63110490 | G63: =+G6+G13+G20+G27+G35+G47+G53+G58 -> 565722186
A64: 10. | B64: Hitel-, kölcsönfelvétel államháztartáson kívülről (10.1.+10.3.) | C64: =SUM(C65:C67) -> 0 | D64: =SUM(D65:D67) -> 0 | E64: =SUM(E65:E67) -> 0 | F64: =SUM(F65:F67) -> 0 | G64: =SUM(G65:G67) -> 0
A65: 10.1. | B65: Hosszú lejáratú hitelek, kölcsönök felvétele | F65: =D65+E65 -> 0 | G65: =C65+F65 -> 0
A66: 10.2. | B66: Likviditási célú hitelek, kölcsönök felvétele pénzügyi vállalkozástól | F66: =D66+E66 -> 0 | G66: =C66+F66 -> 0
A67: 10.3. | B67: Rövid lejáratú hitelek, kölcsönök felvétele | F67: =D67+E67 -> 0 | G67: =C67+F67 -> 0
A68: 11. | B68: Belföldi értékpapírok bevételei (11.1. +…+ 11.4.) | C68: =SUM(C69:C72) -> 0 | D68: =SUM(D69:D72) -> 0 | E68: =SUM(E69:E72) -> 22054243 | F68: =SUM(F69:F72) -> 22054243 | G68: =SUM(G69:G72) -> 22054243
A69: 11.1. | B69: Forgatási célú belföldi értékpapírok beváltása, értékesítése | E69: 22054243 | F69: =D69+E69 -> 22054243 | G69: =C69+F69 -> 22054243
A70: 11.2. | B70: Éven belüli lejáratú belföldi értékpapírok kibocsátása | F70: =D70+E70 -> 0 | G70: =C70+F70 -> 0
A71: 11.3. | B71: Befektetési célú belföldi értékpapírok beváltása, értékesítése | F71: =D71+E71 -> 0 | G71: =C71+F71 -> 0
A72: 11.4. | B72: Éven túli lejáratú belföldi értékpapírok kibocsátása | F72: =D72+E72 -> 0 | G72: =C72+F72 -> 0
A73: 12. | B73: Maradvány igénybevétele (12.1. + 12.2.) | C73: =SUM(C74:C75) -> 193841945 | D73: =SUM(D74:D75) -> 0 | E73: =SUM(E74:E75) -> 1801014 | F73: =SUM(F74:F75) -> 1801014 | G73: =SUM(G74:G75) -> 195642959
A74: 12.1. | B74: Előző év költségvetési maradványának igénybevétele | C74: 193841945 | E74: 1801014 | F74: =D74+E74 -> 1801014 | G74: =C74+F74 -> 195642959
A75: 12.2. | B75: Előző év vállalkozási maradványának igénybevétele | F75: =D75+E75 -> 0 | G75: =C75+F75 -> 0
A76: 13. | B76: Belföldi finanszírozás bevételei (13.1. + … + 13.3.) | C76: =SUM(C77:C79) -> 0 | D76: =SUM(D77:D79) -> 0 | E76: =SUM(E77:E79) -> 0 | F76: =SUM(F77:F79) -> 0 | G76: =SUM(G77:G79) -> 0
A77: 13.1. | B77: Államháztartáson belüli megelőlegezések | F77: =D77+E77 -> 0 | G77: =C77+F77 -> 0
A78: 13.2. | B78: Államháztartáson belüli megelőlegezések törlesztése | F78: =D78+E78 -> 0 | G78: =C78+F78 -> 0
A79: 13.3. | B79: Lejötött betétek megszüntetése | F79: =D79+E79 -> 0 | G79: =C79+F79 -> 0
A80: 14. | B80: Külföldi finanszírozás bevételei (14.1.+…14.4.) | C80: =SUM(C81:C84) -> 0 | D80: =SUM(D81:D84) -> 0 | E80: =SUM(E81:E84) -> 0 | F80: =SUM(F81:F84) -> 0 | G80: =SUM(G81:G84) -> 0
A81: 14.1. | B81: Forgatási célú külföldi értékpapírok beváltása, értékesítése | F81: =D81+E81 -> 0 | G81: =C81+F81 -> 0
A82: 14.2. | B82: Befektetési célú külföldi értékpapírok beváltása, értékesítése | F82: =D82+E82 -> 0 | G82: =C82+F82 -> 0
A83: 14.3. | B83: Külföldi értékpapírok kibocsátása | F83: =D83+E83 -> 0 | G83: =C83+F83 -> 0
A84: 14.4. | B84: Külföldi hitelek, kölcsönök felvétele | F84: =D84+E84 -> 0 | G84: =C84+F84 -> 0
A85: 15. | B85: Váltóbevételek | F85: =D85+E85 -> 0 | G85: =C85+F85 -> 0
A86: 16. | B86: Adóssághoz nem kapcsolódó származékos ügyletek bevételei | F86: =D86+E86 -> 0 | G86: =C86+F86 -> 0
A87: 17. | B87: FINANSZÍROZÁSI BEVÉTELEK ÖSSZESEN: (10. + … +16.) | C87: =+C64+C68+C73+C76+C80+C86+C85 -> 193841945 | D87: =+D64+D68+D73+D76+D80+D86+D85 -> 0 | E87: =+E64+E68+E73+E76+E80+E86+E85 -> 23855257 | F87: =+F64+F68+F73+F76+F80+F86+F85 -> 23855257 | G87: =+G64+G68+G73+G76+G80+G86+G85 -> 217697202
A88: 18. | B88: KÖLTSÉGVETÉSI ÉS FINANSZÍROZÁSI BEVÉTELEK ÖSSZESEN: (9+17) | C88: =+C63+C87 -> 822674621 | D88: =+D63+D87 -> 0 | E88: =+E63+E87 -> -39255233 | F88: =+F63+F87 -> -39255233 | G88: =+G63+G87 -> 783419388
A90: K I A D Á S O K
A91: 2. sz. táblázat | G91: =G2 -> Forintban!
A92: Sor- szám | B92: Kiadási jogcím | C92: =+CONCATENATE(LEFT(ÖSSZEFÜGGÉSEK!A6,4),". évi") -> 2018. évi
C93: Eredeti előirányzat | D93: Korábbi módosítások | E93: 1. sz. módosítás | F93: Módosítások összesen | G93: 1.számú módosítás utáni előirányzat
A94: A | B94: B | C94: C | D94: D | E94: E | F94: F=(D+…+E) | G94: G=(C+F)
A95: 1. | B95: Működési költségvetés kiadásai (1.1+…+1.5.+1.18.) | C95: =C96+C97+C98+C99+C100+C113 -> 334904186 | D95: =D96+D97+D98+D99+D100+D113 -> 0 | E95: =E96+E97+E98+E99+E100+E113 -> 31086522 | F95: =F96+F97+F98+F99+F100+F113 -> 31086522 | G95: =G96+G97+G98+G99+G100+G113 -> 365990708
A96: 1.1. | B96: Személyi juttatások | C96: 129827432 | E96: 13849713 | F96: =D96+E96 -> 13849713 | G96: =C96+F96 -> 143677145
A97: 1.2. | B97: Munkaadókat terhelő járulékok és szociális hozzájárulási adó | C97: 26955245 | E97: 754592 | F97: =D97+E97 -> 754592 | G97: =C97+F97 -> 27709837
A98: 1.3. | B98: Dologi kiadások | C98: 128430894 | E98: 18324151 | F98: =D98+E98 -> 18324151 | G98: =C98+F98 -> 146755045
A99: 1.4. | B99: Ellátottak pénzbeli juttatásai | C99: 10180000 | E99: -2494390 | F99: =D99+E99 -> -2494390 | G99: =C99+F99 -> 7685610
A100: 1.5 | B100: Egyéb működési célú kiadások | C100: 37010615 | E100: 3152456 | F100: =D100+E100 -> 3152456 | G100: =C100+F100 -> 40163071
A101: 1.6. | B101: - az 1.5-ből: - Előző évi elszámolásból származó befizetések | E101: 26896 | F101: =D101+E101 -> 26896 | G101: =C101+F101 -> 26896
...

Sheet 1.2.sz.mell. 
A1: B E V É T E L E K
A2: 1. sz. táblázat | G2: Forintban!
A3: Sor- szám | B3: Bevételi jogcím | C3: =+CONCATENATE(LEFT(ÖSSZEFÜGGÉSEK!A6,4),". évi") -> 2018. évi
C4: Eredeti előirányzat | D4: Korábbi módosítások | E4: 1. sz. módosítás | F4: Módosítások összesen | G4: 1.számú módosítás utáni előirányzat
A5: A | B5: B | C5: C | D5: D | E5: E | F5: F=(D+…+E) | G5: G=(C+F)
A6: 1. | B6: Önkormányzat működési támogatásai (1.1.+…+.1.6.) | C6: =+C7+C8+C9+C10+C11+C12 -> 109212674 | D6: =+D7+D8+D9+D10+D11+D12 -> 0 | E6: =+E7+E8+E9+E10+E11+E12 -> 1866028 | F6: =+F7+F8+F9+F10+F11+F12 -> 1866028 | G6: =+G7+G8+G9+G10+G11+G12 -> 111078702
A7: 1.1. | B7: Helyi önkormányzatok működésének általános támogatása | C7: 30667486 | E7: 34770 | F7: =D7+E7 -> 34770 | G7: =C7+F7 -> 30702256
A8: 1.2. | B8: Önkormányzatok egyes köznevelési feladatainak támogatása | C8: 46445433 | E8: -616433 | F8: =D8+E8 -> -616433 | G8: =C8+F8 -> 45829000
A9: 1.3. | B9: Önkormányzatok szociális és gyermekjóléti feladatainak támogatása | C9: 29146265 | E9: -987223 | F9: =D9+E9 -> -987223 | G9: =C9+F9 -> 28159042
A10: 1.4. | B10: Önkormányzatok kulturális feladatainak támogatása | C10: 2697090 | E10: 569796 | F10: =D10+E10 -> 569796 | G10: =C10+F10 -> 3266886
A11: 1.5. | B11: Működési célú kvi támogatások és kiegészítő támogatások | C11: 256400 | E11: 2827798 | F11: =D11+E11 -> 2827798 | G11: =C11+F11 -> 3084198
A12: 1.6. | B12: Elszámolásból származó bevételek | E12: 37320 | F12: =D12+E12 -> 37320 | G12: =C12+F12 -> 37320
A13: 2. | B13: Működési célú támogatások államháztartáson belülről (2.1.+…+.2.5.) | C13: =+C14+C15+C16+C17+C18 -> 14608139 | D13: =+D14+D15+D16+D17+D18 -> 0 | E13: =+E14+E15+E16+E17+E18 -> 303207 | F13: =+F14+F15+F16+F17+F18 -> 303207 | G13: =+G14+G15+G16+G17+G18 -> 14911346
A14: 2.1. | B14: Elvonások és befizetések bevételei | F14: =D14+E14 -> 0 | G14: =C14+F14 -> 0
A15: 2.2. | B15: Működési célú garancia- és kezességvállalásból megtérülések | F15: =D15+E15 -> 0 | G15: =C15+F15 -> 0
A16: 2.3. | B16: Működési célú visszatérítendő támogatások, kölcsönök visszatérülése | F16: =D16+E16 -> 0 | G16: =C16+F16 -> 0
A17: 2.4. | B17: Működési célú visszatérítendő támogatások, kölcsönök igénybevétele | F17: =D17+E17 -> 0 | G17: =C17+F17 -> 0
A18: 2.5. | B18: Egyéb működési célú támogatások bevételei | C18: 14608139 | E18: 303207 | F18: =D18+E18 -> 303207 | G18: =C18+F18 -> 14911346
A19: 2.6. | B19: 2.5.-ből EU-s támogatás | F19: =D19+E19 -> 0 | G19: =C19+F19 -> 0
A20: 3. | B20: Felhalmozási célú támogatások államháztartáson belülről (3.1.+…+3.5.) | C20: =+C21+C22+C23+C24+C25 -> 300655070 | D20: =+D21+D22+D23+D24+D25 -> 0 | E20: =+E21+E22+E23+E24+E25 -> -134720246 | F20: =+F21+F22+F23+F24+F25 -> -134720246 | G20: =+G21+G22+G23+G24+G25 -> 165934824
A21: 3.1. | B21: Felhalmozási célú önkormányzati támogatások | F21: =D21+E21 -> 0 | G21: =C21+F21 -> 0
A22: 3.2. | B22: Felhalmozási célú garancia- és kezességvállalásból megtérülések | F22: =D22+E22 -> 0 | G22: =C22+F22 -> 0
A23: 3.3. | B23: Felhalmozási célú visszatérítendő támogatások, kölcsönök visszatérülése | F23: =D23+E23 -> 0 | G23: =C23+F23 -> 0
A24: 3.4. | B24: Felhalmozási célú visszatérítendő támogatások, kölcsönök igénybevétele | F24: =D24+E24 -> 0 | G24: =C24+F24 -> 0
A25: 3.5. | B25: Egyéb felhalmozási célú támogatások bevételei | C25: 300655070 | E25: -134720246 | F25: =D25+E25 -> -134720246 | G25: =C25+F25 -> 165934824
A26: 3.6. | B26: 3.5.-ből EU-s támogatás | F26: =D26+E26 -> 0 | G26: =C26+F26 -> 0
A27: 4. | B27: Közhatalmi bevételek (4.1.+...+4.7.) | C27: =+C28+C29+C30+C31+C32+C33+C34 -> 171810000 | D27: =+D28+D29+D30+D31+D32+D33+D34 -> 0 | E27: =+E28+E29+E30+E31+E32+E33+E34 -> 48059139 | F27: =+F28+F29+F30+F31+F32+F33+F34 -> 48059139 | G27: =+G28+G29+G30+G31+G32+G33+G34 -> 219869139
A28: 4.1. | B28: Építményadó és telekadó | C28: 101300000 | E28: 4288114 | F28: =D28+E28 -> 4288114 | G28: =C28+F28 -> 105588114
A29: 4.2. | B29: Idegenforgalmi adó | F29: =D29+E29 -> 0 | G29: =C29+F29 -> 0
A30: 4.3. | B30: Iparűzési adó | C30: 62350000 | E30: 39184174 | F30: =D30+E30 -> 39184174 | G30: =C30+F30 -> 101534174
A31: 4.4. | B31: Talajterhelési díj | F31: =D31+E31 -> 0 | G31: =C31+F31 -> 0
A32: 4.5. | B32: Gépjárműadó | C32: 8000000 | E32: 3432383 | F32: =D32+E32 -> 3432383 | G32: =C32+F32 -> 11432383
A33: 4.6. | B33: Egyéb áruhasználati és szolgáltatási adók | F33: =D33+E33 -> 0 | G33: =C33+F33 -> 0
A34: 4.7. | B34: Egyéb közhatalmi bevételek | C34: 160000 | E34: 1154468 | F34: =D34+E34 -> 1154468 | G34: =C34+F34 -> 1314468
A35: 5. | B35: Működési bevételek (5.1.+…+ 5.11.) | C35: =SUM(C36:C46) -> 30883426 | D35: =SUM(D36:D46) -> 0 | E35: =SUM(E36:E46) -> 12318428 | F35: =SUM(F36:F46) -> 12318428 | G35: =SUM(G36:G46) -> 43201854
A36: 5.1. | B36: Készletértékesítés ellenértéke | F36: =D36+E36 -> 0 | G36: =C36+F36 -> 0
A37: 5.2. | B37: Szolgáltatások ellenértéke | C37: 12478020 | E37: -5417919 | F37: =D37+E37 -> -5417919 | G37: =C37+F37 -> 7060101
A38: 5.3. | B38: Közvetített szolgáltatások értéke | C38: 700000 | E38: 990990 | F38: =D38+E38 -> 990990 | G38: =C38+F38 -> 1690990
A39: 5.4. | B39: Tulajdonosi bevételek | E39: 14159586 | F39: =D39+E39 -> 14159586 | G39: =C39+F39 -> 14159586
A40: 5.5. | B40: Ellátási díjak | C40: 11335305 | E40: -1345229 | F40: =D40+E40 -> -1345229 | G40: =C40+F40 -> 9990076
A41: 5.6. | B41: Kiszámlázott általános forgalmi adó | C41: 6370101 | E41: 3523031 | F41: =D41+E41 -> 3523031 | G41: =C41+F41 -> 9893132
A42: 5.7. | B42: Általános forgalmi adó visszatérítése | F42: =D42+E42 -> 0 | G42: =C42+F42 -> 0
A43: 5.8. | B43: Kamatbevételek és más nyereségjellegű bevételek | E43: 20831 | F43: =D43+E43 -> 20831 | G43: =C43+F43 -> 20831
A44: 5.9. | B44: Egyéb pénzügyi műveletek bevételei | F44: =D44+E44 -> 0 | G44: =C44+F44 -> 0
A45: 5.10. | B45: Biztosító által fizetett kártérítés | F45: =D45+E45 -> 0 | G45: =C45+F45 -> 0
A46: 5.11. | B46: Egyéb működési bevételek | E46: 387138 | F46: =D46+E46 -> 387138 | G46: =C46+F46 -> 387138
A47: 6. | B47: Felhalmozási bevételek (6.1.+…+6.5.) | C47: =SUM(C48:C52) -> 0 | D47: =SUM(D48:D52) -> 0 | E47: =SUM(E48:E52) -> 4349740 | F47: =SUM(F48:F52) -> 4349740 | G47: =SUM(G48:G52) -> 4349740
A48: 6.1. | B48: Immateriális javak értékesítése | F48: =D48+E48 -> 0 | G48: =C48+F48 -> 0
A49: 6.2. | B49: Ingatlanok értékesítése | E49: 4349740 | F49: =D49+E49 -> 4349740 | G49: =C49+F49 -> 4349740
A50: 6.3. | B50: Egyéb tárgyi eszközök értékesítése | F50: =D50+E50 -> 0 | G50: =C50+F50 -> 0
A51: 6.4. | B51: Részesedések értékesítése | F51: =D51+E51 -> 0 | G51: =C51+F51 -> 0
A52: 6.5. | B52: Részesedések megszűnéséhez kapcsolódó bevételek | F52: =D52+E52 -> 0 | G52: =C52+F52 -> 0
A53: 7. | B53: Működési célú átvett pénzeszközök (7.1. + … + 7.3.) | C53: =SUM(C54:C56) -> 0 | D53: =SUM(D54:D56) -> 0 | E53: =SUM(E54:E56) -> 4735711 | F53: =SUM(F54:F56) -> 4735711 | G53: =SUM(G54:G56) -> 4735711
A54: 7.1. | B54: Működési célú garancia- és kezességvállalásból megtérülések ÁH-n kívülről | F54: =D54+E54 -> 0 | G54: =C54+F54 -> 0
A55: 7.2. | B55: Működési célú visszatérítendő támogatások, kölcsönök visszatér. ÁH-n kívülről | F55: =D55+E55 -> 0 | G55: =C55+F55 -> 0
A56: 7.3. | B56: Egyéb működési célú átvett pénzeszköz | E56: 4735711 | F56: =D56+E56 -> 4735711 | G56: =C56+F56 -> 4735711
A57: 7.4. | B57: 7.3.-ból EU-s támogatás (közvetlen) | F57: =D57+E57 -> 0 | G57: =C57+F57 -> 0
A58: 8. | B58: Felhalmozási célú átvett pénzeszközök (8.1.+8.2.+8.3.) | C58: =SUM(C59:C61) -> 1663367 | D58: =SUM(D59:D61) -> 0 | E58: =SUM(E59:E61) -> -22497 | F58: =SUM(F59:F61) -> -22497 | G58: =SUM(G59:G61) -> 1640870
A59: 8.1. | B59: Felhalm. célú garancia- és kezességvállalásból megtérülések ÁH-n kívülről | F59: =D59+E59 -> 0 | G59: =C59+F59 -> 0
A60: 8.2. | B60: Felhalm. célú visszatérítendő támogatások, kölcsönök visszatér. ÁH-n kívülről | F60: =D60+E60 -> 0 | G60: =C60+F60 -> 0
A61: 8.3. | B61: Egyéb felhalmozási célú átvett pénzeszköz | C61: 1663367 | E61: -22497 | F61: =D61+E61 -> -22497 | G61: =C61+F61 -> 1640870
A62: 8.4. | B62: 8.3.-ból EU-s támogatás (közvetlen) | F62: =D62+E62 -> 0 | G62: =C62+F62 -> 0
A63: 9. | B63: KÖLTSÉGVETÉSI BEVÉTELEK ÖSSZESEN: (1+…+8) | C63: =+C6+C13+C20+C27+C35+C47+C53+C58 -> 628832676 | D63: =+D6+D13+D20+D27+D35+D47+D53+D58 -> 0 | E63: =+E6+E13+E20+E27+E35+E47+E53+E58 -> -63110490 | F63: =+F6+F13+F20+F27+F35+F47+F53+F58 -> -63110490 | G63: =+G6+G13+G20+G27+G35+G47+G53+G58 -> 565722186
A64: 10. | B64: Hitel-, kölcsönfelvétel államháztartáson kívülről (10.1.+10.3.) | C64: =SUM(C65:C67) -> 0 | D64: =SUM(D65:D67) -> 0 | E64: =SUM(E65:E67) -> 0 | F64: =SUM(F65:F67) -> 0 | G64: =SUM(G65:G67) -> 0
A65: 10.1. | B65: Hosszú lejáratú hitelek, kölcsönök felvétele | F65: =D65+E65 -> 0 | G65: =C65+F65 -> 0
A66: 10.2. | B66: Likviditási célú hitelek, kölcsönök felvétele pénzügyi vállalkozástól | F66: =D66+E66 -> 0 | G66: =C66+F66 -> 0
A67: 10.3. | B67: Rövid lejáratú hitelek, kölcsönök felvétele | F67: =D67+E67 -> 0 | G67: =C67+F67 -> 0
A68: 11. | B68: Belföldi értékpapírok bevételei (11.1. +…+ 11.4.) | C68: =SUM(C69:C72) -> 0 | D68: =SUM(D69:D72) -> 0 | E68: =SUM(E69:E72) -> 22054243 | F68: =SUM(F69:F72) -> 22054243 | G68: =SUM(G69:G72) -> 22054243
A69: 11.1. | B69: Forgatási célú belföldi értékpapírok beváltása, értékesítése | E69: 22054243 | F69: =D69+E69 -> 22054243 | G69: =C69+F69 -> 22054243
A70: 11.2. | B70: Éven belüli lejáratú belföldi értékpapírok kibocsátása | F70: =D70+E70 -> 0 | G70: =C70+F70 -> 0
A71: 11.3. | B71: Befektetési célú belföldi értékpapírok beváltása, értékesítése | F71: =D71+E71 -> 0 | G71: =C71+F71 -> 0
A72: 11.4. | B72: Éven túli lejáratú belföldi értékpapírok kibocsátása | F72: =D72+E72 -> 0 | G72: =C72+F72 -> 0
A73: 12. | B73: Maradvány igénybevétele (12.1. + 12.2.) | C73: =SUM(C74:C75) -> 193841945 | D73: =SUM(D74:D75) -> 0 | E73: =SUM(E74:E75) -> 1801014 | F73: =SUM(F74:F75) -> 1801014 | G73: =SUM(G74:G75) -> 195642959
A74: 12.1. | B74: Előző év költségvetési maradványának igénybevétele | C74: 193841945 | E74: 1801014 | F74: =D74+E74 -> 1801014 | G74: =C74+F74 -> 195642959
A75: 12.2. | B75: Előző év vállalkozási maradványának igénybevétele | F75: =D75+E75 -> 0 | G75: =C75+F75 -> 0
A76: 13. | B76: Belföldi finanszírozás bevételei (13.1. + … + 13.3.) | C76: =SUM(C77:C79) -> 0 | D76: =SUM(D77:D79) -> 0 | E76: =SUM(E77:E79) -> 0 | F76: =SUM(F77:F79) -> 0 | G76: =SUM(G77:G79) -> 0
A77: 13.1. | B77: Államháztartáson belüli megelőlegezések | F77: =D77+E77 -> 0 | G77: =C77+F77 -> 0
A78: 13.2. | B78: Államháztartáson belüli megelőlegezések törlesztése | F78: =D78+E78 -> 0 | G78: =C78+F78 -> 0
A79: 13.3. | B79: Lejötött betétek megszüntetése | F79: =D79+E79 -> 0 | G79: =C79+F79 -> 0
A80: 14. | B80: Külföldi finanszírozás bevételei (14.1.+…14.4.) | C80: =SUM(C81:C84) -> 0 | D80: =SUM(D81:D84) -> 0 | E80: =SUM(E81:E84) -> 0 | F80: =SUM(F81:F84) -> 0 | G80: =SUM(G81:G84) -> 0
A81: 14.1. | B81: Forgatási célú külföldi értékpapírok beváltása, értékesítése | F81: =D81+E81 -> 0 | G81: =C81+F81 -> 0
A82: 14.2. | B82: Befektetési célú külföldi értékpapírok beváltása, értékesítése | F82: =D82+E82 -> 0 | G82: =C82+F82 -> 0
A83: 14.3. | B83: Külföldi értékpapírok kibocsátása | F83: =D83+E83 -> 0 | G83: =C83+F83 -> 0
A84: 14.4. | B84: Külföldi hitelek, kölcsönök felvétele | F84: =D84+E84 -> 0 | G84: =C84+F84 -> 0
A85: 15. | B85: Váltóbevételek | F85: =D85+E85 -> 0 | G85: =C85+F85 -> 0
A86: 16. | B86: Adóssághoz nem kapcsolódó származékos ügyletek bevételei | F86: =D86+E86 -> 0 | G86: =C86+F86 -> 0
A87: 17. | B87: FINANSZÍROZÁSI BEVÉTELEK ÖSSZESEN: (10. + … +16.) | C87: =+C64+C68+C73+C76+C80+C86+C85 -> 193841945 | D87: =+D64+D68+D73+D76+D80+D86+D85 -> 0 | E87: =+E64+E68+E73+E76+E80+E86+E85 -> 23855257 | F87: =+F64+F68+F73+F76+F80+F86+F85 -> 23855257 | G87: =+G64+G68+G73+G76+G80+G86+G85 -> 217697202
A88: 18. | B88: KÖLTSÉGVETÉSI ÉS FINANSZÍROZÁSI BEVÉTELEK ÖSSZESEN: (9+17) | C88: =+C63+C87 -> 822674621 | D88: =+D63+D87 -> 0 | E88: =+E63+E87 -> -39255233 | F88: =+F63+F87 -> -39255233 | G88: =+G63+G87 -> 783419388
A90: K I A D Á S O K
A91: 2. sz. táblázat | G91: =G2 -> Forintban!
A92: Sor- szám | B92: Kiadási jogcím | C92: =+CONCATENATE(LEFT(ÖSSZEFÜGGÉSEK!A6,4),". évi") -> 2018. évi
C93: Eredeti előirányzat | D93: Korábbi módosítások | E93: 1. sz. módosítás | F93: Módosítások összesen | G93: ….számú módosítás utáni előirányzat
A94: A | B94: B | C94: C | D94: D | E94: E | F94: F=(D+…+E) | G94: G=(C+F)
A95: 1. | B95: Működési költségvetés kiadásai (1.1+…+1.5.+1.18.) | C95: =C96+C97+C98+C99+C100+C113 -> 334904186 | D95: =D96+D97+D98+D99+D100+D113 -> 0 | E95: =E96+E97+E98+E99+E100+E113 -> 31086522 | F95: =F96+F97+F98+F99+F100+F113 -> 31086522 | G95: =G96+G97+G98+G99+G100+G113 -> 365990708
A96: 1.1. | B96: Személyi juttatások | C96: 129827432 | E96: 13849713 | F96: =D96+E96 -> 13849713 | G96: =C96+F96 -> 143677145
A97: 1.2. | B97: Munkaadókat terhelő járulékok és szociális hozzájárulási adó | C97: 26955245 | E97: 754592 | F97: =D97+E97 -> 754592 | G97: =C97+F97 -> 27709837
A98: 1.3. | B98: Dologi kiadások | C98: 128430894 | E98: 18324151 | F98: =D98+E98 -> 18324151 | G98: =C98+F98 -> 146755045
A99: 1.4. | B99: Ellátottak pénzbeli juttatásai | C99: 10180000 | E99: -2494390 | F99: =D99+E99 -> -2494390 | G99: =C99+F99 -> 7685610
A100: 1.5 | B100: Egyéb működési célú kiadások | C100: 37010615 | E100: 3152456 | F100: =D100+E100 -> 3152456 | G100: =C100+F100 -> 40163071
A101: 1.6. | B101: - az 1.5-ből: - Előző évi elszámolásból származó befizetések | E101: 26896 | F101: =D101+E101 -> 26896 | G101: =C101+F101 -> 26896
...

Sheet 1.3.sz.mell. 
A1: B E V É T E L E K
A2: 1. sz. táblázat | G2: Forintban!
A3: Sor- szám | B3: Bevételi jogcím | C3: =+CONCATENATE(LEFT(ÖSSZEFÜGGÉSEK!A6,4),". évi") -> 2018. évi
C4: Eredeti előirányzat | D4: Korábbi módosítások | E4: 1.sz. módosítás | F4: Módosítások összesen | G4: 1.számú módosítás utáni előirányzat
A5: A | B5: B | C5: C | D5: D | E5: E | F5: F=(D+…+E) | G5: G=(C+F)
A6: 1. | B6: Önkormányzat működési támogatásai (1.1.+…+.1.6.) | C6: =+C7+C8+C9+C10+C11+C12 -> 0 | D6: =+D7+D8+D9+D10+D11+D12 -> 0 | E6: =+E7+E8+E9+E10+E11+E12 -> 0 | F6: =+F7+F8+F9+F10+F11+F12 -> 0 | G6: =+G7+G8+G9+G10+G11+G12 -> 0
A7: 1.1. | B7: Helyi önkormányzatok működésének általános támogatása | F7: =D7+E7 -> 0 | G7: =C7+F7 -> 0
A8: 1.2. | B8: Önkormányzatok egyes köznevelési feladatainak támogatása | F8: =D8+E8 -> 0 | G8: =C8+F8 -> 0
A9: 1.3. | B9: Önkormányzatok szociális és gyermekjóléti feladatainak támogatása | F9: =D9+E9 -> 0 | G9: =C9+F9 -> 0
A10: 1.4. | B10: Önkormányzatok kulturális feladatainak támogatása | F10: =D10+E10 -> 0 | G10: =C10+F10 -> 0
A11: 1.5. | B11: Működési célú kvi támogatások és kiegészítő támogatások | F11: =D11+E11 -> 0 | G11: =C11+F11 -> 0
A12: 1.6. | B12: Elszámolásból származó bevételek | F12: =D12+E12 -> 0 | G12: =C12+F12 -> 0
A13: 2. | B13: Működési célú támogatások államháztartáson belülről (2.1.+…+.2.5.) | C13: =+C14+C15+C16+C17+C18 -> 0 | D13: =+D14+D15+D16+D17+D18 -> 0 | E13: =+E14+E15+E16+E17+E18 -> 0 | F13: =+F14+F15+F16+F17+F18 -> 0 | G13: =+G14+G15+G16+G17+G18 -> 0
A14: 2.1. | B14: Elvonások és befizetések bevételei | F14: =D14+E14 -> 0 | G14: =C14+F14 -> 0
A15: 2.2. | B15: Működési célú garancia- és kezességvállalásból megtérülések | F15: =D15+E15 -> 0 | G15: =C15+F15 -> 0
A16: 2.3. | B16: Működési célú visszatérítendő támogatások, kölcsönök visszatérülése | F16: =D16+E16 -> 0 | G16: =C16+F16 -> 0
A17: 2.4. | B17: Működési célú visszatérítendő támogatások, kölcsönök igénybevétele | F17: =D17+E17 -> 0 | G17: =C17+F17 -> 0
A18: 2.5. | B18: Egyéb működési célú támogatások bevételei | F18: =D18+E18 -> 0 | G18: =C18+F18 -> 0
A19: 2.6. | B19: 2.5.-ből EU-s támogatás | F19: =D19+E19 -> 0 | G19: =C19+F19 -> 0
A20: 3. | B20: Felhalmozási célú támogatások államháztartáson belülről (3.1.+…+3.5.) | C20: =+C21+C22+C23+C24+C25 -> 0 | D20: =+D21+D22+D23+D24+D25 -> 0 | E20: =+E21+E22+E23+E24+E25 -> 0 | F20: =+F21+F22+F23+F24+F25 -> 0 | G20: =+G21+G22+G23+G24+G25 -> 0
A21: 3.1. | B21: Felhalmozási célú önkormányzati támogatások | F21: =D21+E21 -> 0 | G21: =C21+F21 -> 0
A22: 3.2. | B22: Felhalmozási célú garancia- és kezességvállalásból megtérülések | F22: =D22+E22 -> 0 | G22: =C22+F22 -> 0
A23: 3.3. | B23: Felhalmozási célú visszatérítendő támogatások, kölcsönök visszatérülése | F23: =D23+E23 -> 0 | G23: =C23+F23 -> 0
A24: 3.4. | B24: Felhalmozási célú visszatérítendő támogatások, kölcsönök igénybevétele | F24: =D24+E24 -> 0 | G24: =C24+F24 -> 0
A25: 3.5. | B25: Egyéb felhalmozási célú támogatások bevételei | F25: =D25+E25 -> 0 | G25: =C25+F25 -> 0
A26: 3.6. | B26: 3.5.-ből EU-s támogatás | F26: =D26+E26 -> 0 | G26: =C26+F26 -> 0
A27: 4. | B27: Közhatalmi bevételek (4.1.+...+4.7.) | C27: =+C28+C29+C30+C31+C32+C33+C34 -> 0 | D27: =+D28+D29+D30+D31+D32+D33+D34 -> 0 | E27: =+E28+E29+E30+E31+E32+E33+E34 -> 0 | F27: =+F28+F29+F30+F31+F32+F33+F34 -> 0 | G27: =+G28+G29+G30+G31+G32+G33+G34 -> 0
A28: 4.1. | B28: Építményadó | F28: =D28+E28 -> 0 | G28: =C28+F28 -> 0
A29: 4.2. | B29: Idegenforgalmi adó | F29: =D29+E29 -> 0 | G29: =C29+F29 -> 0
A30: 4.3. | B30: Iparűzési adó | F30: =D30+E30 -> 0 | G30: =C30+F30 -> 0
A31: 4.4. | B31: Talajterhelési díj | F31: =D31+E31 -> 0 | G31: =C31+F31 -> 0
A32: 4.5. | B32: Gépjárműadó | F32: =D32+E32 -> 0 | G32: =C32+F32 -> 0
A33: 4.6. | B33: Egyéb áruhasználati és szolgáltatási adók | F33: =D33+E33 -> 0 | G33: =C33+F33 -> 0
A34: 4.7. | B34: Egyéb közhatalmi bevételek | F34: =D34+E34 -> 0 | G34: =C34+F34 -> 0
A35: 5. | B35: Működési bevételek (5.1.+…+ 5.11.) | C35: =SUM(C36:C46) -> 0 | D35: =SUM(D36:D46) -> 0 | E35: =SUM(E36:E46) -> 0 | F35: =SUM(F36:F46) -> 0 | G35: =SUM(G36:G46) -> 0
A36: 5.1. | B36: Készletértékesítés ellenértéke | F36: =D36+E36 -> 0 | G36: =C36+F36 -> 0
A37: 5.2. | B37: Szolgáltatások ellenértéke | F37: =D37+E37 -> 0 | G37: =C37+F37 -> 0
A38: 5.3. | B38: Közvetített szolgáltatások értéke | F38: =D38+E38 -> 0 | G38: =C38+F38 -> 0
A39: 5.4. | B39: Tulajdonosi bevételek | F39: =D39+E39 -> 0 | G39: =C39+F39 -> 0
A40: 5.5. | B40: Ellátási díjak | F40: =D40+E40 -> 0 | G40: =C40+F40 -> 0
A41: 5.6. | B41: Kiszámlázott általános forgalmi adó | F41: =D41+E41 -> 0 | G41: =C41+F41 -> 0
A42: 5.7. | B42: Általános forgalmi adó visszatérítése | F42: =D42+E42 -> 0 | G42: =C42+F42 -> 0
A43: 5.8. | B43: Kamatbevételek és más nyereségjellegű bevételek | F43: =D43+E43 -> 0 | G43: =C43+F43 -> 0
A44: 5.9. | B44: Egyéb pénzügyi műveletek bevételei | F44: =D44+E44 -> 0 | G44: =C44+F44 -> 0
A45: 5.10. | B45: Biztosító által fizetett kártérítés | F45: =D45+E45 -> 0 | G45: =C45+F45 -> 0
A46: 5.11. | B46: Egyéb működési bevételek | F46: =D46+E46 -> 0 | G46: =C46+F46 -> 0
A47: 6. | B47: Felhalmozási bevételek (6.1.+…+6.5.) | C47: =SUM(C48:C52) -> 0 | D47: =SUM(D48:D52) -> 0 | E47: =SUM(E48:E52) -> 0 | F47: =SUM(F48:F52) -> 0 | G47: =SUM(G48:G52) -> 0
A48: 6.1. | B48: Immateriális javak értékesítése | F48: =D48+E48 -> 0 | G48: =C48+F48 -> 0
A49: 6.2. | B49: Ingatlanok értékesítése | F49: =D49+E49 -> 0 | G49: =C49+F49 -> 0
A50: 6.3. | B50: Egyéb tárgyi eszközök értékesítése | F50: =D50+E50 -> 0 | G50: =C50+F50 -> 0
A51: 6.4. | B51: Részesedések értékesítése | F51: =D51+E51 -> 0 | G51: =C51+F51 -> 0
A52: 6.5. | B52: Részesedések megszűnéséhez kapcsolódó bevételek | F52: =D52+E52 -> 0 | G52: =C52+F52 -> 0
A53: 7. | B53: Működési célú átvett pénzeszközök (7.1. + … + 7.3.) | C53: =SUM(C54:C56) -> 0 | D53: =SUM(D54:D56) -> 0 | E53: =SUM(E54:E56) -> 0 | F53: =SUM(F54:F56) -> 0 | G53: =SUM(G54:G56) -> 0
A54: 7.1. | B54: Működési célú garancia- és kezességvállalásból megtérülések ÁH-n kívülről | F54: =D54+E54 -> 0 | G54: =C54+F54 -> 0
A55: 7.2. | B55: Működési célú visszatérítendő támogatások, kölcsönök visszatér. ÁH-n kívülről | F55: =D55+E55 -> 0 | G55: =C55+F55 -> 0
A56: 7.3. | B56: Egyéb működési célú átvett pénzeszköz | F56: =D56+E56 -> 0 | G56: =C56+F56 -> 0
A57: 7.4. | B57: 7.3.-ból EU-s támogatás (közvetlen) | F57: =D57+E57 -> 0 | G57: =C57+F57 -> 0
A58: 8. | B58: Felhalmozási célú átvett pénzeszközök (8.1.+8.2.+8.3.) | C58: =SUM(C59:C61) -> 0 | D58: =SUM(D59:D61) -> 0 | E58: =SUM(E59:E61) -> 0 | F58: =SUM(F59:F61) -> 0 | G58: =SUM(G59:G61) -> 0
A59: 8.1. | B59: Felhalm. célú garancia- és kezességvállalásból megtérülések ÁH-n kívülről | F59: =D59+E59 -> 0 | G59: =C59+F59 -> 0
A60: 8.2. | B60: Felhalm. célú visszatérítendő támogatások, kölcsönök visszatér. ÁH-n kívülről | F60: =D60+E60 -> 0 | G60: =C60+F60 -> 0
A61: 8.3. | B61: Egyéb felhalmozási célú átvett pénzeszköz | F61: =D61+E61 -> 0 | G61: =C61+F61 -> 0
A62: 8.4. | B62: 8.3.-ból EU-s támogatás (közvetlen) | F62: =D62+E62 -> 0 | G62: =C62+F62 -> 0
A63: 9. | B63: KÖLTSÉGVETÉSI BEVÉTELEK ÖSSZESEN: (1+…+8) | C63: =+C6+C13+C20+C27+C35+C47+C53+C58 -> 0 | D63: =+D6+D13+D20+D27+D35+D47+D53+D58 -> 0 | E63: =+E6+E13+E20+E27+E35+E47+E53+E58 -> 0 | F63: =+F6+F13+F20+F27+F35+F47+F53+F58 -> 0 | G63: =+G6+G13+G20+G27+G35+G47+G53+G58 -> 0
A64: 10. | B64: Hitel-, kölcsönfelvétel államháztartáson kívülről (10.1.+10.3.) | C64: =SUM(C65:C67) -> 0 | D64: =SUM(D65:D67) -> 0 | E64: =SUM(E65:E67) -> 0 | F64: =SUM(F65:F67) -> 0 | G64: =SUM(G65:G67) -> 0
A65: 10.1. | B65: Hosszú lejáratú hitelek, kölcsönök felvétele | F65: =D65+E65 -> 0 | G65: =C65+F65 -> 0
A66: 10.2. | B66: Likviditási célú hitelek, kölcsönök felvétele pénzügyi vállalkozástól | F66: =D66+E66 -> 0 | G66: =C66+F66 -> 0
A67: 10.3. | B67: Rövid lejáratú hitelek, kölcsönök felvétele | F67: =D67+E67 -> 0 | G67: =C67+F67 -> 0
A68: 11. | B68: Belföldi értékpapírok bevételei (11.1. +…+ 11.4.) | C68: =SUM(C69:C72) -> 0 | D68: =SUM(D69:D72) -> 0 | E68: =SUM(E69:E72) -> 0 | F68: =SUM(F69:F72) -> 0 | G68: =SUM(G69:G72) -> 0
A69: 11.1. | B69: Forgatási célú belföldi értékpapírok beváltása, értékesítése | F69: =D69+E69 -> 0 | G69: =C69+F69 -> 0
A70: 11.2. | B70: Éven belüli lejáratú belföldi értékpapírok kibocsátása | F70: =D70+E70 -> 0 | G70: =C70+F70 -> 0
A71: 11.3. | B71: Befektetési célú belföldi értékpapírok beváltása, értékesítése | F71: =D71+E71 -> 0 | G71: =C71+F71 -> 0
A72: 11.4. | B72: Éven túli lejáratú belföldi értékpapírok kibocsátása | F72: =D72+E72 -> 0 | G72: =C72+F72 -> 0
A73: 12. | B73: Maradvány igénybevétele (12.1. + 12.2.) | C73: =SUM(C74:C75) -> 0 | D73: =SUM(D74:D75) -> 0 | E73: =SUM(E74:E75) -> 0 | F73: =SUM(F74:F75) -> 0 | G73: =SUM(G74:G75) -> 0
A74: 12.1. | B74: Előző év költségvetési maradványának igénybevétele | F74: =D74+E74 -> 0 | G74: =C74+F74 -> 0
A75: 12.2. | B75: Előző év vállalkozási maradványának igénybevétele | F75: =D75+E75 -> 0 | G75: =C75+F75 -> 0
A76: 13. | B76: Belföldi finanszírozás bevételei (13.1. + … + 13.3.) | C76: =SUM(C77:C79) -> 0 | D76: =SUM(D77:D79) -> 0 | E76: =SUM(E77:E79) -> 0 | F76: =SUM(F77:F79) -> 0 | G76: =SUM(G77:G79) -> 0
A77: 13.1. | B77: Államháztartáson belüli megelőlegezések | F77: =D77+E77 -> 0 | G77: =C77+F77 -> 0
A78: 13.2. | B78: Államháztartáson belüli megelőlegezések törlesztése | F78: =D78+E78 -> 0 | G78: =C78+F78 -> 0
A79: 13.3. | B79: Lejötött betétek megszüntetése | F79: =D79+E79 -> 0 | G79: =C79+F79 -> 0
A80: 14. | B80: Külföldi finanszírozás bevételei (14.1.+…14.4.) | C80: =SUM(C81:C84) -> 0 | D80: =SUM(D81:D84) -> 0 | E80: =SUM(E81:E84) -> 0 | F80: =SUM(F81:F84) -> 0 | G80: =SUM(G81:G84) -> 0
A81: 14.1. | B81: Forgatási célú külföldi értékpapírok beváltása, értékesítése | F81: =D81+E81 -> 0 | G81: =C81+F81 -> 0
A82: 14.2. | B82: Befektetési célú külföldi értékpapírok beváltása, értékesítése | F82: =D82+E82 -> 0 | G82: =C82+F82 -> 0
A83: 14.3. | B83: Külföldi értékpapírok kibocsátása | F83: =D83+E83 -> 0 | G83: =C83+F83 -> 0
A84: 14.4. | B84: Külföldi hitelek, kölcsönök felvétele | F84: =D84+E84 -> 0 | G84: =C84+F84 -> 0
A85: 15. | B85: Váltóbevételek | F85: =D85+E85 -> 0 | G85: =C85+F85 -> 0
A86: 16. | B86: Adóssághoz nem kapcsolódó származékos ügyletek bevételei | F86: =D86+E86 -> 0 | G86: =C86+F86 -> 0
A87: 17. | B87: FINANSZÍROZÁSI BEVÉTELEK ÖSSZESEN: (10. + … +16.) | C87: =+C64+C68+C73+C76+C80+C86+C85 -> 0 | D87: =+D64+D68+D73+D76+D80+D86+D85 -> 0 | E87: =+E64+E68+E73+E76+E80+E86+E85 -> 0 | F87: =+F64+F68+F73+F76+F80+F86+F85 -> 0 | G87: =+G64+G68+G73+G76+G80+G86+G85 -> 0
A88: 18. | B88: KÖLTSÉGVETÉSI ÉS FINANSZÍROZÁSI BEVÉTELEK ÖSSZESEN: (9+17) | C88: =+C63+C87 -> 0 | D88: =+D63+D87 -> 0 | E88: =+E63+E87 -> 0 | F88: =+F63+F87 -> 0 | G88: 0
A90: K I A D Á S O K
A91: 2. sz. táblázat | G91: =G2 -> Forintban!
A92: Sor- szám | B92: Kiadási jogcím | C92: =+CONCATENATE(LEFT(ÖSSZEFÜGGÉSEK!A6,4),". évi") -> 2018. évi
C93: Eredeti előirányzat | D93: Korábbi módosítások | E93: .... sz. módosítás | F93: Módosítások összesen | G93: ….számú módosítás utáni előirányzat
A94: A | B94: B | C94: C | D94: D | E94: E | F94: F=(D+…+E) | G94: G=(C+F)
A95: 1. | B95: Működési költségvetés kiadásai (1.1+…+1.5.+1.18.) | C95: =C96+C97+C98+C99+C100+C113 -> 0 | D95: =D96+D97+D98+D99+D100+D113 -> 0 | E95: =E96+E97+E98+E99+E100+E113 -> 0 | F95: =F96+F97+F98+F99+F100+F113 -> 0 | G95: =G96+G97+G98+G99+G100+G113 -> 0
A96: 1.1. | B96: Személyi juttatások | F96: =D96+E96 -> 0 | G96: =C96+F96 -> 0
A97: 1.2. | B97: Munkaadókat terhelő járulékok és szociális hozzájárulási adó | F97: =D97+E97 -> 0 | G97: =C97+F97 -> 0
A98: 1.3. | B98: Dologi kiadások | F98: =D98+E98 -> 0 | G98: =C98+F98 -> 0
A99: 1.4. | B99: Ellátottak pénzbeli juttatásai | F99: =D99+E99 -> 0 | G99: =C99+F99 -> 0
A100: 1.5 | B100: Egyéb működési célú kiadások | F100: =D100+E100 -> 0 | G100: =C100+F100 -> 0
A101: 1.6. | B101: - az 1.5-ből: - Előző évi elszámolásból származó befizetések | F101: =D101+E101 -> 0 | G101: =C101+F101 -> 0
...

Sheet 1.4.sz.mell. 
A1: B E V É T E L E K
A2: 1. sz. táblázat | G2: Forintban!
A3: Sor- szám | B3: Bevételi jogcím | C3: =+CONCATENATE(LEFT(ÖSSZEFÜGGÉSEK!A6,4),". évi") -> 2018. évi
C4: Eredeti előirányzat | D4: Korábbi módosítások | E4: 1. sz. módosítás | F4: Módosítások összesen | G4: 1.számú módosítás utáni előirányzat
A5: A | B5: B | C5: C | D5: D | E5: E | F5: F=(D+…+E) | G5: G=(C+F)
A6: 1. | B6: Önkormányzat működési támogatásai (1.1.+…+.1.6.) | C6: =+C7+C8+C9+C10+C11+C12 -> 0 | D6: =+D7+D8+D9+D10+D11+D12 -> 0 | E6: =+E7+E8+E9+E10+E11+E12 -> 0 | F6: =+F7+F8+F9+F10+F11+F12 -> 0 | G6: =+G7+G8+G9+G10+G11+G12 -> 0
A7: 1.1. | B7: Helyi önkormányzatok működésének általános támogatása | F7: =D7+E7 -> 0 | G7: =C7+F7 -> 0
A8: 1.2. | B8: Önkormányzatok egyes köznevelési feladatainak támogatása | F8: =D8+E8 -> 0 | G8: =C8+F8 -> 0
A9: 1.3. | B9: Önkormányzatok szociális és gyermekjóléti feladatainak támogatása | F9: =D9+E9 -> 0 | G9: =C9+F9 -> 0
A10: 1.4. | B10: Önkormányzatok kulturális feladatainak támogatása | F10: =D10+E10 -> 0 | G10: =C10+F10 -> 0
A11: 1.5. | B11: Működési célú kvi támogatások és kiegészítő támogatások | F11: =D11+E11 -> 0 | G11: =C11+F11 -> 0
A12: 1.6. | B12: Elszámolásból származó bevételek | F12: =D12+E12 -> 0 | G12: =C12+F12 -> 0
A13: 2. | B13: Működési célú támogatások államháztartáson belülről (2.1.+…+.2.5.) | C13: =+C14+C15+C16+C17+C18 -> 0 | D13: =+D14+D15+D16+D17+D18 -> 0 | E13: =+E14+E15+E16+E17+E18 -> 0 | F13: =+F14+F15+F16+F17+F18 -> 0 | G13: =+G14+G15+G16+G17+G18 -> 0
A14: 2.1. | B14: Elvonások és befizetések bevételei | F14: =D14+E14 -> 0 | G14: =C14+F14 -> 0
A15: 2.2. | B15: Működési célú garancia- és kezességvállalásból megtérülések | F15: =D15+E15 -> 0 | G15: =C15+F15 -> 0
A16: 2.3. | B16: Működési célú visszatérítendő támogatások, kölcsönök visszatérülése | F16: =D16+E16 -> 0 | G16: =C16+F16 -> 0
A17: 2.4. | B17: Működési célú visszatérítendő támogatások, kölcsönök igénybevétele | F17: =D17+E17 -> 0 | G17: =C17+F17 -> 0
A18: 2.5. | B18: Egyéb működési célú támogatások bevételei | F18: =D18+E18 -> 0 | G18: =C18+F18 -> 0
A19: 2.6. | B19: 2.5.-ből EU-s támogatás | F19: =D19+E19 -> 0 | G19: =C19+F19 -> 0
A20: 3. | B20: Felhalmozási célú támogatások államháztartáson belülről (3.1.+…+3.5.) | C20: =+C21+C22+C23+C24+C25 -> 0 | D20: =+D21+D22+D23+D24+D25 -> 0 | E20: =+E21+E22+E23+E24+E25 -> 0 | F20: =+F21+F22+F23+F24+F25 -> 0 | G20: =+G21+G22+G23+G24+G25 -> 0
A21: 3.1. | B21: Felhalmozási célú önkormányzati támogatások | F21: =D21+E21 -> 0 | G21: =C21+F21 -> 0
A22: 3.2. | B22: Felhalmozási célú garancia- és kezességvállalásból megtérülések | F22: =D22+E22 -> 0 | G22: =C22+F22 -> 0
A23: 3.3. | B23: Felhalmozási célú visszatérítendő támogatások, kölcsönök visszatérülése | F23: =D23+E23 -> 0 | G23: =C23+F23 -> 0
A24: 3.4. | B24: Felhalmozási célú visszatérítendő támogatások, kölcsönök igénybevétele | F24: =D24+E24 -> 0 | G24: =C24+F24 -> 0
A25: 3.5. | B25: Egyéb felhalmozási célú támogatások bevételei | F25: =D25+E25 -> 0 | G25: =C25+F25 -> 0
A26: 3.6. | B26: 3.5.-ből EU-s támogatás | F26: =D26+E26 -> 0 | G26: =C26+F26 -> 0
A27: 4. | B27: Közhatalmi bevételek (4.1.+...+4.7.) | C27: =+C28+C29+C30+C31+C32+C33+C34 -> 0 | D27: =+D28+D29+D30+D31+D32+D33+D34 -> 0 | E27: =+E28+E29+E30+E31+E32+E33+E34 -> 0 | F27: =+F28+F29+F30+F31+F32+F33+F34 -> 0 | G27: =+G28+G29+G30+G31+G32+G33+G34 -> 0
A28: 4.1. | B28: Építményadó | F28: =D28+E28 -> 0 | G28: =C28+F28 -> 0
A29: 4.2. | B29: Idegenforgalmi adó | F29: =D29+E29 -> 0 | G29: =C29+F29 -> 0
A30: 4.3. | B30: Iparűzési adó | F30: =D30+E30 -> 0 | G30: =C30+F30 -> 0
A31: 4.4. | B31: Talajterhelési díj | F31: =D31+E31 -> 0 | G31: =C31+F31 -> 0
A32: 4.5. | B32: Gépjárműadó | F32: =D32+E32 -> 0 | G32: =C32+F32 -> 0
A33: 4.6. | B33: Egyéb áruhasználati és szolgáltatási adók | F33: =D33+E33 -> 0 | G33: =C33+F33 -> 0
A34: 4.7. | B34: Egyéb közhatalmi bevételek | F34: =D34+E34 -> 0 | G34: =C34+F34 -> 0
A35: 5. | B35: Működési bevételek (5.1.+…+ 5.11.) | C35: =SUM(C36:C46) -> 0 | D35: =SUM(D36:D46) -> 0 | E35: =SUM(E36:E46) -> 0 | F35: =SUM(F36:F46) -> 0 | G35: =SUM(G36:G46) -> 0
A36: 5.1. | B36: Készletértékesítés ellenértéke | F36: =D36+E36 -> 0 | G36: =C36+F36 -> 0
A37: 5.2. | B37: Szolgáltatások ellenértéke | F37: =D37+E37 -> 0 | G37: =C37+F37 -> 0
A38: 5.3. | B38: Közvetített szolgáltatások értéke | F38: =D38+E38 -> 0 | G38: =C38+F38 -> 0
A39: 5.4. | B39: Tulajdonosi bevételek | F39: =D39+E39 -> 0 | G39: =C39+F39 -> 0
A40: 5.5. | B40: Ellátási díjak | F40: =D40+E40 -> 0 | G40: =C40+F40 -> 0
A41: 5.6. | B41: Kiszámlázott általános forgalmi adó | F41: =D41+E41 -> 0 | G41: =C41+F41 -> 0
A42: 5.7. | B42: Általános forgalmi adó visszatérítése | F42: =D42+E42 -> 0 | G42: =C42+F42 -> 0
A43: 5.8. | B43: Kamatbevételek és más nyereségjellegű bevételek | F43: =D43+E43 -> 0 | G43: =C43+F43 -> 0
A44: 5.9. | B44: Egyéb pénzügyi műveletek bevételei | F44: =D44+E44 -> 0 | G44: =C44+F44 -> 0
A45: 5.10. | B45: Biztosító által fizetett kártérítés | F45: =D45+E45 -> 0 | G45: =C45+F45 -> 0
A46: 5.11. | B46: Egyéb működési bevételek | F46: =D46+E46 -> 0 | G46: =C46+F46 -> 0
A47: 6. | B47: Felhalmozási bevételek (6.1.+…+6.5.) | C47: =SUM(C48:C52) -> 0 | D47: =SUM(D48:D52) -> 0 | E47: =SUM(E48:E52) -> 0 | F47: =SUM(F48:F52) -> 0 | G47: =SUM(G48:G52) -> 0
A48: 6.1. | B48: Immateriális javak értékesítése | F48: =D48+E48 -> 0 | G48: =C48+F48 -> 0
A49: 6.2. | B49: Ingatlanok értékesítése | F49: =D49+E49 -> 0 | G49: =C49+F49 -> 0
A50: 6.3. | B50: Egyéb tárgyi eszközök értékesítése | F50: =D50+E50 -> 0 | G50: =C50+F50 -> 0
A51: 6.4. | B51: Részesedések értékesítése | F51: =D51+E51 -> 0 | G51: =C51+F51 -> 0
A52: 6.5. | B52: Részesedések megszűnéséhez kapcsolódó bevételek | F52: =D52+E52 -> 0 | G52: =C52+F52 -> 0
A53: 7. | B53: Működési célú átvett pénzeszközök (7.1. + … + 7.3.) | C53: =SUM(C54:C56) -> 0 | D53: =SUM(D54:D56) -> 0 | E53: =SUM(E54:E56) -> 0 | F53: =SUM(F54:F56) -> 0 | G53: =SUM(G54:G56) -> 0
A54: 7.1. | B54: Működési célú garancia- és kezességvállalásból megtérülések ÁH-n kívülről | F54: =D54+E54 -> 0 | G54: =C54+F54 -> 0
A55: 7.2. | B55: Működési célú visszatérítendő támogatások, kölcsönök visszatér. ÁH-n kívülről | F55: =D55+E55 -> 0 | G55: =C55+F55 -> 0
A56: 7.3. | B56: Egyéb működési célú átvett pénzeszköz | F56: =D56+E56 -> 0 | G56: =C56+F56 -> 0
A57: 7.4. | B57: 7.3.-ból EU-s támogatás (közvetlen) | F57: =D57+E57 -> 0 | G57: =C57+F57 -> 0
A58: 8. | B58: Felhalmozási célú átvett pénzeszközök (8.1.+8.2.+8.3.) | C58: =SUM(C59:C61) -> 0 | D58: =SUM(D59:D61) -> 0 | E58: =SUM(E59:E61) -> 0 | F58: =SUM(F59:F61) -> 0 | G58: =SUM(G59:G61) -> 0
A59: 8.1. | B59: Felhalm. célú garancia- és kezességvállalásból megtérülések ÁH-n kívülről | F59: =D59+E59 -> 0 | G59: =C59+F59 -> 0
A60: 8.2. | B60: Felhalm. célú visszatérítendő támogatások, kölcsönök visszatér. ÁH-n kívülről | F60: =D60+E60 -> 0 | G60: =C60+F60 -> 0
A61: 8.3. | B61: Egyéb felhalmozási célú átvett pénzeszköz | F61: =D61+E61 -> 0 | G61: =C61+F61 -> 0
A62: 8.4. | B62: 8.3.-ból EU-s támogatás (közvetlen) | F62: =D62+E62 -> 0 | G62: =C62+F62 -> 0
A63: 9. | B63: KÖLTSÉGVETÉSI BEVÉTELEK ÖSSZESEN: (1+…+8) | C63: =+C6+C13+C20+C27+C35+C47+C53+C58 -> 0 | D63: =+D6+D13+D20+D27+D35+D47+D53+D58 -> 0 | E63: =+E6+E13+E20+E27+E35+E47+E53+E58 -> 0 | F63: =+F6+F13+F20+F27+F35+F47+F53+F58 -> 0 | G63: =+G6+G13+G20+G27+G35+G47+G53+G58 -> 0
A64: 10. | B64: Hitel-, kölcsönfelvétel államháztartáson kívülről (10.1.+10.3.) | C64: =SUM(C65:C67) -> 0 | D64: =SUM(D65:D67) -> 0 | E64: =SUM(E65:E67) -> 0 | F64: =SUM(F65:F67) -> 0 | G64: =SUM(G65:G67) -> 0
A65: 10.1. | B65: Hosszú lejáratú hitelek, kölcsönök felvétele | F65: =D65+E65 -> 0 | G65: =C65+F65 -> 0
A66: 10.2. | B66: Likviditási célú hitelek, kölcsönök felvétele pénzügyi vállalkozástól | F66: =D66+E66 -> 0 | G66: =C66+F66 -> 0
A67: 10.3. | B67: Rövid lejáratú hitelek, kölcsönök felvétele | F67: =D67+E67 -> 0 | G67: =C67+F67 -> 0
A68: 11. | B68: Belföldi értékpapírok bevételei (11.1. +…+ 11.4.) | C68: =SUM(C69:C72) -> 0 | D68: =SUM(D69:D72) -> 0 | E68: =SUM(E69:E72) -> 0 | F68: =SUM(F69:F72) -> 0 | G68: =SUM(G69:G72) -> 0
A69: 11.1. | B69: Forgatási célú belföldi értékpapírok beváltása, értékesítése | F69: =D69+E69 -> 0 | G69: =C69+F69 -> 0
A70: 11.2. | B70: Éven belüli lejáratú belföldi értékpapírok kibocsátása | F70: =D70+E70 -> 0 | G70: =C70+F70 -> 0
A71: 11.3. | B71: Befektetési célú belföldi értékpapírok beváltása, értékesítése | F71: =D71+E71 -> 0 | G71: =C71+F71 -> 0
A72: 11.4. | B72: Éven túli lejáratú belföldi értékpapírok kibocsátása | F72: =D72+E72 -> 0 | G72: =C72+F72 -> 0
A73: 12. | B73: Maradvány igénybevétele (12.1. + 12.2.) | C73: =SUM(C74:C75) -> 0 | D73: =SUM(D74:D75) -> 0 | E73: =SUM(E74:E75) -> 0 | F73: =SUM(F74:F75) -> 0 | G73: =SUM(G74:G75) -> 0
A74: 12.1. | B74: Előző év költségvetési maradványának igénybevétele | F74: =D74+E74 -> 0 | G74: =C74+F74 -> 0
A75: 12.2. | B75: Előző év vállalkozási maradványának igénybevétele | F75: =D75+E75 -> 0 | G75: =C75+F75 -> 0
A76: 13. | B76: Belföldi finanszírozás bevételei (13.1. + … + 13.3.) | C76: =SUM(C77:C79) -> 0 | D76: =SUM(D77:D79) -> 0 | E76: =SUM(E77:E79) -> 0 | F76: =SUM(F77:F79) -> 0 | G76: =SUM(G77:G79) -> 0
A77: 13.1. | B77: Államháztartáson belüli megelőlegezések | F77: =D77+E77 -> 0 | G77: =C77+F77 -> 0
A78: 13.2. | B78: Államháztartáson belüli megelőlegezések törlesztése | F78: =D78+E78 -> 0 | G78: =C78+F78 -> 0
A79: 13.3. | B79: Lejötött betétek megszüntetése | F79: =D79+E79 -> 0 | G79: =C79+F79 -> 0
A80: 14. | B80: Külföldi finanszírozás bevételei (14.1.+…14.4.) | C80: =SUM(C81:C84) -> 0 | D80: =SUM(D81:D84) -> 0 | E80: =SUM(E81:E84) -> 0 | F80: =SUM(F81:F84) -> 0 | G80: =SUM(G81:G84) -> 0
A81: 14.1. | B81: Forgatási célú külföldi értékpapírok beváltása, értékesítése | F81: =D81+E81 -> 0 | G81: =C81+F81 -> 0
A82: 14.2. | B82: Befektetési célú külföldi értékpapírok beváltása, értékesítése | F82: =D82+E82 -> 0 | G82: =C82+F82 -> 0
A83: 14.3. | B83: Külföldi értékpapírok kibocsátása | F83: =D83+E83 -> 0 | G83: =C83+F83 -> 0
A84: 14.4. | B84: Külföldi hitelek, kölcsönök felvétele | F84: =D84+E84 -> 0 | G84: =C84+F84 -> 0
A85: 15. | B85: Váltóbevételek | F85: =D85+E85 -> 0 | G85: =C85+F85 -> 0
A86: 16. | B86: Adóssághoz nem kapcsolódó származékos ügyletek bevételei | F86: =D86+E86 -> 0 | G86: =C86+F86 -> 0
A87: 17. | B87: FINANSZÍROZÁSI BEVÉTELEK ÖSSZESEN: (10. + … +16.) | C87: =+C64+C68+C73+C76+C80+C86+C85 -> 0 | D87: =+D64+D68+D73+D76+D80+D86+D85 -> 0 | E87: =+E64+E68+E73+E76+E80+E86+E85 -> 0 | F87: =+F64+F68+F73+F76+F80+F86+F85 -> 0 | G87: =+G64+G68+G73+G76+G80+G86+G85 -> 0
A88: 18. | B88: KÖLTSÉGVETÉSI ÉS FINANSZÍROZÁSI BEVÉTELEK ÖSSZESEN: (9+17) | C88: =+C63+C87 -> 0 | D88: =+D63+D87 -> 0 | E88: =+E63+E87 -> 0 | F88: =+F63+F87 -> 0 | G88: 0
A90: K I A D Á S O K
A91: 2. sz. táblázat | G91: =G2 -> Forintban!
A92: Sor- szám | B92: Kiadási jogcím | C92: =+CONCATENATE(LEFT(ÖSSZEFÜGGÉSEK!A6,4),". évi") -> 2018. évi
C93: Eredeti előirányzat | D93: Korábbi módosítások | E93: 1 sz. módosítás | F93: Módosítások összesen | G93: 1.számú módosítás utáni előirányzat
A94: A | B94: B | C94: C | D94: D | E94: E | F94: F=(D+…+E) | G94: G=(C+F)
A95: 1. | B95: Működési költségvetés kiadásai (1.1+…+1.5.+1.18.) | C95: =C96+C97+C98+C99+C100+C113 -> 0 | D95: =D96+D97+D98+D99+D100+D113 -> 0 | E95: =E96+E97+E98+E99+E100+E113 -> 0 | F95: =F96+F97+F98+F99+F100+F113 -> 0 | G95: =G96+G97+G98+G99+G100+G113 -> 0
A96: 1.1. | B96: Személyi juttatások | F96: =D96+E96 -> 0 | G96: =C96+F96 -> 0
A97: 1.2. | B97: Munkaadókat terhelő járulékok és szociális hozzájárulási adó | F97: =D97+E97 -> 0 | G97: =C97+F97 -> 0
A98: 1.3. | B98: Dologi kiadások | F98: =D98+E98 -> 0 | G98: =C98+F98 -> 0
A99: 1.4. | B99: Ellátottak pénzbeli juttatásai | F99: =D99+E99 -> 0 | G99: =C99+F99 -> 0
A100: 1.5 | B100: Egyéb működési célú kiadások | F100: =D100+E100 -> 0 | G100: =C100+F100 -> 0
A101: 1.6. | B101: - az 1.5-ből: - Előző évi elszámolásból származó befizetések | F101: =D101+E101 -> 0 | G101: =C101+F101 -> 0
...

Sheet 2.1.sz.mell  
B1: I. Működési célú bevételek és kiadások mérlege (Önkormányzati szinten) | J1: 2.1. melléklet
I2: =#REF! -> #REF!
A3: Sor- szám | B3: Bevételek | F3: Kiadások
B4: Megnevezés | C4: =+CONCATENATE('1.1.sz.mell.'!C3," eredeti előirányzat") -> 2018. évi eredeti előirányzat | D4: Halmozott módosítás 2018. 12.31.-ig | E4: =+CONCATENATE(LEFT('1.1.sz.mell.'!C3,4),". 12.31 Módosítás után" ) -> 2018. 12.31 Módosítás után | F4: Megnevezés | G4: =+C4 -> 2018. évi eredeti előirányzat | H4: =+D4 -> Halmozott módosítás 2018. 12.31.-ig | I4: =+E4 -> 2018. 12.31 Módosítás után
A5: A | B5: B | C5: C | D5: D | E5: E=C±D | F5: F | G5: G | H5: H | I5: I=G±H
A6: 1. | B6: Önkormányzatok működési támogatásai | C6: 109212674 | D6: 1866028 | E6: =C6+D6 -> 111078702 | F6: Személyi juttatások | G6: 129827432 | H6: 13849713 | I6: =G6+H6 -> 143677145
A7: 2. | B7: Működési célú támogatások államháztartáson belülről | C7: 14608139 | D7: 303207 | E7: =C7+D7 -> 14911346 | F7: Munkaadókat terhelő járulékok és szociális hozzájárulási adó | G7: 26955245 | H7: 754592 | I7: =G7+H7 -> 27709837
A8: 3. | B8: 2.-ból EU-s támogatás | E8: =C8+D8 -> 0 | F8: Dologi kiadások | G8: 128430894 | H8: 18324151 | I8: =G8+H8 -> 146755045
A9: 4. | B9: Közhatalmi bevételek | C9: 171810000 | D9: 48059139 | E9: =C9+D9 -> 219869139 | F9: Ellátottak pénzbeli juttatásai | G9: 10180000 | H9: -2494390 | I9: =G9+H9 -> 7685610
A10: 5. | B10: Működési bevételek | C10: 30883426 | D10: 12318428 | E10: =C10+D10 -> 43201854 | F10: Egyéb működési célú kiadások | G10: 37010615 | H10: 3152456 | I10: =G10+H10 -> 40163071
A11: 6. | B11: Működési célú átvett pénzeszközök | D11: 4735711 | E11: =C11+D11 -> 4735711 | F11: Tartalékok | G11: 2500000 | H11: -2500000 | I11: =G11+H11 -> 0
A12: 7. | B12: 6.-ból EU-s támogatás (közvetlen) | E12: =C12+D12 -> 0 | I12: =G12+H12 -> 0
A13: 8. | E13: =C13+D13 -> 0 | I13: =G13+H13 -> 0
A14: 9. | E14: =C14+D14 -> 0 | I14: =G14+H14 -> 0
A15: 10. | E15: =C15+D15 -> 0 | I15: =G15+H15 -> 0
A16: 11. | E16: =C16+D16 -> 0 | I16: =G16+H16 -> 0
A17: 12. | I17: =G17+H17 -> 0
A18: 13. | B18: Költségvetési bevételek összesen (1.+2.+4.+5.+6.+8.+…+12.) | C18: =SUM(C6:C17) -> 326514239 | D18: =SUM(D6:D17) -> 67282513 | E18: =SUM(E6:E17) -> 393796752 | F18: Költségvetési kiadások összesen (1.+...+12.) | G18: =SUM(G6:G17) -> 334904186 | H18: =SUM(H6:H17) -> 31086522 | I18: =SUM(I6:I17) -> 365990708
A19: 14. | B19: Hiány belső finanszírozásának bevételei (15.+…+18. ) | C19: =+C20+C21+C22+C23 -> 193841945 | D19: =+D20+D21+D22+D23 -> 1801014 | E19: =+E20+E21+E22+E23 -> 195642959 | F19: Értékpapír vásárlása, visszavásárlása | I19: =G19+H19 -> 0
A20: 15. | B20: Költségvetési maradvány igénybevétele | C20: 193841945 | D20: 1801014 | E20: =C20+D20 -> 195642959 | F20: Likviditási célú hitelek törlesztése | I20: =G20+H20 -> 0
A21: 16. | B21: Vállalkozási maradvány igénybevétele | E21: =C21+D21 -> 0 | F21: Rövid lejáratú hitelek törlesztése | I21: =G21+H21 -> 0
A22: 17. | B22: Betét visszavonásából származó bevétel | E22: =C22+D22 -> 0 | F22: Hosszú lejáratú hitelek törlesztése | I22: =G22+H22 -> 0
A23: 18. | B23: Egyéb belső finanszírozási bevételek | E23: =C23+D23 -> 0 | F23: Kölcsön törlesztése | I23: =G23+H23 -> 0
A24: 19. | B24: Hiány külső finanszírozásának bevételei (20.+…+21.) | C24: =+C25+C26 -> 0 | D24: =+D25+D26 -> 22054243 | E24: =+E25+E26 -> 22054243 | F24: Forgatási célú belföldi, külföldi értékpapírok vásárlása | H24: 50000000 | I24: =G24+H24 -> 50000000
A25: 20. | B25: Likviditási célú hitelek, kölcsönök felvétele | E25: =C25+D25 -> 0 | F25: Pénzeszközök lekötött betétként elhelyezése | I25: =G25+H25 -> 0
A26: 21. | B26: Értékpapírok bevételei | D26: 22054243 | E26: =C26+D26 -> 22054243 | F26: Adóssághoz nem kapcsolódó származékos ügyletek | I26: =G26+H26 -> 0
A27: 22. | B27: Váltóbevételek | E27: =C27+D27 -> 0 | F27: Váltókiadások | I27: =G27+H27 -> 0
A28: 23. | B28: Adóssághoz nem kapcsolódó származékos ügyletek bevételei | E28: =C28+D28 -> 0 | F28: ÁH-n belüli megelőlegezések | H28: 3680858 | I28: =G28+H28 -> 3680858
A29: 24. | B29: Működési célú finanszírozási bevételek összesen (14.+19.+22.+23.) | C29: =+C19+C24+C27+C28 -> 193841945 | D29: =+D19+D24+D27+D28 -> 23855257 | E29: =+E19+E24+E27+E28 -> 217697202 | F29: Működési célú finanszírozási kiadások összesen (14.+...+23.) | G29: =SUM(G19:G28) -> 0 | H29: =SUM(H19:H28) -> 53680858 | I29: =SUM(I19:I28) -> 53680858
A30: 25. | B30: BEVÉTEL ÖSSZESEN (13.+24.) | C30: =+C18+C29 -> 520356184 | D30: =+D18+D29 -> 91137770 | E30: =+E18+E29 -> 611493954 | F30: KIADÁSOK ÖSSZESEN (13.+24.) | G30: =+G18+G29 -> 334904186 | H30: =+H18+H29 -> 84767380 | I30: =+I18+I29 -> 419671566
A31: 26. | B31: Költségvetési hiány: | C31: =IF(C18-G18<0,G18-C18,"-") -> 8389947 | D31: =IF(D18-H18<0,H18-D18,"-") -> - | E31: =IF(E18-I18<0,I18-E18,"-") -> - | F31: Költségvetési többlet: | G31: =IF(C18-G18>0,C18-G18,"-") -> - | H31: =IF(D18-H18>0,D18-H18,"-") -> 36195991 | I31: =IF(E18-I18>0,E18-I18,"-") -> 27806044
A32: 27. | B32: Bruttó hiány: | C32: =IF(C30-G30<0,G30-C30,"-") -> - | D32: =IF(D30-H30<0,H30-D30,"-") -> - | E32: =IF(E30-I30<0,I30-E30,"-") -> - | F32: Bruttó többlet: | G32: =IF(C30-G30>0,C30-G30,"-") -> 185451998 | H32: =IF(D30-H30>0,D30-H30,"-") -> 6370390 | I32: =IF(E30-I30>0,E30-I30,"-") -> 191822388

Sheet 2.2.sz.mell  
B1: II. Felhalmozási célú bevételek és kiadások mérlege (Önkormányzati szinten) | J1: 2.2. melléklet
I2: ='2.1.sz.mell '!I2 -> #REF!
A3: Sor- szám | B3: Bevételek | F3: Kiadások
B4: Megnevezés | C4: =+CONCATENATE('1.1.sz.mell.'!C3," eredeti előirányzat") -> 2018. évi eredeti előirányzat | D4: Halmozott módosítás 2018. XII.31.-ig | E4: =+CONCATENATE(LEFT('1.1.sz.mell.'!C3,4),".XII.31. Módisítás után" ) -> 2018.XII.31. Módisítás után | F4: Megnevezés | G4: =+C4 -> 2018. évi eredeti előirányzat | H4: =+D4 -> Halmozott módosítás 2018. XII.31.-ig | I4: =+E4 -> 2018.XII.31. Módisítás után
A5: A | B5: B | C5: C | D5: D | E5: E=C±D | F5: F | G5: G | H5: H | I5: I=G±H
A6: 1. | B6: Felhalmozási célú támogatások államháztartáson belülről | C6: 300655070 | D6: -134720246 | E6: =C6+D6 -> 165934824 | F6: Beruházások | G6: 481000435 | H6: -128000300 | I6: =G6+H6 -> 353000135
A7: 2. | B7: 1.-ből EU-s támogatás | C7: 300655070 | D7: -134720246 | E7: =C7+D7 -> 165934824 | F7: 1.-ből EU-s forrásból megvalósuló beruházás | G7: 457193747 | H7: -138205057 | I7: =G7+H7 -> 318988690
A8: 3. | B8: Felhalmozási bevételek | D8: 4349740 | E8: =C8+D8 -> 4349740 | F8: Felújítások | G8: 1270000 | H8: 2177555 | I8: =G8+H8 -> 3447555
A9: 4. | B9: Felhalmozási célú átvett pénzeszközök átvétele | C9: 1663367 | D9: -22497 | E9: =C9+D9 -> 1640870 | F9: 3.-ból EU-s forrásból megvalósuló felújítás | I9: =G9+H9 -> 0
A10: 5. | B10: 4.-ből EU-s támogatás (közvetlen) | E10: =C10+D10 -> 0 | F10: Egyéb felhalmozási kiadások | G10: 5500000 | H10: 1800000 | I10: =G10+H10 -> 7300000
A11: 6. | B11: Egyéb felhalmozási célú bevételek | E11: =C11+D11 -> 0 | I11: =G11+H11 -> 0
A12: 7. | E12: =C12+D12 -> 0 | I12: =G12+H12 -> 0
A13: 8. | E13: =C13+D13 -> 0 | I13: =G13+H13 -> 0
A14: 9. | E14: =C14+D14 -> 0 | I14: =G14+H14 -> 0
A15: 10. | E15: =C15+D15 -> 0 | I15: =G15+H15 -> 0
A16: 11. | E16: =C16+D16 -> 0 | F16: Tartalékok | I16: =G16+H16 -> 0
A17: 12. | B17: Költségvetési bevételek összesen: (1.+3.+4.+6.+…+11.) | C17: =+C6+C8+C9+C11+C12+C13+C14+C15+C16 -> 302318437 | D17: =+D6+D8+D9+D11+D12+D13+D14+D15+D16 -> -130393003 | E17: =+E6+E8+E9+E11+E12+E13+E14+E15+E16 -> 171925434 | F17: Költségvetési kiadások összesen: (1.+3.+5.+...+11.) | G17: =+G6+G8+G10+G11+G12+G13+G14+G15+G16 -> 487770435 | H17: =+H6+H8+H10+H11+H12+H13+H14+H15+H16 -> -124022745 | I17: =+I6+I8+I10+I11+I12+I13+I14+I15+I16 -> 363747690
A18: 13. | B18: Hiány belső finanszírozás bevételei ( 14+…+18) | C18: =+C19+C20+C21+C22+C23 -> 0 | D18: =+D19+D20+D21+D22+D23 -> 0 | E18: =+E19+E20+E21+E22+E23 -> 0 | F18: Értékpapír vásárlása, visszavásárlása | I18: =G18+H18 -> 0
A19: 14. | B19: Költségvetési maradvány igénybevétele | E19: =C19+D19 -> 0 | F19: Hitelek törlesztése | I19: =G19+H19 -> 0
A20: 15. | B20: Vállalkozási maradvány igénybevétele | E20: =C20+D20 -> 0 | F20: Rövid lejáratú hitelek törlesztése | I20: =G20+H20 -> 0
A21: 16. | B21: Betét visszavonásából származó bevétel | E21: =C21+D21 -> 0 | F21: Hosszú lejáratú hitelek törlesztése | I21: =G21+H21 -> 0
A22: 17. | B22: Értékpapír értékesítése | E22: =C22+D22 -> 0 | F22: Kölcsön törlesztése | I22: =G22+H22 -> 0
A23: 18. | B23: Egyéb belső finanszírozási bevételek | E23: =C23+D23 -> 0 | F23: Befektetési célú belföldi, külföldi értékpapírok vásárlása | I23: =G23+H23 -> 0
A24: 19. | B24: Hiány külső finanszírozásának bevételei (20+…+24 ) | C24: =+C25+C26+C27+C28+C29 -> 0 | D24: =+D25+D26+D27+D28+D29 -> 0 | E24: =+E25+E26+E27+E28+E29 -> 0 | F24: Betét elhelyezése | I24: =G24+H24 -> 0
A25: 20. | B25: Hosszú lejáratú hitelek, kölcsönök felvétele | E25: =C25+D25 -> 0 | F25: Pénzügyi lízing kiadásai | I25: =G25+H25 -> 0
A26: 21. | B26: Likviditási célú hitelek, kölcsönök felvétele | E26: =C26+D26 -> 0 | I26: =G26+H26 -> 0
A27: 22. | B27: Rövid lejáratú hitelek, kölcsönök felvétele | E27: =C27+D27 -> 0 | I27: =G27+H27 -> 0
A28: 23. | B28: Értékpapírok kibocsátása | E28: =C28+D28 -> 0 | I28: =G28+H28 -> 0
A29: 24. | B29: Egyéb külső finanszírozási bevételek | E29: =C29+D29 -> 0 | I29: =G29+H29 -> 0
A30: 25. | B30: Felhalmozási célú finanszírozási bevételek összesen (13.+19.) | C30: =+C18+C24 -> 0 | D30: =+D18+D24 -> 0 | E30: =+E18+E24 -> 0 | F30: Felhalmozási célú finanszírozási kiadások összesen (13.+...+24.) | G30: =SUM(G18:G29) -> 0 | H30: =SUM(H18:H29) -> 0 | I30: =SUM(I18:I29) -> 0
A31: 26. | B31: BEVÉTEL ÖSSZESEN (12+25) | C31: =+C17+C30 -> 302318437 | D31: =+D17+D30 -> -130393003 | E31: =+E17+E30 -> 171925434 | F31: KIADÁSOK ÖSSZESEN (12+25) | G31: =+G17+G30 -> 487770435 | H31: =+H17+H30 -> -124022745 | I31: =+I17+I30 -> 363747690
A32: 27. | B32: Költségvetési hiány: | C32: =IF(C17-G17<0,G17-C17,"-") -> 185451998 | D32: =IF(D17-H17<0,H17-D17,"-") -> 6370258 | E32: =IF(E17-I17<0,I17-E17,"-") -> 191822256 | F32: Költségvetési többlet: | G32: =IF(C17-G17>0,C17-G17,"-") -> - | H32: =IF(D17-H17>0,D17-H17,"-") -> - | I32: =IF(E17-I17>0,E17-I17,"-") -> -
A33: 28. | B33: Bruttó hiány: | C33: =IF(C31-G31<0,G31-C31,"-") -> 185451998 | D33: =IF(D31-H31<0,H31-D31,"-") -> 6370258 | E33: =IF(E31-I31<0,I31-E31,"-") -> 191822256 | F33: Bruttó többlet: | G33: =IF(C31-G31>0,C31-G31,"-") -> - | H33: =IF(D31-H31>0,D31-H31,"-") -> - | I33: =IF(E31-I31>0,E31-I31,"-") -> -

Sheet ELLENŐRZÉS-1.sz.2.a.sz.2.b.sz.
A1: Költségvetés módosítás űrlapjainak összefüggései: | E1: ELTÉRÉS
A4: =+ÖSSZEFÜGGÉSEK!A6 -> 2018. évi eredeti előirányzat BEVÉTELEK
A6: 1.1. sz. melléklet Bevételek táblázat C. oszlop 9 sora = | B6: =+'1.1.sz.mell.'!C63 -> 628832676 | C6: 2.1. számú melléklet C. oszlop 13. sor + 2.2. számú melléklet C. oszlop 12. sor | D6: =+'2.1.sz.mell '!C18+'2.2.sz.mell '!C17 -> 628832676 | E6: =+B6-D6 -> 0
A7: 1.1. sz. melléklet Bevételek táblázat C. oszlop 17 sora = | B7: =+'1.1.sz.mell.'!C87 -> 193841945 | C7: 2.1. számú melléklet C. oszlop 24. sor + 2.2. számú melléklet C. oszlop 25. sor | D7: =+'2.1.sz.mell '!C29+'2.2.sz.mell '!C30 -> 193841945 | E7: =+B7-D7 -> 0
A8: 1.1. sz. melléklet Bevételek táblázat C. oszlop 18 sora = | B8: =+'1.1.sz.mell.'!C88 -> 822674621 | C8: 2.1. számú melléklet C. oszlop 25. sor + 2.2. számú melléklet C. oszlop 26. sor | D8: =+'2.1.sz.mell '!C30+'2.2.sz.mell '!C31 -> 822674621 | E8: =+B8-D8 -> 0
A10: =+ÖSSZEFÜGGÉSEK!A13 -> 2018. évi előirányzat módosítások BEVÉTELEK
A12: 1.1. sz. melléklet Bevételek táblázat D. oszlop 9 sora = | B12: =+'1.1.sz.mell.'!F63 -> -63110490 | C12: 2.1. számú melléklet D. oszlop 13. sor + 2.2. számú melléklet D. oszlop 12. sor | D12: =+'2.1.sz.mell '!D18+'2.2.sz.mell '!D17 -> -63110490 | E12: =+B12-D12 -> 0
A13: 1.1. sz. melléklet Bevételek táblázat D. oszlop 17 sora = | B13: =+'1.1.sz.mell.'!F87 -> 23855257 | C13: 2.1. számú melléklet D. oszlop 24. sor + 2.2. számú melléklet D. oszlop 25. sor | D13: =+'2.1.sz.mell '!D29+'2.2.sz.mell '!D30 -> 23855257 | E13: =+B13-D13 -> 0
A14: 1.1. sz. melléklet Bevételek táblázat D. oszlop 18 sora = | B14: =+'1.1.sz.mell.'!F88 -> -39255233 | C14: 2.1. számú melléklet D. oszlop 25. sor + 2.2. számú melléklet D. oszlop 26. sor | D14: =+'2.1.sz.mell '!D30+'2.2.sz.mell '!D31 -> -39255233 | E14: =+B14-D14 -> 0
A16: =+ÖSSZEFÜGGÉSEK!A19 -> 2018. módosítás utáni módosított előrirányzatok BEVÉTELEK
A18: 1.1. sz. melléklet Bevételek táblázat E. oszlop 9 sora = | B18: =+'1.1.sz.mell.'!G63 -> 565722186 | C18: 2.1. számú melléklet E. oszlop 13. sor + 2.2. számú melléklet E. oszlop 12. sor | D18: =+'2.1.sz.mell '!E18+'2.2.sz.mell '!E17 -> 565722186 | E18: =+B18-D18 -> 0
A19: 1.1. sz. melléklet Bevételek táblázat E. oszlop 17 sora = | B19: =+'1.1.sz.mell.'!G87 -> 217697202 | C19: 2.1. számú melléklet E. oszlop 24. sor + 2.2. számú melléklet E. oszlop 25. sor | D19: =+'2.1.sz.mell '!E29+'2.2.sz.mell '!E30 -> 217697202 | E19: =+B19-D19 -> 0
A20: 1.1. sz. melléklet Bevételek táblázat E. oszlop 18 sora = | B20: =+'1.1.sz.mell.'!G88 -> 783419388 | C20: 2.1. számú melléklet E. oszlop 25. sor + 2.2. számú melléklet E. oszlop 26. sor | D20: =+'2.1.sz.mell '!E30+'2.2.sz.mell '!E31 -> 783419388 | E20: =+B20-D20 -> 0
A22: =+ÖSSZEFÜGGÉSEK!A25 -> 2018. évi eredeti előirányzat KIADÁSOK
A24: 1.1. sz. melléklet Kiadások táblázat C. oszlop 3 sora = | B24: =+'1.1.sz.mell.'!C130 -> 822674621 | C24: 2.1. számú melléklet G. oszlop 13. sor + 2.2. számú melléklet G. oszlop 12. sor | D24: =+'2.1.sz.mell '!G18+'2.2.sz.mell '!G17 -> 822674621 | E24: =+B24-D24 -> 0
A25: 1.1. sz. melléklet Kiadások táblázat C. oszlop 10 sora = | B25: =+'1.1.sz.mell.'!C155 -> 0 | C25: 2.1. számú melléklet G. oszlop 24. sor + 2.2. számú melléklet G. oszlop 25. sor | D25: =+'2.1.sz.mell '!G29+'2.2.sz.mell '!G30 -> 0 | E25: =+B25-D25 -> 0
A26: 1.1. sz. melléklet Kiadások táblázat C. oszlop 11 sora = | B26: =+'1.1.sz.mell.'!C156 -> 822674621 | C26: 2.1. számú melléklet G. oszlop 25. sor + 2.2. számú melléklet G. oszlop 26. sor | D26: =+'2.1.sz.mell '!G30+'2.2.sz.mell '!G31 -> 822674621 | E26: =+B26-D26 -> 0
A28: =+ÖSSZEFÜGGÉSEK!A31 -> 2018. évi előirányzat módosítások KIADÁSOK
A30: 1.1. sz. melléklet Kiadások táblázat D. oszlop 3 sora = | B30: =+'1.1.sz.mell.'!F130 -> -92936223 | C30: 2.1. számú melléklet H. oszlop 13. sor + 2.2. számú melléklet H. oszlop 12. sor | D30: =+'2.1.sz.mell '!H18+'2.2.sz.mell '!H17 -> -92936223 | E30: =+B30-D30 -> 0
A31: 1.1. sz. melléklet Kiadások táblázat D. oszlop 10 sora = | B31: =+'1.1.sz.mell.'!F155 -> 53680858 | C31: 2.1. számú melléklet H. oszlop 24. sor + 2.2. számú melléklet H. oszlop 25. sor | D31: =+'2.1.sz.mell '!H29+'2.2.sz.mell '!H30 -> 53680858 | E31: =+B31-D31 -> 0
A32: 1.1. sz. melléklet Kiadások táblázat D. oszlop 11 sora = | B32: =+'1.1.sz.mell.'!F156 -> -39255365 | C32: 2.1. számú melléklet H. oszlop 25. sor + 2.2. számú melléklet H. oszlop 26. sor | D32: =+'2.1.sz.mell '!H30+'2.2.sz.mell '!H31 -> -39255365 | E32: =+B32-D32 -> 0
A34: =+ÖSSZEFÜGGÉSEK!A37 -> 2018. módosítás utáni módosított előirányzatok KIADÁSOK
A36: 1.1. sz. melléklet Kiadások táblázat E. oszlop 3 sora = | B36: =+'1.1.sz.mell.'!G130 -> 729738398 | C36: 2.1. számú melléklet I. oszlop 13. sor + 2.2. számú melléklet I. oszlop 12. sor | D36: =+'2.1.sz.mell '!I18+'2.2.sz.mell '!I17 -> 729738398 | E36: =+B36-D36 -> 0
A37: 1.1. sz. melléklet Kiadások táblázat E. oszlop 10 sora = | B37: =+'1.1.sz.mell.'!G155 -> 53680858 | C37: 2.1. számú melléklet I. oszlop 24. sor + 2.2. számú melléklet I. oszlop 25. sor | D37: =+'2.1.sz.mell '!I29+'2.2.sz.mell '!I30 -> 53680858 | E37: =+B37-D37 -> 0
A38: 1.1. sz. melléklet Kiadások táblázat E. oszlop 11 sora = | B38: =+'1.1.sz.mell.'!G156 -> 783419256 | C38: 2.1. számú melléklet I. oszlop 25. sor + 2.2. számú melléklet I. oszlop 26. sor | D38: =+'2.1.sz.mell '!I30+'2.2.sz.mell '!I31 -> 783419256 | E38: =+B38-D38 -> 0

Sheet 3.sz.mell.
A1: Beruházási (felhalmozási) kiadások előirányzata beruházásonként
I2: ='2.2.sz.mell '!I2 -> #REF!
A3: Beruházás megnevezése | B3: Teljes költség | C3: Kivitelezés kezdési és befejezési éve | D3: =+CONCATENATE("Felhasználás ",LEFT(ÖSSZEFÜGGÉSEK!A6,4)-1,". XII. 31-ig") -> Felhasználás 2017. XII. 31-ig | E3: =+CONCATENATE(LEFT(ÖSSZEFÜGGÉSEK!A6,4),". évi",CHAR(10),"eredeti előirányzat") -> 2018. évi eredeti előirányzat | F3: Eddigi módosítások összege 2018-ban | G3: 1. sz. módosítás | H3: Módosítások összesen 2018. XII.31.-ig | I3: 1. számú módosítás utáni előirányzat
A4: A | B4: B | C4: C | D4: D | E4: E | F4: F | G4: G | H4: H=(F+G) | I4: I=(E+H)
A5: Óvoda TOP 1-4-1-15-BO1-2016-00080 | B5: 173524821 | C5: 2017/2019 | D5: 3810000 | E5: 169714821 | G5: -16602287 | H5: =F5+G5 -> -16602287 | I5: =E5+H5 -> 153112534
A6: Iskola TOP 3-2-1-16-BO1-2017-00055 | B6: 117478820 | C6: 2019/2019 | E6: 117478820 | G6: -117478820 | H6: =F6+G6 -> -117478820 | I6: =E6+H6 -> 0
A7: Bölcsőde TOP1-4-1-16-BO1-2017-00018 | B7: 170000000 | C7: 2018/2019 | E7: 170000000 | G7: -4285896 | H7: =F7+G7 -> -4285896 | I7: =E7+H7 -> 165714104
A8: Telekrész vásárlás | B8: 1500000 | C8: 2018/2018 | E8: 1500000 | G8: 500000 | H8: =F8+G8 -> 500000 | I8: =E8+H8 -> 2000000
A9: Térfigyelő rendszer beüzemelése | B9: 3665000 | C9: 2014/2019 | E9: 1028700 | G9: -1028700 | H9: =F9+G9 -> -1028700 | I9: =E9+H9 -> 0
A10: Garázs építés PH udvarra | B10: 508000 | C10: 2018/2018 | E10: 508000 | G10: -508000 | H10: =F10+G10 -> -508000 | I10: =E10+H10 -> 0
A11: Ideiglenes óvoda kialakítása | B11: 15920240 | C11: 2018/2018 | E11: 15920240 | G11: 2613091 | H11: =F11+G11 -> 2613091 | I11: =E11+H11 -> 18533331
A12: Számítástechnikai eszközök beszerzése ASP | B12: 1524000 | C12: 2018/2018 | E12: 1524000 | G12: -1361948 | H12: =F12+G12 -> -1361948 | I12: =E12+H12 -> 162052
A13: Eszközbeszerzés PH | B13: 1270000 | C13: 2018/2018 | E13: 1270000 | G13: -410433 | H13: =F13+G13 -> -410433 | I13: =E13+H13 -> 859567
A14: Eszközbeszerzés ÁMK | B14: 1397000 | C14: 2018/2018 | E14: 1397000 | G14: -307274 | H14: =F14+G14 -> -307274 | I14: =E14+H14 -> 1089726
A15: Eszközbeszerzés ÖNK | B15: 658854 | C15: 2018/2018 | E15: 658854 | G15: 10595901 | H15: =F15+G15 -> 10595901 | I15: =E15+H15 -> 11254755
A16: Járdaépítés Fittnesspark | B16: 274066 | C16: 2018/2018 | G16: 274066 | H16: =F16+G16 -> 274066 | I16: =E16+H16 -> 274066
H17: =F17+G17 -> 0 | I17: =E17+H17 -> 0
H18: =F18+G18 -> 0 | I18: =E18+H18 -> 0
H19: =F19+G19 -> 0 | I19: =E19+H19 -> 0
H20: =F20+G20 -> 0 | I20: =E20+H20 -> 0
H21: =F21+G21 -> 0 | I21: =E21+H21 -> 0
H22: =F22+G22 -> 0 | I22: =E22+H22 -> 0
A23: ÖSSZESEN: | B23: =SUM(B5:B22) -> 487720801 | D23: =SUM(D5:D22) -> 3810000 | E23: =SUM(E5:E22) -> 481000435 | H23: =SUM(H5:H22) -> -128000300 | I23: =SUM(I5:I22) -> 353000135

Sheet 4.sz.mell. 
A1: Felújítási kiadások előirányzata felújításonként
I2: ='2.2.sz.mell '!I2 -> #REF!
A3: Felújítás megnevezése | B3: Teljes költség | C3: Kivitelezés kezdési és befejezési éve | D3: =+CONCATENATE("Felhasználás ",LEFT(ÖSSZEFÜGGÉSEK!A6,4)-1,". XII. 31-ig") -> Felhasználás 2017. XII. 31-ig | E3: =+CONCATENATE(LEFT(ÖSSZEFÜGGÉSEK!A6,4),". évi",CHAR(10),"eredeti előirányzat") -> 2018. évi eredeti előirányzat | F3: Eddigi módosítások összege 2018-ban | G3: 1. sz. módosítás | H3: Módosítások összesen 2018. XII.31.-ig | I3: 1 számú módosítás utáni előirányzat
A4: A | B4: B | C4: C | D4: D | E4: E | F4: F | G4: G | H4: H=(F+G) | I4: I=(E+H)
A5: Önkormányzat tulajdonában lévő építmények felújítása | B5: 1270000 | C5: 2018/2018 | E5: 1270000 | G5: -1270000 | H5: =F5+G5 -> -1270000 | I5: =E5+H5 -> 0
A6: Orvosi rendelő kerítés felújítása | B6: 1244600 | C6: 2018/2018 | G6: 1244600 | H6: =F6+G6 -> 1244600 | I6: =E6+H6 -> 1244600
A7: Óvoda gázterv | B7: 150000 | C7: 2018/2018 | G7: 150000 | H7: =F7+G7 -> 150000 | I7: =E7+H7 -> 150000
A8: Óvoda udvar felújítása | B8: 2298500 | C8: 2018/2019 | G8: 2052955 | H8: =F8+G8 -> 2052955 | I8: =E8+H8 -> 2052955
H9: =F9+G9 -> 0 | I9: =E9+H9 -> 0
H10: =F10+G10 -> 0 | I10: =E10+H10 -> 0
H11: =F11+G11 -> 0 | I11: =E11+H11 -> 0
H12: =F12+G12 -> 0 | I12: =E12+H12 -> 0
H13: =F13+G13 -> 0 | I13: =E13+H13 -> 0
H14: =F14+G14 -> 0 | I14: =E14+H14 -> 0
H15: =F15+G15 -> 0 | I15: =E15+H15 -> 0
H16: =F16+G16 -> 0 | I16: =E16+H16 -> 0
H17: =F17+G17 -> 0 | I17: =E17+H17 -> 0
H18: =F18+G18 -> 0 | I18: =E18+H18 -> 0
H19: =F19+G19 -> 0 | I19: =E19+H19 -> 0
H20: =F20+G20 -> 0 | I20: =E20+H20 -> 0
... H22: =F22+G22 -> 0 | I22: =E22+H22 -> 0
A23: ÖSSZESEN: | B23: =SUM(B5:B22) -> 4963100 | D23: =SUM(D5:D22) -> 0 | E23: =SUM(E5:E22) -> 1270000 | H23: =SUM(H5:H22) -> 2177555 | I23: =SUM(I5:I22) -> 3447555

Sheet 5.1. sz. mell
G1: 5.1. melléklet
A2: Megnevezés | B2: Sajószöged Községi Önkormányzat | G2: 01
A3: Feladat megnevezése | B3: Összes bevétel, kiadás | G3: 01
G4: Forintban!
A5: Száma | B5: Kiemelt előirányzat, előirányzat megnevezése | C5: Eredeti előirányzat | D5: Korábbi módosítások | E5: 1. sz. módosítás | F5: Módosítások összesen | G5: 1.számú módosítás utáni előirányzat
A6: A | B6: B | C6: C | D6: D | E6: E | F6: F=(D+…+E) | G6: G=(C+F)
A7: Bevételek
A8: 1. | B8: Önkormányzat működési támogatásai (1.1.+…+.1.6.) | C8: =+C9+C10+C11+C12+C13+C14 -> 109212674 | D8: =+D9+D10+D11+D12+D13+D14 -> 0 | E8: =+E9+E10+E11+E12+E13+E14 -> 1866028 | F8: =+F9+F10+F11+F12+F13+F14 -> 1866028 | G8: =+G9+G10+G11+G12+G13+G14 -> 111078702
A9: 1.1. | B9: Helyi önkormányzatok működésének általános támogatása | C9: 30667486 | E9: 34770 | F9: =D9+E9 -> 34770 | G9: =C9+F9 -> 30702256
A10: 1.2. | B10: Önkormányzatok egyes köznevelési feladatainak támogatása | C10: 46445433 | E10: -616433 | F10: =D10+E10 -> -616433 | G10: =C10+F10 -> 45829000
A11: 1.3. | B11: Önkormányzatok szociális és gyermekjóléti feladatainak támogatása | C11: 29146265 | E11: -987223 | F11: =D11+E11 -> -987223 | G11: =C11+F11 -> 28159042
A12: 1.4. | B12: Önkormányzatok kulturális feladatainak támogatása | C12: 2697090 | E12: 569796 | F12: =D12+E12 -> 569796 | G12: =C12+F12 -> 3266886
A13: 1.5. | B13: Működési célú kvi támogatások és kiegészítő támogatások | C13: 256400 | E13: 2827798 | F13: =D13+E13 -> 2827798 | G13: =C13+F13 -> 3084198
A14: 1.6. | B14: Elszámolásból származó bevételek | E14: 37320 | F14: =D14+E14 -> 37320 | G14: =C14+F14 -> 37320
A15: 2. | B15: Működési célú támogatások államháztartáson belülről (2.1.+…+.2.5.) | C15: =+C16+C17+C18+C19+C20 -> 14608139 | D15: =+D16+D17+D18+D19+D20 -> 0 | E15: =+E16+E17+E18+E19+E20 -> -485314 | F15: =+F16+F17+F18+F19+F20 -> -485314 | G15: =+G16+G17+G18+G19+G20 -> 14122825
A16: 2.1. | B16: Elvonások és befizetések bevételei | F16: =D16+E16 -> 0 | G16: =C16+F16 -> 0
A17: 2.2. | B17: Működési célú garancia- és kezességvállalásból megtérülések | F17: =D17+E17 -> 0 | G17: =C17+F17 -> 0
A18: 2.3. | B18: Működési célú visszatérítendő támogatások, kölcsönök visszatérülése | F18: =D18+E18 -> 0 | G18: =C18+F18 -> 0
A19: 2.4. | B19: Működési célú visszatérítendő támogatások, kölcsönök igénybevétele | F19: =D19+E19 -> 0 | G19: =C19+F19 -> 0
A20: 2.5. | B20: Egyéb működési célú támogatások bevételei | C20: 14608139 | E20: -485314 | F20: =D20+E20 -> -485314 | G20: =C20+F20 -> 14122825
A21: 2.6. | B21: 2.5.-ből EU-s támogatás | F21: =D21+E21 -> 0 | G21: =C21+F21 -> 0
A22: 3. | B22: Felhalmozási célú támogatások államháztartáson belülről (3.1.+…+3.5.) | C22: =+C23+C24+C25+C26+C27 -> 300655070 | D22: =+D23+D24+D25+D26+D27 -> 0 | E22: =+E23+E24+E25+E26+E27 -> -134720246 | F22: =+F23+F24+F25+F26+F27 -> -134720246 | G22: =+G23+G24+G25+G26+G27 -> 165934824
A23: 3.1. | B23: Felhalmozási célú önkormányzati támogatások | F23: =D23+E23 -> 0 | G23: =C23+F23 -> 0
A24: 3.2. | B24: Felhalmozási célú garancia- és kezességvállalásból megtérülések | F24: =D24+E24 -> 0 | G24: =C24+F24 -> 0
A25: 3.3. | B25: Felhalmozási célú visszatérítendő támogatások, kölcsönök visszatérülése | F25: =D25+E25 -> 0 | G25: =C25+F25 -> 0
A26: 3.4. | B26: Felhalmozási célú visszatérítendő támogatások, kölcsönök igénybevétele | F26: =D26+E26 -> 0 | G26: =C26+F26 -> 0
A27: 3.5. | B27: Egyéb felhalmozási célú támogatások bevételei | C27: 300655070 | E27: -134720246 | F27: =D27+E27 -> -134720246 | G27: =C27+F27 -> 165934824
A28: 3.6. | B28: 3.5.-ből EU-s támogatás | C28: 300655070 | E28: -134720246 | F28: =D28+E28 -> -134720246 | G28: =C28+F28 -> 165934824
A29: 4. | B29: Közhatalmi bevételek (4.1.+...+4.7.) | C29: =+C30+C31+C32+C33+C34+C35+C36 -> 171790000 | D29: =+D30+D31+D32+D33+D34+D35+D36 -> 0 | E29: =+E30+E31+E32+E33+E34+E35+E36 -> 48006139 | F29: =+F30+F31+F32+F33+F34+F35+F36 -> 48006139 | G29: =+G30+G31+G32+G33+G34+G35+G36 -> 219796139
A30: 4.1. | B30: Építményadó | C30: 101300000 | E30: 4288114 | F30: =D30+E30 -> 4288114 | G30: =C30+F30 -> 105588114
A31: 4.2. | B31: Idegenforgalmi adó | F31: =D31+E31 -> 0 | G31: =C31+F31 -> 0
A32: 4.3. | B32: Iparűzési adó | C32: 62350000 | E32: 39184174 | F32: =D32+E32 -> 39184174 | G32: =C32+F32 -> 101534174
A33: 4.4. | B33: Talajterhelési díj | F33: =D33+E33 -> 0 | G33: =C33+F33 -> 0
A34: 4.5. | B34: Gépjárműadó | C34: 8000000 | E34: 3432383 | F34: =D34+E34 -> 3432383 | G34: =C34+F34 -> 11432383
A35: 4.6. | B35: Egyéb áruhasználati és szolgáltatási adók | F35: =D35+E35 -> 0 | G35: =C35+F35 -> 0
A36: 4.7. | B36: Egyéb közhatalmi bevételek | C36: 140000 | E36: 1101468 | F36: =D36+E36 -> 1101468 | G36: =C36+F36 -> 1241468
A37: 5. | B37: Működési bevételek (5.1.+…+ 5.11.) | C37: =SUM(C38:C48) -> 16881218 | D37: =SUM(D38:D48) -> 0 | E37: =SUM(E38:E48) -> 19388307 | F37: =SUM(F38:F48) -> 19388307 | G37: =SUM(G38:G48) -> 36269525
A38: 5.1. | B38: Készletértékesítés ellenértéke | F38: =D38+E38 -> 0 | G38: =C38+F38 -> 0
A39: 5.2. | B39: Szolgáltatások ellenértéke | C39: 2028000 | E39: 404652 | F39: =D39+E39 -> 404652 | G39: =C39+F39 -> 2432652
A40: 5.3. | B40: Közvetített szolgáltatások értéke | C40: 700000 | E40: 990990 | F40: =D40+E40 -> 990990 | G40: =C40+F40 -> 1690990
A41: 5.4. | B41: Tulajdonosi bevételek | E41: 14159586 | F41: =D41+E41 -> 14159586 | G41: =C41+F41 -> 14159586
A42: 5.5. | B42: Ellátási díjak | C42: 10632405 | E42: -1404779 | F42: =D42+E42 -> -1404779 | G42: =C42+F42 -> 9227626
A43: 5.6. | B43: Kiszámlázott általános forgalmi adó | C43: 3520813 | E43: 4997746 | F43: =D43+E43 -> 4997746 | G43: =C43+F43 -> 8518559
A44: 5.7. | B44: Általános forgalmi adó visszatérítése | F44: =D44+E44 -> 0 | G44: =C44+F44 -> 0
A45: 5.8. | B45: Kamatbevételek | E45: 20831 | F45: =D45+E45 -> 20831 | G45: =C45+F45 -> 20831
A46: 5.9. | B46: Egyéb pénzügyi műveletek bevételei | F46: =D46+E46 -> 0 | G46: =C46+F46 -> 0
A47: 5.10. | B47: Biztosító által fizetett kártérítés | F47: =D47+E47 -> 0 | G47: =C47+F47 -> 0
A48: 5.11. | B48: Egyéb működési bevételek | E48: 219281 | F48: =D48+E48 -> 219281 | G48: =C48+F48 -> 219281
A49: 6. | B49: Felhalmozási bevételek (6.1.+…+6.5.) | C49: =SUM(C50:C54) -> 0 | D49: =SUM(D50:D54) -> 0 | E49: =SUM(E50:E54) -> 0 | F49: =SUM(F50:F54) -> 4349740 | G49: =SUM(G50:G54) -> 4349740
A50: 6.1. | B50: Immateriális javak értékesítése | F50: =D50+E50 -> 0 | G50: =C50+F50 -> 0
A51: 6.2. | B51: Ingatlanok értékesítése | F51: 4349740 | G51: =C51+F51 -> 4349740
A52: 6.3. | B52: Egyéb tárgyi eszközök értékesítése | F52: =D52+E52 -> 0 | G52: =C52+F52 -> 0
A53: 6.4. | B53: Részesedések értékesítése | F53: =D53+E53 -> 0 | G53: =C53+F53 -> 0
A54: 6.5. | B54: Részesedések megszűnéséhez kapcsolódó bevételek | F54: =D54+E54 -> 0 | G54: =C54+F54 -> 0
A55: 7. | B55: Működési célú átvett pénzeszközök (7.1. + … + 7.3.) | C55: =SUM(C56:C58) -> 0 | D55: =SUM(D56:D58) -> 0 | E55: =SUM(E56:E58) -> 0 | F55: =SUM(F56:F58) -> 4645711 | G55: =SUM(G56:G58) -> 4645711
A56: 7.1. | B56: Működési célú garancia- és kezességvállalásból megtérülések ÁH-n kívülről | F56: =D56+E56 -> 0 | G56: =C56+F56 -> 0
A57: 7.2. | B57: Működési célú visszatérítendő támogatások, kölcsönök visszatér. ÁH-n kívülről | F57: =D57+E57 -> 0 | G57: =C57+F57 -> 0
A58: 7.3. | B58: Egyéb működési célú átvett pénzeszköz | F58: 4645711 | G58: =C58+F58 -> 4645711
A59: 7.4. | B59: 7.3.-ból EU-s támogatás (közvetlen) | F59: =D59+E59 -> 0 | G59: =C59+F59 -> 0
A60: 8. | B60: Felhalmozási célú átvett pénzeszközök (8.1.+8.2.+8.3.) | C60: =SUM(C61:C63) -> 1663367 | D60: =SUM(D61:D63) -> 0 | E60: =SUM(E61:E63) -> -22497 | F60: =SUM(F61:F63) -> -22497 | G60: =SUM(G61:G63) -> 1640870
A61: 8.1. | B61: Felhalm. célú garancia- és kezességvállalásból megtérülések ÁH-n kívülről | F61: =D61+E61 -> 0 | G61: =C61+F61 -> 0
A62: 8.2. | B62: Felhalm. célú visszatérítendő támogatások, kölcsönök visszatér. ÁH-n kívülről | F62: =D62+E62 -> 0 | G62: =C62+F62 -> 0
A63: 8.3. | B63: Egyéb felhalmozási célú átvett pénzeszköz | C63: 1663367 | E63: -22497 | F63: =D63+E63 -> -22497 | G63: =C63+F63 -> 1640870
A64: 8.4. | B64: 8.3.-ból EU-s támogatás (közvetlen) | F64: =D64+E64 -> 0 | G64: =C64+F64 -> 0
A65: 9. | B65: KÖLTSÉGVETÉSI BEVÉTELEK ÖSSZESEN: (1+…+8) | C65: =+C8+C15+C22+C29+C37+C49+C55+C60 -> 614810468 | D65: =+D8+D15+D22+D29+D37+D49+D55+D60 -> 0 | E65: =+E8+E15+E22+E29+E37+E49+E55+E60 -> -65967583 | F65: =+F8+F15+F22+F29+F37+F49+F55+F60 -> -56972132 | G65: =+G8+G15+G22+G29+G37+G49+G55+G60 -> 557838336
A66: 10. | B66: Hitel-, kölcsönfelvétel államháztartáson kívülről (10.1.+10.3.) | C66: =SUM(C67:C69) -> 0 | D66: =SUM(D67:D69) -> 0 | E66: =SUM(E67:E69) -> 0 | F66: =SUM(F67:F69) -> 0 | G66: =SUM(G67:G69) -> 0
A67: 10.1. | B67: Hosszú lejáratú hitelek, kölcsönök felvétele | F67: =D67+E67 -> 0 | G67: =C67+F67 -> 0
A68: 10.2. | B68: Likviditási célú hitelek, kölcsönök felvétele pénzügyi vállalkozástól | F68: =D68+E68 -> 0 | G68: =C68+F68 -> 0
A69: 10.3. | B69: Rövid lejáratú hitelek, kölcsönök felvétele | F69: =D69+E69 -> 0 | G69: =C69+F69 -> 0
A70: 11. | B70: Belföldi értékpapírok bevételei (11.1. +…+ 11.4.) | C70: =SUM(C71:C74) -> 0 | D70: =SUM(D71:D74) -> 0 | E70: =SUM(E71:E74) -> 22054243 | F70: =SUM(F71:F74) -> 22054243 | G70: =SUM(G71:G74) -> 22054243
A71: 11.1. | B71: Forgatási célú belföldi értékpapírok beváltása, értékesítése | E71: 22054243 | F71: =D71+E71 -> 22054243 | G71: =C71+F71 -> 22054243
A72: 11.2. | B72: Éven belüli lejáratú belföldi értékpapírok kibocsátása | F72: =D72+E72 -> 0 | G72: =C72+F72 -> 0
A73: 11.3. | B73: Befektetési célú belföldi értékpapírok beváltása, értékesítése | F73: =D73+E73 -> 0 | G73: =C73+F73 -> 0
A74: 11.4. | B74: Éven túli lejáratú belföldi értékpapírok kibocsátása | F74: =D74+E74 -> 0 | G74: =C74+F74 -> 0
A75: 12. | B75: Maradvány igénybevétele (12.1. + 12.2.) | C75: =SUM(C76:C77) -> 192019048 | D75: =SUM(D76:D77) -> 0 | E75: =SUM(E76:E77) -> 1720516 | F75: =SUM(F76:F77) -> 1720516 | G75: =SUM(G76:G77) -> 193739564
A76: 12.1. | B76: Előző év költségvetési maradványának igénybevétele | C76: 192019048 | E76: 1720516 | F76: =D76+E76 -> 1720516 | G76: =C76+F76 -> 193739564
A77: 12.2. | B77: Előző év vállalkozási maradványának igénybevétele | F77: =D77+E77 -> 0 | G77: =C77+F77 -> 0
A78: 13. | B78: Belföldi finanszírozás bevételei (13.1. + … + 13.3.) | C78: =SUM(C79:C81) -> 0 | D78: =SUM(D79:D81) -> 0 | E78: =SUM(E79:E81) -> 0 | F78: =SUM(F79:F81) -> 0 | G78: =SUM(G79:G81) -> 0
A79: 13.1. | B79: Államháztartáson belüli megelőlegezések | F79: =D79+E79 -> 0 | G79: =C79+F79 -> 0
A80: 13.2. | B80: Államháztartáson belüli megelőlegezések törlesztése | F80: =D80+E80 -> 0 | G80: =C80+F80 -> 0
A81: 13.3. | B81: Lejötött betétek megszüntetése | F81: =D81+E81 -> 0 | G81: =C81+F81 -> 0
A82: 14. | B82: Külföldi finanszírozás bevételei (14.1.+…14.4.) | C82: =SUM(C83:C86) -> 0 | D82: =SUM(D83:D86) -> 0 | E82: =SUM(E83:E86) -> 0 | F82: =SUM(F83:F86) -> 0 | G82: =SUM(G83:G86) -> 0
A83: 14.1. | B83: Forgatási célú külföldi értékpapírok beváltása, értékesítése | F83: =D83+E83 -> 0 | G83: =C83+F83 -> 0
A84: 14.2. | B84: Befektetési célú külföldi értékpapírok beváltása, értékesítése | F84: =D84+E84 -> 0 | G84: =C84+F84 -> 0
A85: 14.3. | B85: Külföldi értékpapírok kibocsátása | F85: =D85+E85 -> 0 | G85: =C85+F85 -> 0
A86: 14.4. | B86: Külföldi hitelek, kölcsönök felvétele | F86: =D86+E86 -> 0 | G86: =C86+F86 -> 0
A87: 15. | B87: Váltóbevételek | F87: =D87+E87 -> 0 | G87: =C87+F87 -> 0
A88: 16. | B88: Adóssághoz nem kapcsolódó származékos ügyletek bevételei | F88: =D88+E88 -> 0 | G88: =C88+F88 -> 0
A89: 17. | B89: FINANSZÍROZÁSI BEVÉTELEK ÖSSZESEN: (10. + … +16.) | C89: =+C66+C70+C75+C78+C82+C88+C87 -> 192019048 | D89: =+D66+D70+D75+D78+D82+D88+D87 -> 0 | E89: =+E66+E70+E75+E78+E82+E88+E87 -> 23774759 | F89: =+F66+F70+F75+F78+F82+F88+F87 -> 23774759 | G89: =+G66+G70+G75+G78+G82+G88+G87 -> 215793807
A90: 18. | B90: BEVÉTELEK ÖSSZESEN: (9+17) | C90: =+C65+C89 -> 806829516 | D90: =+D65+D89 -> 0 | E90: =+E65+E89 -> -42192824 | F90: =+F65+F89 -> -33197373 | G90: =+G65+G89 -> 773632143
A92: Kiadások
A93: 1. | B93: Működési költségvetés kiadásai (1.1+…+1.5+1.18.) | C93: =+C94+C95+C96+C97+C98+C111 -> 156608673 | D93: =+D94+D95+D96+D97+D98+D111 -> 0 | E93: =+E94+E95+E96+E97+E98+E111 -> 39288029 | F93: =+F94+F95+F96+F97+F98+F111 -> 39288029 | G93: =+G94+G95+G96+G97+G98+G111 -> 195896702
A94: 1.1. | B94: Személyi juttatások | C94: 34247400 | E94: 5164125 | F94: =D94+E94 -> 5164125 | G94: =C94+F94 -> 39411525
A95: 1.2. | B95: Munkaadókat terhelő járulékok és szociális hozzájárulási adó | C95: 6732529 | E95: -199213 | F95: =D95+E95 -> -199213 | G95: =C95+F95 -> 6533316
A96: 1.3. | B96: Dologi kiadások | C96: 65938129 | E96: 36164919 | F96: =D96+E96 -> 36164919 | G96: =C96+F96 -> 102103048
A97: 1.4. | B97: Ellátottak pénzbeli juttatásai | C97: 10180000 | E97: -2494390 | F97: =D97+E97 -> -2494390 | G97: =C97+F97 -> 7685610
A98: 1.5 | B98: Egyéb működési célú kiadások | C98: 37010615 | E98: 3152588 | F98: =D98+E98 -> 3152588 | G98: =C98+F98 -> 40163203
A99: 1.6. | B99: az 1.5-ből: - Előző évi elszámolásból származó befizetések | E99: 26896 | F99: =D99+E99 -> 26896 | G99: =C99+F99 -> 26896
A100: 1.7. | B100: - Törvényi előíráson alapuló befizetések | F100: =D100+E100 -> 0 | G100: =C100+F100 -> 0
A101: 1.8. | B101: - Elvonások és befizetések | F101: =D101+E101 -> 0 | G101: =C101+F101 -> 0
...

Sheet 5.1.1. sz. mell 
G1: 5.1. 1.melléklet
A2: Megnevezés | B2: Sajószöged Községi Önkormányzat | G2: 01
A3: Feladat megnevezése | B3: Kötelező feladatok bevételei, kiadásai | G3: 01
G4: Forintban!
A5: Száma | B5: Kiemelt előirányzat, előirányzat megnevezése | C5: Eredeti előirányzat | D5: Korábbi módosítások | E5: 1. sz. módosítás | F5: Módosítások összesen | G5: 1.számú módosítás utáni előirányzat
A6: A | B6: B | C6: C | D6: D | E6: E | F6: F=(D+…+E) | G6: G=(C+F)
A7: Bevételek
A8: 1. | B8: Önkormányzat működési támogatásai (1.1.+…+.1.6.) | C8: =+C9+C10+C11+C12+C13+C14 -> 109212674 | D8: =+D9+D10+D11+D12+D13+D14 -> 0 | E8: =+E9+E10+E11+E12+E13+E14 -> 1866028 | F8: =+F9+F10+F11+F12+F13+F14 -> 1866028 | G8: =+G9+G10+G11+G12+G13+G14 -> 111078702
A9: 1.1. | B9: Helyi önkormányzatok működésének általános támogatása | C9: 30667486 | E9: 34770 | F9: =D9+E9 -> 34770 | G9: =C9+F9 -> 30702256
A10: 1.2. | B10: Önkormányzatok egyes köznevelési feladatainak támogatása | C10: 46445433 | E10: -616433 | F10: =D10+E10 -> -616433 | G10: =C10+F10 -> 45829000
A11: 1.3. | B11: Önkormányzatok szociális és gyermekjóléti feladatainak támogatása | C11: 29146265 | E11: -987223 | F11: =D11+E11 -> -987223 | G11: =C11+F11 -> 28159042
A12: 1.4. | B12: Önkormányzatok kulturális feladatainak támogatása | C12: 2697090 | E12: 569796 | F12: =D12+E12 -> 569796 | G12: =C12+F12 -> 3266886
A13: 1.5. | B13: Működési célú kvi támogatások és kiegészítő támogatások | C13: 256400 | E13: 2827798 | F13: =D13+E13 -> 2827798 | G13: =C13+F13 -> 3084198
A14: 1.6. | B14: Elszámolásból származó bevételek | E14: 37320 | F14: =D14+E14 -> 37320 | G14: =C14+F14 -> 37320
A15: 2. | B15: Működési célú támogatások államháztartáson belülről (2.1.+…+.2.5.) | C15: =+C16+C17+C18+C19+C20 -> 14608139 | D15: =+D16+D17+D18+D19+D20 -> 0 | E15: =+E16+E17+E18+E19+E20 -> -485314 | F15: =+F16+F17+F18+F19+F20 -> -485314 | G15: =+G16+G17+G18+G19+G20 -> 14122825
A16: 2.1. | B16: Elvonások és befizetések bevételei | F16: =D16+E16 -> 0 | G16: =C16+F16 -> 0
A17: 2.2. | B17: Működési célú garancia- és kezességvállalásból megtérülések | F17: =D17+E17 -> 0 | G17: =C17+F17 -> 0
A18: 2.3. | B18: Működési célú visszatérítendő támogatások, kölcsönök visszatérülése | F18: =D18+E18 -> 0 | G18: =C18+F18 -> 0
A19: 2.4. | B19: Működési célú visszatérítendő támogatások, kölcsönök igénybevétele | F19: =D19+E19 -> 0 | G19: =C19+F19 -> 0
A20: 2.5. | B20: Egyéb működési célú támogatások bevételei | C20: 14608139 | E20: -485314 | F20: =D20+E20 -> -485314 | G20: =C20+F20 -> 14122825
A21: 2.6. | B21: 2.5.-ből EU-s támogatás | F21: =D21+E21 -> 0 | G21: =C21+F21 -> 0
A22: 3. | B22: Felhalmozási célú támogatások államháztartáson belülről (3.1.+…+3.5.) | C22: =+C23+C24+C25+C26+C27 -> 300655070 | D22: =+D23+D24+D25+D26+D27 -> 0 | E22: =+E23+E24+E25+E26+E27 -> -134720246 | F22: =+F23+F24+F25+F26+F27 -> -134720246 | G22: =+G23+G24+G25+G26+G27 -> 165934824
A23: 3.1. | B23: Felhalmozási célú önkormányzati támogatások | F23: =D23+E23 -> 0 | G23: =C23+F23 -> 0
A24: 3.2. | B24: Felhalmozási célú garancia- és kezességvállalásból megtérülések | F24: =D24+E24 -> 0 | G24: =C24+F24 -> 0
A25: 3.3. | B25: Felhalmozási célú visszatérítendő támogatások, kölcsönök visszatérülése | F25: =D25+E25 -> 0 | G25: =C25+F25 -> 0
A26: 3.4. | B26: Felhalmozási célú visszatérítendő támogatások, kölcsönök igénybevétele | F26: =D26+E26 -> 0 | G26: =C26+F26 -> 0
A27: 3.5. | B27: Egyéb felhalmozási célú támogatások bevételei | C27: 300655070 | E27: -134720246 | F27: =D27+E27 -> -134720246 | G27: =C27+F27 -> 165934824
A28: 3.6. | B28: 3.5.-ből EU-s támogatás | C28: 300655070 | E28: -134720246 | F28: =D28+E28 -> -134720246 | G28: =C28+F28 -> 165934824
A29: 4. | B29: Közhatalmi bevételek (4.1.+...+4.7.) | C29: =+C30+C31+C32+C33+C34+C35+C36 -> 171790000 | D29: =+D30+D31+D32+D33+D34+D35+D36 -> 0 | E29: =+E30+E31+E32+E33+E34+E35+E36 -> 48006139 | F29: =+F30+F31+F32+F33+F34+F35+F36 -> 48006139 | G29: =+G30+G31+G32+G33+G34+G35+G36 -> 219796139
A30: 4.1. | B30: Építményadó és Telekadó | C30: 101300000 | E30: 4288114 | F30: =D30+E30 -> 4288114 | G30: =C30+F30 -> 105588114
A31: 4.2. | B31: Idegenforgalmi adó | F31: =D31+E31 -> 0 | G31: =C31+F31 -> 0
A32: 4.3. | B32: Iparűzési adó | C32: 62350000 | E32: 39184174 | F32: =D32+E32 -> 39184174 | G32: =C32+F32 -> 101534174
A33: 4.4. | B33: Talajterhelési díj | F33: =D33+E33 -> 0 | G33: =C33+F33 -> 0
A34: 4.5. | B34: Gépjárműadó | C34: 8000000 | E34: 3432383 | F34: =D34+E34 -> 3432383 | G34: =C34+F34 -> 11432383
A35: 4.6. | B35: Egyéb áruhasználati és szolgáltatási adók | F35: =D35+E35 -> 0 | G35: =C35+F35 -> 0
A36: 4.7. | B36: Egyéb közhatalmi bevételek | C36: 140000 | E36: 1101468 | F36: =D36+E36 -> 1101468 | G36: =C36+F36 -> 1241468
A37: 5. | B37: Működési bevételek (5.1.+…+ 5.11.) | C37: =SUM(C38:C48) -> 16881218 | D37: =SUM(D38:D48) -> 0 | E37: =SUM(E38:E48) -> 19388307 | F37: =SUM(F38:F48) -> 19388307 | G37: =SUM(G38:G48) -> 36269525
A38: 5.1. | B38: Készletértékesítés ellenértéke | F38: =D38+E38 -> 0 | G38: =C38+F38 -> 0
A39: 5.2. | B39: Szolgáltatások ellenértéke | C39: 2028000 | E39: 404652 | F39: =D39+E39 -> 404652 | G39: =C39+F39 -> 2432652
A40: 5.3. | B40: Közvetített szolgáltatások értéke | C40: 700000 | E40: 990990 | F40: =D40+E40 -> 990990 | G40: =C40+F40 -> 1690990
A41: 5.4. | B41: Tulajdonosi bevételek | E41: 14159586 | F41: =D41+E41 -> 14159586 | G41: =C41+F41 -> 14159586
A42: 5.5. | B42: Ellátási díjak | C42: 10632405 | E42: -1404779 | F42: =D42+E42 -> -1404779 | G42: =C42+F42 -> 9227626
A43: 5.6. | B43: Kiszámlázott általános forgalmi adó | C43: 3520813 | E43: 4997746 | F43: =D43+E43 -> 4997746 | G43: =C43+F43 -> 8518559
A44: 5.7. | B44: Általános forgalmi adó visszatérítése | F44: =D44+E44 -> 0 | G44: =C44+F44 -> 0
A45: 5.8. | B45: Kamatbevételek | E45: 20831 | F45: =D45+E45 -> 20831 | G45: =C45+F45 -> 20831
A46: 5.9. | B46: Egyéb pénzügyi műveletek bevételei | F46: =D46+E46 -> 0 | G46: =C46+F46 -> 0
A47: 5.10. | B47: Biztosító által fizetett kártérítés | F47: =D47+E47 -> 0 | G47: =C47+F47 -> 0
A48: 5.11. | B48: Egyéb működési bevételek | E48: 219281 | F48: =D48+E48 -> 219281 | G48: =C48+F48 -> 219281
A49: 6. | B49: Felhalmozási bevételek (6.1.+…+6.5.) | C49: =SUM(C50:C54) -> 0 | D49: =SUM(D50:D54) -> 0 | E49: =SUM(E50:E54) -> 0 | F49: =SUM(F50:F54) -> 4349740 | G49: =SUM(G50:G54) -> 4349740
A50: 6.1. | B50: Immateriális javak értékesítése | F50: =D50+E50 -> 0 | G50: =C50+F50 -> 0
A51: 6.2. | B51: Ingatlanok értékesítése | F51: 4349740 | G51: =C51+F51 -> 4349740
A52: 6.3. | B52: Egyéb tárgyi eszközök értékesítése | F52: =D52+E52 -> 0 | G52: =C52+F52 -> 0
A53: 6.4. | B53: Részesedések értékesítése | F53: =D53+E53 -> 0 | G53: =C53+F53 -> 0
A54: 6.5. | B54: Részesedések megszűnéséhez kapcsolódó bevételek | F54: =D54+E54 -> 0 | G54: =C54+F54 -> 0
A55: 7. | B55: Működési célú átvett pénzeszközök (7.1. + … + 7.3.) | C55: =SUM(C56:C58) -> 0 | D55: =SUM(D56:D58) -> 0 | E55: =SUM(E56:E58) -> 0 | F55: =SUM(F56:F58) -> 4645711 | G55: =SUM(G56:G58) -> 4645711
A56: 7.1. | B56: Működési célú garancia- és kezességvállalásból megtérülések ÁH-n kívülről | F56: =D56+E56 -> 0 | G56: =C56+F56 -> 0
A57: 7.2. | B57: Működési célú visszatérítendő támogatások, kölcsönök visszatér. ÁH-n kívülről | F57: =D57+E57 -> 0 | G57: =C57+F57 -> 0
A58: 7.3. | B58: Egyéb működési célú átvett pénzeszköz | F58: 4645711 | G58: =C58+F58 -> 4645711
A59: 7.4. | B59: 7.3.-ból EU-s támogatás (közvetlen) | F59: =D59+E59 -> 0 | G59: =C59+F59 -> 0
A60: 8. | B60: Felhalmozási célú átvett pénzeszközök (8.1.+8.2.+8.3.) | C60: =SUM(C61:C63) -> 1663367 | D60: =SUM(D61:D63) -> 0 | E60: =SUM(E61:E63) -> -22497 | F60: =SUM(F61:F63) -> -22497 | G60: =SUM(G61:G63) -> 1640870
A61: 8.1. | B61: Felhalm. célú garancia- és kezességvállalásból megtérülések ÁH-n kívülről | F61: =D61+E61 -> 0 | G61: =C61+F61 -> 0
A62: 8.2. | B62: Felhalm. célú visszatérítendő támogatások, kölcsönök visszatér. ÁH-n kívülről | F62: =D62+E62 -> 0 | G62: =C62+F62 -> 0
A63: 8.3. | B63: Egyéb felhalmozási célú átvett pénzeszköz | C63: 1663367 | E63: -22497 | F63: =D63+E63 -> -22497 | G63: =C63+F63 -> 1640870
A64: 8.4. | B64: 8.3.-ból EU-s támogatás (közvetlen) | F64: =D64+E64 -> 0 | G64: =C64+F64 -> 0
A65: 9. | B65: KÖLTSÉGVETÉSI BEVÉTELEK ÖSSZESEN: (1+…+8) | C65: =+C8+C15+C22+C29+C37+C49+C55+C60 -> 614810468 | D65: =+D8+D15+D22+D29+D37+D49+D55+D60 -> 0 | E65: =+E8+E15+E22+E29+E37+E49+E55+E60 -> -65967583 | F65: =+F8+F15+F22+F29+F37+F49+F55+F60 -> -56972132 | G65: =+G8+G15+G22+G29+G37+G49+G55+G60 -> 557838336
A66: 10. | B66: Hitel-, kölcsönfelvétel államháztartáson kívülről (10.1.+10.3.) | C66: =SUM(C67:C69) -> 0 | D66: =SUM(D67:D69) -> 0 | E66: =SUM(E67:E69) -> 0 | F66: =SUM(F67:F69) -> 0 | G66: =SUM(G67:G69) -> 0
A67: 10.1. | B67: Hosszú lejáratú hitelek, kölcsönök felvétele | F67: =D67+E67 -> 0 | G67: =C67+F67 -> 0
A68: 10.2. | B68: Likviditási célú hitelek, kölcsönök felvétele pénzügyi vállalkozástól | F68: =D68+E68 -> 0 | G68: =C68+F68 -> 0
A69: 10.3. | B69: Rövid lejáratú hitelek, kölcsönök felvétele | F69: =D69+E69 -> 0 | G69: =C69+F69 -> 0
A70: 11. | B70: Belföldi értékpapírok bevételei (11.1. +…+ 11.4.) | C70: =SUM(C71:C74) -> 0 | D70: =SUM(D71:D74) -> 0 | E70: =SUM(E71:E74) -> 22054243 | F70: =SUM(F71:F74) -> 22054243 | G70: =SUM(G71:G74) -> 22054243
A71: 11.1. | B71: Forgatási célú belföldi értékpapírok beváltása, értékesítése | E71: 22054243 | F71: =D71+E71 -> 22054243 | G71: =C71+F71 -> 22054243
A72: 11.2. | B72: Éven belüli lejáratú belföldi értékpapírok kibocsátása | F72: =D72+E72 -> 0 | G72: =C72+F72 -> 0
A73: 11.3. | B73: Befektetési célú belföldi értékpapírok beváltása, értékesítése | F73: =D73+E73 -> 0 | G73: =C73+F73 -> 0
A74: 11.4. | B74: Éven túli lejáratú belföldi értékpapírok kibocsátása | F74: =D74+E74 -> 0 | G74: =C74+F74 -> 0
A75: 12. | B75: Maradvány igénybevétele (12.1. + 12.2.) | C75: =SUM(C76:C77) -> 192019048 | D75: =SUM(D76:D77) -> 0 | E75: =SUM(E76:E77) -> 1720516 | F75: =SUM(F76:F77) -> 1720516 | G75: =SUM(G76:G77) -> 193739564
A76: 12.1. | B76: Előző év költségvetési maradványának igénybevétele | C76: 192019048 | E76: 1720516 | F76: =D76+E76 -> 1720516 | G76: =C76+F76 -> 193739564
A77: 12.2. | B77: Előző év vállalkozási maradványának igénybevétele | F77: =D77+E77 -> 0 | G77: =C77+F77 -> 0
A78: 13. | B78: Belföldi finanszírozás bevételei (13.1. + … + 13.3.) | C78: =SUM(C79:C81) -> 0 | D78: =SUM(D79:D81) -> 0 | E78: =SUM(E79:E81) -> 0 | F78: =SUM(F79:F81) -> 0 | G78: =SUM(G79:G81) -> 0
A79: 13.1. | B79: Államháztartáson belüli megelőlegezések | F79: =D79+E79 -> 0 | G79: =C79+F79 -> 0
A80: 13.2. | B80: Államháztartáson belüli megelőlegezések törlesztése | F80: =D80+E80 -> 0 | G80: =C80+F80 -> 0
A81: 13.3. | B81: Lejötött betétek megszüntetése | F81: =D81+E81 -> 0 | G81: =C81+F81 -> 0
A82: 14. | B82: Külföldi finanszírozás bevételei (14.1.+…14.4.) | C82: =SUM(C83:C86) -> 0 | D82: =SUM(D83:D86) -> 0 | E82: =SUM(E83:E86) -> 0 | F82: =SUM(F83:F86) -> 0 | G82: =SUM(G83:G86) -> 0
A83: 14.1. | B83: Forgatási célú külföldi értékpapírok beváltása, értékesítése | F83: =D83+E83 -> 0 | G83: =C83+F83 -> 0
A84: 14.2. | B84: Befektetési célú külföldi értékpapírok beváltása, értékesítése | F84: =D84+E84 -> 0 | G84: =C84+F84 -> 0
A85: 14.3. | B85: Külföldi értékpapírok kibocsátása | F85: =D85+E85 -> 0 | G85: =C85+F85 -> 0
A86: 14.4. | B86: Külföldi hitelek, kölcsönök felvétele | F86: =D86+E86 -> 0 | G86: =C86+F86 -> 0
A87: 15. | B87: Váltóbevételek | F87: =D87+E87 -> 0 | G87: =C87+F87 -> 0
A88: 16. | B88: Adóssághoz nem kapcsolódó származékos ügyletek bevételei | F88: =D88+E88 -> 0 | G88: =C88+F88 -> 0
A89: 17. | B89: FINANSZÍROZÁSI BEVÉTELEK ÖSSZESEN: (10. + … +16.) | C89: =+C66+C70+C75+C78+C82+C88+C87 -> 192019048 | D89: =+D66+D70+D75+D78+D82+D88+D87 -> 0 | E89: =+E66+E70+E75+E78+E82+E88+E87 -> 23774759 | F89: =+F66+F70+F75+F78+F82+F88+F87 -> 23774759 | G89: =+G66+G70+G75+G78+G82+G88+G87 -> 215793807
A90: 18. | B90: BEVÉTELEK ÖSSZESEN: (9+17) | C90: =+C65+C89 -> 806829516 | D90: =+D65+D89 -> 0 | E90: =+E65+E89 -> -42192824 | F90: =+F65+F89 -> -33197373 | G90: =+G65+G89 -> 773632143
A92: Kiadások
A93: 1. | B93: Működési költségvetés kiadásai (1.1+…+1.5+1.18.) | C93: =C94+C95+C96+C97+C98+C111 -> 156608673 | D93: =+D94+D95+D96+D97+D98+D111 -> 0 | E93: =+E94+E95+E96+E97+E98+E111 -> 39288029 | F93: =+F94+F95+F96+F97+F98+F111 -> 39288029 | G93: =+G94+G95+G96+G97+G98+G111 -> 195896702
A94: 1.1. | B94: Személyi juttatások | C94: 34247400 | E94: 5164125 | F94: =D94+E94 -> 5164125 | G94: =C94+F94 -> 39411525
A95: 1.2. | B95: Munkaadókat terhelő járulékok és szociális hozzájárulási adó | C95: 6732529 | E95: -199213 | F95: =D95+E95 -> -199213 | G95: =C95+F95 -> 6533316
A96: 1.3. | B96: Dologi kiadások | C96: 65938129 | E96: 36164919 | F96: =D96+E96 -> 36164919 | G96: =C96+F96 -> 102103048
A97: 1.4. | B97: Ellátottak pénzbeli juttatásai | C97: 10180000 | E97: -2494390 | F97: =D97+E97 -> -2494390 | G97: =C97+F97 -> 7685610
A98: 1.5 | B98: Egyéb működési célú kiadások | C98: 37010615 | E98: 3152588 | F98: =D98+E98 -> 3152588 | G98: =C98+F98 -> 40163203
A99: 1.6. | B99: az 1.5-ből: - Előző évi elszámolásból származó befizetések | E99: 26896 | F99: =D99+E99 -> 26896 | G99: =C99+F99 -> 26896
A100: 1.7. | B100: - Törvényi előíráson alapuló befizetések | F100: =D100+E100 -> 0 | G100: =C100+F100 -> 0
A101: 1.8. | B101: - Elvonások és befizetések | F101: =D101+E101 -> 0 | G101: =C101+F101 -> 0
...

Sheet 5.1.2. sz. mell 
G1: 5.1. 2.melléklet
A2: Megnevezés | B2: Sajószöged Községi Önkormányzat | G2: 01
A3: Feladat megnevezése | B3: Önként vállalt feladatok bevételei, kiadásai | G3: 01
G4: Forintban!
A5: Száma | B5: Kiemelt előirányzat, előirányzat megnevezése | C5: Eredeti előirányzat | D5: Korábbi módosítások | E5: 1. sz. módosítás | F5: Módosítások összesen | G5: 1.számú módosítás utáni előirányzat
A6: A | B6: B | C6: C | D6: D | E6: E | F6: F=(D+…+E) | G6: G=(C+F)
A7: Bevételek
A8: 1. | B8: Önkormányzat működési támogatásai (1.1.+…+.1.6.) | C8: =+C9+C10+C11+C12+C13+C14 -> 0 | D8: =+D9+D10+D11+D12+D13+D14 -> 0 | E8: =+E9+E10+E11+E12+E13+E14 -> 0 | F8: =+F9+F10+F11+F12+F13+F14 -> 0 | G8: =+G9+G10+G11+G12+G13+G14 -> 0
A9: 1.1. | B9: Helyi önkormányzatok működésének általános támogatása | F9: =D9+E9 -> 0 | G9: =C9+F9 -> 0
A10: 1.2. | B10: Önkormányzatok egyes köznevelési feladatainak támogatása | F10: =D10+E10 -> 0 | G10: =C10+F10 -> 0
A11: 1.3. | B11: Önkormányzatok szociális és gyermekjóléti feladatainak támogatása | F11: =D11+E11 -> 0 | G11: =C11+F11 -> 0
A12: 1.4. | B12: Önkormányzatok kulturális feladatainak támogatása | F12: =D12+E12 -> 0 | G12: =C12+F12 -> 0
A13: 1.5. | B13: Működési célú kvi támogatások és kiegészítő támogatások | F13: =D13+E13 -> 0 | G13: =C13+F13 -> 0
A14: 1.6. | B14: Elszámolásból származó bevételek | F14: =D14+E14 -> 0 | G14: =C14+F14 -> 0
A15: 2. | B15: Működési célú támogatások államháztartáson belülről (2.1.+…+.2.5.) | C15: =+C16+C17+C18+C19+C20 -> 0 | D15: =+D16+D17+D18+D19+D20 -> 0 | E15: =+E16+E17+E18+E19+E20 -> 0 | F15: =+F16+F17+F18+F19+F20 -> 0 | G15: =+G16+G17+G18+G19+G20 -> 0
A16: 2.1. | B16: Elvonások és befizetések bevételei | F16: =D16+E16 -> 0 | G16: =C16+F16 -> 0
A17: 2.2. | B17: Működési célú garancia- és kezességvállalásból megtérülések | F17: =D17+E17 -> 0 | G17: =C17+F17 -> 0
A18: 2.3. | B18: Működési célú visszatérítendő támogatások, kölcsönök visszatérülése | F18: =D18+E18 -> 0 | G18: =C18+F18 -> 0
A19: 2.4. | B19: Működési célú visszatérítendő támogatások, kölcsönök igénybevétele | F19: =D19+E19 -> 0 | G19: =C19+F19 -> 0
A20: 2.5. | B20: Egyéb működési célú támogatások bevételei | F20: =D20+E20 -> 0 | G20: =C20+F20 -> 0
A21: 2.6. | B21: 2.5.-ből EU-s támogatás | F21: =D21+E21 -> 0 | G21: =C21+F21 -> 0
A22: 3. | B22: Felhalmozási célú támogatások államháztartáson belülről (3.1.+…+3.5.) | C22: =+C23+C24+C25+C26+C27 -> 0 | D22: =+D23+D24+D25+D26+D27 -> 0 | E22: =+E23+E24+E25+E26+E27 -> 0 | F22: =+F23+F24+F25+F26+F27 -> 0 | G22: =+G23+G24+G25+G26+G27 -> 0
A23: 3.1. | B23: Felhalmozási célú önkormányzati támogatások | F23: =D23+E23 -> 0 | G23: =C23+F23 -> 0
A24: 3.2. | B24: Felhalmozási célú garancia- és kezességvállalásból megtérülések | F24: =D24+E24 -> 0 | G24: =C24+F24 -> 0
A25: 3.3. | B25: Felhalmozási célú visszatérítendő támogatások, kölcsönök visszatérülése | F25: =D25+E25 -> 0 | G25: =C25+F25 -> 0
A26: 3.4. | B26: Felhalmozási célú visszatérítendő támogatások, kölcsönök igénybevétele | F26: =D26+E26 -> 0 | G26: =C26+F26 -> 0
A27: 3.5. | B27: Egyéb felhalmozási célú támogatások bevételei | F27: =D27+E27 -> 0 | G27: =C27+F27 -> 0
A28: 3.6. | B28: 3.5.-ből EU-s támogatás | F28: =D28+E28 -> 0 | G28: =C28+F28 -> 0
A29: 4. | B29: Közhatalmi bevételek (4.1.+...+4.7.) | C29: =+C30+C31+C32+C33+C34+C35+C36 -> 0 | D29: =+D30+D31+D32+D33+D34+D35+D36 -> 0 | E29: =+E30+E31+E32+E33+E34+E35+E36 -> 0 | F29: =+F30+F31+F32+F33+F34+F35+F36 -> 0 | G29: =+G30+G31+G32+G33+G34+G35+G36 -> 0
A30: 4.1. | B30: Építményadó | F30: =D30+E30 -> 0 | G30: =C30+F30 -> 0
A31: 4.2. | B31: Idegenforgalmi adó | F31: =D31+E31 -> 0 | G31: =C31+F31 -> 0
A32: 4.3. | B32: Iparűzési adó | F32: =D32+E32 -> 0 | G32: =C32+F32 -> 0
A33: 4.4. | B33: Talajterhelési díj | F33: =D33+E33 -> 0 | G33: =C33+F33 -> 0
A34: 4.5. | B34: Gépjárműadó | F34: =D34+E34 -> 0 | G34: =C34+F34 -> 0
A35: 4.6. | B35: Egyéb áruhasználati és szolgáltatási adók | F35: =D35+E35 -> 0 | G35: =C35+F35 -> 0
A36: 4.7. | B36: Egyéb közhatalmi bevételek | F36: =D36+E36 -> 0 | G36: =C36+F36 -> 0
A37: 5. | B37: Működési bevételek (5.1.+…+ 5.11.) | C37: =SUM(C38:C48) -> 0 | D37: =SUM(D38:D48) -> 0 | E37: =SUM(E38:E48) -> 0 | F37: =SUM(F38:F48) -> 0 | G37: =SUM(G38:G48) -> 0
A38: 5.1. | B38: Készletértékesítés ellenértéke | F38: =D38+E38 -> 0 | G38: =C38+F38 -> 0
A39: 5.2. | B39: Szolgáltatások ellenértéke | F39: =D39+E39 -> 0 | G39: =C39+F39 -> 0
A40: 5.3. | B40: Közvetített szolgáltatások értéke | F40: =D40+E40 -> 0 | G40: =C40+F40 -> 0
A41: 5.4. | B41: Tulajdonosi bevételek | F41: =D41+E41 -> 0 | G41: =C41+F41 -> 0
A42: 5.5. | B42: Ellátási díjak | F42: =D42+E42 -> 0 | G42: =C42+F42 -> 0
A43: 5.6. | B43: Kiszámlázott általános forgalmi adó | F43: =D43+E43 -> 0 | G43: =C43+F43 -> 0
A44: 5.7. | B44: Általános forgalmi adó visszatérítése | F44: =D44+E44 -> 0 | G44: =C44+F44 -> 0
A45: 5.8. | B45: Kamatbevételek | F45: =D45+E45 -> 0 | G45: =C45+F45 -> 0
A46: 5.9. | B46: Egyéb pénzügyi műveletek bevételei | F46: =D46+E46 -> 0 | G46: =C46+F46 -> 0
A47: 5.10. | B47: Biztosító által fizetett kártérítés | F47: =D47+E47 -> 0 | G47: =C47+F47 -> 0
A48: 5.11. | B48: Egyéb működési bevételek | F48: =D48+E48 -> 0 | G48: =C48+F48 -> 0
A49: 6. | B49: Felhalmozási bevételek (6.1.+…+6.5.) | C49: =SUM(C50:C54) -> 0 | D49: =SUM(D50:D54) -> 0 | E49: =SUM(E50:E54) -> 0 | F49: =SUM(F50:F54) -> 0 | G49: =SUM(G50:G54) -> 0
A50: 6.1. | B50: Immateriális javak értékesítése | F50: =D50+E50 -> 0 | G50: =C50+F50 -> 0
A51: 6.2. | B51: Ingatlanok értékesítése | F51: =D51+E51 -> 0 | G51: =C51+F51 -> 0
A52: 6.3. | B52: Egyéb tárgyi eszközök értékesítése | F52: =D52+E52 -> 0 | G52: =C52+F52 -> 0
A53: 6.4. | B53: Részesedések értékesítése | F53: =D53+E53 -> 0 | G53: =C53+F53 -> 0
A54: 6.5. | B54: Részesedések megszűnéséhez kapcsolódó bevételek | F54: =D54+E54 -> 0 | G54: =C54+F54 -> 0
A55: 7. | B55: Működési célú átvett pénzeszközök (7.1. + … + 7.3.) | C55: =SUM(C56:C58) -> 0 | D55: =SUM(D56:D58) -> 0 | E55: =SUM(E56:E58) -> 0 | F55: =SUM(F56:F58) -> 0 | G55: =SUM(G56:G58) -> 0
A56: 7.1. | B56: Működési célú garancia- és kezességvállalásból megtérülések ÁH-n kívülről | F56: =D56+E56 -> 0 | G56: =C56+F56 -> 0
A57: 7.2. | B57: Működési célú visszatérítendő támogatások, kölcsönök visszatér. ÁH-n kívülről | F57: =D57+E57 -> 0 | G57: =C57+F57 -> 0
A58: 7.3. | B58: Egyéb működési célú átvett pénzeszköz | F58: =D58+E58 -> 0 | G58: =C58+F58 -> 0
A59: 7.4. | B59: 7.3.-ból EU-s támogatás (közvetlen) | F59: =D59+E59 -> 0 | G59: =C59+F59 -> 0
A60: 8. | B60: Felhalmozási célú átvett pénzeszközök (8.1.+8.2.+8.3.) | C60: =SUM(C61:C63) -> 0 | D60: =SUM(D61:D63) -> 0 | E60: =SUM(E61:E63) -> 0 | F60: =SUM(F61:F63) -> 0 | G60: =SUM(G61:G63) -> 0
A61: 8.1. | B61: Felhalm. célú garancia- és kezességvállalásból megtérülések ÁH-n kívülről | F61: =D61+E61 -> 0 | G61: =C61+F61 -> 0
A62: 8.2. | B62: Felhalm. célú visszatérítendő támogatások, kölcsönök visszatér. ÁH-n kívülről | F62: =D62+E62 -> 0 | G62: =C62+F62 -> 0
A63: 8.3. | B63: Egyéb felhalmozási célú átvett pénzeszköz | F63: =D63+E63 -> 0 | G63: =C63+F63 -> 0
A64: 8.4. | B64: 8.3.-ból EU-s támogatás (közvetlen) | F64: =D64+E64 -> 0 | G64: =C64+F64 -> 0
A65: 9. | B65: KÖLTSÉGVETÉSI BEVÉTELEK ÖSSZESEN: (1+…+8) | C65: =+C8+C15+C22+C29+C37+C49+C55+C60 -> 0 | D65: =+D8+D15+D22+D29+D37+D49+D55+D60 -> 0 | E65: =+E8+E15+E22+E29+E37+E49+E55+E60 -> 0 | F65: =+F8+F15+F22+F29+F37+F49+F55+F60 -> 0 | G65: =+G8+G15+G22+G29+G37+G49+G55+G60 -> 0
A66: 10. | B66: Hitel-, kölcsönfelvétel államháztartáson kívülről (10.1.+10.3.) | C66: =SUM(C67:C69) -> 0 | D66: =SUM(D67:D69) -> 0 | E66: =SUM(E67:E69) -> 0 | F66: =SUM(F67:F69) -> 0 | G66: =SUM(G67:G69) -> 0
A67: 10.1. | B67: Hosszú lejáratú hitelek, kölcsönök felvétele | F67: =D67+E67 -> 0 | G67: =C67+F67 -> 0
A68: 10.2. | B68: Likviditási célú hitelek, kölcsönök felvétele pénzügyi vállalkozástól | F68: =D68+E68 -> 0 | G68: =C68+F68 -> 0
A69: 10.3. | B69: Rövid lejáratú hitelek, kölcsönök felvétele | F69: =D69+E69 -> 0 | G69: =C69+F69 -> 0
A70: 11. | B70: Belföldi értékpapírok bevételei (11.1. +…+ 11.4.) | C70: =SUM(C71:C74) -> 0 | D70: =SUM(D71:D74) -> 0 | E70: =SUM(E71:E74) -> 0 | F70: =SUM(F71:F74) -> 0 | G70: =SUM(G71:G74) -> 0
A71: 11.1. | B71: Forgatási célú belföldi értékpapírok beváltása, értékesítése | F71: =D71+E71 -> 0 | G71: =C71+F71 -> 0
A72: 11.2. | B72: Éven belüli lejáratú belföldi értékpapírok kibocsátása | F72: =D72+E72 -> 0 | G72: =C72+F72 -> 0
A73: 11.3. | B73: Befektetési célú belföldi értékpapírok beváltása, értékesítése | F73: =D73+E73 -> 0 | G73: =C73+F73 -> 0
A74: 11.4. | B74: Éven túli lejáratú belföldi értékpapírok kibocsátása | F74: =D74+E74 -> 0 | G74: =C74+F74 -> 0
A75: 12. | B75: Maradvány igénybevétele (12.1. + 12.2.) | C75: =SUM(C76:C77) -> 0 | D75: =SUM(D76:D77) -> 0 | E75: =SUM(E76:E77) -> 0 | F75: =SUM(F76:F77) -> 0 | G75: =SUM(G76:G77) -> 0
A76: 12.1. | B76: Előző év költségvetési maradványának igénybevétele | F76: =D76+E76 -> 0 | G76: =C76+F76 -> 0
A77: 12.2. | B77: Előző év vállalkozási maradványának igénybevétele | F77: =D77+E77 -> 0 | G77: =C77+F77 -> 0
A78: 13. | B78: Belföldi finanszírozás bevételei (13.1. + … + 13.3.) | C78: =SUM(C79:C81) -> 0 | D78: =SUM(D79:D81) -> 0 | E78: =SUM(E79:E81) -> 0 | F78: =SUM(F79:F81) -> 0 | G78: =SUM(G79:G81) -> 0
A79: 13.1. | B79: Államháztartáson belüli megelőlegezések | F79: =D79+E79 -> 0 | G79: =C79+F79 -> 0
A80: 13.2. | B80: Államháztartáson belüli megelőlegezések törlesztése | F80: =D80+E80 -> 0 | G80: =C80+F80 -> 0
A81: 13.3. | B81: Lejötött betétek megszüntetése | F81: =D81+E81 -> 0 | G81: =C81+F81 -> 0
A82: 14. | B82: Külföldi finanszírozás bevételei (14.1.+…14.4.) | C82: =SUM(C83:C86) -> 0 | D82: =SUM(D83:D86) -> 0 | E82: =SUM(E83:E86) -> 0 | F82: =SUM(F83:F86) -> 0 | G82: =SUM(G83:G86) -> 0
A83: 14.1. | B83: Forgatási célú külföldi értékpapírok beváltása, értékesítése | F83: =D83+E83 -> 0 | G83: =C83+F83 -> 0
A84: 14.2. | B84: Befektetési célú külföldi értékpapírok beváltása, értékesítése | F84: =D84+E84 -> 0 | G84: =C84+F84 -> 0
A85: 14.3. | B85: Külföldi értékpapírok kibocsátása | F85: =D85+E85 -> 0 | G85: =C85+F85 -> 0
A86: 14.4. | B86: Külföldi hitelek, kölcsönök felvétele | F86: =D86+E86 -> 0 | G86: =C86+F86 -> 0
A87: 15. | B87: Váltóbevételek | F87: =D87+E87 -> 0 | G87: =C87+F87 -> 0
A88: 16. | B88: Adóssághoz nem kapcsolódó származékos ügyletek bevételei | F88: =D88+E88 -> 0 | G88: =C88+F88 -> 0
A89: 17. | B89: FINANSZÍROZÁSI BEVÉTELEK ÖSSZESEN: (10. + … +16.) | C89: =+C66+C70+C75+C78+C82+C88+C87 -> 0 | D89: =+D66+D70+D75+D78+D82+D88+D87 -> 0 | E89: =+E66+E70+E75+E78+E82+E88+E87 -> 0 | F89: =+F66+F70+F75+F78+F82+F88+F87 -> 0 | G89: =+G66+G70+G75+G78+G82+G88+G87 -> 0
A90: 18. | B90: BEVÉTELEK ÖSSZESEN: (9+17) | C90: =+C65+C89 -> 0 | D90: =+D65+D89 -> 0 | E90: =+E65+E89 -> 0 | F90: =+F65+F89 -> 0 | G90: =+G65+G89 -> 0
A92: Kiadások
A93: 1. | B93: Működési költségvetés kiadásai (1.1+…+1.5+1.18.) | C93: =+C94+C95+C96+C97+C98+C111 -> 0 | D93: =+D94+D95+D96+D97+D98+D111 -> 0 | E93: =+E94+E95+E96+E97+E98+E111 -> 0 | F93: =+F94+F95+F96+F97+F98+F111 -> 0 | G93: =+G94+G95+G96+G97+G98+G111 -> 0
A94: 1.1. | B94: Személyi juttatások | F94: =D94+E94 -> 0 | G94: =C94+F94 -> 0
A95: 1.2. | B95: Munkaadókat terhelő járulékok és szociális hozzájárulási adó | F95: =D95+E95 -> 0 | G95: =C95+F95 -> 0
A96: 1.3. | B96: Dologi kiadások | F96: =D96+E96 -> 0 | G96: =C96+F96 -> 0
A97: 1.4. | B97: Ellátottak pénzbeli juttatásai | F97: =D97+E97 -> 0 | G97: =C97+F97 -> 0
A98: 1.5 | B98: Egyéb működési célú kiadások | F98: =D98+E98 -> 0 | G98: =C98+F98 -> 0
A99: 1.6. | B99: az 1.5-ből: - Előző évi elszámolásból származó befizetések | F99: =D99+E99 -> 0 | G99: =C99+F99 -> 0
A100: 1.7. | B100: - Törvényi előíráson alapuló befizetések | F100: =D100+E100 -> 0 | G100: =C100+F100 -> 0
A101: 1.8. | B101: - Elvonások és befizetések | F101: =D101+E101 -> 0 | G101: =C101+F101 -> 0
...

Sheet 5.1.3. sz. mell 
G1: 5.1. 3.melléklet
A2: Megnevezés | B2: Sajószöged Községi Önkormányzat | G2: 01
A3: Feladat megnevezése | B3: Államigazgatási feladatok bevételei, kiadásai | G3: 01
G4: Forintban!
A5: Száma | B5: Kiemelt előirányzat, előirányzat megnevezése | C5: Eredeti előirányzat | D5: Korábbi módosítások | E5: 1. sz. módosítás | F5: Módosítások összesen | G5: 1.számú módosítás utáni előirányzat
A6: A | B6: B | C6: C | D6: D | E6: E | F6: F=(D+…+E) | G6: G=(C+F)
A7: Bevételek
A8: 1. | B8: Önkormányzat működési támogatásai (1.1.+…+.1.6.) | C8: =+C9+C10+C11+C12+C13+C14 -> 0 | D8: =+D9+D10+D11+D12+D13+D14 -> 0 | E8: =+E9+E10+E11+E12+E13+E14 -> 0 | F8: =+F9+F10+F11+F12+F13+F14 -> 0 | G8: =+G9+G10+G11+G12+G13+G14 -> 0
A9: 1.1. | B9: Helyi önkormányzatok működésének általános támogatása | F9: =D9+E9 -> 0 | G9: =C9+F9 -> 0
A10: 1.2. | B10: Önkormányzatok egyes köznevelési feladatainak támogatása | F10: =D10+E10 -> 0 | G10: =C10+F10 -> 0
A11: 1.3. | B11: Önkormányzatok szociális és gyermekjóléti feladatainak támogatása | F11: =D11+E11 -> 0 | G11: =C11+F11 -> 0
A12: 1.4. | B12: Önkormányzatok kulturális feladatainak támogatása | F12: =D12+E12 -> 0 | G12: =C12+F12 -> 0
A13: 1.5. | B13: Működési célú kvi támogatások és kiegészítő támogatások | F13: =D13+E13 -> 0 | G13: =C13+F13 -> 0
A14: 1.6. | B14: Elszámolásból származó bevételek | F14: =D14+E14 -> 0 | G14: =C14+F14 -> 0
A15: 2. | B15: Működési célú támogatások államháztartáson belülről (2.1.+…+.2.5.) | C15: =+C16+C17+C18+C19+C20 -> 0 | D15: =+D16+D17+D18+D19+D20 -> 0 | E15: =+E16+E17+E18+E19+E20 -> 0 | F15: =+F16+F17+F18+F19+F20 -> 0 | G15: =+G16+G17+G18+G19+G20 -> 0
A16: 2.1. | B16: Elvonások és befizetések bevételei | F16: =D16+E16 -> 0 | G16: =C16+F16 -> 0
A17: 2.2. | B17: Működési célú garancia- és kezességvállalásból megtérülések | F17: =D17+E17 -> 0 | G17: =C17+F17 -> 0
A18: 2.3. | B18: Működési célú visszatérítendő támogatások, kölcsönök visszatérülése | F18: =D18+E18 -> 0 | G18: =C18+F18 -> 0
A19: 2.4. | B19: Működési célú visszatérítendő támogatások, kölcsönök igénybevétele | F19: =D19+E19 -> 0 | G19: =C19+F19 -> 0
A20: 2.5. | B20: Egyéb működési célú támogatások bevételei | F20: =D20+E20 -> 0 | G20: =C20+F20 -> 0
A21: 2.6. | B21: 2.5.-ből EU-s támogatás | F21: =D21+E21 -> 0 | G21: =C21+F21 -> 0
A22: 3. | B22: Felhalmozási célú támogatások államháztartáson belülről (3.1.+…+3.5.) | C22: =+C23+C24+C25+C26+C27 -> 0 | D22: =+D23+D24+D25+D26+D27 -> 0 | E22: =+E23+E24+E25+E26+E27 -> 0 | F22: =+F23+F24+F25+F26+F27 -> 0 | G22: =+G23+G24+G25+G26+G27 -> 0
A23: 3.1. | B23: Felhalmozási célú önkormányzati támogatások | F23: =D23+E23 -> 0 | G23: =C23+F23 -> 0
A24: 3.2. | B24: Felhalmozási célú garancia- és kezességvállalásból megtérülések | F24: =D24+E24 -> 0 | G24: =C24+F24 -> 0
A25: 3.3. | B25: Felhalmozási célú visszatérítendő támogatások, kölcsönök visszatérülése | F25: =D25+E25 -> 0 | G25: =C25+F25 -> 0
A26: 3.4. | B26: Felhalmozási célú visszatérítendő támogatások, kölcsönök igénybevétele | F26: =D26+E26 -> 0 | G26: =C26+F26 -> 0
A27: 3.5. | B27: Egyéb felhalmozási célú támogatások bevételei | F27: =D27+E27 -> 0 | G27: =C27+F27 -> 0
A28: 3.6. | B28: 3.5.-ből EU-s támogatás | F28: =D28+E28 -> 0 | G28: =C28+F28 -> 0
A29: 4. | B29: Közhatalmi bevételek (4.1.+...+4.7.) | C29: =+C30+C31+C32+C33+C34+C35+C36 -> 0 | D29: =+D30+D31+D32+D33+D34+D35+D36 -> 0 | E29: =+E30+E31+E32+E33+E34+E35+E36 -> 0 | F29: =+F30+F31+F32+F33+F34+F35+F36 -> 0 | G29: =+G30+G31+G32+G33+G34+G35+G36 -> 0
A30: 4.1. | B30: Építményadó | F30: =D30+E30 -> 0 | G30: =C30+F30 -> 0
A31: 4.2. | B31: Idegenforgalmi adó | F31: =D31+E31 -> 0 | G31: =C31+F31 -> 0
A32: 4.3. | B32: Iparűzési adó | F32: =D32+E32 -> 0 | G32: =C32+F32 -> 0
A33: 4.4. | B33: Talajterhelési díj | F33: =D33+E33 -> 0 | G33: =C33+F33 -> 0
A34: 4.5. | B34: Gépjárműadó | F34: =D34+E34 -> 0 | G34: =C34+F34 -> 0
A35: 4.6. | B35: Egyéb áruhasználati és szolgáltatási adók | F35: =D35+E35 -> 0 | G35: =C35+F35 -> 0
A36: 4.7. | B36: Egyéb közhatalmi bevételek | F36: =D36+E36 -> 0 | G36: =C36+F36 -> 0
A37: 5. | B37: Működési bevételek (5.1.+…+ 5.11.) | C37: =SUM(C38:C48) -> 0 | D37: =SUM(D38:D48) -> 0 | E37: =SUM(E38:E48) -> 0 | F37: =SUM(F38:F48) -> 0 | G37: =SUM(G38:G48) -> 0
A38: 5.1. | B38: Készletértékesítés ellenértéke | F38: =D38+E38 -> 0 | G38: =C38+F38 -> 0
A39: 5.2. | B39: Szolgáltatások ellenértéke | F39: =D39+E39 -> 0 | G39: =C39+F39 -> 0
A40: 5.3. | B40: Közvetített szolgáltatások értéke | F40: =D40+E40 -> 0 | G40: =C40+F40 -> 0
A41: 5.4. | B41: Tulajdonosi bevételek | F41: =D41+E41 -> 0 | G41: =C41+F41 -> 0
A42: 5.5. | B42: Ellátási díjak | F42: =D42+E42 -> 0 | G42: =C42+F42 -> 0
A43: 5.6. | B43: Kiszámlázott általános forgalmi adó | F43: =D43+E43 -> 0 | G43: =C43+F43 -> 0
A44: 5.7. | B44: Általános forgalmi adó visszatérítése | F44: =D44+E44 -> 0 | G44: =C44+F44 -> 0
A45: 5.8. | B45: Kamatbevételek | F45: =D45+E45 -> 0 | G45: =C45+F45 -> 0
A46: 5.9. | B46: Egyéb pénzügyi műveletek bevételei | F46: =D46+E46 -> 0 | G46: =C46+F46 -> 0
A47: 5.10. | B47: Biztosító által fizetett kártérítés | F47: =D47+E47 -> 0 | G47: =C47+F47 -> 0
A48: 5.11. | B48: Egyéb működési bevételek | F48: =D48+E48 -> 0 | G48: =C48+F48 -> 0
A49: 6. | B49: Felhalmozási bevételek (6.1.+…+6.5.) | C49: =SUM(C50:C54) -> 0 | D49: =SUM(D50:D54) -> 0 | E49: =SUM(E50:E54) -> 0 | F49: =SUM(F50:F54) -> 0 | G49: =SUM(G50:G54) -> 0
A50: 6.1. | B50: Immateriális javak értékesítése | F50: =D50+E50 -> 0 | G50: =C50+F50 -> 0
A51: 6.2. | B51: Ingatlanok értékesítése | F51: =D51+E51 -> 0 | G51: =C51+F51 -> 0
A52: 6.3. | B52: Egyéb tárgyi eszközök értékesítése | F52: =D52+E52 -> 0 | G52: =C52+F52 -> 0
A53: 6.4. | B53: Részesedések értékesítése | F53: =D53+E53 -> 0 | G53: =C53+F53 -> 0
A54: 6.5. | B54: Részesedések megszűnéséhez kapcsolódó bevételek | F54: =D54+E54 -> 0 | G54: =C54+F54 -> 0
A55: 7. | B55: Működési célú átvett pénzeszközök (7.1. + … + 7.3.) | C55: =SUM(C56:C58) -> 0 | D55: =SUM(D56:D58) -> 0 | E55: =SUM(E56:E58) -> 0 | F55: =SUM(F56:F58) -> 0 | G55: =SUM(G56:G58) -> 0
A56: 7.1. | B56: Működési célú garancia- és kezességvállalásból megtérülések ÁH-n kívülről | F56: =D56+E56 -> 0 | G56: =C56+F56 -> 0
A57: 7.2. | B57: Működési célú visszatérítendő támogatások, kölcsönök visszatér. ÁH-n kívülről | F57: =D57+E57 -> 0 | G57: =C57+F57 -> 0
A58: 7.3. | B58: Egyéb működési célú átvett pénzeszköz | F58: =D58+E58 -> 0 | G58: =C58+F58 -> 0
A59: 7.4. | B59: 7.3.-ból EU-s támogatás (közvetlen) | F59: =D59+E59 -> 0 | G59: =C59+F59 -> 0
A60: 8. | B60: Felhalmozási célú átvett pénzeszközök (8.1.+8.2.+8.3.) | C60: =SUM(C61:C63) -> 0 | D60: =SUM(D61:D63) -> 0 | E60: =SUM(E61:E63) -> 0 | F60: =SUM(F61:F63) -> 0 | G60: =SUM(G61:G63) -> 0
A61: 8.1. | B61: Felhalm. célú garancia- és kezességvállalásból megtérülések ÁH-n kívülről | F61: =D61+E61 -> 0 | G61: =C61+F61 -> 0
A62: 8.2. | B62: Felhalm. célú visszatérítendő támogatások, kölcsönök visszatér. ÁH-n kívülről | F62: =D62+E62 -> 0 | G62: =C62+F62 -> 0
A63: 8.3. | B63: Egyéb felhalmozási célú átvett pénzeszköz | F63: =D63+E63 -> 0 | G63: =C63+F63 -> 0
A64: 8.4. | B64: 8.3.-ból EU-s támogatás (közvetlen) | F64: =D64+E64 -> 0 | G64: =C64+F64 -> 0
A65: 9. | B65: KÖLTSÉGVETÉSI BEVÉTELEK ÖSSZESEN: (1+…+8) | C65: =+C8+C15+C22+C29+C37+C49+C55+C60 -> 0 | D65: =+D8+D15+D22+D29+D37+D49+D55+D60 -> 0 | E65: =+E8+E15+E22+E29+E37+E49+E55+E60 -> 0 | F65: =+F8+F15+F22+F29+F37+F49+F55+F60 -> 0 | G65: =+G8+G15+G22+G29+G37+G49+G55+G60 -> 0
A66: 10. | B66: Hitel-, kölcsönfelvétel államháztartáson kívülről (10.1.+10.3.) | C66: =SUM(C67:C69) -> 0 | D66: =SUM(D67:D69) -> 0 | E66: =SUM(E67:E69) -> 0 | F66: =SUM(F67:F69) -> 0 | G66: =SUM(G67:G69) -> 0
A67: 10.1. | B67: Hosszú lejáratú hitelek, kölcsönök felvétele | F67: =D67+E67 -> 0 | G67: =C67+F67 -> 0
A68: 10.2. | B68: Likviditási célú hitelek, kölcsönök felvétele pénzügyi vállalkozástól | F68: =D68+E68 -> 0 | G68: =C68+F68 -> 0
A69: 10.3. | B69: Rövid lejáratú hitelek, kölcsönök felvétele | F69: =D69+E69 -> 0 | G69: =C69+F69 -> 0
A70: 11. | B70: Belföldi értékpapírok bevételei (11.1. +…+ 11.4.) | C70: =SUM(C71:C74) -> 0 | D70: =SUM(D71:D74) -> 0 | E70: =SUM(E71:E74) -> 0 | F70: =SUM(F71:F74) -> 0 | G70: =SUM(G71:G74) -> 0
A71: 11.1. | B71: Forgatási célú belföldi értékpapírok beváltása, értékesítése | F71: =D71+E71 -> 0 | G71: =C71+F71 -> 0
A72: 11.2. | B72: Éven belüli lejáratú belföldi értékpapírok kibocsátása | F72: =D72+E72 -> 0 | G72: =C72+F72 -> 0
A73: 11.3. | B73: Befektetési célú belföldi értékpapírok beváltása, értékesítése | F73: =D73+E73 -> 0 | G73: =C73+F73 -> 0
A74: 11.4. | B74: Éven túli lejáratú belföldi értékpapírok kibocsátása | F74: =D74+E74 -> 0 | G74: =C74+F74 -> 0
A75: 12. | B75: Maradvány igénybevétele (12.1. + 12.2.) | C75: =SUM(C76:C77) -> 0 | D75: =SUM(D76:D77) -> 0 | E75: =SUM(E76:E77) -> 0 | F75: =SUM(F76:F77) -> 0 | G75: =SUM(G76:G77) -> 0
A76: 12.1. | B76: Előző év költségvetési maradványának igénybevétele | F76: =D76+E76 -> 0 | G76: =C76+F76 -> 0
A77: 12.2. | B77: Előző év vállalkozási maradványának igénybevétele | F77: =D77+E77 -> 0 | G77: =C77+F77 -> 0
A78: 13. | B78: Belföldi finanszírozás bevételei (13.1. + … + 13.3.) | C78: =SUM(C79:C81) -> 0 | D78: =SUM(D79:D81) -> 0 | E78: =SUM(E79:E81) -> 0 | F78: =SUM(F79:F81) -> 0 | G78: =SUM(G79:G81) -> 0
A79: 13.1. | B79: Államháztartáson belüli megelőlegezések | F79: =D79+E79 -> 0 | G79: =C79+F79 -> 0
A80: 13.2. | B80: Államháztartáson belüli megelőlegezések törlesztése | F80: =D80+E80 -> 0 | G80: =C80+F80 -> 0
A81: 13.3. | B81: Lejötött betétek megszüntetése | F81: =D81+E81 -> 0 | G81: =C81+F81 -> 0
A82: 14. | B82: Külföldi finanszírozás bevételei (14.1.+…14.4.) | C82: =SUM(C83:C86) -> 0 | D82: =SUM(D83:D86) -> 0 | E82: =SUM(E83:E86) -> 0 | F82: =SUM(F83:F86) -> 0 | G82: =SUM(G83:G86) -> 0
A83: 14.1. | B83: Forgatási célú külföldi értékpapírok beváltása, értékesítése | F83: =D83+E83 -> 0 | G83: =C83+F83 -> 0
A84: 14.2. | B84: Befektetési célú külföldi értékpapírok beváltása, értékesítése | F84: =D84+E84 -> 0 | G84: =C84+F84 -> 0
A85: 14.3. | B85: Külföldi értékpapírok kibocsátása | F85: =D85+E85 -> 0 | G85: =C85+F85 -> 0
A86: 14.4. | B86: Külföldi hitelek, kölcsönök felvétele | F86: =D86+E86 -> 0 | G86: =C86+F86 -> 0
A87: 15. | B87: Váltóbevételek | F87: =D87+E87 -> 0 | G87: =C87+F87 -> 0
A88: 16. | B88: Adóssághoz nem kapcsolódó származékos ügyletek bevételei | F88: =D88+E88 -> 0 | G88: =C88+F88 -> 0
A89: 17. | B89: FINANSZÍROZÁSI BEVÉTELEK ÖSSZESEN: (10. + … +16.) | C89: =+C66+C70+C75+C78+C82+C88+C87 -> 0 | D89: =+D66+D70+D75+D78+D82+D88+D87 -> 0 | E89: =+E66+E70+E75+E78+E82+E88+E87 -> 0 | F89: =+F66+F70+F75+F78+F82+F88+F87 -> 0 | G89: =+G66+G70+G75+G78+G82+G88+G87 -> 0
A90: 18. | B90: BEVÉTELEK ÖSSZESEN: (9+17) | C90: =+C65+C89 -> 0 | D90: =+D65+D89 -> 0 | E90: =+E65+E89 -> 0 | F90: =+F65+F89 -> 0 | G90: =+G65+G89 -> 0
A92: Kiadások
A93: 1. | B93: Működési költségvetés kiadásai (1.1+…+1.5+1.18.) | C93: =+C94+C95+C96+C97+C98+C111 -> 0 | D93: =+D94+D95+D96+D97+D98+D111 -> 0 | E93: =+E94+E95+E96+E97+E98+E111 -> 0 | F93: =+F94+F95+F96+F97+F98+F111 -> 0 | G93: =+G94+G95+G96+G97+G98+G111 -> 0
A94: 1.1. | B94: Személyi juttatások | F94: =D94+E94 -> 0 | G94: =C94+F94 -> 0
A95: 1.2. | B95: Munkaadókat terhelő járulékok és szociális hozzájárulási adó | F95: =D95+E95 -> 0 | G95: =C95+F95 -> 0
A96: 1.3. | B96: Dologi kiadások | F96: =D96+E96 -> 0 | G96: =C96+F96 -> 0
A97: 1.4. | B97: Ellátottak pénzbeli juttatásai | F97: =D97+E97 -> 0 | G97: =C97+F97 -> 0
A98: 1.5 | B98: Egyéb működési célú kiadások | F98: =D98+E98 -> 0 | G98: =C98+F98 -> 0
A99: 1.6. | B99: az 1.5-ből: - Előző évi elszámolásból származó befizetések | F99: =D99+E99 -> 0 | G99: =C99+F99 -> 0
A100: 1.7. | B100: - Törvényi előíráson alapuló befizetések | F100: =D100+E100 -> 0 | G100: =C100+F100 -> 0
A101: 1.8. | B101: - Elvonások és befizetések | F101: =D101+E101 -> 0 | G101: =C101+F101 -> 0
...

Sheet 5.2. sz. mell 
G1: 5.2. melléklet
A2: Megnevezés | B2: Sajószögedi Polgármesteri Hivatal | G2: 02
A3: Feladat megnevezése | B3: Összes bevétel, kiadás | G3: 01
G4: Forintban!
A5: Száma | B5: Kiemelt előirányzat, előirányzat megnevezése | C5: Eredeti előirányzat | D5: Korábbi módosítások | E5: 1. sz. módosítás | F5: Módosítások összesen | G5: 1.számú módosítás utáni előirányzat
A6: A | B6: B | C6: C | D6: D | E6: E | F6: F=(D+…+E) | G6: G=(C+F)
A7: Bevételek
A8: 1. | B8: Önkormányzat működési támogatásai (1.1.+…+.1.6.) | C8: =+C9+C10+C11+C12+C13+C14 -> 0 | D8: =+D9+D10+D11+D12+D13+D14 -> 0 | E8: =+E9+E10+E11+E12+E13+E14 -> 0 | F8: =+F9+F10+F11+F12+F13+F14 -> 0 | G8: =+G9+G10+G11+G12+G13+G14 -> 0
A9: 1.1. | B9: Helyi önkormányzatok működésének általános támogatása | F9: =D9+E9 -> 0 | G9: =C9+F9 -> 0
A10: 1.2. | B10: Önkormányzatok egyes köznevelési feladatainak támogatása | F10: =D10+E10 -> 0 | G10: =C10+F10 -> 0
A11: 1.3. | B11: Önkormányzatok szociális és gyermekjóléti feladatainak támogatása | F11: =D11+E11 -> 0 | G11: =C11+F11 -> 0
A12: 1.4. | B12: Önkormányzatok kulturális feladatainak támogatása | F12: =D12+E12 -> 0 | G12: =C12+F12 -> 0
A13: 1.5. | B13: Működési célú kvi támogatások és kiegészítő támogatások | F13: =D13+E13 -> 0 | G13: =C13+F13 -> 0
A14: 1.6. | B14: Elszámolásból származó bevételek | F14: =D14+E14 -> 0 | G14: =C14+F14 -> 0
A15: 2. | B15: Működési célú támogatások államháztartáson belülről (2.1.+…+.2.5.) | C15: =+C16+C17+C18+C19+C20 -> 0 | D15: =+D16+D17+D18+D19+D20 -> 0 | E15: =+E16+E17+E18+E19+E20 -> 788521 | F15: =+F16+F17+F18+F19+F20 -> 788521 | G15: =+G16+G17+G18+G19+G20 -> 788521
A16: 2.1. | B16: Elvonások és befizetések bevételei | F16: =D16+E16 -> 0 | G16: =C16+F16 -> 0
A17: 2.2. | B17: Működési célú garancia- és kezességvállalásból megtérülések | F17: =D17+E17 -> 0 | G17: =C17+F17 -> 0
A18: 2.3. | B18: Működési célú visszatérítendő támogatások, kölcsönök visszatérülése | F18: =D18+E18 -> 0 | G18: =C18+F18 -> 0
A19: 2.4. | B19: Működési célú visszatérítendő támogatások, kölcsönök igénybevétele | F19: =D19+E19 -> 0 | G19: =C19+F19 -> 0
A20: 2.5. | B20: Egyéb működési célú támogatások bevételei | E20: 788521 | F20: =D20+E20 -> 788521 | G20: =C20+F20 -> 788521
A21: 2.6. | B21: 2.5.-ből EU-s támogatás | F21: =D21+E21 -> 0 | G21: =C21+F21 -> 0
A22: 3. | B22: Felhalmozási célú támogatások államháztartáson belülről (3.1.+…+3.5.) | C22: =+C23+C24+C25+C26+C27 -> 0 | D22: =+D23+D24+D25+D26+D27 -> 0 | E22: =+E23+E24+E25+E26+E27 -> 0 | F22: =+F23+F24+F25+F26+F27 -> 0 | G22: =+G23+G24+G25+G26+G27 -> 0
A23: 3.1. | B23: Felhalmozási célú önkormányzati támogatások | F23: =D23+E23 -> 0 | G23: =C23+F23 -> 0
A24: 3.2. | B24: Felhalmozási célú garancia- és kezességvállalásból megtérülések | F24: =D24+E24 -> 0 | G24: =C24+F24 -> 0
A25: 3.3. | B25: Felhalmozási célú visszatérítendő támogatások, kölcsönök visszatérülése | F25: =D25+E25 -> 0 | G25: =C25+F25 -> 0
A26: 3.4. | B26: Felhalmozási célú visszatérítendő támogatások, kölcsönök igénybevétele | F26: =D26+E26 -> 0 | G26: =C26+F26 -> 0
A27: 3.5. | B27: Egyéb felhalmozási célú támogatások bevételei | F27: =D27+E27 -> 0 | G27: =C27+F27 -> 0
A28: 3.6. | B28: 3.5.-ből EU-s támogatás | F28: =D28+E28 -> 0 | G28: =C28+F28 -> 0
A29: 4. | B29: Közhatalmi bevételek (4.1.+...+4.7.) | C29: 20000 | D29: =+D30+D31+D32+D33+D34+D35+D36 -> 0 | E29: 53000 | F29: 53000 | G29: 73000
A30: 4.1. | B30: Építményadó | F30: =D30+E30 -> 0 | G30: =C30+F30 -> 0
A31: 4.2. | B31: Idegenforgalmi adó | F31: =D31+E31 -> 0 | G31: =C31+F31 -> 0
A32: 4.3. | B32: Iparűzési adó | F32: =D32+E32 -> 0 | G32: =C32+F32 -> 0
A33: 4.4. | B33: Talajterhelési díj | F33: =D33+E33 -> 0 | G33: =C33+F33 -> 0
A34: 4.5. | B34: Gépjárműadó | F34: =D34+E34 -> 0 | G34: =C34+F34 -> 0
A35: 4.6. | B35: Egyéb áruhasználati és szolgáltatási adók | F35: =D35+E35 -> 0 | G35: =C35+F35 -> 0
A36: 4.7. | B36: Egyéb közhatalmi bevételek | C36: 20000 | E36: 53000 | F36: =D36+E36 -> 53000 | G36: =C36+F36 -> 73000
A37: 5. | B37: Működési bevételek (5.1.+…+ 5.11.) | C37: =SUM(C38:C48) -> 0 | D37: =SUM(D38:D48) -> 0 | E37: =SUM(E38:E48) -> 119454 | F37: =SUM(F38:F48) -> 119454 | G37: =SUM(G38:G48) -> 119454
A38: 5.1. | B38: Készletértékesítés ellenértéke | F38: =D38+E38 -> 0 | G38: =C38+F38 -> 0
A39: 5.2. | B39: Szolgáltatások ellenértéke | F39: =D39+E39 -> 0 | G39: =C39+F39 -> 0
A40: 5.3. | B40: Közvetített szolgáltatások értéke | F40: =D40+E40 -> 0 | G40: =C40+F40 -> 0
A41: 5.4. | B41: Tulajdonosi bevételek | F41: =D41+E41 -> 0 | G41: =C41+F41 -> 0
A42: 5.5. | B42: Ellátási díjak | F42: =D42+E42 -> 0 | G42: =C42+F42 -> 0
A43: 5.6. | B43: Kiszámlázott általános forgalmi adó | F43: =D43+E43 -> 0 | G43: =C43+F43 -> 0
A44: 5.7. | B44: Általános forgalmi adó visszatérítése | F44: =D44+E44 -> 0 | G44: =C44+F44 -> 0
A45: 5.8. | B45: Kamatbevételek | F45: =D45+E45 -> 0 | G45: =C45+F45 -> 0
A46: 5.9. | B46: Egyéb pénzügyi műveletek bevételei | F46: =D46+E46 -> 0 | G46: =C46+F46 -> 0
A47: 5.10. | B47: Biztosító által fizetett kártérítés | F47: =D47+E47 -> 0 | G47: =C47+F47 -> 0
A48: 5.11. | B48: Egyéb működési bevételek | E48: 119454 | F48: =D48+E48 -> 119454 | G48: =C48+F48 -> 119454
A49: 6. | B49: Felhalmozási bevételek (6.1.+…+6.5.) | C49: =SUM(C50:C54) -> 0 | D49: =SUM(D50:D54) -> 0 | E49: =SUM(E50:E54) -> 0 | F49: =SUM(F50:F54) -> 0 | G49: =SUM(G50:G54) -> 0
A50: 6.1. | B50: Immateriális javak értékesítése | F50: =D50+E50 -> 0 | G50: =C50+F50 -> 0
A51: 6.2. | B51: Ingatlanok értékesítése | F51: =D51+E51 -> 0 | G51: =C51+F51 -> 0
A52: 6.3. | B52: Egyéb tárgyi eszközök értékesítése | F52: =D52+E52 -> 0 | G52: =C52+F52 -> 0
A53: 6.4. | B53: Részesedések értékesítése | F53: =D53+E53 -> 0 | G53: =C53+F53 -> 0
A54: 6.5. | B54: Részesedések megszűnéséhez kapcsolódó bevételek | F54: =D54+E54 -> 0 | G54: =C54+F54 -> 0
A55: 7. | B55: Működési célú átvett pénzeszközök (7.1. + … + 7.3.) | C55: =SUM(C56:C58) -> 0 | D55: =SUM(D56:D58) -> 0 | E55: =SUM(E56:E58) -> 0 | F55: =SUM(F56:F58) -> 0 | G55: =SUM(G56:G58) -> 0
A56: 7.1. | B56: Működési célú garancia- és kezességvállalásból megtérülések ÁH-n kívülről | F56: =D56+E56 -> 0 | G56: =C56+F56 -> 0
A57: 7.2. | B57: Működési célú visszatérítendő támogatások, kölcsönök visszatér. ÁH-n kívülről | F57: =D57+E57 -> 0 | G57: =C57+F57 -> 0
A58: 7.3. | B58: Egyéb működési célú átvett pénzeszköz | F58: =D58+E58 -> 0 | G58: =C58+F58 -> 0
A59: 7.4. | B59: 7.3.-ból EU-s támogatás (közvetlen) | F59: =D59+E59 -> 0 | G59: =C59+F59 -> 0
A60: 8. | B60: Felhalmozási célú átvett pénzeszközök (8.1.+8.2.+8.3.) | C60: =SUM(C61:C63) -> 0 | D60: =SUM(D61:D63) -> 0 | E60: =SUM(E61:E63) -> 0 | F60: =SUM(F61:F63) -> 0 | G60: =SUM(G61:G63) -> 0
A61: 8.1. | B61: Felhalm. célú garancia- és kezességvállalásból megtérülések ÁH-n kívülről | F61: =D61+E61 -> 0 | G61: =C61+F61 -> 0
A62: 8.2. | B62: Felhalm. célú visszatérítendő támogatások, kölcsönök visszatér. ÁH-n kívülről | F62: =D62+E62 -> 0 | G62: =C62+F62 -> 0
A63: 8.3. | B63: Egyéb felhalmozási célú átvett pénzeszköz | F63: =D63+E63 -> 0 | G63: =C63+F63 -> 0
A64: 8.4. | B64: 8.3.-ból EU-s támogatás (közvetlen) | F64: =D64+E64 -> 0 | G64: =C64+F64 -> 0
A65: 9. | B65: KÖLTSÉGVETÉSI BEVÉTELEK ÖSSZESEN: (1+…+8) | C65: =+C8+C15+C22+C29+C37+C49+C55+C60 -> 20000 | D65: =+D8+D15+D22+D29+D37+D49+D55+D60 -> 0 | E65: =+E8+E15+E22+E29+E37+E49+E55+E60 -> 960975 | F65: =+F8+F15+F22+F29+F37+F49+F55+F60 -> 960975 | G65: =+G8+G15+G22+G29+G37+G49+G55+G60 -> 980975
A66: 10. | B66: Hitel-, kölcsönfelvétel államháztartáson kívülről (10.1.+10.3.) | C66: =SUM(C67:C69) -> 0 | D66: =SUM(D67:D69) -> 0 | E66: =SUM(E67:E69) -> 0 | F66: =SUM(F67:F69) -> 0 | G66: =SUM(G67:G69) -> 0
A67: 10.1. | B67: Hosszú lejáratú hitelek, kölcsönök felvétele | F67: =D67+E67 -> 0 | G67: =C67+F67 -> 0
A68: 10.2. | B68: Likviditási célú hitelek, kölcsönök felvétele pénzügyi vállalkozástól | F68: =D68+E68 -> 0 | G68: =C68+F68 -> 0
A69: 10.3. | B69: Rövid lejáratú hitelek, kölcsönök felvétele | F69: =D69+E69 -> 0 | G69: =C69+F69 -> 0
A70: 11. | B70: Belföldi értékpapírok bevételei (11.1. +…+ 11.4.) | C70: =SUM(C71:C74) -> 0 | D70: =SUM(D71:D74) -> 0 | E70: =SUM(E71:E74) -> 0 | F70: =SUM(F71:F74) -> 0 | G70: =SUM(G71:G74) -> 0
A71: 11.1. | B71: Forgatási célú belföldi értékpapírok beváltása, értékesítése | F71: =D71+E71 -> 0 | G71: =C71+F71 -> 0
A72: 11.2. | B72: Éven belüli lejáratú belföldi értékpapírok kibocsátása | F72: =D72+E72 -> 0 | G72: =C72+F72 -> 0
A73: 11.3. | B73: Befektetési célú belföldi értékpapírok beváltása, értékesítése | F73: =D73+E73 -> 0 | G73: =C73+F73 -> 0
A74: 11.4. | B74: Éven túli lejáratú belföldi értékpapírok kibocsátása | F74: =D74+E74 -> 0 | G74: =C74+F74 -> 0
A75: 12. | B75: Maradvány igénybevétele (12.1. + 12.2.) | C75: =SUM(C76:C77) -> 517641 | D75: =SUM(D76:D77) -> 0 | E75: =SUM(E76:E77) -> -10 | F75: =SUM(F76:F77) -> -10 | G75: =SUM(G76:G77) -> 517631
A76: 12.1. | B76: Előző év költségvetési maradványának igénybevétele | C76: 517641 | E76: -10 | F76: =D76+E76 -> -10 | G76: =C76+F76 -> 517631
A77: 12.2. | B77: Előző év vállalkozási maradványának igénybevétele | F77: =D77+E77 -> 0 | G77: =C77+F77 -> 0
A78: 13. | B78: Belföldi finanszírozás bevételei (13.1. + … + 13.3.) | C78: =SUM(C79:C81) -> 58398152 | D78: =SUM(D79:D81) -> 0 | E78: =SUM(E79:E81) -> 3357219 | F78: =SUM(F79:F81) -> 3357219 | G78: =SUM(G79:G81) -> 61755371
A79: 13.1. | B79: Államháztartáson belüli megelőlegezések | F79: =D79+E79 -> 0 | G79: =C79+F79 -> 0
A80: 13.2. | B80: Államháztartáson belüli megelőlegezések törlesztése | F80: =D80+E80 -> 0 | G80: =C80+F80 -> 0
A81: 13.3. | B81: Lejötött betétek megszüntetése | C81: 58398152 | E81: 3357219 | F81: =D81+E81 -> 3357219 | G81: =C81+F81 -> 61755371
A82: 14. | B82: Külföldi finanszírozás bevételei (14.1.+…14.4.) | C82: =SUM(C83:C86) -> 0 | D82: =SUM(D83:D86) -> 0 | E82: =SUM(E83:E86) -> 0 | F82: =SUM(F83:F86) -> 0 | G82: =SUM(G83:G86) -> 0
A83: 14.1. | B83: Forgatási célú külföldi értékpapírok beváltása, értékesítése | F83: =D83+E83 -> 0 | G83: =C83+F83 -> 0
A84: 14.2. | B84: Befektetési célú külföldi értékpapírok beváltása, értékesítése | F84: =D84+E84 -> 0 | G84: =C84+F84 -> 0
A85: 14.3. | B85: Külföldi értékpapírok kibocsátása | F85: =D85+E85 -> 0 | G85: =C85+F85 -> 0
A86: 14.4. | B86: Külföldi hitelek, kölcsönök felvétele | F86: =D86+E86 -> 0 | G86: =C86+F86 -> 0
A87: 15. | B87: Váltóbevételek | F87: =D87+E87 -> 0 | G87: =C87+F87 -> 0
A88: 16. | B88: Adóssághoz nem kapcsolódó származékos ügyletek bevételei | F88: =D88+E88 -> 0 | G88: =C88+F88 -> 0
A89: 17. | B89: FINANSZÍROZÁSI BEVÉTELEK ÖSSZESEN: (10. + … +16.) | C89: =+C66+C70+C75+C78+C82+C88+C87 -> 58915793 | D89: =+D66+D70+D75+D78+D82+D88+D87 -> 0 | E89: =+E66+E70+E75+E78+E82+E88+E87 -> 3357209 | F89: =+F66+F70+F75+F78+F82+F88+F87 -> 3357209 | G89: =+G66+G70+G75+G78+G82+G88+G87 -> 62273002
A90: 18. | B90: BEVÉTELEK ÖSSZESEN: (9+17) | C90: =+C65+C89 -> 58935793 | D90: =+D65+D89 -> 0 | E90: =+E65+E89 -> 4318184 | F90: =+F65+F89 -> 4318184 | G90: =+G65+G89 -> 63253977
A92: Kiadások
A93: 1. | B93: Működési költségvetés kiadásai (1.1+…+1.5+1.18.) | C93: =+C94+C95+C96+C97+C98+C111 -> 57665793 | D93: =+D94+D95+D96+D97+D98+D111 -> 0 | E93: =+E94+E95+E96+E97+E98+E111 -> 4728617 | F93: =+F94+F95+F96+F97+F98+F111 -> 4728617 | G93: =+G94+G95+G96+G97+G98+G111 -> 62394410
A94: 1.1. | B94: Személyi juttatások | C94: 35658288 | E94: 8832030 | F94: =D94+E94 -> 8832030 | G94: =C94+F94 -> 44490318
A95: 1.2. | B95: Munkaadókat terhelő járulékok és szociális hozzájárulási adó | C95: 7697805 | E95: 1165962 | F95: =D95+E95 -> 1165962 | G95: =C95+F95 -> 8863767
A96: 1.3. | B96: Dologi kiadások | C96: 14309700 | E96: -5269375 | F96: =D96+E96 -> -5269375 | G96: =C96+F96 -> 9040325
A97: 1.4. | B97: Ellátottak pénzbeli juttatásai | F97: =D97+E97 -> 0 | G97: =C97+F97 -> 0
A98: 1.5 | B98: Egyéb működési célú kiadások | F98: =D98+E98 -> 0 | G98: =C98+F98 -> 0
A99: 1.6. | B99: az 1.5-ből: - Előző évi elszámolásból származó befizetések | F99: =D99+E99 -> 0 | G99: =C99+F99 -> 0
A100: 1.7. | B100: - Törvényi előíráson alapuló befizetések | F100: =D100+E100 -> 0 | G100: =C100+F100 -> 0
A101: 1.8. | B101: - Elvonások és befizetések | F101: =D101+E101 -> 0 | G101: =C101+F101 -> 0
...

Sheet 5.2.1. sz. mell  
G1: 5.2. 1.melléklet
A2: Megnevezés | B2: Sajószögedi Polgármesteri Hivatal | G2: 02
A3: Feladat megnevezése | B3: Kötelező feladatok bevételei, kiadásai | G3: 01
G4: Forintban!
A5: Száma | B5: Kiemelt előirányzat, előirányzat megnevezése | C5: Eredeti előirányzat | D5: Korábbi módosítások | E5: .1. sz. módosítás | F5: Módosítások összesen | G5: 1.számú módosítás utáni előirányzat
A6: A | B6: B | C6: C | D6: D | E6: E | F6: F=(D+…+E) | G6: G=(C+F)
A7: Bevételek
A8: 1. | B8: Önkormányzat működési támogatásai (1.1.+…+.1.6.) | C8: =+C9+C10+C11+C12+C13+C14 -> 0 | D8: =+D9+D10+D11+D12+D13+D14 -> 0 | E8: =+E9+E10+E11+E12+E13+E14 -> 0 | F8: =+F9+F10+F11+F12+F13+F14 -> 0 | G8: =+G9+G10+G11+G12+G13+G14 -> 0
A9: 1.1. | B9: Helyi önkormányzatok működésének általános támogatása | F9: =D9+E9 -> 0 | G9: =C9+F9 -> 0
A10: 1.2. | B10: Önkormányzatok egyes köznevelési feladatainak támogatása | F10: =D10+E10 -> 0 | G10: =C10+F10 -> 0
A11: 1.3. | B11: Önkormányzatok szociális és gyermekjóléti feladatainak támogatása | F11: =D11+E11 -> 0 | G11: =C11+F11 -> 0
A12: 1.4. | B12: Önkormányzatok kulturális feladatainak támogatása | F12: =D12+E12 -> 0 | G12: =C12+F12 -> 0
A13: 1.5. | B13: Működési célú kvi támogatások és kiegészítő támogatások | F13: =D13+E13 -> 0 | G13: =C13+F13 -> 0
A14: 1.6. | B14: Elszámolásból származó bevételek | F14: =D14+E14 -> 0 | G14: =C14+F14 -> 0
A15: 2. | B15: Működési célú támogatások államháztartáson belülről (2.1.+…+.2.5.) | C15: =+C16+C17+C18+C19+C20 -> 0 | D15: =+D16+D17+D18+D19+D20 -> 0 | E15: =+E16+E17+E18+E19+E20 -> 788521 | F15: =+F16+F17+F18+F19+F20 -> 788521 | G15: =+G16+G17+G18+G19+G20 -> 788521
A16: 2.1. | B16: Elvonások és befizetések bevételei | F16: =D16+E16 -> 0 | G16: =C16+F16 -> 0
A17: 2.2. | B17: Működési célú garancia- és kezességvállalásból megtérülések | F17: =D17+E17 -> 0 | G17: =C17+F17 -> 0
A18: 2.3. | B18: Működési célú visszatérítendő támogatások, kölcsönök visszatérülése | F18: =D18+E18 -> 0 | G18: =C18+F18 -> 0
A19: 2.4. | B19: Működési célú visszatérítendő támogatások, kölcsönök igénybevétele | F19: =D19+E19 -> 0 | G19: =C19+F19 -> 0
A20: 2.5. | B20: Egyéb működési célú támogatások bevételei | E20: 788521 | F20: =D20+E20 -> 788521 | G20: =C20+F20 -> 788521
A21: 2.6. | B21: 2.5.-ből EU-s támogatás | F21: =D21+E21 -> 0 | G21: =C21+F21 -> 0
A22: 3. | B22: Felhalmozási célú támogatások államháztartáson belülről (3.1.+…+3.5.) | C22: =+C23+C24+C25+C26+C27 -> 0 | D22: =+D23+D24+D25+D26+D27 -> 0 | E22: =+E23+E24+E25+E26+E27 -> 0 | F22: =+F23+F24+F25+F26+F27 -> 0 | G22: =+G23+G24+G25+G26+G27 -> 0
A23: 3.1. | B23: Felhalmozási célú önkormányzati támogatások | F23: =D23+E23 -> 0 | G23: =C23+F23 -> 0
A24: 3.2. | B24: Felhalmozási célú garancia- és kezességvállalásból megtérülések | F24: =D24+E24 -> 0 | G24: =C24+F24 -> 0
A25: 3.3. | B25: Felhalmozási célú visszatérítendő támogatások, kölcsönök visszatérülése | F25: =D25+E25 -> 0 | G25: =C25+F25 -> 0
A26: 3.4. | B26: Felhalmozási célú visszatérítendő támogatások, kölcsönök igénybevétele | F26: =D26+E26 -> 0 | G26: =C26+F26 -> 0
A27: 3.5. | B27: Egyéb felhalmozási célú támogatások bevételei | F27: =D27+E27 -> 0 | G27: =C27+F27 -> 0
A28: 3.6. | B28: 3.5.-ből EU-s támogatás | F28: =D28+E28 -> 0 | G28: =C28+F28 -> 0
A29: 4. | B29: Közhatalmi bevételek (4.1.+...+4.7.) | C29: 20000 | D29: =+D30+D31+D32+D33+D34+D35+D36 -> 0 | E29: 53000 | F29: 53000 | G29: 73000
A30: 4.1. | B30: Építményadó | F30: =D30+E30 -> 0 | G30: =C30+F30 -> 0
A31: 4.2. | B31: Idegenforgalmi adó | F31: =D31+E31 -> 0 | G31: =C31+F31 -> 0
A32: 4.3. | B32: Iparűzési adó | F32: =D32+E32 -> 0 | G32: =C32+F32 -> 0
A33: 4.4. | B33: Talajterhelési díj | F33: =D33+E33 -> 0 | G33: =C33+F33 -> 0
A34: 4.5. | B34: Gépjárműadó | F34: =D34+E34 -> 0 | G34: =C34+F34 -> 0
A35: 4.6. | B35: Egyéb áruhasználati és szolgáltatási adók | F35: =D35+E35 -> 0 | G35: =C35+F35 -> 0
A36: 4.7. | B36: Egyéb közhatalmi bevételek | C36: 20000 | E36: 53000 | F36: =D36+E36 -> 53000 | G36: =C36+F36 -> 73000
A37: 5. | B37: Működési bevételek (5.1.+…+ 5.11.) | C37: =SUM(C38:C48) -> 0 | D37: =SUM(D38:D48) -> 0 | E37: =SUM(E38:E48) -> 119454 | F37: =SUM(F38:F48) -> 119454 | G37: =SUM(G38:G48) -> 119454
A38: 5.1. | B38: Készletértékesítés ellenértéke | F38: =D38+E38 -> 0 | G38: =C38+F38 -> 0
A39: 5.2. | B39: Szolgáltatások ellenértéke | F39: =D39+E39 -> 0 | G39: =C39+F39 -> 0
A40: 5.3. | B40: Közvetített szolgáltatások értéke | F40: =D40+E40 -> 0 | G40: =C40+F40 -> 0
A41: 5.4. | B41: Tulajdonosi bevételek | F41: =D41+E41 -> 0 | G41: =C41+F41 -> 0
A42: 5.5. | B42: Ellátási díjak | F42: =D42+E42 -> 0 | G42: =C42+F42 -> 0
A43: 5.6. | B43: Kiszámlázott általános forgalmi adó | F43: =D43+E43 -> 0 | G43: =C43+F43 -> 0
A44: 5.7. | B44: Általános forgalmi adó visszatérítése | F44: =D44+E44 -> 0 | G44: =C44+F44 -> 0
A45: 5.8. | B45: Kamatbevételek | F45: =D45+E45 -> 0 | G45: =C45+F45 -> 0
A46: 5.9. | B46: Egyéb pénzügyi műveletek bevételei | F46: =D46+E46 -> 0 | G46: =C46+F46 -> 0
A47: 5.10. | B47: Biztosító által fizetett kártérítés | F47: =D47+E47 -> 0 | G47: =C47+F47 -> 0
A48: 5.11. | B48: Egyéb működési bevételek | E48: 119454 | F48: =D48+E48 -> 119454 | G48: =C48+F48 -> 119454
A49: 6. | B49: Felhalmozási bevételek (6.1.+…+6.5.) | C49: =SUM(C50:C54) -> 0 | D49: =SUM(D50:D54) -> 0 | E49: =SUM(E50:E54) -> 0 | F49: =SUM(F50:F54) -> 0 | G49: =SUM(G50:G54) -> 0
A50: 6.1. | B50: Immateriális javak értékesítése | F50: =D50+E50 -> 0 | G50: =C50+F50 -> 0
A51: 6.2. | B51: Ingatlanok értékesítése | F51: =D51+E51 -> 0 | G51: =C51+F51 -> 0
A52: 6.3. | B52: Egyéb tárgyi eszközök értékesítése | F52: =D52+E52 -> 0 | G52: =C52+F52 -> 0
A53: 6.4. | B53: Részesedések értékesítése | F53: =D53+E53 -> 0 | G53: =C53+F53 -> 0
A54: 6.5. | B54: Részesedések megszűnéséhez kapcsolódó bevételek | F54: =D54+E54 -> 0 | G54: =C54+F54 -> 0
A55: 7. | B55: Működési célú átvett pénzeszközök (7.1. + … + 7.3.) | C55: =SUM(C56:C58) -> 0 | D55: =SUM(D56:D58) -> 0 | E55: =SUM(E56:E58) -> 0 | F55: =SUM(F56:F58) -> 0 | G55: =SUM(G56:G58) -> 0
A56: 7.1. | B56: Működési célú garancia- és kezességvállalásból megtérülések ÁH-n kívülről | F56: =D56+E56 -> 0 | G56: =C56+F56 -> 0
A57: 7.2. | B57: Működési célú visszatérítendő támogatások, kölcsönök visszatér. ÁH-n kívülről | F57: =D57+E57 -> 0 | G57: =C57+F57 -> 0
A58: 7.3. | B58: Egyéb működési célú átvett pénzeszköz | F58: =D58+E58 -> 0 | G58: =C58+F58 -> 0
A59: 7.4. | B59: 7.3.-ból EU-s támogatás (közvetlen) | F59: =D59+E59 -> 0 | G59: =C59+F59 -> 0
A60: 8. | B60: Felhalmozási célú átvett pénzeszközök (8.1.+8.2.+8.3.) | C60: =SUM(C61:C63) -> 0 | D60: =SUM(D61:D63) -> 0 | E60: =SUM(E61:E63) -> 0 | F60: =SUM(F61:F63) -> 0 | G60: =SUM(G61:G63) -> 0
A61: 8.1. | B61: Felhalm. célú garancia- és kezességvállalásból megtérülések ÁH-n kívülről | F61: =D61+E61 -> 0 | G61: =C61+F61 -> 0
A62: 8.2. | B62: Felhalm. célú visszatérítendő támogatások, kölcsönök visszatér. ÁH-n kívülről | F62: =D62+E62 -> 0 | G62: =C62+F62 -> 0
A63: 8.3. | B63: Egyéb felhalmozási célú átvett pénzeszköz | F63: =D63+E63 -> 0 | G63: =C63+F63 -> 0
A64: 8.4. | B64: 8.3.-ból EU-s támogatás (közvetlen) | F64: =D64+E64 -> 0 | G64: =C64+F64 -> 0
A65: 9. | B65: KÖLTSÉGVETÉSI BEVÉTELEK ÖSSZESEN: (1+…+8) | C65: =+C8+C15+C22+C29+C37+C49+C55+C60 -> 20000 | D65: =+D8+D15+D22+D29+D37+D49+D55+D60 -> 0 | E65: =+E8+E15+E22+E29+E37+E49+E55+E60 -> 960975 | F65: =+F8+F15+F22+F29+F37+F49+F55+F60 -> 960975 | G65: =+G8+G15+G22+G29+G37+G49+G55+G60 -> 980975
A66: 10. | B66: Hitel-, kölcsönfelvétel államháztartáson kívülről (10.1.+10.3.) | C66: =SUM(C67:C69) -> 0 | D66: =SUM(D67:D69) -> 0 | E66: =SUM(E67:E69) -> 0 | F66: =SUM(F67:F69) -> 0 | G66: =SUM(G67:G69) -> 0
A67: 10.1. | B67: Hosszú lejáratú hitelek, kölcsönök felvétele | F67: =D67+E67 -> 0 | G67: =C67+F67 -> 0
A68: 10.2. | B68: Likviditási célú hitelek, kölcsönök felvétele pénzügyi vállalkozástól | F68: =D68+E68 -> 0 | G68: =C68+F68 -> 0
A69: 10.3. | B69: Rövid lejáratú hitelek, kölcsönök felvétele | F69: =D69+E69 -> 0 | G69: =C69+F69 -> 0
A70: 11. | B70: Belföldi értékpapírok bevételei (11.1. +…+ 11.4.) | C70: =SUM(C71:C74) -> 0 | D70: =SUM(D71:D74) -> 0 | E70: =SUM(E71:E74) -> 0 | F70: =SUM(F71:F74) -> 0 | G70: =SUM(G71:G74) -> 0
A71: 11.1. | B71: Forgatási célú belföldi értékpapírok beváltása, értékesítése | F71: =D71+E71 -> 0 | G71: =C71+F71 -> 0
A72: 11.2. | B72: Éven belüli lejáratú belföldi értékpapírok kibocsátása | F72: =D72+E72 -> 0 | G72: =C72+F72 -> 0
A73: 11.3. | B73: Befektetési célú belföldi értékpapírok beváltása, értékesítése | F73: =D73+E73 -> 0 | G73: =C73+F73 -> 0
A74: 11.4. | B74: Éven túli lejáratú belföldi értékpapírok kibocsátása | F74: =D74+E74 -> 0 | G74: =C74+F74 -> 0
A75: 12. | B75: Maradvány igénybevétele (12.1. + 12.2.) | C75: =SUM(C76:C77) -> 517641 | D75: =SUM(D76:D77) -> 0 | E75: =SUM(E76:E77) -> -10 | F75: =SUM(F76:F77) -> -10 | G75: =SUM(G76:G77) -> 517631
A76: 12.1. | B76: Előző év költségvetési maradványának igénybevétele | C76: 517641 | E76: -10 | F76: =D76+E76 -> -10 | G76: =C76+F76 -> 517631
A77: 12.2. | B77: Előző év vállalkozási maradványának igénybevétele | F77: =D77+E77 -> 0 | G77: =C77+F77 -> 0
A78: 13. | B78: Belföldi finanszírozás bevételei (13.1. + … + 13.3.) | C78: =SUM(C79:C81) -> 58398152 | D78: =SUM(D79:D81) -> 0 | E78: =SUM(E79:E81) -> 3357219 | F78: =SUM(F79:F81) -> 3357219 | G78: =SUM(G79:G81) -> 61755371
A79: 13.1. | B79: Államháztartáson belüli megelőlegezések | F79: =D79+E79 -> 0 | G79: =C79+F79 -> 0
A80: 13.2. | B80: Államháztartáson belüli megelőlegezések törlesztése | F80: =D80+E80 -> 0 | G80: =C80+F80 -> 0
A81: 13.3. | B81: Központi, irányítószervi támogatás | C81: 58398152 | E81: 3357219 | F81: =D81+E81 -> 3357219 | G81: =C81+F81 -> 61755371
A82: 14. | B82: Külföldi finanszírozás bevételei (14.1.+…14.4.) | C82: =SUM(C83:C86) -> 0 | D82: =SUM(D83:D86) -> 0 | E82: =SUM(E83:E86) -> 0 | F82: =SUM(F83:F86) -> 0 | G82: =SUM(G83:G86) -> 0
A83: 14.1. | B83: Forgatási célú külföldi értékpapírok beváltása, értékesítése | F83: =D83+E83 -> 0 | G83: =C83+F83 -> 0
A84: 14.2. | B84: Befektetési célú külföldi értékpapírok beváltása, értékesítése | F84: =D84+E84 -> 0 | G84: =C84+F84 -> 0
A85: 14.3. | B85: Külföldi értékpapírok kibocsátása | F85: =D85+E85 -> 0 | G85: =C85+F85 -> 0
A86: 14.4. | B86: Külföldi hitelek, kölcsönök felvétele | F86: =D86+E86 -> 0 | G86: =C86+F86 -> 0
A87: 15. | B87: Váltóbevételek | F87: =D87+E87 -> 0 | G87: =C87+F87 -> 0
A88: 16. | B88: Adóssághoz nem kapcsolódó származékos ügyletek bevételei | F88: =D88+E88 -> 0 | G88: =C88+F88 -> 0
A89: 17. | B89: FINANSZÍROZÁSI BEVÉTELEK ÖSSZESEN: (10. + … +16.) | C89: =+C66+C70+C75+C78+C82+C88+C87 -> 58915793 | D89: =+D66+D70+D75+D78+D82+D88+D87 -> 0 | E89: =+E66+E70+E75+E78+E82+E88+E87 -> 3357209 | F89: =+F66+F70+F75+F78+F82+F88+F87 -> 3357209 | G89: =+G66+G70+G75+G78+G82+G88+G87 -> 62273002
A90: 18. | B90: BEVÉTELEK ÖSSZESEN: (9+17) | C90: =+C65+C89 -> 58935793 | D90: =+D65+D89 -> 0 | E90: =+E65+E89 -> 4318184 | F90: =+F65+F89 -> 4318184 | G90: =+G65+G89 -> 63253977
A92: Kiadások
A93: 1. | B93: Működési költségvetés kiadásai (1.1+…+1.5+1.18.) | C93: =+C94+C95+C96+C97+C98+C111 -> 57665793 | D93: =+D94+D95+D96+D97+D98+D111 -> 0 | E93: =+E94+E95+E96+E97+E98+E111 -> 4728617 | F93: =+F94+F95+F96+F97+F98+F111 -> 4728617 | G93: =+G94+G95+G96+G97+G98+G111 -> 62394410
A94: 1.1. | B94: Személyi juttatások | C94: 35658288 | E94: 8832030 | F94: =D94+E94 -> 8832030 | G94: =C94+F94 -> 44490318
A95: 1.2. | B95: Munkaadókat terhelő járulékok és szociális hozzájárulási adó | C95: 7697805 | E95: 1165962 | F95: =D95+E95 -> 1165962 | G95: =C95+F95 -> 8863767
A96: 1.3. | B96: Dologi kiadások | C96: 14309700 | E96: -5269375 | F96: =D96+E96 -> -5269375 | G96: =C96+F96 -> 9040325
A97: 1.4. | B97: Ellátottak pénzbeli juttatásai | F97: =D97+E97 -> 0 | G97: =C97+F97 -> 0
A98: 1.5 | B98: Egyéb működési célú kiadások | F98: =D98+E98 -> 0 | G98: =C98+F98 -> 0
A99: 1.6. | B99: az 1.5-ből: - Előző évi elszámolásból származó befizetések | F99: =D99+E99 -> 0 | G99: =C99+F99 -> 0
A100: 1.7. | B100: - Törvényi előíráson alapuló befizetések | F100: =D100+E100 -> 0 | G100: =C100+F100 -> 0
A101: 1.8. | B101: - Elvonások és befizetések | F101: =D101+E101 -> 0 | G101: =C101+F101 -> 0
...

Sheet 5.2.2. sz. mell  
G1: 5.2. 2.melléklet
A2: Megnevezés | B2: Sajószögedi Polgármesteri Hivatal | G2: 02
A3: Feladat megnevezése | B3: Önként vállalt feladatok bevételei, kiadásai | G3: 01
G4: Forintban!
A5: Száma | B5: Kiemelt előirányzat, előirányzat megnevezése | C5: Eredeti előirányzat | D5: Korábbi módosítások | E5: 1. sz. módosítás | F5: Módosítások összesen | G5: 1.számú módosítás utáni előirányzat
A6: A | B6: B | C6: C | D6: D | E6: E | F6: F=(D+…+E) | G6: G=(C+F)
A7: Bevételek
A8: 1. | B8: Önkormányzat működési támogatásai (1.1.+…+.1.6.) | C8: =+C9+C10+C11+C12+C13+C14 -> 0 | D8: =+D9+D10+D11+D12+D13+D14 -> 0 | E8: =+E9+E10+E11+E12+E13+E14 -> 0 | F8: =+F9+F10+F11+F12+F13+F14 -> 0 | G8: =+G9+G10+G11+G12+G13+G14 -> 0
A9: 1.1. | B9: Helyi önkormányzatok működésének általános támogatása | F9: =D9+E9 -> 0 | G9: =C9+F9 -> 0
A10: 1.2. | B10: Önkormányzatok egyes köznevelési feladatainak támogatása | F10: =D10+E10 -> 0 | G10: =C10+F10 -> 0
A11: 1.3. | B11: Önkormányzatok szociális és gyermekjóléti feladatainak támogatása | F11: =D11+E11 -> 0 | G11: =C11+F11 -> 0
A12: 1.4. | B12: Önkormányzatok kulturális feladatainak támogatása | F12: =D12+E12 -> 0 | G12: =C12+F12 -> 0
A13: 1.5. | B13: Működési célú kvi támogatások és kiegészítő támogatások | F13: =D13+E13 -> 0 | G13: =C13+F13 -> 0
A14: 1.6. | B14: Elszámolásból származó bevételek | F14: =D14+E14 -> 0 | G14: =C14+F14 -> 0
A15: 2. | B15: Működési célú támogatások államháztartáson belülről (2.1.+…+.2.5.) | C15: =+C16+C17+C18+C19+C20 -> 0 | D15: =+D16+D17+D18+D19+D20 -> 0 | E15: =+E16+E17+E18+E19+E20 -> 0 | F15: =+F16+F17+F18+F19+F20 -> 0 | G15: =+G16+G17+G18+G19+G20 -> 0
A16: 2.1. | B16: Elvonások és befizetések bevételei | F16: =D16+E16 -> 0 | G16: =C16+F16 -> 0
A17: 2.2. | B17: Működési célú garancia- és kezességvállalásból megtérülések | F17: =D17+E17 -> 0 | G17: =C17+F17 -> 0
A18: 2.3. | B18: Működési célú visszatérítendő támogatások, kölcsönök visszatérülése | F18: =D18+E18 -> 0 | G18: =C18+F18 -> 0
A19: 2.4. | B19: Működési célú visszatérítendő támogatások, kölcsönök igénybevétele | F19: =D19+E19 -> 0 | G19: =C19+F19 -> 0
A20: 2.5. | B20: Egyéb működési célú támogatások bevételei | F20: =D20+E20 -> 0 | G20: =C20+F20 -> 0
A21: 2.6. | B21: 2.5.-ből EU-s támogatás | F21: =D21+E21 -> 0 | G21: =C21+F21 -> 0
A22: 3. | B22: Felhalmozási célú támogatások államháztartáson belülről (3.1.+…+3.5.) | C22: =+C23+C24+C25+C26+C27 -> 0 | D22: =+D23+D24+D25+D26+D27 -> 0 | E22: =+E23+E24+E25+E26+E27 -> 0 | F22: =+F23+F24+F25+F26+F27 -> 0 | G22: =+G23+G24+G25+G26+G27 -> 0
A23: 3.1. | B23: Felhalmozási célú önkormányzati támogatások | F23: =D23+E23 -> 0 | G23: =C23+F23 -> 0
A24: 3.2. | B24: Felhalmozási célú garancia- és kezességvállalásból megtérülések | F24: =D24+E24 -> 0 | G24: =C24+F24 -> 0
A25: 3.3. | B25: Felhalmozási célú visszatérítendő támogatások, kölcsönök visszatérülése | F25: =D25+E25 -> 0 | G25: =C25+F25 -> 0
A26: 3.4. | B26: Felhalmozási célú visszatérítendő támogatások, kölcsönök igénybevétele | F26: =D26+E26 -> 0 | G26: =C26+F26 -> 0
A27: 3.5. | B27: Egyéb felhalmozási célú támogatások bevételei | F27: =D27+E27 -> 0 | G27: =C27+F27 -> 0
A28: 3.6. | B28: 3.5.-ből EU-s támogatás | F28: =D28+E28 -> 0 | G28: =C28+F28 -> 0
A29: 4. | B29: Közhatalmi bevételek (4.1.+...+4.7.) | C29: =+C30+C31+C32+C33+C34+C35+C36 -> 0 | D29: =+D30+D31+D32+D33+D34+D35+D36 -> 0 | E29: =+E30+E31+E32+E33+E34+E35+E36 -> 0 | F29: =+F30+F31+F32+F33+F34+F35+F36 -> 0 | G29: =+G30+G31+G32+G33+G34+G35+G36 -> 0
A30: 4.1. | B30: Építményadó | F30: =D30+E30 -> 0 | G30: =C30+F30 -> 0
A31: 4.2. | B31: Idegenforgalmi adó | F31: =D31+E31 -> 0 | G31: =C31+F31 -> 0
A32: 4.3. | B32: Iparűzési adó | F32: =D32+E32 -> 0 | G32: =C32+F32 -> 0
A33: 4.4. | B33: Talajterhelési díj | F33: =D33+E33 -> 0 | G33: =C33+F33 -> 0
A34: 4.5. | B34: Gépjárműadó | F34: =D34+E34 -> 0 | G34: =C34+F34 -> 0
A35: 4.6. | B35: Egyéb áruhasználati és szolgáltatási adók | F35: =D35+E35 -> 0 | G35: =C35+F35 -> 0
A36: 4.7. | B36: Egyéb közhatalmi bevételek | F36: =D36+E36 -> 0 | G36: =C36+F36 -> 0
A37: 5. | B37: Működési bevételek (5.1.+…+ 5.11.) | C37: =SUM(C38:C48) -> 0 | D37: =SUM(D38:D48) -> 0 | E37: =SUM(E38:E48) -> 0 | F37: =SUM(F38:F48) -> 0 | G37: =SUM(G38:G48) -> 0
A38: 5.1. | B38: Készletértékesítés ellenértéke | F38: =D38+E38 -> 0 | G38: =C38+F38 -> 0
A39: 5.2. | B39: Szolgáltatások ellenértéke | F39: =D39+E39 -> 0 | G39: =C39+F39 -> 0
A40: 5.3. | B40: Közvetített szolgáltatások értéke | F40: =D40+E40 -> 0 | G40: =C40+F40 -> 0
A41: 5.4. | B41: Tulajdonosi bevételek | F41: =D41+E41 -> 0 | G41: =C41+F41 -> 0
A42: 5.5. | B42: Ellátási díjak | F42: =D42+E42 -> 0 | G42: =C42+F42 -> 0
A43: 5.6. | B43: Kiszámlázott általános forgalmi adó | F43: =D43+E43 -> 0 | G43: =C43+F43 -> 0
A44: 5.7. | B44: Általános forgalmi adó visszatérítése | F44: =D44+E44 -> 0 | G44: =C44+F44 -> 0
A45: 5.8. | B45: Kamatbevételek | F45: =D45+E45 -> 0 | G45: =C45+F45 -> 0
A46: 5.9. | B46: Egyéb pénzügyi műveletek bevételei | F46: =D46+E46 -> 0 | G46: =C46+F46 -> 0
A47: 5.10. | B47: Biztosító által fizetett kártérítés | F47: =D47+E47 -> 0 | G47: =C47+F47 -> 0
A48: 5.11. | B48: Egyéb működési bevételek | F48: =D48+E48 -> 0 | G48: =C48+F48 -> 0
A49: 6. | B49: Felhalmozási bevételek (6.1.+…+6.5.) | C49: =SUM(C50:C54) -> 0 | D49: =SUM(D50:D54) -> 0 | E49: =SUM(E50:E54) -> 0 | F49: =SUM(F50:F54) -> 0 | G49: =SUM(G50:G54) -> 0
A50: 6.1. | B50: Immateriális javak értékesítése | F50: =D50+E50 -> 0 | G50: =C50+F50 -> 0
A51: 6.2. | B51: Ingatlanok értékesítése | F51: =D51+E51 -> 0 | G51: =C51+F51 -> 0
A52: 6.3. | B52: Egyéb tárgyi eszközök értékesítése | F52: =D52+E52 -> 0 | G52: =C52+F52 -> 0
A53: 6.4. | B53: Részesedések értékesítése | F53: =D53+E53 -> 0 | G53: =C53+F53 -> 0
A54: 6.5. | B54: Részesedések megszűnéséhez kapcsolódó bevételek | F54: =D54+E54 -> 0 | G54: =C54+F54 -> 0
A55: 7. | B55: Működési célú átvett pénzeszközök (7.1. + … + 7.3.) | C55: =SUM(C56:C58) -> 0 | D55: =SUM(D56:D58) -> 0 | E55: =SUM(E56:E58) -> 0 | F55: =SUM(F56:F58) -> 0 | G55: =SUM(G56:G58) -> 0
A56: 7.1. | B56: Működési célú garancia- és kezességvállalásból megtérülések ÁH-n kívülről | F56: =D56+E56 -> 0 | G56: =C56+F56 -> 0
A57: 7.2. | B57: Működési célú visszatérítendő támogatások, kölcsönök visszatér. ÁH-n kívülről | F57: =D57+E57 -> 0 | G57: =C57+F57 -> 0
A58: 7.3. | B58: Egyéb működési célú átvett pénzeszköz | F58: =D58+E58 -> 0 | G58: =C58+F58 -> 0
A59: 7.4. | B59: 7.3.-ból EU-s támogatás (közvetlen) | F59: =D59+E59 -> 0 | G59: =C59+F59 -> 0
A60: 8. | B60: Felhalmozási célú átvett pénzeszközök (8.1.+8.2.+8.3.) | C60: =SUM(C61:C63) -> 0 | D60: =SUM(D61:D63) -> 0 | E60: =SUM(E61:E63) -> 0 | F60: =SUM(F61:F63) -> 0 | G60: =SUM(G61:G63) -> 0
A61: 8.1. | B61: Felhalm. célú garancia- és kezességvállalásból megtérülések ÁH-n kívülről | F61: =D61+E61 -> 0 | G61: =C61+F61 -> 0
A62: 8.2. | B62: Felhalm. célú visszatérítendő támogatások, kölcsönök visszatér. ÁH-n kívülről | F62: =D62+E62 -> 0 | G62: =C62+F62 -> 0
A63: 8.3. | B63: Egyéb felhalmozási célú átvett pénzeszköz | F63: =D63+E63 -> 0 | G63: =C63+F63 -> 0
A64: 8.4. | B64: 8.3.-ból EU-s támogatás (közvetlen) | F64: =D64+E64 -> 0 | G64: =C64+F64 -> 0
A65: 9. | B65: KÖLTSÉGVETÉSI BEVÉTELEK ÖSSZESEN: (1+…+8) | C65: =+C8+C15+C22+C29+C37+C49+C55+C60 -> 0 | D65: =+D8+D15+D22+D29+D37+D49+D55+D60 -> 0 | E65: =+E8+E15+E22+E29+E37+E49+E55+E60 -> 0 | F65: =+F8+F15+F22+F29+F37+F49+F55+F60 -> 0 | G65: =+G8+G15+G22+G29+G37+G49+G55+G60 -> 0
A66: 10. | B66: Hitel-, kölcsönfelvétel államháztartáson kívülről (10.1.+10.3.) | C66: =SUM(C67:C69) -> 0 | D66: =SUM(D67:D69) -> 0 | E66: =SUM(E67:E69) -> 0 | F66: =SUM(F67:F69) -> 0 | G66: =SUM(G67:G69) -> 0
A67: 10.1. | B67: Hosszú lejáratú hitelek, kölcsönök felvétele | F67: =D67+E67 -> 0 | G67: =C67+F67 -> 0
A68: 10.2. | B68: Likviditási célú hitelek, kölcsönök felvétele pénzügyi vállalkozástól | F68: =D68+E68 -> 0 | G68: =C68+F68 -> 0
A69: 10.3. | B69: Rövid lejáratú hitelek, kölcsönök felvétele | F69: =D69+E69 -> 0 | G69: =C69+F69 -> 0
A70: 11. | B70: Belföldi értékpapírok bevételei (11.1. +…+ 11.4.) | C70: =SUM(C71:C74) -> 0 | D70: =SUM(D71:D74) -> 0 | E70: =SUM(E71:E74) -> 0 | F70: =SUM(F71:F74) -> 0 | G70: =SUM(G71:G74) -> 0
A71: 11.1. | B71: Forgatási célú belföldi értékpapírok beváltása, értékesítése | F71: =D71+E71 -> 0 | G71: =C71+F71 -> 0
A72: 11.2. | B72: Éven belüli lejáratú belföldi értékpapírok kibocsátása | F72: =D72+E72 -> 0 | G72: =C72+F72 -> 0
A73: 11.3. | B73: Befektetési célú belföldi értékpapírok beváltása, értékesítése | F73: =D73+E73 -> 0 | G73: =C73+F73 -> 0
A74: 11.4. | B74: Éven túli lejáratú belföldi értékpapírok kibocsátása | F74: =D74+E74 -> 0 | G74: =C74+F74 -> 0
A75: 12. | B75: Maradvány igénybevétele (12.1. + 12.2.) | C75: =SUM(C76:C77) -> 0 | D75: =SUM(D76:D77) -> 0 | E75: =SUM(E76:E77) -> 0 | F75: =SUM(F76:F77) -> 0 | G75: =SUM(G76:G77) -> 0
A76: 12.1. | B76: Előző év költségvetési maradványának igénybevétele | F76: =D76+E76 -> 0 | G76: =C76+F76 -> 0
A77: 12.2. | B77: Előző év vállalkozási maradványának igénybevétele | F77: =D77+E77 -> 0 | G77: =C77+F77 -> 0
A78: 13. | B78: Belföldi finanszírozás bevételei (13.1. + … + 13.3.) | C78: =SUM(C79:C81) -> 0 | D78: =SUM(D79:D81) -> 0 | E78: =SUM(E79:E81) -> 0 | F78: =SUM(F79:F81) -> 0 | G78: =SUM(G79:G81) -> 0
A79: 13.1. | B79: Államháztartáson belüli megelőlegezések | F79: =D79+E79 -> 0 | G79: =C79+F79 -> 0
A80: 13.2. | B80: Államháztartáson belüli megelőlegezések törlesztése | F80: =D80+E80 -> 0 | G80: =C80+F80 -> 0
A81: 13.3. | B81: Lejötött betétek megszüntetése | F81: =D81+E81 -> 0 | G81: =C81+F81 -> 0
A82: 14. | B82: Külföldi finanszírozás bevételei (14.1.+…14.4.) | C82: =SUM(C83:C86) -> 0 | D82: =SUM(D83:D86) -> 0 | E82: =SUM(E83:E86) -> 0 | F82: =SUM(F83:F86) -> 0 | G82: =SUM(G83:G86) -> 0
A83: 14.1. | B83: Forgatási célú külföldi értékpapírok beváltása, értékesítése | F83: =D83+E83 -> 0 | G83: =C83+F83 -> 0
A84: 14.2. | B84: Befektetési célú külföldi értékpapírok beváltása, értékesítése | F84: =D84+E84 -> 0 | G84: =C84+F84 -> 0
A85: 14.3. | B85: Külföldi értékpapírok kibocsátása | F85: =D85+E85 -> 0 | G85: =C85+F85 -> 0
A86: 14.4. | B86: Külföldi hitelek, kölcsönök felvétele | F86: =D86+E86 -> 0 | G86: =C86+F86 -> 0
A87: 15. | B87: Váltóbevételek | F87: =D87+E87 -> 0 | G87: =C87+F87 -> 0
A88: 16. | B88: Adóssághoz nem kapcsolódó származékos ügyletek bevételei | F88: =D88+E88 -> 0 | G88: =C88+F88 -> 0
A89: 17. | B89: FINANSZÍROZÁSI BEVÉTELEK ÖSSZESEN: (10. + … +16.) | C89: =+C66+C70+C75+C78+C82+C88+C87 -> 0 | D89: =+D66+D70+D75+D78+D82+D88+D87 -> 0 | E89: =+E66+E70+E75+E78+E82+E88+E87 -> 0 | F89: =+F66+F70+F75+F78+F82+F88+F87 -> 0 | G89: =+G66+G70+G75+G78+G82+G88+G87 -> 0
A90: 18. | B90: BEVÉTELEK ÖSSZESEN: (9+17) | C90: =+C65+C89 -> 0 | D90: =+D65+D89 -> 0 | E90: =+E65+E89 -> 0 | F90: =+F65+F89 -> 0 | G90: =+G65+G89 -> 0
A92: Kiadások
A93: 1. | B93: Működési költségvetés kiadásai (1.1+…+1.5+1.18.) | C93: =+C94+C95+C96+C97+C98+C111 -> 0 | D93: =+D94+D95+D96+D97+D98+D111 -> 0 | E93: =+E94+E95+E96+E97+E98+E111 -> 0 | F93: =+F94+F95+F96+F97+F98+F111 -> 0 | G93: =+G94+G95+G96+G97+G98+G111 -> 0
A94: 1.1. | B94: Személyi juttatások | F94: =D94+E94 -> 0 | G94: =C94+F94 -> 0
A95: 1.2. | B95: Munkaadókat terhelő járulékok és szociális hozzájárulási adó | F95: =D95+E95 -> 0 | G95: =C95+F95 -> 0
A96: 1.3. | B96: Dologi kiadások | F96: =D96+E96 -> 0 | G96: =C96+F96 -> 0
A97: 1.4. | B97: Ellátottak pénzbeli juttatásai | F97: =D97+E97 -> 0 | G97: =C97+F97 -> 0
A98: 1.5 | B98: Egyéb működési célú kiadások | F98: =D98+E98 -> 0 | G98: =C98+F98 -> 0
A99: 1.6. | B99: az 1.5-ből: - Előző évi elszámolásból származó befizetések | F99: =D99+E99 -> 0 | G99: =C99+F99 -> 0
A100: 1.7. | B100: - Törvényi előíráson alapuló befizetések | F100: =D100+E100 -> 0 | G100: =C100+F100 -> 0
A101: 1.8. | B101: - Elvonások és befizetések | F101: =D101+E101 -> 0 | G101: =C101+F101 -> 0
...

Sheet 5.2.3. sz. mell  
G1: 5.2. 3.melléklet
A2: Megnevezés | B2: Sajószögedi Polgármesteri Hivatal | G2: 02
A3: Feladat megnevezése | B3: Államigazgatási feladatok bevételei, kiadásai | G3: 01
G4: Forintban!
A5: Száma | B5: Kiemelt előirányzat, előirányzat megnevezése | C5: Eredeti előirányzat | D5: Korábbi módosítások | E5: .... sz. módosítás | F5: Módosítások összesen | G5: ….számú módosítás utáni előirányzat
A6: A | B6: B | C6: C | D6: D | E6: E | F6: F=(D+…+E) | G6: G=(C+F)
A7: Bevételek
A8: 1. | B8: Önkormányzat működési támogatásai (1.1.+…+.1.6.) | C8: =+C9+C10+C11+C12+C13+C14 -> 0 | D8: =+D9+D10+D11+D12+D13+D14 -> 0 | E8: =+E9+E10+E11+E12+E13+E14 -> 0 | F8: =+F9+F10+F11+F12+F13+F14 -> 0 | G8: =+G9+G10+G11+G12+G13+G14 -> 0
A9: 1.1. | B9: Helyi önkormányzatok működésének általános támogatása | F9: =D9+E9 -> 0 | G9: =C9+F9 -> 0
A10: 1.2. | B10: Önkormányzatok egyes köznevelési feladatainak támogatása | F10: =D10+E10 -> 0 | G10: =C10+F10 -> 0
A11: 1.3. | B11: Önkormányzatok szociális és gyermekjóléti feladatainak támogatása | F11: =D11+E11 -> 0 | G11: =C11+F11 -> 0
A12: 1.4. | B12: Önkormányzatok kulturális feladatainak támogatása | F12: =D12+E12 -> 0 | G12: =C12+F12 -> 0
A13: 1.5. | B13: Működési célú kvi támogatások és kiegészítő támogatások | F13: =D13+E13 -> 0 | G13: =C13+F13 -> 0
A14: 1.6. | B14: Elszámolásból származó bevételek | F14: =D14+E14 -> 0 | G14: =C14+F14 -> 0
A15: 2. | B15: Működési célú támogatások államháztartáson belülről (2.1.+…+.2.5.) | C15: =+C16+C17+C18+C19+C20 -> 0 | D15: =+D16+D17+D18+D19+D20 -> 0 | E15: =+E16+E17+E18+E19+E20 -> 0 | F15: =+F16+F17+F18+F19+F20 -> 0 | G15: =+G16+G17+G18+G19+G20 -> 0
A16: 2.1. | B16: Elvonások és befizetések bevételei | F16: =D16+E16 -> 0 | G16: =C16+F16 -> 0
A17: 2.2. | B17: Működési célú garancia- és kezességvállalásból megtérülések | F17: =D17+E17 -> 0 | G17: =C17+F17 -> 0
A18: 2.3. | B18: Működési célú visszatérítendő támogatások, kölcsönök visszatérülése | F18: =D18+E18 -> 0 | G18: =C18+F18 -> 0
A19: 2.4. | B19: Működési célú visszatérítendő támogatások, kölcsönök igénybevétele | F19: =D19+E19 -> 0 | G19: =C19+F19 -> 0
A20: 2.5. | B20: Egyéb működési célú támogatások bevételei | F20: =D20+E20 -> 0 | G20: =C20+F20 -> 0
A21: 2.6. | B21: 2.5.-ből EU-s támogatás | F21: =D21+E21 -> 0 | G21: =C21+F21 -> 0
A22: 3. | B22: Felhalmozási célú támogatások államháztartáson belülről (3.1.+…+3.5.) | C22: =+C23+C24+C25+C26+C27 -> 0 | D22: =+D23+D24+D25+D26+D27 -> 0 | E22: =+E23+E24+E25+E26+E27 -> 0 | F22: =+F23+F24+F25+F26+F27 -> 0 | G22: =+G23+G24+G25+G26+G27 -> 0
A23: 3.1. | B23: Felhalmozási célú önkormányzati támogatások | F23: =D23+E23 -> 0 | G23: =C23+F23 -> 0
A24: 3.2. | B24: Felhalmozási célú garancia- és kezességvállalásból megtérülések | F24: =D24+E24 -> 0 | G24: =C24+F24 -> 0
A25: 3.3. | B25: Felhalmozási célú visszatérítendő támogatások, kölcsönök visszatérülése | F25: =D25+E25 -> 0 | G25: =C25+F25 -> 0
A26: 3.4. | B26: Felhalmozási célú visszatérítendő támogatások, kölcsönök igénybevétele | F26: =D26+E26 -> 0 | G26: =C26+F26 -> 0
A27: 3.5. | B27: Egyéb felhalmozási célú támogatások bevételei | F27: =D27+E27 -> 0 | G27: =C27+F27 -> 0
A28: 3.6. | B28: 3.5.-ből EU-s támogatás | F28: =D28+E28 -> 0 | G28: =C28+F28 -> 0
A29: 4. | B29: Közhatalmi bevételek (4.1.+...+4.7.) | C29: =+C30+C31+C32+C33+C34+C35+C36 -> 0 | D29: =+D30+D31+D32+D33+D34+D35+D36 -> 0 | E29: =+E30+E31+E32+E33+E34+E35+E36 -> 0 | F29: =+F30+F31+F32+F33+F34+F35+F36 -> 0 | G29: =+G30+G31+G32+G33+G34+G35+G36 -> 0
A30: 4.1. | B30: Építményadó | F30: =D30+E30 -> 0 | G30: =C30+F30 -> 0
A31: 4.2. | B31: Idegenforgalmi adó | F31: =D31+E31 -> 0 | G31: =C31+F31 -> 0
A32: 4.3. | B32: Iparűzési adó | F32: =D32+E32 -> 0 | G32: =C32+F32 -> 0
A33: 4.4. | B33: Talajterhelési díj | F33: =D33+E33 -> 0 | G33: =C33+F33 -> 0
A34: 4.5. | B34: Gépjárműadó | F34: =D34+E34 -> 0 | G34: =C34+F34 -> 0
A35: 4.6. | B35: Egyéb áruhasználati és szolgáltatási adók | F35: =D35+E35 -> 0 | G35: =C35+F35 -> 0
A36: 4.7. | B36: Egyéb közhatalmi bevételek | F36: =D36+E36 -> 0 | G36: =C36+F36 -> 0
A37: 5. | B37: Működési bevételek (5.1.+…+ 5.11.) | C37: =SUM(C38:C48) -> 0 | D37: =SUM(D38:D48) -> 0 | E37: =SUM(E38:E48) -> 0 | F37: =SUM(F38:F48) -> 0 | G37: =SUM(G38:G48) -> 0
A38: 5.1. | B38: Készletértékesítés ellenértéke | F38: =D38+E38 -> 0 | G38: =C38+F38 -> 0
A39: 5.2. | B39: Szolgáltatások ellenértéke | F39: =D39+E39 -> 0 | G39: =C39+F39 -> 0
A40: 5.3. | B40: Közvetített szolgáltatások értéke | F40: =D40+E40 -> 0 | G40: =C40+F40 -> 0
A41: 5.4. | B41: Tulajdonosi bevételek | F41: =D41+E41 -> 0 | G41: =C41+F41 -> 0
A42: 5.5. | B42: Ellátási díjak | F42: =D42+E42 -> 0 | G42: =C42+F42 -> 0
A43: 5.6. | B43: Kiszámlázott általános forgalmi adó | F43: =D43+E43 -> 0 | G43: =C43+F43 -> 0
A44: 5.7. | B44: Általános forgalmi adó visszatérítése | F44: =D44+E44 -> 0 | G44: =C44+F44 -> 0
A45: 5.8. | B45: Kamatbevételek | F45: =D45+E45 -> 0 | G45: =C45+F45 -> 0
A46: 5.9. | B46: Egyéb pénzügyi műveletek bevételei | F46: =D46+E46 -> 0 | G46: =C46+F46 -> 0
A47: 5.10. | B47: Biztosító által fizetett kártérítés | F47: =D47+E47 -> 0 | G47: =C47+F47 -> 0
A48: 5.11. | B48: Egyéb működési bevételek | F48: =D48+E48 -> 0 | G48: =C48+F48 -> 0
A49: 6. | B49: Felhalmozási bevételek (6.1.+…+6.5.) | C49: =SUM(C50:C54) -> 0 | D49: =SUM(D50:D54) -> 0 | E49: =SUM(E50:E54) -> 0 | F49: =SUM(F50:F54) -> 0 | G49: =SUM(G50:G54) -> 0
A50: 6.1. | B50: Immateriális javak értékesítése | F50: =D50+E50 -> 0 | G50: =C50+F50 -> 0
A51: 6.2. | B51: Ingatlanok értékesítése | F51: =D51+E51 -> 0 | G51: =C51+F51 -> 0
A52: 6.3. | B52: Egyéb tárgyi eszközök értékesítése | F52: =D52+E52 -> 0 | G52: =C52+F52 -> 0
A53: 6.4. | B53: Részesedések értékesítése | F53: =D53+E53 -> 0 | G53: =C53+F53 -> 0
A54: 6.5. | B54: Részesedések megszűnéséhez kapcsolódó bevételek | F54: =D54+E54 -> 0 | G54: =C54+F54 -> 0
A55: 7. | B55: Működési célú átvett pénzeszközök (7.1. + … + 7.3.) | C55: =SUM(C56:C58) -> 0 | D55: =SUM(D56:D58) -> 0 | E55: =SUM(E56:E58) -> 0 | F55: =SUM(F56:F58) -> 0 | G55: =SUM(G56:G58) -> 0
A56: 7.1. | B56: Működési célú garancia- és kezességvállalásból megtérülések ÁH-n kívülről | F56: =D56+E56 -> 0 | G56: =C56+F56 -> 0
A57: 7.2. | B57: Működési célú visszatérítendő támogatások, kölcsönök visszatér. ÁH-n kívülről | F57: =D57+E57 -> 0 | G57: =C57+F57 -> 0
A58: 7.3. | B58: Egyéb működési célú átvett pénzeszköz | F58: =D58+E58 -> 0 | G58: =C58+F58 -> 0
A59: 7.4. | B59: 7.3.-ból EU-s támogatás (közvetlen) | F59: =D59+E59 -> 0 | G59: =C59+F59 -> 0
A60: 8. | B60: Felhalmozási célú átvett pénzeszközök (8.1.+8.2.+8.3.) | C60: =SUM(C61:C63) -> 0 | D60: =SUM(D61:D63) -> 0 | E60: =SUM(E61:E63) -> 0 | F60: =SUM(F61:F63) -> 0 | G60: =SUM(G61:G63) -> 0
A61: 8.1. | B61: Felhalm. célú garancia- és kezességvállalásból megtérülések ÁH-n kívülről | F61: =D61+E61 -> 0 | G61: =C61+F61 -> 0
A62: 8.2. | B62: Felhalm. célú visszatérítendő támogatások, kölcsönök visszatér. ÁH-n kívülről | F62: =D62+E62 -> 0 | G62: =C62+F62 -> 0
A63: 8.3. | B63: Egyéb felhalmozási célú átvett pénzeszköz | F63: =D63+E63 -> 0 | G63: =C63+F63 -> 0
A64: 8.4. | B64: 8.3.-ból EU-s támogatás (közvetlen) | F64: =D64+E64 -> 0 | G64: =C64+F64 -> 0
A65: 9. | B65: KÖLTSÉGVETÉSI BEVÉTELEK ÖSSZESEN: (1+…+8) | C65: =+C8+C15+C22+C29+C37+C49+C55+C60 -> 0 | D65: =+D8+D15+D22+D29+D37+D49+D55+D60 -> 0 | E65: =+E8+E15+E22+E29+E37+E49+E55+E60 -> 0 | F65: =+F8+F15+F22+F29+F37+F49+F55+F60 -> 0 | G65: =+G8+G15+G22+G29+G37+G49+G55+G60 -> 0
A66: 10. | B66: Hitel-, kölcsönfelvétel államháztartáson kívülről (10.1.+10.3.) | C66: =SUM(C67:C69) -> 0 | D66: =SUM(D67:D69) -> 0 | E66: =SUM(E67:E69) -> 0 | F66: =SUM(F67:F69) -> 0 | G66: =SUM(G67:G69) -> 0
A67: 10.1. | B67: Hosszú lejáratú hitelek, kölcsönök felvétele | F67: =D67+E67 -> 0 | G67: =C67+F67 -> 0
A68: 10.2. | B68: Likviditási célú hitelek, kölcsönök felvétele pénzügyi vállalkozástól | F68: =D68+E68 -> 0 | G68: =C68+F68 -> 0
A69: 10.3. | B69: Rövid lejáratú hitelek, kölcsönök felvétele | F69: =D69+E69 -> 0 | G69: =C69+F69 -> 0
A70: 11. | B70: Belföldi értékpapírok bevételei (11.1. +…+ 11.4.) | C70: =SUM(C71:C74) -> 0 | D70: =SUM(D71:D74) -> 0 | E70: =SUM(E71:E74) -> 0 | F70: =SUM(F71:F74) -> 0 | G70: =SUM(G71:G74) -> 0
A71: 11.1. | B71: Forgatási célú belföldi értékpapírok beváltása, értékesítése | F71: =D71+E71 -> 0 | G71: =C71+F71 -> 0
A72: 11.2. | B72: Éven belüli lejáratú belföldi értékpapírok kibocsátása | F72: =D72+E72 -> 0 | G72: =C72+F72 -> 0
A73: 11.3. | B73: Befektetési célú belföldi értékpapírok beváltása, értékesítése | F73: =D73+E73 -> 0 | G73: =C73+F73 -> 0
A74: 11.4. | B74: Éven túli lejáratú belföldi értékpapírok kibocsátása | F74: =D74+E74 -> 0 | G74: =C74+F74 -> 0
A75: 12. | B75: Maradvány igénybevétele (12.1. + 12.2.) | C75: =SUM(C76:C77) -> 0 | D75: =SUM(D76:D77) -> 0 | E75: =SUM(E76:E77) -> 0 | F75: =SUM(F76:F77) -> 0 | G75: =SUM(G76:G77) -> 0
A76: 12.1. | B76: Előző év költségvetési maradványának igénybevétele | F76: =D76+E76 -> 0 | G76: =C76+F76 -> 0
A77: 12.2. | B77: Előző év vállalkozási maradványának igénybevétele | F77: =D77+E77 -> 0 | G77: =C77+F77 -> 0
A78: 13. | B78: Belföldi finanszírozás bevételei (13.1. + … + 13.3.) | C78: =SUM(C79:C81) -> 0 | D78: =SUM(D79:D81) -> 0 | E78: =SUM(E79:E81) -> 0 | F78: =SUM(F79:F81) -> 0 | G78: =SUM(G79:G81) -> 0
A79: 13.1. | B79: Államháztartáson belüli megelőlegezések | F79: =D79+E79 -> 0 | G79: =C79+F79 -> 0
A80: 13.2. | B80: Államháztartáson belüli megelőlegezések törlesztése | F80: =D80+E80 -> 0 | G80: =C80+F80 -> 0
A81: 13.3. | B81: Lejötött betétek megszüntetése | F81: =D81+E81 -> 0 | G81: =C81+F81 -> 0
A82: 14. | B82: Külföldi finanszírozás bevételei (14.1.+…14.4.) | C82: =SUM(C83:C86) -> 0 | D82: =SUM(D83:D86) -> 0 | E82: =SUM(E83:E86) -> 0 | F82: =SUM(F83:F86) -> 0 | G82: =SUM(G83:G86) -> 0
A83: 14.1. | B83: Forgatási célú külföldi értékpapírok beváltása, értékesítése | F83: =D83+E83 -> 0 | G83: =C83+F83 -> 0
A84: 14.2. | B84: Befektetési célú külföldi értékpapírok beváltása, értékesítése | F84: =D84+E84 -> 0 | G84: =C84+F84 -> 0
A85: 14.3. | B85: Külföldi értékpapírok kibocsátása | F85: =D85+E85 -> 0 | G85: =C85+F85 -> 0
A86: 14.4. | B86: Külföldi hitelek, kölcsönök felvétele | F86: =D86+E86 -> 0 | G86: =C86+F86 -> 0
A87: 15. | B87: Váltóbevételek | F87: =D87+E87 -> 0 | G87: =C87+F87 -> 0
A88: 16. | B88: Adóssághoz nem kapcsolódó származékos ügyletek bevételei | F88: =D88+E88 -> 0 | G88: =C88+F88 -> 0
A89: 17. | B89: FINANSZÍROZÁSI BEVÉTELEK ÖSSZESEN: (10. + … +16.) | C89: =+C66+C70+C75+C78+C82+C88+C87 -> 0 | D89: =+D66+D70+D75+D78+D82+D88+D87 -> 0 | E89: =+E66+E70+E75+E78+E82+E88+E87 -> 0 | F89: =+F66+F70+F75+F78+F82+F88+F87 -> 0 | G89: =+G66+G70+G75+G78+G82+G88+G87 -> 0
A90: 18. | B90: BEVÉTELEK ÖSSZESEN: (9+17) | C90: =+C65+C89 -> 0 | D90: =+D65+D89 -> 0 | E90: =+E65+E89 -> 0 | F90: =+F65+F89 -> 0 | G90: =+G65+G89 -> 0
A92: Kiadások
A93: 1. | B93: Működési költségvetés kiadásai (1.1+…+1.5+1.18.) | C93: =+C94+C95+C96+C97+C98+C111 -> 0 | D93: =+D94+D95+D96+D97+D98+D111 -> 0 | E93: =+E94+E95+E96+E97+E98+E111 -> 0 | F93: =+F94+F95+F96+F97+F98+F111 -> 0 | G93: =+G94+G95+G96+G97+G98+G111 -> 0
A94: 1.1. | B94: Személyi juttatások | F94: =D94+E94 -> 0 | G94: =C94+F94 -> 0
A95: 1.2. | B95: Munkaadókat terhelő járulékok és szociális hozzájárulási adó | F95: =D95+E95 -> 0 | G95: =C95+F95 -> 0
A96: 1.3. | B96: Dologi kiadások | F96: =D96+E96 -> 0 | G96: =C96+F96 -> 0
A97: 1.4. | B97: Ellátottak pénzbeli juttatásai | F97: =D97+E97 -> 0 | G97: =C97+F97 -> 0
A98: 1.5 | B98: Egyéb működési célú kiadások | F98: =D98+E98 -> 0 | G98: =C98+F98 -> 0
A99: 1.6. | B99: az 1.5-ből: - Előző évi elszámolásból származó befizetések | F99: =D99+E99 -> 0 | G99: =C99+F99 -> 0
A100: 1.7. | B100: - Törvényi előíráson alapuló befizetések | F100: =D100+E100 -> 0 | G100: =C100+F100 -> 0
A101: 1.8. | B101: - Elvonások és befizetések | F101: =D101+E101 -> 0 | G101: =C101+F101 -> 0
...

Sheet 5.3. sz. mell  
G1: 5.3. melléklet
A2: Megnevezés | B2: Sajószögedi Általános Művelődési Központ | G2: 03
A3: Feladat megnevezése | B3: Összes bevétel, kiadás | G3: 01
G4: Forintban!
A5: Száma | B5: Kiemelt előirányzat, előirányzat megnevezése | C5: Eredeti előirányzat | D5: Korábbi módosítások | E5: 1. sz. módosítás | F5: Módosítások összesen | G5: 1.számú módosítás utáni előirányzat
A6: A | B6: B | C6: C | D6: D | E6: E | F6: F=(D+…+E) | G6: G=(C+F)
A7: Bevételek
A8: 1. | B8: Önkormányzat működési támogatásai (1.1.+…+.1.6.) | C8: =+C9+C10+C11+C12+C13+C14 -> 0 | D8: =+D9+D10+D11+D12+D13+D14 -> 0 | E8: =+E9+E10+E11+E12+E13+E14 -> 0 | F8: =+F9+F10+F11+F12+F13+F14 -> 0 | G8: =+G9+G10+G11+G12+G13+G14 -> 0
A9: 1.1. | B9: Helyi önkormányzatok működésének általános támogatása | F9: =D9+E9 -> 0 | G9: =C9+F9 -> 0
A10: 1.2. | B10: Önkormányzatok egyes köznevelési feladatainak támogatása | F10: =D10+E10 -> 0 | G10: =C10+F10 -> 0
A11: 1.3. | B11: Önkormányzatok szociális és gyermekjóléti feladatainak támogatása | F11: =D11+E11 -> 0 | G11: =C11+F11 -> 0
A12: 1.4. | B12: Önkormányzatok kulturális feladatainak támogatása | F12: =D12+E12 -> 0 | G12: =C12+F12 -> 0
A13: 1.5. | B13: Működési célú kvi támogatások és kiegészítő támogatások | F13: =D13+E13 -> 0 | G13: =C13+F13 -> 0
A14: 1.6. | B14: Elszámolásból származó bevételek | F14: =D14+E14 -> 0 | G14: =C14+F14 -> 0
A15: 2. | B15: Működési célú támogatások államháztartáson belülről (2.1.+…+.2.5.) | C15: =+C16+C17+C18+C19+C20 -> 0 | D15: =+D16+D17+D18+D19+D20 -> 0 | E15: =+E16+E17+E18+E19+E20 -> 0 | F15: =+F16+F17+F18+F19+F20 -> 0 | G15: =+G16+G17+G18+G19+G20 -> 0
A16: 2.1. | B16: Elvonások és befizetések bevételei | F16: =D16+E16 -> 0 | G16: =C16+F16 -> 0
A17: 2.2. | B17: Működési célú garancia- és kezességvállalásból megtérülések | F17: =D17+E17 -> 0 | G17: =C17+F17 -> 0
A18: 2.3. | B18: Működési célú visszatérítendő támogatások, kölcsönök visszatérülése | F18: =D18+E18 -> 0 | G18: =C18+F18 -> 0
A19: 2.4. | B19: Működési célú visszatérítendő támogatások, kölcsönök igénybevétele | F19: =D19+E19 -> 0 | G19: =C19+F19 -> 0
A20: 2.5. | B20: Egyéb működési célú támogatások bevételei | F20: =D20+E20 -> 0 | G20: =C20+F20 -> 0
A21: 2.6. | B21: 2.5.-ből EU-s támogatás | F21: =D21+E21 -> 0 | G21: =C21+F21 -> 0
A22: 3. | B22: Felhalmozási célú támogatások államháztartáson belülről (3.1.+…+3.5.) | C22: =+C23+C24+C25+C26+C27 -> 0 | D22: =+D23+D24+D25+D26+D27 -> 0 | E22: =+E23+E24+E25+E26+E27 -> 0 | F22: =+F23+F24+F25+F26+F27 -> 0 | G22: =+G23+G24+G25+G26+G27 -> 0
A23: 3.1. | B23: Felhalmozási célú önkormányzati támogatások | F23: =D23+E23 -> 0 | G23: =C23+F23 -> 0
A24: 3.2. | B24: Felhalmozási célú garancia- és kezességvállalásból megtérülések | F24: =D24+E24 -> 0 | G24: =C24+F24 -> 0
A25: 3.3. | B25: Felhalmozási célú visszatérítendő támogatások, kölcsönök visszatérülése | F25: =D25+E25 -> 0 | G25: =C25+F25 -> 0
A26: 3.4. | B26: Felhalmozási célú visszatérítendő támogatások, kölcsönök igénybevétele | F26: =D26+E26 -> 0 | G26: =C26+F26 -> 0
A27: 3.5. | B27: Egyéb felhalmozási célú támogatások bevételei | F27: =D27+E27 -> 0 | G27: =C27+F27 -> 0
A28: 3.6. | B28: 3.5.-ből EU-s támogatás | F28: =D28+E28 -> 0 | G28: =C28+F28 -> 0
A29: 4. | B29: Közhatalmi bevételek (4.1.+...+4.7.) | C29: =+C30+C31+C32+C33+C34+C35+C36 -> 0 | D29: =+D30+D31+D32+D33+D34+D35+D36 -> 0 | E29: =+E30+E31+E32+E33+E34+E35+E36 -> 0 | F29: =+F30+F31+F32+F33+F34+F35+F36 -> 0 | G29: =+G30+G31+G32+G33+G34+G35+G36 -> 0
A30: 4.1. | B30: Építményadó | F30: =D30+E30 -> 0 | G30: =C30+F30 -> 0
A31: 4.2. | B31: Idegenforgalmi adó | F31: =D31+E31 -> 0 | G31: =C31+F31 -> 0
A32: 4.3. | B32: Iparűzési adó | F32: =D32+E32 -> 0 | G32: =C32+F32 -> 0
A33: 4.4. | B33: Talajterhelési díj | F33: =D33+E33 -> 0 | G33: =C33+F33 -> 0
A34: 4.5. | B34: Gépjárműadó | F34: =D34+E34 -> 0 | G34: =C34+F34 -> 0
A35: 4.6. | B35: Egyéb áruhasználati és szolgáltatási adók | F35: =D35+E35 -> 0 | G35: =C35+F35 -> 0
A36: 4.7. | B36: Egyéb közhatalmi bevételek | F36: =D36+E36 -> 0 | G36: =C36+F36 -> 0
A37: 5. | B37: Működési bevételek (5.1.+…+ 5.11.) | C37: =SUM(C38:C48) -> 14002208 | D37: =SUM(D38:D48) -> 0 | E37: =SUM(E38:E48) -> -7189333 | F37: =SUM(F38:F48) -> -7189333 | G37: =SUM(G38:G48) -> 6812875
A38: 5.1. | B38: Készletértékesítés ellenértéke | F38: =D38+E38 -> 0 | G38: =C38+F38 -> 0
A39: 5.2. | B39: Szolgáltatások ellenértéke | C39: 10450020 | E39: -5822571 | F39: =D39+E39 -> -5822571 | G39: =C39+F39 -> 4627449
A40: 5.3. | B40: Közvetített szolgáltatások értéke | F40: =D40+E40 -> 0 | G40: =C40+F40 -> 0
A41: 5.4. | B41: Tulajdonosi bevételek | F41: =D41+E41 -> 0 | G41: =C41+F41 -> 0
A42: 5.5. | B42: Ellátási díjak | C42: 702900 | E42: 59550 | F42: =D42+E42 -> 59550 | G42: =C42+F42 -> 762450
A43: 5.6. | B43: Kiszámlázott általános forgalmi adó | C43: 2849288 | E43: -1474715 | F43: =D43+E43 -> -1474715 | G43: =C43+F43 -> 1374573
A44: 5.7. | B44: Általános forgalmi adó visszatérítése | F44: =D44+E44 -> 0 | G44: =C44+F44 -> 0
A45: 5.8. | B45: Kamatbevételek | F45: =D45+E45 -> 0 | G45: =C45+F45 -> 0
A46: 5.9. | B46: Egyéb pénzügyi műveletek bevételei | F46: =D46+E46 -> 0 | G46: =C46+F46 -> 0
A47: 5.10. | B47: Biztosító által fizetett kártérítés | F47: =D47+E47 -> 0 | G47: =C47+F47 -> 0
A48: 5.11. | B48: Egyéb működési bevételek | E48: 48403 | F48: =D48+E48 -> 48403 | G48: =C48+F48 -> 48403
A49: 6. | B49: Felhalmozási bevételek (6.1.+…+6.5.) | C49: =SUM(C50:C54) -> 0 | D49: =SUM(D50:D54) -> 0 | E49: =SUM(E50:E54) -> 0 | F49: =SUM(F50:F54) -> 0 | G49: =SUM(G50:G54) -> 0
A50: 6.1. | B50: Immateriális javak értékesítése | F50: =D50+E50 -> 0 | G50: =C50+F50 -> 0
A51: 6.2. | B51: Ingatlanok értékesítése | F51: =D51+E51 -> 0 | G51: =C51+F51 -> 0
A52: 6.3. | B52: Egyéb tárgyi eszközök értékesítése | F52: =D52+E52 -> 0 | G52: =C52+F52 -> 0
A53: 6.4. | B53: Részesedések értékesítése | F53: =D53+E53 -> 0 | G53: =C53+F53 -> 0
A54: 6.5. | B54: Részesedések megszűnéséhez kapcsolódó bevételek | F54: =D54+E54 -> 0 | G54: =C54+F54 -> 0
A55: 7. | B55: Működési célú átvett pénzeszközök (7.1. + … + 7.3.) | C55: =SUM(C56:C58) -> 0 | D55: =SUM(D56:D58) -> 0 | E55: =SUM(E56:E58) -> 90000 | F55: =SUM(F56:F58) -> 90000 | G55: =SUM(G56:G58) -> 90000
A56: 7.1. | B56: Működési célú garancia- és kezességvállalásból megtérülések ÁH-n kívülről | F56: =D56+E56 -> 0 | G56: =C56+F56 -> 0
A57: 7.2. | B57: Működési célú visszatérítendő támogatások, kölcsönök visszatér. ÁH-n kívülről | F57: =D57+E57 -> 0 | G57: =C57+F57 -> 0
A58: 7.3. | B58: Egyéb működési célú átvett pénzeszköz | E58: 90000 | F58: =D58+E58 -> 90000 | G58: =C58+F58 -> 90000
A59: 7.4. | B59: 7.3.-ból EU-s támogatás (közvetlen) | F59: =D59+E59 -> 0 | G59: =C59+F59 -> 0
A60: 8. | B60: Felhalmozási célú átvett pénzeszközök (8.1.+8.2.+8.3.) | C60: =SUM(C61:C63) -> 0 | D60: =SUM(D61:D63) -> 0 | E60: =SUM(E61:E63) -> 0 | F60: =SUM(F61:F63) -> 0 | G60: =SUM(G61:G63) -> 0
A61: 8.1. | B61: Felhalm. célú garancia- és kezességvállalásból megtérülések ÁH-n kívülről | F61: =D61+E61 -> 0 | G61: =C61+F61 -> 0
A62: 8.2. | B62: Felhalm. célú visszatérítendő támogatások, kölcsönök visszatér. ÁH-n kívülről | F62: =D62+E62 -> 0 | G62: =C62+F62 -> 0
A63: 8.3. | B63: Egyéb felhalmozási célú átvett pénzeszköz | F63: =D63+E63 -> 0 | G63: =C63+F63 -> 0
A64: 8.4. | B64: 8.3.-ból EU-s támogatás (közvetlen) | F64: =D64+E64 -> 0 | G64: =C64+F64 -> 0
A65: 9. | B65: KÖLTSÉGVETÉSI BEVÉTELEK ÖSSZESEN: (1+…+8) | C65: =+C8+C15+C22+C29+C37+C49+C55+C60 -> 14002208 | D65: =+D8+D15+D22+D29+D37+D49+D55+D60 -> 0 | E65: =+E8+E15+E22+E29+E37+E49+E55+E60 -> -7099333 | F65: =+F8+F15+F22+F29+F37+F49+F55+F60 -> -7099333 | G65: =+G8+G15+G22+G29+G37+G49+G55+G60 -> 6902875
A66: 10. | B66: Hitel-, kölcsönfelvétel államháztartáson kívülről (10.1.+10.3.) | C66: =SUM(C67:C69) -> 0 | D66: =SUM(D67:D69) -> 0 | E66: =SUM(E67:E69) -> 0 | F66: =SUM(F67:F69) -> 0 | G66: =SUM(G67:G69) -> 0
A67: 10.1. | B67: Hosszú lejáratú hitelek, kölcsönök felvétele | F67: =D67+E67 -> 0 | G67: =C67+F67 -> 0
A68: 10.2. | B68: Likviditási célú hitelek, kölcsönök felvétele pénzügyi vállalkozástól | F68: =D68+E68 -> 0 | G68: =C68+F68 -> 0
A69: 10.3. | B69: Rövid lejáratú hitelek, kölcsönök felvétele | F69: =D69+E69 -> 0 | G69: =C69+F69 -> 0
A70: 11. | B70: Belföldi értékpapírok bevételei (11.1. +…+ 11.4.) | C70: =SUM(C71:C74) -> 0 | D70: =SUM(D71:D74) -> 0 | E70: =SUM(E71:E74) -> 0 | F70: =SUM(F71:F74) -> 0 | G70: =SUM(G71:G74) -> 0
A71: 11.1. | B71: Forgatási célú belföldi értékpapírok beváltása, értékesítése | F71: =D71+E71 -> 0 | G71: =C71+F71 -> 0
A72: 11.2. | B72: Éven belüli lejáratú belföldi értékpapírok kibocsátása | F72: =D72+E72 -> 0 | G72: =C72+F72 -> 0
A73: 11.3. | B73: Befektetési célú belföldi értékpapírok beváltása, értékesítése | F73: =D73+E73 -> 0 | G73: =C73+F73 -> 0
A74: 11.4. | B74: Éven túli lejáratú belföldi értékpapírok kibocsátása | F74: =D74+E74 -> 0 | G74: =C74+F74 -> 0
A75: 12. | B75: Maradvány igénybevétele (12.1. + 12.2.) | C75: =SUM(C76:C77) -> 1305256 | D75: =SUM(D76:D77) -> 0 | E75: =SUM(E76:E77) -> 80508 | F75: =SUM(F76:F77) -> 80508 | G75: =SUM(G76:G77) -> 1385764
A76: 12.1. | B76: Előző év költségvetési maradványának igénybevétele | C76: 1305256 | E76: 80508 | F76: =D76+E76 -> 80508 | G76: =C76+F76 -> 1385764
A77: 12.2. | B77: Előző év vállalkozási maradványának igénybevétele | F77: =D77+E77 -> 0 | G77: =C77+F77 -> 0
A78: 13. | B78: Belföldi finanszírozás bevételei (13.1. + … + 13.3.) | C78: =SUM(C79:C81) -> 106719256 | D78: =SUM(D79:D81) -> 0 | E78: =SUM(E79:E81) -> -6218441 | F78: =SUM(F79:F81) -> -6218441 | G78: =SUM(G79:G81) -> 100500815
A79: 13.1. | B79: Államháztartáson belüli megelőlegezések | F79: =D79+E79 -> 0 | G79: =C79+F79 -> 0
A80: 13.2. | B80: Államháztartáson belüli megelőlegezések törlesztése | F80: =D80+E80 -> 0 | G80: =C80+F80 -> 0
A81: 13.3. | B81: Lejötött betétek megszüntetése | C81: 106719256 | E81: -6218441 | F81: =D81+E81 -> -6218441 | G81: =C81+F81 -> 100500815
A82: 14. | B82: Külföldi finanszírozás bevételei (14.1.+…14.4.) | C82: =SUM(C83:C86) -> 0 | D82: =SUM(D83:D86) -> 0 | E82: =SUM(E83:E86) -> 0 | F82: =SUM(F83:F86) -> 0 | G82: =SUM(G83:G86) -> 0
A83: 14.1. | B83: Forgatási célú külföldi értékpapírok beváltása, értékesítése | F83: =D83+E83 -> 0 | G83: =C83+F83 -> 0
A84: 14.2. | B84: Befektetési célú külföldi értékpapírok beváltása, értékesítése | F84: =D84+E84 -> 0 | G84: =C84+F84 -> 0
A85: 14.3. | B85: Külföldi értékpapírok kibocsátása | F85: =D85+E85 -> 0 | G85: =C85+F85 -> 0
A86: 14.4. | B86: Külföldi hitelek, kölcsönök felvétele | F86: =D86+E86 -> 0 | G86: =C86+F86 -> 0
A87: 15. | B87: Váltóbevételek | F87: =D87+E87 -> 0 | G87: =C87+F87 -> 0
A88: 16. | B88: Adóssághoz nem kapcsolódó származékos ügyletek bevételei | F88: =D88+E88 -> 0 | G88: =C88+F88 -> 0
A89: 17. | B89: FINANSZÍROZÁSI BEVÉTELEK ÖSSZESEN: (10. + … +16.) | C89: =+C66+C70+C75+C78+C82+C88+C87 -> 108024512 | D89: =+D66+D70+D75+D78+D82+D88+D87 -> 0 | E89: =+E66+E70+E75+E78+E82+E88+E87 -> -6137933 | F89: =+F66+F70+F75+F78+F82+F88+F87 -> -6137933 | G89: =+G66+G70+G75+G78+G82+G88+G87 -> 101886579
A90: 18. | B90: BEVÉTELEK ÖSSZESEN: (9+17) | C90: =+C65+C89 -> 122026720 | D90: =+D65+D89 -> 0 | E90: =+E65+E89 -> -13237266 | F90: =+F65+F89 -> -13237266 | G90: =+G65+G89 -> 108789454
A92: Kiadások
A93: 1. | B93: Működési költségvetés kiadásai (1.1+…+1.5+1.18.) | C93: =+C94+C95+C96+C97+C98+C111 -> 120629720 | D93: =+D94+D95+D96+D97+D98+D111 -> 0 | E93: =+E94+E95+E96+E97+E98+E111 -> -12929992 | F93: =+F94+F95+F96+F97+F98+F111 -> -12929992 | G93: =+G94+G95+G96+G97+G98+G111 -> 107699728
A94: 1.1. | B94: Személyi juttatások | C94: 59921744 | E94: -146442 | F94: =D94+E94 -> -146442 | G94: =C94+F94 -> 59775302
A95: 1.2. | B95: Munkaadókat terhelő járulékok és szociális hozzájárulási adó | C95: 12524911 | E95: -212157 | F95: =D95+E95 -> -212157 | G95: =C95+F95 -> 12312754
A96: 1.3. | B96: Dologi kiadások | C96: 48183065 | E96: -12571393 | F96: =D96+E96 -> -12571393 | G96: =C96+F96 -> 35611672
A97: 1.4. | B97: Ellátottak pénzbeli juttatásai | F97: =D97+E97 -> 0 | G97: =C97+F97 -> 0
A98: 1.5 | B98: Egyéb működési célú kiadások | F98: =D98+E98 -> 0 | G98: =C98+F98 -> 0
A99: 1.6. | B99: az 1.5-ből: - Előző évi elszámolásból származó befizetések | F99: =D99+E99 -> 0 | G99: =C99+F99 -> 0
A100: 1.7. | B100: - Törvényi előíráson alapuló befizetések | F100: =D100+E100 -> 0 | G100: =C100+F100 -> 0
A101: 1.8. | B101: - Elvonások és befizetések | F101: =D101+E101 -> 0 | G101: =C101+F101 -> 0
...

Sheet 5.3.1. sz. mell   
G1: 5.3. 1.melléklet
A2: Megnevezés | B2: Sajószögedi Általános Művelődési Központ | G2: 02
A3: Feladat megnevezése | B3: Kötelező feladatok bevételei, kiadásai | G3: 01
G4: Forintban!
A5: Száma | B5: Kiemelt előirányzat, előirányzat megnevezése | C5: Eredeti előirányzat | D5: Korábbi módosítások | E5: 1. sz. módosítás | F5: Módosítások összesen | G5: 1.számú módosítás utáni előirányzat
A6: A | B6: B | C6: C | D6: D | E6: E | F6: F=(D+…+E) | G6: G=(C+F)
A7: Bevételek
A8: 1. | B8: Önkormányzat működési támogatásai (1.1.+…+.1.6.) | C8: =+C9+C10+C11+C12+C13+C14 -> 0 | D8: =+D9+D10+D11+D12+D13+D14 -> 0 | E8: =+E9+E10+E11+E12+E13+E14 -> 0 | F8: =+F9+F10+F11+F12+F13+F14 -> 0 | G8: =+G9+G10+G11+G12+G13+G14 -> 0
A9: 1.1. | B9: Helyi önkormányzatok működésének általános támogatása | F9: =D9+E9 -> 0 | G9: =C9+F9 -> 0
A10: 1.2. | B10: Önkormányzatok egyes köznevelési feladatainak támogatása | F10: =D10+E10 -> 0 | G10: =C10+F10 -> 0
A11: 1.3. | B11: Önkormányzatok szociális és gyermekjóléti feladatainak támogatása | F11: =D11+E11 -> 0 | G11: =C11+F11 -> 0
A12: 1.4. | B12: Önkormányzatok kulturális feladatainak támogatása | F12: =D12+E12 -> 0 | G12: =C12+F12 -> 0
A13: 1.5. | B13: Működési célú kvi támogatások és kiegészítő támogatások | F13: =D13+E13 -> 0 | G13: =C13+F13 -> 0
A14: 1.6. | B14: Elszámolásból származó bevételek | F14: =D14+E14 -> 0 | G14: =C14+F14 -> 0
A15: 2. | B15: Működési célú támogatások államháztartáson belülről (2.1.+…+.2.5.) | C15: =+C16+C17+C18+C19+C20 -> 0 | D15: =+D16+D17+D18+D19+D20 -> 0 | E15: =+E16+E17+E18+E19+E20 -> 0 | F15: =+F16+F17+F18+F19+F20 -> 0 | G15: =+G16+G17+G18+G19+G20 -> 0
A16: 2.1. | B16: Elvonások és befizetések bevételei | F16: =D16+E16 -> 0 | G16: =C16+F16 -> 0
A17: 2.2. | B17: Működési célú garancia- és kezességvállalásból megtérülések | F17: =D17+E17 -> 0 | G17: =C17+F17 -> 0
A18: 2.3. | B18: Működési célú visszatérítendő támogatások, kölcsönök visszatérülése | F18: =D18+E18 -> 0 | G18: =C18+F18 -> 0
A19: 2.4. | B19: Működési célú visszatérítendő támogatások, kölcsönök igénybevétele | F19: =D19+E19 -> 0 | G19: =C19+F19 -> 0
A20: 2.5. | B20: Egyéb működési célú támogatások bevételei | F20: =D20+E20 -> 0 | G20: =C20+F20 -> 0
A21: 2.6. | B21: 2.5.-ből EU-s támogatás | F21: =D21+E21 -> 0 | G21: =C21+F21 -> 0
A22: 3. | B22: Felhalmozási célú támogatások államháztartáson belülről (3.1.+…+3.5.) | C22: =+C23+C24+C25+C26+C27 -> 0 | D22: =+D23+D24+D25+D26+D27 -> 0 | E22: =+E23+E24+E25+E26+E27 -> 0 | F22: =+F23+F24+F25+F26+F27 -> 0 | G22: =+G23+G24+G25+G26+G27 -> 0
A23: 3.1. | B23: Felhalmozási célú önkormányzati támogatások | F23: =D23+E23 -> 0 | G23: =C23+F23 -> 0
A24: 3.2. | B24: Felhalmozási célú garancia- és kezességvállalásból megtérülések | F24: =D24+E24 -> 0 | G24: =C24+F24 -> 0
A25: 3.3. | B25: Felhalmozási célú visszatérítendő támogatások, kölcsönök visszatérülése | F25: =D25+E25 -> 0 | G25: =C25+F25 -> 0
A26: 3.4. | B26: Felhalmozási célú visszatérítendő támogatások, kölcsönök igénybevétele | F26: =D26+E26 -> 0 | G26: =C26+F26 -> 0
A27: 3.5. | B27: Egyéb felhalmozási célú támogatások bevételei | F27: =D27+E27 -> 0 | G27: =C27+F27 -> 0
A28: 3.6. | B28: 3.5.-ből EU-s támogatás | F28: =D28+E28 -> 0 | G28: =C28+F28 -> 0
A29: 4. | B29: Közhatalmi bevételek (4.1.+...+4.7.) | C29: =+C30+C31+C32+C33+C34+C35+C36 -> 0 | D29: =+D30+D31+D32+D33+D34+D35+D36 -> 0 | E29: =+E30+E31+E32+E33+E34+E35+E36 -> 0 | F29: =+F30+F31+F32+F33+F34+F35+F36 -> 0 | G29: =+G30+G31+G32+G33+G34+G35+G36 -> 0
A30: 4.1. | B30: Építményadó | F30: =D30+E30 -> 0 | G30: =C30+F30 -> 0
A31: 4.2. | B31: Idegenforgalmi adó | F31: =D31+E31 -> 0 | G31: =C31+F31 -> 0
A32: 4.3. | B32: Iparűzési adó | F32: =D32+E32 -> 0 | G32: =C32+F32 -> 0
A33: 4.4. | B33: Talajterhelési díj | F33: =D33+E33 -> 0 | G33: =C33+F33 -> 0
A34: 4.5. | B34: Gépjárműadó | F34: =D34+E34 -> 0 | G34: =C34+F34 -> 0
A35: 4.6. | B35: Egyéb áruhasználati és szolgáltatási adók | F35: =D35+E35 -> 0 | G35: =C35+F35 -> 0
A36: 4.7. | B36: Egyéb közhatalmi bevételek | F36: =D36+E36 -> 0 | G36: =C36+F36 -> 0
A37: 5. | B37: Működési bevételek (5.1.+…+ 5.11.) | C37: =SUM(C38:C48) -> 14002208 | D37: =SUM(D38:D48) -> 0 | E37: =SUM(E38:E48) -> -7189333 | F37: =SUM(F38:F48) -> -7189333 | G37: =SUM(G38:G48) -> 6812875
A38: 5.1. | B38: Készletértékesítés ellenértéke | F38: =D38+E38 -> 0 | G38: =C38+F38 -> 0
A39: 5.2. | B39: Szolgáltatások ellenértéke | C39: 10450020 | E39: -5822571 | F39: =D39+E39 -> -5822571 | G39: =C39+F39 -> 4627449
A40: 5.3. | B40: Közvetített szolgáltatások értéke | F40: =D40+E40 -> 0 | G40: =C40+F40 -> 0
A41: 5.4. | B41: Tulajdonosi bevételek | F41: =D41+E41 -> 0 | G41: =C41+F41 -> 0
A42: 5.5. | B42: Ellátási díjak | C42: 702900 | E42: 59550 | F42: =D42+E42 -> 59550 | G42: =C42+F42 -> 762450
A43: 5.6. | B43: Kiszámlázott általános forgalmi adó | C43: 2849288 | E43: -1474715 | F43: =D43+E43 -> -1474715 | G43: =C43+F43 -> 1374573
A44: 5.7. | B44: Általános forgalmi adó visszatérítése | F44: =D44+E44 -> 0 | G44: =C44+F44 -> 0
A45: 5.8. | B45: Kamatbevételek | F45: =D45+E45 -> 0 | G45: =C45+F45 -> 0
A46: 5.9. | B46: Egyéb pénzügyi műveletek bevételei | F46: =D46+E46 -> 0 | G46: =C46+F46 -> 0
A47: 5.10. | B47: Biztosító által fizetett kártérítés | F47: =D47+E47 -> 0 | G47: =C47+F47 -> 0
A48: 5.11. | B48: Egyéb működési bevételek | E48: 48403 | F48: =D48+E48 -> 48403 | G48: =C48+F48 -> 48403
A49: 6. | B49: Felhalmozási bevételek (6.1.+…+6.5.) | C49: =SUM(C50:C54) -> 0 | D49: =SUM(D50:D54) -> 0 | E49: =SUM(E50:E54) -> 0 | F49: =SUM(F50:F54) -> 0 | G49: =SUM(G50:G54) -> 0
A50: 6.1. | B50: Immateriális javak értékesítése | F50: =D50+E50 -> 0 | G50: =C50+F50 -> 0
A51: 6.2. | B51: Ingatlanok értékesítése | F51: =D51+E51 -> 0 | G51: =C51+F51 -> 0
A52: 6.3. | B52: Egyéb tárgyi eszközök értékesítése | F52: =D52+E52 -> 0 | G52: =C52+F52 -> 0
A53: 6.4. | B53: Részesedések értékesítése | F53: =D53+E53 -> 0 | G53: =C53+F53 -> 0
A54: 6.5. | B54: Részesedések megszűnéséhez kapcsolódó bevételek | F54: =D54+E54 -> 0 | G54: =C54+F54 -> 0
A55: 7. | B55: Működési célú átvett pénzeszközök (7.1. + … + 7.3.) | C55: =SUM(C56:C58) -> 0 | D55: =SUM(D56:D58) -> 0 | E55: =SUM(E56:E58) -> 90000 | F55: =SUM(F56:F58) -> 90000 | G55: =SUM(G56:G58) -> 90000
A56: 7.1. | B56: Működési célú garancia- és kezességvállalásból megtérülések ÁH-n kívülről | F56: =D56+E56 -> 0 | G56: =C56+F56 -> 0
A57: 7.2. | B57: Működési célú visszatérítendő támogatások, kölcsönök visszatér. ÁH-n kívülről | F57: =D57+E57 -> 0 | G57: =C57+F57 -> 0
A58: 7.3. | B58: Egyéb működési célú átvett pénzeszköz | E58: 90000 | F58: =D58+E58 -> 90000 | G58: =C58+F58 -> 90000
A59: 7.4. | B59: 7.3.-ból EU-s támogatás (közvetlen) | F59: =D59+E59 -> 0 | G59: =C59+F59 -> 0
A60: 8. | B60: Felhalmozási célú átvett pénzeszközök (8.1.+8.2.+8.3.) | C60: =SUM(C61:C63) -> 0 | D60: =SUM(D61:D63) -> 0 | E60: =SUM(E61:E63) -> 0 | F60: =SUM(F61:F63) -> 0 | G60: =SUM(G61:G63) -> 0
A61: 8.1. | B61: Felhalm. célú garancia- és kezességvállalásból megtérülések ÁH-n kívülről | F61: =D61+E61 -> 0 | G61: =C61+F61 -> 0
A62: 8.2. | B62: Felhalm. célú visszatérítendő támogatások, kölcsönök visszatér. ÁH-n kívülről | F62: =D62+E62 -> 0 | G62: =C62+F62 -> 0
A63: 8.3. | B63: Egyéb felhalmozási célú átvett pénzeszköz | F63: =D63+E63 -> 0 | G63: =C63+F63 -> 0
A64: 8.4. | B64: 8.3.-ból EU-s támogatás (közvetlen) | F64: =D64+E64 -> 0 | G64: =C64+F64 -> 0
A65: 9. | B65: KÖLTSÉGVETÉSI BEVÉTELEK ÖSSZESEN: (1+…+8) | C65: =+C8+C15+C22+C29+C37+C49+C55+C60 -> 14002208 | D65: =+D8+D15+D22+D29+D37+D49+D55+D60 -> 0 | E65: =+E8+E15+E22+E29+E37+E49+E55+E60 -> -7099333 | F65: =+F8+F15+F22+F29+F37+F49+F55+F60 -> -7099333 | G65: =+G8+G15+G22+G29+G37+G49+G55+G60 -> 6902875
A66: 10. | B66: Hitel-, kölcsönfelvétel államháztartáson kívülről (10.1.+10.3.) | C66: =SUM(C67:C69) -> 0 | D66: =SUM(D67:D69) -> 0 | E66: =SUM(E67:E69) -> 0 | F66: =SUM(F67:F69) -> 0 | G66: =SUM(G67:G69) -> 0
A67: 10.1. | B67: Hosszú lejáratú hitelek, kölcsönök felvétele | F67: =D67+E67 -> 0 | G67: =C67+F67 -> 0
A68: 10.2. | B68: Likviditási célú hitelek, kölcsönök felvétele pénzügyi vállalkozástól | F68: =D68+E68 -> 0 | G68: =C68+F68 -> 0
A69: 10.3. | B69: Rövid lejáratú hitelek, kölcsönök felvétele | F69: =D69+E69 -> 0 | G69: =C69+F69 -> 0
A70: 11. | B70: Belföldi értékpapírok bevételei (11.1. +…+ 11.4.) | C70: =SUM(C71:C74) -> 0 | D70: =SUM(D71:D74) -> 0 | E70: =SUM(E71:E74) -> 0 | F70: =SUM(F71:F74) -> 0 | G70: =SUM(G71:G74) -> 0
A71: 11.1. | B71: Forgatási célú belföldi értékpapírok beváltása, értékesítése | F71: =D71+E71 -> 0 | G71: =C71+F71 -> 0
A72: 11.2. | B72: Éven belüli lejáratú belföldi értékpapírok kibocsátása | F72: =D72+E72 -> 0 | G72: =C72+F72 -> 0
A73: 11.3. | B73: Befektetési célú belföldi értékpapírok beváltása, értékesítése | F73: =D73+E73 -> 0 | G73: =C73+F73 -> 0
A74: 11.4. | B74: Éven túli lejáratú belföldi értékpapírok kibocsátása | F74: =D74+E74 -> 0 | G74: =C74+F74 -> 0
A75: 12. | B75: Maradvány igénybevétele (12.1. + 12.2.) | C75: =SUM(C76:C77) -> 1305256 | D75: =SUM(D76:D77) -> 0 | E75: =SUM(E76:E77) -> 80508 | F75: =SUM(F76:F77) -> 80508 | G75: =SUM(G76:G77) -> 1385764
A76: 12.1. | B76: Előző év költségvetési maradványának igénybevétele | C76: 1305256 | E76: 80508 | F76: =D76+E76 -> 80508 | G76: =C76+F76 -> 1385764
A77: 12.2. | B77: Előző év vállalkozási maradványának igénybevétele | F77: =D77+E77 -> 0 | G77: =C77+F77 -> 0
A78: 13. | B78: Belföldi finanszírozás bevételei (13.1. + … + 13.3.) | C78: =SUM(C79:C81) -> 106719256 | D78: =SUM(D79:D81) -> 0 | E78: =SUM(E79:E81) -> -6218441 | F78: =SUM(F79:F81) -> -6218441 | G78: =SUM(G79:G81) -> 100500815
A79: 13.1. | B79: Államháztartáson belüli megelőlegezések | F79: =D79+E79 -> 0 | G79: =C79+F79 -> 0
A80: 13.2. | B80: Államháztartáson belüli megelőlegezések törlesztése | F80: =D80+E80 -> 0 | G80: =C80+F80 -> 0
A81: 13.3. | B81: Inétzményfinanszírozás bevétele | C81: 106719256 | E81: -6218441 | F81: =D81+E81 -> -6218441 | G81: =C81+F81 -> 100500815
A82: 14. | B82: Külföldi finanszírozás bevételei (14.1.+…14.4.) | C82: =SUM(C83:C86) -> 0 | D82: =SUM(D83:D86) -> 0 | E82: =SUM(E83:E86) -> 0 | F82: =SUM(F83:F86) -> 0 | G82: =SUM(G83:G86) -> 0
A83: 14.1. | B83: Forgatási célú külföldi értékpapírok beváltása, értékesítése | F83: =D83+E83 -> 0 | G83: =C83+F83 -> 0
A84: 14.2. | B84: Befektetési célú külföldi értékpapírok beváltása, értékesítése | F84: =D84+E84 -> 0 | G84: =C84+F84 -> 0
A85: 14.3. | B85: Külföldi értékpapírok kibocsátása | F85: =D85+E85 -> 0 | G85: =C85+F85 -> 0
A86: 14.4. | B86: Külföldi hitelek, kölcsönök felvétele | F86: =D86+E86 -> 0 | G86: =C86+F86 -> 0
A87: 15. | B87: Váltóbevételek | F87: =D87+E87 -> 0 | G87: =C87+F87 -> 0
A88: 16. | B88: Adóssághoz nem kapcsolódó származékos ügyletek bevételei | F88: =D88+E88 -> 0 | G88: =C88+F88 -> 0
A89: 17. | B89: FINANSZÍROZÁSI BEVÉTELEK ÖSSZESEN: (10. + … +16.) | C89: =+C66+C70+C75+C78+C82+C88+C87 -> 108024512 | D89: =+D66+D70+D75+D78+D82+D88+D87 -> 0 | E89: =+E66+E70+E75+E78+E82+E88+E87 -> -6137933 | F89: =+F66+F70+F75+F78+F82+F88+F87 -> -6137933 | G89: =+G66+G70+G75+G78+G82+G88+G87 -> 101886579
A90: 18. | B90: BEVÉTELEK ÖSSZESEN: (9+17) | C90: =+C65+C89 -> 122026720 | D90: =+D65+D89 -> 0 | E90: =+E65+E89 -> -13237266 | F90: =+F65+F89 -> -13237266 | G90: =+G65+G89 -> 108789454
A92: Kiadások
A93: 1. | B93: Működési költségvetés kiadásai (1.1+…+1.5+1.18.) | C93: =+C94+C95+C96+C97+C98+C111 -> 120629720 | D93: =+D94+D95+D96+D97+D98+D111 -> 0 | E93: =+E94+E95+E96+E97+E98+E111 -> -12929992 | F93: =+F94+F95+F96+F97+F98+F111 -> -12929992 | G93: =+G94+G95+G96+G97+G98+G111 -> 107699728
A94: 1.1. | B94: Személyi juttatások | C94: 59921744 | E94: -146442 | F94: =D94+E94 -> -146442 | G94: =C94+F94 -> 59775302
A95: 1.2. | B95: Munkaadókat terhelő járulékok és szociális hozzájárulási adó | C95: 12524911 | E95: -212157 | F95: =D95+E95 -> -212157 | G95: =C95+F95 -> 12312754
A96: 1.3. | B96: Dologi kiadások | C96: 48183065 | E96: -12571393 | F96: =D96+E96 -> -12571393 | G96: =C96+F96 -> 35611672
A97: 1.4. | B97: Ellátottak pénzbeli juttatásai | F97: =D97+E97 -> 0 | G97: =C97+F97 -> 0
A98: 1.5 | B98: Egyéb működési célú kiadások | F98: =D98+E98 -> 0 | G98: =C98+F98 -> 0
A99: 1.6. | B99: az 1.5-ből: - Előző évi elszámolásból származó befizetések | F99: =D99+E99 -> 0 | G99: =C99+F99 -> 0
A100: 1.7. | B100: - Törvényi előíráson alapuló befizetések | F100: =D100+E100 -> 0 | G100: =C100+F100 -> 0
A101: 1.8. | B101: - Elvonások és befizetések | F101: =D101+E101 -> 0 | G101: =C101+F101 -> 0
...

Sheet 5.3.2. sz. mell   
G1: 5.3. 2.melléklet
A2: Megnevezés | B2: Sajószögedi Általános Művelődési Központ | G2: 03
A3: Feladat megnevezése | B3: Önként vállalt feladatok bevételei, kiadásai | G3: 01
G4: Forintban!
A5: Száma | B5: Kiemelt előirányzat, előirányzat megnevezése | C5: Eredeti előirányzat | D5: Korábbi módosítások | E5: .... sz. módosítás | F5: Módosítások összesen | G5: ….számú módosítás utáni előirányzat
A6: A | B6: B | C6: C | D6: D | E6: E | F6: F=(D+…+E) | G6: G=(C+F)
A7: Bevételek
A8: 1. | B8: Önkormányzat működési támogatásai (1.1.+…+.1.6.) | C8: =+C9+C10+C11+C12+C13+C14 -> 0 | D8: =+D9+D10+D11+D12+D13+D14 -> 0 | E8: =+E9+E10+E11+E12+E13+E14 -> 0 | F8: =+F9+F10+F11+F12+F13+F14 -> 0 | G8: =+G9+G10+G11+G12+G13+G14 -> 0
A9: 1.1. | B9: Helyi önkormányzatok működésének általános támogatása | F9: =D9+E9 -> 0 | G9: =C9+F9 -> 0
A10: 1.2. | B10: Önkormányzatok egyes köznevelési feladatainak támogatása | F10: =D10+E10 -> 0 | G10: =C10+F10 -> 0
A11: 1.3. | B11: Önkormányzatok szociális és gyermekjóléti feladatainak támogatása | F11: =D11+E11 -> 0 | G11: =C11+F11 -> 0
A12: 1.4. | B12: Önkormányzatok kulturális feladatainak támogatása | F12: =D12+E12 -> 0 | G12: =C12+F12 -> 0
A13: 1.5. | B13: Működési célú kvi támogatások és kiegészítő támogatások | F13: =D13+E13 -> 0 | G13: =C13+F13 -> 0
