Workbook
Name _ftn1: '6.3. tájékoztató tábla'!$A$27
Name _ftnref1: '6.3. tájékoztató tábla'!$A$18

Sheet ÖSSZEFÜGGÉSEK
A1: Zárszámadási rendelet űrlapjainak összefüggései:
A4: 2016. évi eredeti előirányzat BEVÉTELEK
A6: 1. sz. melléklet Bevételek táblázat C. oszlop 9 sora = | B6: 2.1. számú melléklet C. oszlop 13. sor + 2.2. számú melléklet C. oszlop 12. sor
A7: 1. sz. melléklet Bevételek táblázat C. oszlop 16 sora = | B7: 2.1. számú melléklet C. oszlop 22. sor + 2.2. számú melléklet C. oszlop 25. sor
A8: 1. sz. melléklet Bevételek táblázat C. oszlop 17 sora = | B8: 2.1. számú melléklet C. oszlop 23. sor + 2.2. számú melléklet C. oszlop 26. sor
A10: =+CONCATENATE(LEFT(A4,4),". évi módosított előirányzat BEVÉTELEK") -> 2016. évi módosított előirányzat BEVÉTELEK
A12: 1. sz. melléklet Bevételek táblázat D. oszlop 9 sora = | B12: 2.1. számú melléklet D. oszlop 13. sor + 2.2. számú melléklet D. oszlop 12. sor
A13: 1. sz. melléklet Bevételek táblázat D. oszlop 16 sora = | B13: 2.1. számú melléklet D. oszlop 22. sor + 2.2. számú melléklet D. oszlop 25. sor
A14: 1. sz. melléklet Bevételek táblázat D. oszlop 17 sora = | B14: 2.1. számú melléklet D. oszlop 23. sor + 2.2. számú melléklet D. oszlop 26. sor
A16: =+CONCATENATE(LEFT(A4,4),". évi teljesítés BEVÉTELEK") -> 2016. évi teljesítés BEVÉTELEK
A18: 1. sz. melléklet Bevételek táblázat E. oszlop 9 sora = | B18: 2.1. számú melléklet E. oszlop 13. sor + 2.2. számú melléklet E. oszlop 12. sor
A19: 1. sz. melléklet Bevételek táblázat E. oszlop 16 sora = | B19: 2.1. számú melléklet E. oszlop 22. sor + 2.2. számú melléklet E. oszlop 25. sor
A20: 1. sz. melléklet Bevételek táblázat E. oszlop 17 sora = | B20: 2.1. számú melléklet E. oszlop 23. sor + 2.2. számú melléklet E. oszlop 26. sor
A22: =+CONCATENATE(LEFT(A4,4),". évi eredeti előirányzat KIADÁSOK") -> 2016. évi eredeti előirányzat KIADÁSOK
A24: 1. sz. melléklet Kiadások táblázat C. oszlop 4 sora = | B24: 2.1. számú melléklet G. oszlop 13. sor + 2.2. számú melléklet G. oszlop 12. sor
A25: 1. sz. melléklet Kiadások táblázat C. oszlop 9 sora = | B25: 2.1. számú melléklet G. oszlop 22. sor + 2.2. számú melléklet G. oszlop 25. sor
A26: 1. sz. melléklet Kiadások táblázat C. oszlop 10 sora = | B26: 2.1. számú melléklet G. oszlop 23. sor + 2.2. számú melléklet G. oszlop 26. sor
A28: =+CONCATENATE(LEFT(A4,4),". évi módosított előirányzat KIADÁSOK") -> 2016. évi módosított előirányzat KIADÁSOK
A30: 1. sz. melléklet Kiadások táblázat D. oszlop 4 sora = | B30: 2.1. számú melléklet H. oszlop 13. sor + 2.2. számú melléklet H. oszlop 12. sor
A31: 1. sz. melléklet Kiadások táblázat D. oszlop 9 sora = | B31: 2.1. számú melléklet H. oszlop 22. sor + 2.2. számú melléklet H. oszlop 25. sor
A32: 1. sz. melléklet Kiadások táblázat D. oszlop 10 sora = | B32: 2.1. számú melléklet H. oszlop 23. sor + 2.2. számú melléklet H. oszlop 26. sor
A34: =+CONCATENATE(LEFT(A4,4),". évi teljesítés KIADÁSOK") -> 2016. évi teljesítés KIADÁSOK
A36: 1. sz. melléklet Kiadások táblázat E. oszlop 4 sora = | B36: 2.1. számú melléklet I. oszlop 13. sor + 2.2. számú melléklet I. oszlop 12. sor
A37: 1. sz. melléklet Kiadások táblázat E. oszlop 9 sora = | B37: 2.1. számú melléklet I. oszlop 22. sor + 2.2. számú melléklet I. oszlop 25. sor
A38: 1. sz. melléklet Kiadások táblázat E. oszlop 10 sora = | B38: 2.1. számú melléklet I. oszlop 23. sor + 2.2. számú melléklet I. oszlop 26. sor

Sheet 1.1.sz.mell.
A1: B E V É T E L E K
A2: 1. sz. táblázat | E2: Forintban!
A3: Sor- szám | B3: Bevételi jogcím | C3: =+CONCATENATE(LEFT(ÖSSZEFÜGGÉSEK!A4,4),". évi") -> 2016. évi
C4: Eredeti előirányzat | D4: Módosított előirányzat | E4: Teljesítés
A5: A | B5: B | C5: C | D5: D | E5: E
A6: 1. | B6: Önkormányzat működési támogatásai (1.1.+…+.1.6.) | C6: =SUM(C7:C12) -> 76532385 | D6: =SUM(D7:D12) -> 75519365 | E6: =SUM(E7:E12) -> 75519365
A7: 1.1. | B7: Helyi önkormányzatok működésének általános támogatása | C7: 20129106 | D7: 20129106 | E7: 20129106
A8: 1.2. | B8: Önkormányzatok egyes köznevelési feladatainak támogatása | C8: 24828566 | D8: 26445800 | E8: 26445800
A9: 1.3. | B9: Önkormányzatok szociális és gyermekjóléti feladatainak támogatása | C9: 29065573 | D9: 24500716 | E9: 24500716
A10: 1.4. | B10: Önkormányzatok kulturális feladatainak támogatása | C10: 2509140 | D10: 2644990 | E10: 2644990
A11: 1.5. | B11: Működési célú központosított előirányzatok | D11: 1794129 | E11: 1794129
A12: 1.6. | B12: Helyi önkormányzatok kiegészítő támogatásai | D12: 4624 | E12: 4624
A13: 2. | B13: Működési célú támogatások államháztartáson belülről (2.1.+…+.2.5.) | C13: =SUM(C14:C18) -> 16444100 | D13: =SUM(D14:D18) -> 22722438 | E13: =SUM(E14:E18) -> 22722438
A14: 2.1. | B14: Elvonások és befizetések bevételei
A15: 2.2. | B15: Működési célú garancia- és kezességvállalásból megtérülések
A16: 2.3. | B16: Működési célú visszatérítendő támogatások, kölcsönök visszatérülése
A17: 2.4. | B17: Működési célú visszatérítendő támogatások, kölcsönök igénybevétele
A18: 2.5. | B18: Egyéb működési célú támogatások bevételei | C18: 16444100 | D18: 22722438 | E18: 22722438
A19: 2.6. | B19: 2.5.-ből EU-s támogatás
A20: 3. | B20: Felhalmozási célú támogatások államháztartáson belülről (3.1.+…+3.5.) | C20: =SUM(C21:C25) -> 0 | D20: =SUM(D21:D25) -> 6000000 | E20: =SUM(E21:E25) -> 6000000
A21: 3.1. | B21: Felhalmozási célú önkormányzati támogatások | D21: 6000000 | E21: 6000000
A22: 3.2. | B22: Felhalmozási célú garancia- és kezességvállalásból megtérülések
A23: 3.3. | B23: Felhalmozási célú visszatérítendő támogatások, kölcsönök visszatérülése
A24: 3.4. | B24: Felhalmozási célú visszatérítendő támogatások, kölcsönök igénybevétele
A25: 3.5. | B25: Egyéb felhalmozási célú támogatások bevételei
A26: 3.6. | B26: 3.5.-ből EU-s támogatás
A27: 4. | B27: Közhatalmi bevételek (4.1.+...+4.7.) | C27: =SUM(C28:C33) -> 124730000 | D27: =SUM(D28:D33) -> 140167300 | E27: =SUM(E28:E33) -> 133181150
A28: 4.1. | B28: Építményadó | C28: 2500000 | D28: 3540148 | E28: 3425513
A29: 4.2. | B29: Telekadó | C29: 30000000 | D29: 41695798 | E29: 39937082
A30: 4.3. | B30: Iparűzési adó | C30: 85000000 | D30: 85223908 | E30: 81124886
A31: 4.5. | B31: Gépjárműadó önkormányzatot megillető része | C31: 7000000 | D31: 9167371 | E31: 8349286
A32: 4.6. | B32: Egyéb áruhasználati és szolgáltatási adók
A33: 4.7. | B33: Egyéb közhatalmi bevételek | C33: 230000 | D33: 540075 | E33: 344383
A34: 5. | B34: Működési bevételek (5.1.+…+ 5.10.) | C34: =SUM(C35:C44) -> 23216800 | D34: =SUM(D35:D44) -> 32690577 | E34: =SUM(E35:E44) -> 31650308
A35: 5.1. | B35: Készletértékesítés ellenértéke
A36: 5.2. | B36: Szolgáltatások ellenértéke | C36: 1670000 | D36: 5846556 | E36: 5522630
A37: 5.3. | B37: Közvetített szolgáltatások értéke | C37: 800000 | D37: 777810 | E37: 777810
A38: 5.4. | B38: Tulajdonosi bevételek | D38: 10234855 | E38: 10234855
A39: 5.5. | B39: Ellátási díjak | C39: 15896000 | D39: 9794074 | E39: 9257731
A40: 5.6. | B40: Kiszámlázott általános forgalmi adó | C40: 4850800 | D40: 5752189 | E40: 5572189
A41: 5.7. | B41: Általános forgalmi adó visszatérítése
A42: 5.8. | B42: Kamatbevételek | D42: 70236 | E42: 70236
A43: 5.9. | B43: Egyéb pénzügyi műveletek bevételei
A44: 5.10. | B44: Egyéb működési bevételek | D44: 214857 | E44: 214857
A45: 6. | B45: Felhalmozási bevételek (6.1.+…+6.5.) | C45: =SUM(C46:C50) -> 15000000 | D45: =SUM(D46:D50) -> 2150000 | E45: =SUM(E46:E50) -> 2150000
A46: 6.1. | B46: Immateriális javak értékesítése
A47: 6.2. | B47: Ingatlanok értékesítése | C47: 15000000 | D47: 2150000 | E47: 2150000
A48: 6.3. | B48: Egyéb tárgyi eszközök értékesítése
A49: 6.4. | B49: Részesedések értékesítése
A50: 6.5. | B50: Részesedések megszűnéséhez kapcsolódó bevételek
A51: 7. | B51: Működési célú átvett pénzeszközök (7.1. + … + 7.3.) | C51: =SUM(C52:C54) -> 0 | D51: =SUM(D52:D54) -> 520000 | E51: =SUM(E52:E54) -> 520000
A52: 7.1. | B52: Működési célú garancia- és kezességvállalásból megtérülések ÁH-n kívülről
A53: 7.2. | B53: Működési célú visszatérítendő támogatások, kölcsönök visszatér. ÁH-n kívülről
A54: 7.3. | B54: Egyéb működési célú átvett pénzeszköz | D54: 520000 | E54: 520000
A55: 7.4. | B55: 7.3.-ból EU-s támogatás (közvetlen)
A56: 8. | B56: Felhalmozási célú átvett pénzeszközök (8.1.+8.2.+8.3.) | C56: =SUM(C57:C59) -> 0 | D56: =SUM(D57:D59) -> 583430 | E56: =SUM(E57:E59) -> 583430
A57: 8.1. | B57: Felhalm. célú garancia- és kezességvállalásból megtérülések ÁH-n kívülről
A58: 8.2. | B58: Felhalm. célú visszatérítendő támogatások, kölcsönök visszatér. ÁH-n kívülről | D58: 583430 | E58: 583430
A59: 8.3. | B59: Egyéb felhalmozási célú átvett pénzeszköz
A60: 8.4. | B60: 8.3.-ból EU-s támogatás (közvetlen)
A61: 9. | B61: KÖLTSÉGVETÉSI BEVÉTELEK ÖSSZESEN: (1+…+8) | C61: =+C6+C13+C20+C27+C34+C45+C51+C56 -> 255923285 | D61: =+D6+D13+D20+D27+D34+D45+D51+D56 -> 280353110 | E61: =+E6+E13+E20+E27+E34+E45+E51+E56 -> 272326691
A62: 10. | B62: Hitel-, kölcsönfelvétel államháztartáson kívülről (10.1.+10.3.) | C62: =+C63+C64+C65 -> 0 | D62: =+D63+D64+D65 -> 0 | E62: =+E63+E64+E65 -> 0
A63: 10.1. | B63: Hosszú lejáratú hitelek, kölcsönök felvétele
A64: 10.2. | B64: Likviditási célú hitelek, kölcsönök felvétele pénzügyi vállalkozástól
A65: 10.3. | B65: Rövid lejáratú hitelek, kölcsönök felvétele
A66: 11. | B66: Belföldi értékpapírok bevételei (11.1. +…+ 11.4.) | C66: =+C67+C68+C69+C70 -> 49676247 | D66: =+D67+D68+D69+D70 -> 115945929 | E66: =+E67+E68+E69+E70 -> 115945929
A67: 11.1. | B67: Forgatási célú belföldi értékpapírok beváltása, értékesítése | C67: 49676247 | D67: 115945929 | E67: 115945929
A68: 11.2. | B68: Forgatási célú belföldi értékpapírok kibocsátása
A69: 11.3. | B69: Befektetési célú belföldi értékpapírok beváltása, értékesítése
A70: 11.4. | B70: Befektetési célú belföldi értékpapírok kibocsátása
A71: 12. | B71: Maradvány igénybevétele (12.1. + 12.2.) | C71: =+C72+C73 -> 9923000 | D71: =+D72+D73 -> 9928171 | E71: =+E72+E73 -> 9928171
A72: 12.1. | B72: Előző év költségvetési maradványának igénybevétele | C72: 9923000 | D72: 9928171 | E72: 9928171
A73: 12.2. | B73: Előző év vállalkozási maradványának igénybevétele
A74: 13. | B74: Belföldi finanszírozás bevételei (13.1. + … + 13.3.) | C74: =+C75+C76+C77 -> 0 | D74: =+D75+D76+D77 -> 0 | E74: =+E75+E76+E77 -> 3277299
A75: 13.1. | B75: Államháztartáson belüli megelőlegezések | E75: 3277299
A76: 13.2. | B76: Államháztartáson belüli megelőlegezések törlesztése
A77: 13.3. | B77: Betétek megszüntetése
A78: 14. | B78: Külföldi finanszírozás bevételei (14.1.+…14.4.) | C78: =+C79+C80+C81+C82 -> 0 | D78: =+D79+D80+D81+D82 -> 0 | E78: =+E79+E80+E81+E82 -> 0
A79: 14.1. | B79: Forgatási célú külföldi értékpapírok beváltása, értékesítése
A80: 14.2. | B80: Befektetési célú külföldi értékpapírok beváltása, értékesítése
A81: 14.3. | B81: Külföldi értékpapírok kibocsátása
A82: 14.4. | B82: Külföldi hitelek, kölcsönök felvétele
A83: 15. | B83: Adóssághoz nem kapcsolódó származékos ügyletek bevételei
A84: 16. | B84: FINANSZÍROZÁSI BEVÉTELEK ÖSSZESEN: (10. + … +15.) | C84: =+C62+C66+C71+C74+C78+C83 -> 59599247 | D84: =+D62+D66+D71+D74+D78+D83 -> 125874100 | E84: =+E62+E66+E71+E74+E78+E83 -> 129151399
A85: 17. | B85: KÖLTSÉGVETÉSI ÉS FINANSZÍROZÁSI BEVÉTELEK ÖSSZESEN: (9+16) | C85: =+C61+C84 -> 315522532 | D85: =+D61+D84 -> 406227210 | E85: =+E61+E84 -> 401478090
A87: K I A D Á S O K
A88: 2. sz. táblázat | E88: =E2 -> Forintban!
A89: Sor- szám | B89: Kiadási jogcím | C89: =+C3 -> 2016. évi
C90: Eredeti előirányzat | D90: Módosított előirányzat | E90: Teljesítés
A91: A | B91: B | C91: C | D91: D | E91: E
A92: 1. | B92: Működési költségvetés kiadásai (1.1+…+1.5.) | C92: =SUM(C93:C97) -> 289622532 | D92: =SUM(D93:D97) -> 281638512 | E92: =SUM(E93:E97) -> 277010051
A93: 1.1. | B93: Személyi juttatások | C93: 100875716 | D93: 107190361 | E93: 105299578
A94: 1.2. | B94: Munkaadókat terhelő járulékok és szociális hozzájárulási adó | C94: 24775344 | D94: 26988909 | E94: 26988909
A95: 1.3. | B95: Dologi kiadások | C95: 102860972 | D95: 102263762 | E95: 99526084
A96: 1.4. | B96: Ellátottak pénzbeli juttatásai | C96: 26148500 | D96: 10203003 | E96: 10203003
A97: 1.5 | B97: Egyéb működési célú kiadások | C97: 34962000 | D97: 34992477 | E97: 34992477
A98: 1.6. | B98: - az 1.5-ből: - Elvonások és befizetések | D98: 408831 | E98: 408831
A99: 1.7. | B99: - Garancia- és kezességvállalásból kifizetés ÁH-n belülre
A100: 1.8. | B100: -Visszatérítendő támogatások, kölcsönök nyújtása ÁH-n belülre
A101: 1.9. | B101: - Visszatérítendő támogatások, kölcsönök törlesztése ÁH-n belülre | C101: 1582000 | D101: 1784240 | E101: 1784240
...

Sheet 1.2.sz.mell.
A1: B E V É T E L E K
A2: 1. sz. táblázat | E2: ='1.1.sz.mell.'!E2 -> Forintban!
A3: Sor- szám | B3: Bevételi jogcím | C3: =+'1.1.sz.mell.'!C3:E3 -> 2016. évi
C4: Eredeti előirányzat | D4: Módosított előirányzat | E4: Teljesítés
A5: A | B5: B | C5: C | D5: D | E5: E
A6: 1. | B6: Önkormányzat működési támogatásai (1.1.+…+.1.6.) | C6: =SUM(C7:C12) -> 76532385 | D6: =SUM(D7:D12) -> 75520365 | E6: =SUM(E7:E12) -> 75519365
A7: 1.1. | B7: Helyi önkormányzatok működésének általános támogatása | C7: 20129106 | D7: 20129106 | E7: 20129106
A8: 1.2. | B8: Önkormányzatok egyes köznevelési feladatainak támogatása | C8: 24828566 | D8: 26446800 | E8: 26445800
A9: 1.3. | B9: Önkormányzatok szociális és gyermekjóléti feladatainak támogatása | C9: 29065573 | D9: 24500716 | E9: 24500716
A10: 1.4. | B10: Önkormányzatok kulturális feladatainak támogatása | C10: 2509140 | D10: 2644990 | E10: 2644990
A11: 1.5. | B11: Működési célú központosított előirányzatok | D11: 1794129 | E11: 1794129
A12: 1.6. | B12: Helyi önkormányzatok kiegészítő támogatásai | D12: 4624 | E12: 4624
A13: 2. | B13: Működési célú támogatások államháztartáson belülről (2.1.+…+.2.5.) | C13: =SUM(C14:C18) -> 16444100 | D13: =SUM(D14:D18) -> 22722438 | E13: =SUM(E14:E18) -> 22722438
A14: 2.1. | B14: Elvonások és befizetések bevételei
A15: 2.2. | B15: Működési célú garancia- és kezességvállalásból megtérülések
A16: 2.3. | B16: Működési célú visszatérítendő támogatások, kölcsönök visszatérülése
A17: 2.4. | B17: Működési célú visszatérítendő támogatások, kölcsönök igénybevétele
A18: 2.5. | B18: Egyéb működési célú támogatások bevételei | C18: 16444100 | D18: 22722438 | E18: 22722438
A19: 2.6. | B19: 2.5.-ből EU-s támogatás
A20: 3. | B20: Felhalmozási célú támogatások államháztartáson belülről (3.1.+…+3.5.) | C20: =SUM(C21:C25) -> 0 | D20: =SUM(D21:D25) -> 6000000 | E20: =SUM(E21:E25) -> 6000000
A21: 3.1. | B21: Felhalmozási célú önkormányzati támogatások | D21: 6000000 | E21: 6000000
A22: 3.2. | B22: Felhalmozási célú garancia- és kezességvállalásból megtérülések
A23: 3.3. | B23: Felhalmozási célú visszatérítendő támogatások, kölcsönök visszatérülése
A24: 3.4. | B24: Felhalmozási célú visszatérítendő támogatások, kölcsönök igénybevétele
A25: 3.5. | B25: Egyéb felhalmozási célú támogatások bevételei
A26: 3.6. | B26: 3.5.-ből EU-s támogatás
A27: 4. | B27: Közhatalmi bevételek (4.1.+...+4.7.) | C27: =SUM(C28:C33) -> 124730000 | D27: =SUM(D28:D33) -> 140167300 | E27: =SUM(E28:E33) -> 133181150
A28: 4.1. | B28: Építményadó | C28: 2500000 | D28: 3540148 | E28: 3425513
A29: 4.2. | B29: Idegenforgalmi adó | C29: 30000000 | D29: 41695798 | E29: 39937082
A30: 4.3. | B30: Iparűzési adó | C30: 85000000 | D30: 85223908 | E30: 81124886
A31: 4.5. | B31: Talajterhelési díj | C31: 7000000 | D31: 9167371 | E31: 8349286
A32: 4.6. | B32: Egyéb áruhasználati és szolgáltatási adók
A33: 4.7. | B33: Egyéb közhatalmi bevételek | C33: 230000 | D33: 540075 | E33: 344383
A34: 5. | B34: Működési bevételek (5.1.+…+ 5.10.) | C34: =SUM(C35:C44) -> 23216800 | D34: =SUM(D35:D44) -> 32690577 | E34: =SUM(E35:E44) -> 31650308
A35: 5.1. | B35: Készletértékesítés ellenértéke
A36: 5.2. | B36: Szolgáltatások ellenértéke | C36: 1670000 | D36: 5846556 | E36: 5522630
A37: 5.3. | B37: Közvetített szolgáltatások értéke | C37: 800000 | D37: 777810 | E37: 777810
A38: 5.4. | B38: Tulajdonosi bevételek | D38: 10234855 | E38: 10234855
A39: 5.5. | B39: Ellátási díjak | C39: 15896000 | D39: 9794074 | E39: 9257731
A40: 5.6. | B40: Kiszámlázott általános forgalmi adó | C40: 4850800 | D40: 5752189 | E40: 5572189
A41: 5.7. | B41: Általános forgalmi adó visszatérítése
A42: 5.8. | B42: Kamatbevételek | D42: 70236 | E42: 70236
A43: 5.9. | B43: Egyéb pénzügyi műveletek bevételei
A44: 5.10. | B44: Egyéb működési bevételek | D44: 214857 | E44: 214857
A45: 6. | B45: Felhalmozási bevételek (6.1.+…+6.5.) | C45: =SUM(C46:C50) -> 15000000 | D45: =SUM(D46:D50) -> 2150000 | E45: =SUM(E46:E50) -> 2150000
A46: 6.1. | B46: Immateriális javak értékesítése
A47: 6.2. | B47: Ingatlanok értékesítése | C47: 15000000 | D47: 2150000 | E47: 2150000
A48: 6.3. | B48: Egyéb tárgyi eszközök értékesítése
A49: 6.4. | B49: Részesedések értékesítése
A50: 6.5. | B50: Részesedések megszűnéséhez kapcsolódó bevételek
A51: 7. | B51: Működési célú átvett pénzeszközök (7.1. + … + 7.3.) | C51: =SUM(C52:C54) -> 0 | D51: =SUM(D52:D54) -> 520000 | E51: =SUM(E52:E54) -> 520000
A52: 7.1. | B52: Működési célú garancia- és kezességvállalásból megtérülések ÁH-n kívülről
A53: 7.2. | B53: Működési célú visszatérítendő támogatások, kölcsönök visszatér. ÁH-n kívülről
A54: 7.3. | B54: Egyéb működési célú átvett pénzeszköz | D54: 520000 | E54: 520000
A55: 7.4. | B55: 7.3.-ból EU-s támogatás (közvetlen)
A56: 8. | B56: Felhalmozási célú átvett pénzeszközök (8.1.+8.2.+8.3.) | C56: =SUM(C57:C59) -> 0 | D56: =SUM(D57:D59) -> 583430 | E56: =SUM(E57:E59) -> 583430
A57: 8.1. | B57: Felhalm. célú garancia- és kezességvállalásból megtérülések ÁH-n kívülről
A58: 8.2. | B58: Felhalm. célú visszatérítendő támogatások, kölcsönök visszatér. ÁH-n kívülről | D58: 583430 | E58: 583430
A59: 8.3. | B59: Egyéb felhalmozási célú átvett pénzeszköz
A60: 8.4. | B60: 8.3.-ból EU-s támogatás (közvetlen)
A61: 9. | B61: KÖLTSÉGVETÉSI BEVÉTELEK ÖSSZESEN: (1+…+8) | C61: =+C6+C13+C20+C27+C34+C45+C51+C56 -> 255923285 | D61: =+D6+D13+D20+D27+D34+D45+D51+D56 -> 280354110 | E61: =+E6+E13+E20+E27+E34+E45+E51+E56 -> 272326691
A62: 10. | B62: Hitel-, kölcsönfelvétel államháztartáson kívülről (10.1.+10.3.) | C62: =+C63+C64+C65 -> 0 | D62: =+D63+D64+D65 -> 0 | E62: =+E63+E64+E65 -> 0
A63: 10.1. | B63: Hosszú lejáratú hitelek, kölcsönök felvétele
A64: 10.2. | B64: Likviditási célú hitelek, kölcsönök felvétele pénzügyi vállalkozástól
A65: 10.3. | B65: Rövid lejáratú hitelek, kölcsönök felvétele
A66: 11. | B66: Belföldi értékpapírok bevételei (11.1. +…+ 11.4.) | C66: =+C67+C68+C69+C70 -> 49676247 | D66: =+D67+D68+D69+D70 -> 115945929 | E66: =+E67+E68+E69+E70 -> 115945929
A67: 11.1. | B67: Forgatási célú belföldi értékpapírok beváltása, értékesítése | C67: 49676247 | D67: 115945929 | E67: 115945929
A68: 11.2. | B68: Forgatási célú belföldi értékpapírok kibocsátása
A69: 11.3. | B69: Befektetési célú belföldi értékpapírok beváltása, értékesítése
A70: 11.4. | B70: Befektetési célú belföldi értékpapírok kibocsátása
A71: 12. | B71: Maradvány igénybevétele (12.1. + 12.2.) | C71: =+C72+C73 -> 9923000 | D71: =+D72+D73 -> 9928171 | E71: =+E72+E73 -> 9928171
A72: 12.1. | B72: Előző év költségvetési maradványának igénybevétele | C72: 9923000 | D72: 9928171 | E72: 9928171
A73: 12.2. | B73: Előző év vállalkozási maradványának igénybevétele
A74: 13. | B74: Belföldi finanszírozás bevételei (13.1. + … + 13.3.) | C74: =+C75+C76+C77 -> 0 | D74: =+D75+D76+D77 -> 0 | E74: =+E75+E76+E77 -> 3277299
A75: 13.1. | B75: Államháztartáson belüli megelőlegezések | E75: 3277299
A76: 13.2. | B76: Államháztartáson belüli megelőlegezések törlesztése
A77: 13.3. | B77: Betétek megszüntetése
A78: 14. | B78: Külföldi finanszírozás bevételei (14.1.+…14.4.) | C78: =+C79+C80+C81+C82 -> 0 | D78: =+D79+D80+D81+D82 -> 0 | E78: =+E79+E80+E81+E82 -> 0
A79: 14.1. | B79: Forgatási célú külföldi értékpapírok beváltása, értékesítése
A80: 14.2. | B80: Befektetési célú külföldi értékpapírok beváltása, értékesítése
A81: 14.3. | B81: Külföldi értékpapírok kibocsátása
A82: 14.4. | B82: Külföldi hitelek, kölcsönök felvétele
A83: 15. | B83: Adóssághoz nem kapcsolódó származékos ügyletek bevételei
A84: 16. | B84: FINANSZÍROZÁSI BEVÉTELEK ÖSSZESEN: (10. + … +15.) | C84: =+C62+C66+C71+C74+C78+C83 -> 59599247 | D84: =+D62+D66+D71+D74+D78+D83 -> 125874100 | E84: =+E62+E66+E71+E74+E78+E83 -> 129151399
A85: 17. | B85: KÖLTSÉGVETÉSI ÉS FINANSZÍROZÁSI BEVÉTELEK ÖSSZESEN: (9+16) | C85: =+C61+C84 -> 315522532 | D85: =+D61+D84 -> 406228210 | E85: =+E61+E84 -> 401478090
A87: K I A D Á S O K
A88: 2. sz. táblázat | E88: =E2 -> Forintban!
A89: Sor- szám | B89: Kiadási jogcím | C89: =+C3 -> 2016. évi
C90: Eredeti előirányzat | D90: Módosított előirányzat | E90: Teljesítés
A91: A | B91: B | C91: C | D91: D | E91: E
A92: 1. | B92: Működési költségvetés kiadásai (1.1+…+1.5.) | C92: =SUM(C93:C97) -> 289622532 | D92: =SUM(D93:D97) -> 281638512 | E92: =SUM(E93:E97) -> 0
A93: 1.1. | B93: Személyi juttatások | C93: 100875716 | D93: 107190361
A94: 1.2. | B94: Munkaadókat terhelő járulékok és szociális hozzájárulási adó | C94: 24775344 | D94: 26988909
A95: 1.3. | B95: Dologi kiadások | C95: 102860972 | D95: 102263762
A96: 1.4. | B96: Ellátottak pénzbeli juttatásai | C96: 26148500 | D96: 10203003
A97: 1.5 | B97: Egyéb működési célú kiadások | C97: 34962000 | D97: 34992477
A98: 1.6. | B98: - az 1.5-ből: - Elvonások és befizetések | D98: 408831
A99: 1.7. | B99: - Garancia- és kezességvállalásból kifizetés ÁH-n belülre
A100: 1.8. | B100: -Visszatérítendő támogatások, kölcsönök nyújtása ÁH-n belülre
A101: 1.9. | B101: - Visszatérítendő támogatások, kölcsönök törlesztése ÁH-n belülre | C101: 1582000 | D101: 1784240
...

Sheet 1.3.sz.mell.
A1: B E V É T E L E K
A2: 1. sz. táblázat | E2: ='1.2.sz.mell.'!E2 -> Forintban!
A3: Sor- szám | B3: Bevételi jogcím | C3: =+'1.1.sz.mell.'!C3:E3 -> 2016. évi
C4: Eredeti előirányzat | D4: Módosított előirányzat | E4: Teljesítés
A5: A | B5: B | C5: C | D5: D | E5: E
A6: 1. | B6: Önkormányzat működési támogatásai (1.1.+…+.1.6.) | C6: =SUM(C7:C12) -> 0 | D6: =SUM(D7:D12) -> 0 | E6: =SUM(E7:E12) -> 0
A7: 1.1. | B7: Helyi önkormányzatok működésének általános támogatása
A8: 1.2. | B8: Önkormányzatok egyes köznevelési feladatainak támogatása
A9: 1.3. | B9: Önkormányzatok szociális és gyermekjóléti feladatainak támogatása
A10: 1.4. | B10: Önkormányzatok kulturális feladatainak támogatása
A11: 1.5. | B11: Működési célú központosított előirányzatok
A12: 1.6. | B12: Helyi önkormányzatok kiegészítő támogatásai
A13: 2. | B13: Működési célú támogatások államháztartáson belülről (2.1.+…+.2.5.) | C13: =SUM(C14:C18) -> 0 | D13: =SUM(D14:D18) -> 0 | E13: =SUM(E14:E18) -> 0
A14: 2.1. | B14: Elvonások és befizetések bevételei
A15: 2.2. | B15: Működési célú garancia- és kezességvállalásból megtérülések
A16: 2.3. | B16: Működési célú visszatérítendő támogatások, kölcsönök visszatérülése
A17: 2.4. | B17: Működési célú visszatérítendő támogatások, kölcsönök igénybevétele
A18: 2.5. | B18: Egyéb működési célú támogatások bevételei
A19: 2.6. | B19: 2.5.-ből EU-s támogatás
A20: 3. | B20: Felhalmozási célú támogatások államháztartáson belülről (3.1.+…+3.5.) | C20: =SUM(C21:C25) -> 0 | D20: =SUM(D21:D25) -> 0 | E20: =SUM(E21:E25) -> 0
A21: 3.1. | B21: Felhalmozási célú önkormányzati támogatások
A22: 3.2. | B22: Felhalmozási célú garancia- és kezességvállalásból megtérülések
A23: 3.3. | B23: Felhalmozási célú visszatérítendő támogatások, kölcsönök visszatérülése
A24: 3.4. | B24: Felhalmozási célú visszatérítendő támogatások, kölcsönök igénybevétele
A25: 3.5. | B25: Egyéb felhalmozási célú támogatások bevételei
A26: 3.6. | B26: 3.5.-ből EU-s támogatás
A27: 4. | B27: Közhatalmi bevételek (4.1.+...+4.7.) | C27: =SUM(C28:C33) -> 0 | D27: =SUM(D28:D33) -> 0 | E27: =SUM(E28:E33) -> 0
A28: 4.1. | B28: Építményadó | D28: =+D29+D30 -> 0 | E28: =+E29+E30 -> 0
A29: 4.2. | B29: Idegenforgalmi adó
A30: 4.3. | B30: Iparűzési adó
A31: 4.5. | B31: Talajterhelési díj
A32: 4.6. | B32: Egyéb áruhasználati és szolgáltatási adók
A33: 4.7. | B33: Egyéb közhatalmi bevételek
A34: 5. | B34: Működési bevételek (5.1.+…+ 5.10.) | C34: =SUM(C35:C44) -> 0 | D34: =SUM(D35:D44) -> 0 | E34: =SUM(E35:E44) -> 0
A35: 5.1. | B35: Készletértékesítés ellenértéke
A36: 5.2. | B36: Szolgáltatások ellenértéke
A37: 5.3. | B37: Közvetített szolgáltatások értéke
A38: 5.4. | B38: Tulajdonosi bevételek
A39: 5.5. | B39: Ellátási díjak
A40: 5.6. | B40: Kiszámlázott általános forgalmi adó
A41: 5.7. | B41: Általános forgalmi adó visszatérítése
A42: 5.8. | B42: Kamatbevételek
A43: 5.9. | B43: Egyéb pénzügyi műveletek bevételei
A44: 5.10. | B44: Egyéb működési bevételek
A45: 6. | B45: Felhalmozási bevételek (6.1.+…+6.5.) | C45: =SUM(C46:C50) -> 0 | D45: =SUM(D46:D50) -> 0 | E45: =SUM(E46:E50) -> 0
A46: 6.1. | B46: Immateriális javak értékesítése
A47: 6.2. | B47: Ingatlanok értékesítése
A48: 6.3. | B48: Egyéb tárgyi eszközök értékesítése
A49: 6.4. | B49: Részesedések értékesítése
A50: 6.5. | B50: Részesedések megszűnéséhez kapcsolódó bevételek
A51: 7. | B51: Működési célú átvett pénzeszközök (7.1. + … + 7.3.) | C51: =SUM(C52:C54) -> 0 | D51: =SUM(D52:D54) -> 0 | E51: =SUM(E52:E54) -> 0
A52: 7.1. | B52: Működési célú garancia- és kezességvállalásból megtérülések ÁH-n kívülről
A53: 7.2. | B53: Működési célú visszatérítendő támogatások, kölcsönök visszatér. ÁH-n kívülről
A54: 7.3. | B54: Egyéb működési célú átvett pénzeszköz
A55: 7.4. | B55: 7.3.-ból EU-s támogatás (közvetlen)
A56: 8. | B56: Felhalmozási célú átvett pénzeszközök (8.1.+8.2.+8.3.) | C56: =SUM(C57:C59) -> 0 | D56: =SUM(D57:D59) -> 0 | E56: =SUM(E57:E59) -> 0
A57: 8.1. | B57: Felhalm. célú garancia- és kezességvállalásból megtérülések ÁH-n kívülről
A58: 8.2. | B58: Felhalm. célú visszatérítendő támogatások, kölcsönök visszatér. ÁH-n kívülről
A59: 8.3. | B59: Egyéb felhalmozási célú átvett pénzeszköz
A60: 8.4. | B60: 8.3.-ból EU-s támogatás (közvetlen)
A61: 9. | B61: KÖLTSÉGVETÉSI BEVÉTELEK ÖSSZESEN: (1+…+8) | C61: =+C6+C13+C20+C27+C34+C45+C51+C56 -> 0 | D61: =+D6+D13+D20+D27+D34+D45+D51+D56 -> 0 | E61: =+E6+E13+E20+E27+E34+E45+E51+E56 -> 0
A62: 10. | B62: Hitel-, kölcsönfelvétel államháztartáson kívülről (10.1.+10.3.) | C62: =+C63+C64+C65 -> 0 | D62: =+D63+D64+D65 -> 0 | E62: =+E63+E64+E65 -> 0
A63: 10.1. | B63: Hosszú lejáratú hitelek, kölcsönök felvétele
A64: 10.2. | B64: Likviditási célú hitelek, kölcsönök felvétele pénzügyi vállalkozástól
A65: 10.3. | B65: Rövid lejáratú hitelek, kölcsönök felvétele
A66: 11. | B66: Belföldi értékpapírok bevételei (11.1. +…+ 11.4.) | C66: =+C67+C68+C69+C70 -> 0 | D66: =+D67+D68+D69+D70 -> 0 | E66: =+E67+E68+E69+E70 -> 0
A67: 11.1. | B67: Forgatási célú belföldi értékpapírok beváltása, értékesítése
A68: 11.2. | B68: Forgatási célú belföldi értékpapírok kibocsátása
A69: 11.3. | B69: Befektetési célú belföldi értékpapírok beváltása, értékesítése
A70: 11.4. | B70: Befektetési célú belföldi értékpapírok kibocsátása
A71: 12. | B71: Maradvány igénybevétele (12.1. + 12.2.) | C71: =+C72+C73 -> 0 | D71: =+D72+D73 -> 0 | E71: =+E72+E73 -> 0
A72: 12.1. | B72: Előző év költségvetési maradványának igénybevétele
A73: 12.2. | B73: Előző év vállalkozási maradványának igénybevétele
A74: 13. | B74: Belföldi finanszírozás bevételei (13.1. + … + 13.3.) | C74: =+C75+C76+C77 -> 0 | D74: =+D75+D76+D77 -> 0 | E74: =+E75+E76+E77 -> 0
A75: 13.1. | B75: Államháztartáson belüli megelőlegezések
A76: 13.2. | B76: Államháztartáson belüli megelőlegezések törlesztése
A77: 13.3. | B77: Betétek megszüntetése
A78: 14. | B78: Külföldi finanszírozás bevételei (14.1.+…14.4.) | C78: =+C79+C80+C81+C82 -> 0 | D78: =+D79+D80+D81+D82 -> 0 | E78: =+E79+E80+E81+E82 -> 0
A79: 14.1. | B79: Forgatási célú külföldi értékpapírok beváltása, értékesítése
A80: 14.2. | B80: Befektetési célú külföldi értékpapírok beváltása, értékesítése
A81: 14.3. | B81: Külföldi értékpapírok kibocsátása
A82: 14.4. | B82: Külföldi hitelek, kölcsönök felvétele
A83: 15. | B83: Adóssághoz nem kapcsolódó származékos ügyletek bevételei
A84: 16. | B84: FINANSZÍROZÁSI BEVÉTELEK ÖSSZESEN: (10. + … +15.) | C84: =+C62+C66+C71+C74+C78+C83 -> 0 | D84: =+D62+D66+D71+D74+D78+D83 -> 0 | E84: =+E62+E66+E71+E74+E78+E83 -> 0
A85: 17. | B85: KÖLTSÉGVETÉSI ÉS FINANSZÍROZÁSI BEVÉTELEK ÖSSZESEN: (9+16) | C85: =+C61+C84 -> 0 | D85: =+D61+D84 -> 0 | E85: =+E61+E84 -> 0
A87: K I A D Á S O K
A88: 2. sz. táblázat | E88: =E2 -> Forintban!
A89: Sor- szám | B89: Kiadási jogcím | C89: =+C3 -> 2016. évi
C90: Eredeti előirányzat | D90: Módosított előirányzat | E90: Teljesítés
A91: A | B91: B | C91: C | D91: D | E91: E
A92: 1. | B92: Működési költségvetés kiadásai (1.1+…+1.5.) | C92: =SUM(C93:C97) -> 0 | D92: =SUM(D93:D97) -> 0 | E92: =SUM(E93:E97) -> 0
A93: 1.1. | B93: Személyi juttatások
A94: 1.2. | B94: Munkaadókat terhelő járulékok és szociális hozzájárulási adó
A95: 1.3. | B95: Dologi kiadások
A96: 1.4. | B96: Ellátottak pénzbeli juttatásai
A97: 1.5 | B97: Egyéb működési célú kiadások
A98: 1.6. | B98: - az 1.5-ből: - Elvonások és befizetések
A99: 1.7. | B99: - Garancia- és kezességvállalásból kifizetés ÁH-n belülre
A100: 1.8. | B100: -Visszatérítendő támogatások, kölcsönök nyújtása ÁH-n belülre
A101: 1.9. | B101: - Visszatérítendő támogatások, kölcsönök törlesztése ÁH-n belülre
...

Sheet 1.4.sz.mell.
A1: B E V É T E L E K
A2: 1. sz. táblázat | E2: ='1.3.sz.mell.'!E2 -> Forintban!
A3: Sor- szám | B3: Bevételi jogcím | C3: =+'1.1.sz.mell.'!C3:E3 -> 2016. évi
C4: Eredeti előirányzat | D4: Módosított előirányzat | E4: Teljesítés
A5: A | B5: B | C5: C | D5: D | E5: E
A6: 1. | B6: Önkormányzat működési támogatásai (1.1.+…+.1.6.) | C6: =SUM(C7:C12) -> 0 | D6: =SUM(D7:D12) -> 0 | E6: =SUM(E7:E12) -> 0
A7: 1.1. | B7: Helyi önkormányzatok működésének általános támogatása
A8: 1.2. | B8: Önkormányzatok egyes köznevelési feladatainak támogatása
A9: 1.3. | B9: Önkormányzatok szociális és gyermekjóléti feladatainak támogatása
A10: 1.4. | B10: Önkormányzatok kulturális feladatainak támogatása
A11: 1.5. | B11: Működési célú központosított előirányzatok
A12: 1.6. | B12: Helyi önkormányzatok kiegészítő támogatásai
A13: 2. | B13: Működési célú támogatások államháztartáson belülről (2.1.+…+.2.5.) | C13: =SUM(C14:C18) -> 0 | D13: =SUM(D14:D18) -> 0 | E13: =SUM(E14:E18) -> 0
A14: 2.1. | B14: Elvonások és befizetések bevételei
A15: 2.2. | B15: Működési célú garancia- és kezességvállalásból megtérülések
A16: 2.3. | B16: Működési célú visszatérítendő támogatások, kölcsönök visszatérülése
A17: 2.4. | B17: Működési célú visszatérítendő támogatások, kölcsönök igénybevétele
A18: 2.5. | B18: Egyéb működési célú támogatások bevételei
A19: 2.6. | B19: 2.5.-ből EU-s támogatás
A20: 3. | B20: Felhalmozási célú támogatások államháztartáson belülről (3.1.+…+3.5.) | C20: =SUM(C21:C25) -> 0 | D20: =SUM(D21:D25) -> 0 | E20: =SUM(E21:E25) -> 0
A21: 3.1. | B21: Felhalmozási célú önkormányzati támogatások
A22: 3.2. | B22: Felhalmozási célú garancia- és kezességvállalásból megtérülések
A23: 3.3. | B23: Felhalmozási célú visszatérítendő támogatások, kölcsönök visszatérülése
A24: 3.4. | B24: Felhalmozási célú visszatérítendő támogatások, kölcsönök igénybevétele
A25: 3.5. | B25: Egyéb felhalmozási célú támogatások bevételei
A26: 3.6. | B26: 3.5.-ből EU-s támogatás
A27: 4. | B27: Közhatalmi bevételek (4.1.+...+4.7.) | C27: =SUM(C28:C33) -> 0 | D27: =SUM(D28:D33) -> 0 | E27: =SUM(E28:E33) -> 0
A28: 4.1. | B28: Építményadó | D28: =+D29+D30 -> 0 | E28: =+E29+E30 -> 0
A29: 4.2. | B29: Idegenforgalmi adó
A30: 4.3. | B30: Iparűzési adó
A31: 4.5. | B31: Talajterhelési díj
A32: 4.6. | B32: Egyéb áruhasználati és szolgáltatási adók
A33: 4.7. | B33: Egyéb közhatalmi bevételek
A34: 5. | B34: Működési bevételek (5.1.+…+ 5.10.) | C34: =SUM(C35:C44) -> 0 | D34: =SUM(D35:D44) -> 0 | E34: =SUM(E35:E44) -> 0
A35: 5.1. | B35: Készletértékesítés ellenértéke
A36: 5.2. | B36: Szolgáltatások ellenértéke
A37: 5.3. | B37: Közvetített szolgáltatások értéke
A38: 5.4. | B38: Tulajdonosi bevételek
A39: 5.5. | B39: Ellátási díjak
A40: 5.6. | B40: Kiszámlázott általános forgalmi adó
A41: 5.7. | B41: Általános forgalmi adó visszatérítése
A42: 5.8. | B42: Kamatbevételek
A43: 5.9. | B43: Egyéb pénzügyi műveletek bevételei
A44: 5.10. | B44: Egyéb működési bevételek
A45: 6. | B45: Felhalmozási bevételek (6.1.+…+6.5.) | C45: =SUM(C46:C50) -> 0 | D45: =SUM(D46:D50) -> 0 | E45: =SUM(E46:E50) -> 0
A46: 6.1. | B46: Immateriális javak értékesítése
A47: 6.2. | B47: Ingatlanok értékesítése
A48: 6.3. | B48: Egyéb tárgyi eszközök értékesítése
A49: 6.4. | B49: Részesedések értékesítése
A50: 6.5. | B50: Részesedések megszűnéséhez kapcsolódó bevételek
A51: 7. | B51: Működési célú átvett pénzeszközök (7.1. + … + 7.3.) | C51: =SUM(C52:C54) -> 0 | D51: =SUM(D52:D54) -> 0 | E51: =SUM(E52:E54) -> 0
A52: 7.1. | B52: Működési célú garancia- és kezességvállalásból megtérülések ÁH-n kívülről
A53: 7.2. | B53: Működési célú visszatérítendő támogatások, kölcsönök visszatér. ÁH-n kívülről
A54: 7.3. | B54: Egyéb működési célú átvett pénzeszköz
A55: 7.4. | B55: 7.3.-ból EU-s támogatás (közvetlen)
A56: 8. | B56: Felhalmozási célú átvett pénzeszközök (8.1.+8.2.+8.3.) | C56: =SUM(C57:C59) -> 0 | D56: =SUM(D57:D59) -> 0 | E56: =SUM(E57:E59) -> 0
A57: 8.1. | B57: Felhalm. célú garancia- és kezességvállalásból megtérülések ÁH-n kívülről
A58: 8.2. | B58: Felhalm. célú visszatérítendő támogatások, kölcsönök visszatér. ÁH-n kívülről
A59: 8.3. | B59: Egyéb felhalmozási célú átvett pénzeszköz
A60: 8.4. | B60: 8.3.-ból EU-s támogatás (közvetlen)
A61: 9. | B61: KÖLTSÉGVETÉSI BEVÉTELEK ÖSSZESEN: (1+…+8) | C61: =+C6+C13+C20+C27+C34+C45+C51+C56 -> 0 | D61: =+D6+D13+D20+D27+D34+D45+D51+D56 -> 0 | E61: =+E6+E13+E20+E27+E34+E45+E51+E56 -> 0
A62: 10. | B62: Hitel-, kölcsönfelvétel államháztartáson kívülről (10.1.+10.3.) | C62: =+C63+C64+C65 -> 0 | D62: =+D63+D64+D65 -> 0 | E62: =+E63+E64+E65 -> 0
A63: 10.1. | B63: Hosszú lejáratú hitelek, kölcsönök felvétele
A64: 10.2. | B64: Likviditási célú hitelek, kölcsönök felvétele pénzügyi vállalkozástól
A65: 10.3. | B65: Rövid lejáratú hitelek, kölcsönök felvétele
A66: 11. | B66: Belföldi értékpapírok bevételei (11.1. +…+ 11.4.) | C66: =+C67+C68+C69+C70 -> 0 | D66: =+D67+D68+D69+D70 -> 0 | E66: =+E67+E68+E69+E70 -> 0
A67: 11.1. | B67: Forgatási célú belföldi értékpapírok beváltása, értékesítése
A68: 11.2. | B68: Forgatási célú belföldi értékpapírok kibocsátása
A69: 11.3. | B69: Befektetési célú belföldi értékpapírok beváltása, értékesítése
A70: 11.4. | B70: Befektetési célú belföldi értékpapírok kibocsátása
A71: 12. | B71: Maradvány igénybevétele (12.1. + 12.2.) | C71: =+C72+C73 -> 0 | D71: =+D72+D73 -> 0 | E71: =+E72+E73 -> 0
A72: 12.1. | B72: Előző év költségvetési maradványának igénybevétele
A73: 12.2. | B73: Előző év vállalkozási maradványának igénybevétele
A74: 13. | B74: Belföldi finanszírozás bevételei (13.1. + … + 13.3.) | C74: =+C75+C76+C77 -> 0 | D74: =+D75+D76+D77 -> 0 | E74: =+E75+E76+E77 -> 0
A75: 13.1. | B75: Államháztartáson belüli megelőlegezések
A76: 13.2. | B76: Államháztartáson belüli megelőlegezések törlesztése
A77: 13.3. | B77: Betétek megszüntetése
A78: 14. | B78: Külföldi finanszírozás bevételei (14.1.+…14.4.) | C78: =+C79+C80+C81+C82 -> 0 | D78: =+D79+D80+D81+D82 -> 0 | E78: =+E79+E80+E81+E82 -> 0
A79: 14.1. | B79: Forgatási célú külföldi értékpapírok beváltása, értékesítése
A80: 14.2. | B80: Befektetési célú külföldi értékpapírok beváltása, értékesítése
A81: 14.3. | B81: Külföldi értékpapírok kibocsátása
A82: 14.4. | B82: Külföldi hitelek, kölcsönök felvétele
A83: 15. | B83: Adóssághoz nem kapcsolódó származékos ügyletek bevételei
A84: 16. | B84: FINANSZÍROZÁSI BEVÉTELEK ÖSSZESEN: (10. + … +15.) | C84: =+C62+C66+C71+C74+C78+C83 -> 0 | D84: =+D62+D66+D71+D74+D78+D83 -> 0 | E84: =+E62+E66+E71+E74+E78+E83 -> 0
A85: 17. | B85: KÖLTSÉGVETÉSI ÉS FINANSZÍROZÁSI BEVÉTELEK ÖSSZESEN: (9+16) | C85: =+C61+C84 -> 0 | D85: =+D61+D84 -> 0 | E85: =+E61+E84 -> 0
A87: K I A D Á S O K
A88: 2. sz. táblázat | E88: =E2 -> Forintban!
A89: Sor- szám | B89: Kiadási jogcím | C89: =+C3 -> 2016. évi
C90: Eredeti előirányzat | D90: Módosított előirányzat | E90: Teljesítés
A91: A | B91: B | C91: C | D91: D | E91: E
A92: 1. | B92: Működési költségvetés kiadásai (1.1+…+1.5.) | C92: =SUM(C93:C97) -> 0 | D92: =SUM(D93:D97) -> 0 | E92: =SUM(E93:E97) -> 0
A93: 1.1. | B93: Személyi juttatások
A94: 1.2. | B94: Munkaadókat terhelő járulékok és szociális hozzájárulási adó
A95: 1.3. | B95: Dologi kiadások
A96: 1.4. | B96: Ellátottak pénzbeli juttatásai
A97: 1.5 | B97: Egyéb működési célú kiadások
A98: 1.6. | B98: - az 1.5-ből: - Elvonások és befizetések
A99: 1.7. | B99: - Garancia- és kezességvállalásból kifizetés ÁH-n belülre
A100: 1.8. | B100: -Visszatérítendő támogatások, kölcsönök nyújtása ÁH-n belülre
A101: 1.9. | B101: - Visszatérítendő támogatások, kölcsönök törlesztése ÁH-n belülre
...

Sheet 2.1.sz.mell  
B1: I. Működési célú bevételek és kiadások mérlege (Önkormányzati szinten) | J1: 2.1. melléklet a 8/2017. (V.29.) önkormányzati rendelethez
I2: ='1.4.sz.mell.'!E2 -> Forintban!
A3: Sor- szám | B3: Bevételek | F3: Kiadások
B4: Megnevezés | C4: =+CONCATENATE(LEFT('1.1.sz.mell.'!C3,4),". évi eredeti előirányzat") -> 2016. évi eredeti előirányzat | D4: =+CONCATENATE(LEFT('1.1.sz.mell.'!C3,4),". évi módosított előirányzat") -> 2016. évi módosított előirányzat | E4: =+CONCATENATE(LEFT('1.1.sz.mell.'!C3,4),". évi teljesítés") -> 2016. évi teljesítés | F4: Megnevezés | G4: =+C4 -> 2016. évi eredeti előirányzat | H4: =+D4 -> 2016. évi módosított előirányzat | I4: =+E4 -> 2016. évi teljesítés
A5: A | B5: B | C5: C | D5: D | E5: E | F5: F | G5: G | H5: H | I5: I
A6: 1. | B6: Önkormányzatok működési támogatásai | C6: 76532385 | D6: 75519365 | E6: 75519365 | F6: Személyi juttatások | G6: 100875716 | H6: 107190361 | I6: 105299578
A7: 2. | B7: Működési célú támogatások államháztartáson belülről | C7: 16444100 | D7: 22722438 | E7: 22722438 | F7: Munkaadókat terhelő járulékok és szociális hozzájárulási adó | G7: 24775344 | H7: 26988909 | I7: 26988909
A8: 3. | B8: 2.-ból EU-s támogatás | F8: Dologi kiadások | G8: 102860972 | H8: 102263762 | I8: 99526084
A9: 4. | B9: Közhatalmi bevételek | C9: 124730000 | D9: 140167300 | E9: 133181150 | F9: Ellátottak pénzbeli juttatásai | G9: 26148500 | H9: 10203003 | I9: 10203003
A10: 5. | B10: Működési célú átvett pénzeszközök | D10: 520000 | E10: 520000 | F10: Egyéb működési célú kiadások | G10: 34962000 | H10: 34992477 | I10: 34992477
A11: 6. | B11: 5.-ből EU-s támogatás | F11: Tartalékok | G11: 5000000
A12: 7. | B12: Egyéb működési bevételek | C12: 23216800 | D12: 32690577 | E12: 31650308
A13: 8.
A14: 9.
A15: 10.
A16: 11.
A17: 12.
A18: 13. | B18: Költségvetési bevételek összesen (1.+2.+4.+5.+7.+…+12.) | C18: =+C6+C7+C9+C10+C12+C13+C14+C15+C16+C17 -> 240923285 | D18: =+D6+D7+D9+D10+D12+D13+D14+D15+D16+D17 -> 271619680 | E18: =+E6+E7+E9+E10+E12+E13+E14+E15+E16+E17 -> 263593261 | F18: Költségvetési kiadások összesen (1.+...+12.) | G18: =SUM(G6:G17) -> 294622532 | H18: =SUM(H6:H17) -> 281638512 | I18: =SUM(I6:I17) -> 277010051
A19: 14. | B19: Hiány belső finanszírozásának bevételei (15.+…+18. ) | C19: =+C20+C21+C22+C23 -> 9923000 | D19: =+D20+D21+D22+D23 -> 9928171 | E19: =+E20+E21+E22+E23 -> 13205470 | F19: Értékpapír vásárlása, visszavásárlása
A20: 15. | B20: Költségvetési maradvány igénybevétele | C20: 9923000 | D20: 9928171 | E20: 9928171 | F20: Likviditási célú hitelek törlesztése
A21: 16. | B21: Vállalkozási maradvány igénybevétele | F21: Rövid lejáratú hitelek törlesztése
A22: 17. | B22: Betét visszavonásából származó bevétel | F22: Hosszú lejáratú hitelek törlesztése
A23: 18. | B23: Egyéb belső finanszírozási bevételek | E23: 3277299 | F23: Államháztartáson belüli megelőlegezések visszafizetése | H23: 2711561 | I23: 2711561
A24: 19. | B24: Hiány külső finanszírozásának bevételei (20.+…+21.) | C24: =+C25+C26 -> 49676247 | D24: =+D25+D26 -> 115945929 | E24: =+E25+E26 -> 115945929 | F24: Forgatási célú belföldi, külföldi értékpapírok vásárlása | H24: 85015109 | I24: 85015109
A25: 20. | B25: Likviditási célú hitelek, kölcsönök felvétele | F25: Betét elhelyezése
A26: 21. | B26: Értékpapírok bevételei | C26: 49676247 | D26: 115945929 | E26: 115945929
A27: 22. | B27: Működési célú finanszírozási bevételek összesen (14.+19.) | C27: =+C19+C24 -> 59599247 | D27: =+D19+D24 -> 125874100 | E27: =+E19+E24 -> 129151399 | F27: Működési célú finanszírozási kiadások összesen (14.+...+21.) | G27: =SUM(G19:G26) -> 0 | H27: =SUM(H19:H26) -> 87726670 | I27: =SUM(I19:I26) -> 87726670
A28: 23. | B28: BEVÉTEL ÖSSZESEN (13.+22.) | C28: =+C18+C27 -> 300522532 | D28: =+D18+D27 -> 397493780 | E28: =+E18+E27 -> 392744660 | F28: KIADÁSOK ÖSSZESEN (13.+22.) | G28: =+G18+G27 -> 294622532 | H28: =+H18+H27 -> 369365182 | I28: =+I18+I27 -> 364736721
A29: 24. | B29: Költségvetési hiány: | C29: =IF(C18-G18<0,G18-C18,"-") -> 53699247 | D29: =IF(D18-H18<0,H18-D18,"-") -> 10018832 | E29: =IF(E18-I18<0,I18-E18,"-") -> 13416790 | F29: Költségvetési többlet: | G29: =IF(C18-G18>0,C18-G18,"-") -> - | H29: =IF(D18-H18>0,D18-H18,"-") -> - | I29: =IF(E18-I18>0,E18-I18,"-") -> -
A30: 25. | B30: Bruttó hiány: | C30: =IF(C28-G28<0,G28-C28,"-") -> - | D30: =IF(D28-H28<0,H28-D28,"-") -> - | E30: =IF(E28-I28<0,I28-E28,"-") -> - | F30: Bruttó többlet: | G30: =IF(C28-G28>0,C28-G28,"-") -> 5900000 | H30: =IF(D28-H28>0,D28-H28,"-") -> 28128598 | I30: =IF(E28-I28>0,E28-I28,"-") -> 28007939

Sheet 2.2.sz.mell  
B1: II. Felhalmozási célú bevételek és kiadások mérlege (Önkormányzati szinten) | J1: 2.2. melléklet a 8/2017. (V.29.) önkormányzati rendelethez
I2: ='2.1.sz.mell '!I2 -> Forintban!
A3: Sor- szám | B3: Bevételek | F3: Kiadások
B4: Megnevezés | C4: =+'2.1.sz.mell '!C4 -> 2016. évi eredeti előirányzat | D4: =+'2.1.sz.mell '!D4 -> 2016. évi módosított előirányzat | E4: =+'2.1.sz.mell '!E4 -> 2016. évi teljesítés | F4: Megnevezés | G4: =+'2.1.sz.mell '!C4 -> 2016. évi eredeti előirányzat | H4: =+'2.1.sz.mell '!D4 -> 2016. évi módosított előirányzat | I4: =+'2.1.sz.mell '!E4 -> 2016. évi teljesítés
A5: A | B5: B | C5: C | D5: D | E5: E | F5: F | G5: G | H5: H | I5: I
A6: 1. | B6: Felhalmozási célú támogatások államháztartáson belülről | F6: Beruházások | G6: 9554400 | H6: 14276098 | I6: 11512098
A7: 2. | B7: 1.-ből EU-s támogatás | F7: 1.-ből EU-s forrásból megvalósuló beruházás
A8: 3. | B8: Felhalmozási bevételek | C8: 15000000 | D8: 2150000 | E8: 2150000 | F8: Felújítások | G8: 5445600 | H8: 13685930 | I8: 6727229
A9: 4. | B9: Felhalmozási célú átvett pénzeszközök átvétele | D9: 6000000 | E9: 6000000 | F9: 3.-ból EU-s forrásból megvalósuló felújítás
A10: 5. | B10: 4.-ből EU-s támogatás (közvetlen) | D10: 6000000 | E10: 6000000 | F10: Egyéb felhalmozási kiadások | G10: 5900000 | H10: 8900000 | I10: 8900000
A11: 6. | B11: Egyéb felhalmozási célú bevételek | D11: 583430 | E11: 583430
A12: 7.
A13: 8.
A14: 9.
A15: 10.
A16: 11. | F16: Tartalékok
A17: 12. | B17: Költségvetési bevételek összesen: (1.+3.+4.+6.+…+11.) | C17: =+C6+C8+C9+C11+C12+C13+C14+C15+C16 -> 15000000 | D17: =+D6+D8+D9+D11+D12+D13+D14+D15+D16 -> 8733430 | E17: =+E6+E8+E9+E11+E12+E13+E14+E15+E16 -> 8733430 | F17: Költségvetési kiadások összesen: (1.+3.+5.+...+11.) | G17: =+G6+G8+G10+G11+G12+G13+G14+G15+G16 -> 20900000 | H17: =+H6+H8+H10+H11+H12+H13+H14+H15+H16 -> 36862028 | I17: =+I6+I8+I10+I11+I12+I13+I14+I15+I16 -> 27139327
A18: 13. | B18: Hiány belső finanszírozás bevételei ( 14+…+18) | C18: =+C19+C20+C21+C22+C23 -> 0 | D18: =+D19+D20+D21+D22+D23 -> 0 | E18: =+E19+E20+E21+E22+E23 -> 0 | F18: Értékpapír vásárlása, visszavásárlása
A19: 14. | B19: Költségvetési maradvány igénybevétele | F19: Hitelek törlesztése
A20: 15. | B20: Vállalkozási maradvány igénybevétele | F20: Rövid lejáratú hitelek törlesztése
A21: 16. | B21: Betét visszavonásából származó bevétel | F21: Hosszú lejáratú hitelek törlesztése
A22: 17. | B22: Értékpapír értékesítése | F22: Kölcsön törlesztése
A23: 18. | B23: Egyéb belső finanszírozási bevételek | F23: Befektetési célú belföldi, külföldi értékpapírok vásárlása
A24: 19. | B24: Hiány külső finanszírozásának bevételei (20+…+24 ) | C24: =+C25+C26+C27+C28+C29 -> 0 | D24: =+D25+D26+D27+D28+D29 -> 0 | E24: =+E25+E26+E27+E28+E29 -> 0 | F24: Betét elhelyezése
A25: 20. | B25: Hosszú lejáratú hitelek, kölcsönök felvétele | F25: Pénzügyi lízing kiadásai
A26: 21. | B26: Likviditási célú hitelek, kölcsönök felvétele
A27: 22. | B27: Rövid lejáratú hitelek, kölcsönök felvétele
A28: 23. | B28: Értékpapírok kibocsátása
A29: 24. | B29: Egyéb külső finanszírozási bevételek
A30: 25. | B30: Felhalmozási célú finanszírozási bevételek összesen (13.+19.) | C30: =+C18+C24 -> 0 | D30: =+D18+D24 -> 0 | E30: =+E18+E24 -> 0 | F30: Felhalmozási célú finanszírozási kiadások összesen (13.+...+24.) | G30: =SUM(G18:G29) -> 0 | H30: =SUM(H18:H29) -> 0 | I30: =SUM(I18:I29) -> 0
A31: 26. | B31: BEVÉTEL ÖSSZESEN (12+25) | C31: =+C17+C30 -> 15000000 | D31: =+D17+D30 -> 8733430 | E31: =+E17+E30 -> 8733430 | F31: KIADÁSOK ÖSSZESEN (12+25) | G31: =+G17+G30 -> 20900000 | H31: =+H17+H30 -> 36862028 | I31: =+I17+I30 -> 27139327
A32: 27. | B32: Költségvetési hiány: | C32: =IF(C17-G17<0,G17-C17,"-") -> 5900000 | D32: =IF(D17-H17<0,H17-D17,"-") -> 28128598 | E32: =IF(E17-I17<0,I17-E17,"-") -> 18405897 | F32: Költségvetési többlet: | G32: =IF(C17-G17>0,C17-G17,"-") -> - | H32: =IF(D17-H17>0,D17-H17,"-") -> - | I32: =IF(E17-I17>0,E17-I17,"-") -> -
A33: 28. | B33: Bruttó hiány: | C33: =IF(C31-G31<0,G31-C31,"-") -> 5900000 | D33: =IF(D31-H31<0,H31-D31,"-") -> 28128598 | E33: =IF(E31-I31<0,I31-E31,"-") -> 18405897 | F33: Bruttó többlet: | G33: =IF(C31-G31>0,C31-G31,"-") -> - | H33: =IF(D31-H31>0,D31-H31,"-") -> - | I33: =IF(E31-I31>0,E31-I31,"-") -> -

Sheet ELLENŐRZÉS-1.sz.2.1.sz.2.2.sz.
A1: Költségvetési rendelet űrlapjainak összefüggései: | E1: ELTÉRÉS
A4: =+ÖSSZEFÜGGÉSEK!A4 -> 2016. évi eredeti előirányzat BEVÉTELEK
A6: 1. sz. melléklet Bevételek táblázat C. oszlop 9 sora = | B6: =+'1.1.sz.mell.'!C61 -> 255923285 | C6: 2.1. számú melléklet C. oszlop 13. sor + 2.2. számú melléklet C. oszlop 12. sor | D6: =+'2.1.sz.mell '!C18+'2.2.sz.mell '!C17 -> 255923285 | E6: =+B6-D6 -> 0
A7: 1. sz. melléklet Bevételek táblázat C. oszlop 16 sora = | B7: =+'1.1.sz.mell.'!C84 -> 59599247 | C7: 2.1. számú melléklet C. oszlop 22. sor + 2.2. számú melléklet C. oszlop 25. sor | D7: =+'2.1.sz.mell '!C27+'2.2.sz.mell '!C30 -> 59599247 | E7: =+B7-D7 -> 0
A8: 1. sz. melléklet Bevételek táblázat C. oszlop 17 sora = | B8: =+'1.1.sz.mell.'!C85 -> 315522532 | C8: 2.1. számú melléklet C. oszlop 23. sor + 2.2. számú melléklet C. oszlop 26. sor | D8: =+'2.1.sz.mell '!C28+'2.2.sz.mell '!C31 -> 315522532 | E8: =+B8-D8 -> 0
A10: =+ÖSSZEFÜGGÉSEK!A10 -> 2016. évi módosított előirányzat BEVÉTELEK
A12: 1. sz. melléklet Bevételek táblázat D. oszlop 9 sora = | B12: =+'1.1.sz.mell.'!D61 -> 280353110 | C12: 2.1. számú melléklet D. oszlop 13. sor + 2.2. számú melléklet D. oszlop 12. sor | D12: =+'2.1.sz.mell '!D18+'2.2.sz.mell '!D17 -> 280353110 | E12: =+B12-D12 -> 0
A13: 1. sz. melléklet Bevételek táblázat D. oszlop 16 sora = | B13: =+'1.1.sz.mell.'!D84 -> 125874100 | C13: 2.1. számú melléklet D. oszlop 22. sor + 2.2. számú melléklet D. oszlop 25. sor | D13: =+'2.1.sz.mell '!D27+'2.2.sz.mell '!D30 -> 125874100 | E13: =+B13-D13 -> 0
A14: 1. sz. melléklet Bevételek táblázat D. oszlop 17 sora = | B14: =+'1.1.sz.mell.'!D85 -> 406227210 | C14: 2.1. számú melléklet D. oszlop 23. sor + 2.2. számú melléklet D. oszlop 26. sor | D14: =+'2.1.sz.mell '!D28+'2.2.sz.mell '!D31 -> 406227210 | E14: =+B14-D14 -> 0
A16: =+ÖSSZEFÜGGÉSEK!A16 -> 2016. évi teljesítés BEVÉTELEK
A18: 1. sz. melléklet Bevételek táblázat E. oszlop 9 sora = | B18: =+'1.1.sz.mell.'!E61 -> 272326691 | C18: 2.1. számú melléklet E. oszlop 13. sor + 2.2. számú melléklet E. oszlop 12. sor | D18: =+'2.1.sz.mell '!E18+'2.2.sz.mell '!E17 -> 272326691 | E18: =+B18-D18 -> 0
A19: 1. sz. melléklet Bevételek táblázat E. oszlop 16 sora = | B19: =+'1.1.sz.mell.'!E84 -> 129151399 | C19: 2.1. számú melléklet E. oszlop 22. sor + 2.2. számú melléklet E. oszlop 25. sor | D19: =+'2.1.sz.mell '!E27+'2.2.sz.mell '!E30 -> 129151399 | E19: =+B19-D19 -> 0
A20: 1. sz. melléklet Bevételek táblázat E. oszlop 17 sora = | B20: =+'1.1.sz.mell.'!E85 -> 401478090 | C20: 2.1. számú melléklet E. oszlop 23. sor + 2.2. számú melléklet E. oszlop 26. sor | D20: =+'2.1.sz.mell '!E28+'2.2.sz.mell '!E31 -> 401478090 | E20: =+B20-D20 -> 0
A22: =+ÖSSZEFÜGGÉSEK!A22 -> 2016. évi eredeti előirányzat KIADÁSOK
A24: 1. sz. melléklet Kiadások táblázat C. oszlop 4 sora = | B24: =+'1.1.sz.mell.'!C125 -> 315522532 | C24: 2.1. számú melléklet G. oszlop 13. sor + 2.2. számú melléklet G. oszlop 12. sor | D24: =+'2.1.sz.mell '!G18+'2.2.sz.mell '!G17 -> 315522532 | E24: =+B24-D24 -> 0
A25: 1. sz. melléklet Kiadások táblázat C. oszlop 9 sora = | B25: =+'1.1.sz.mell.'!C145 -> 0 | C25: 2.1. számú melléklet G. oszlop 22. sor + 2.2. számú melléklet G. oszlop 25. sor | D25: =+'2.1.sz.mell '!G27+'2.2.sz.mell '!G30 -> 0 | E25: =+B25-D25 -> 0
A26: 1. sz. melléklet Kiadások táblázat C. oszlop 10 sora = | B26: =+'1.1.sz.mell.'!C146 -> 315522532 | C26: 2.1. számú melléklet G. oszlop 23. sor + 2.2. számú melléklet G. oszlop 26. sor | D26: =+'2.1.sz.mell '!G28+'2.2.sz.mell '!G31 -> 315522532 | E26: =+B26-D26 -> 0
A28: =+ÖSSZEFÜGGÉSEK!A28 -> 2016. évi módosított előirányzat KIADÁSOK
A30: 1. sz. melléklet Kiadások táblázat D. oszlop 4 sora = | B30: =+'1.1.sz.mell.'!D125 -> 318500540 | C30: 2.1. számú melléklet H. oszlop 13. sor + 2.2. számú melléklet H. oszlop 12. sor | D30: =+'2.1.sz.mell '!H18+'2.2.sz.mell '!H17 -> 318500540 | E30: =+B30-D30 -> 0
A31: 1. sz. melléklet Kiadások táblázat D. oszlop 9 sora = | B31: =+'1.1.sz.mell.'!D145 -> 87726670 | C31: 2.1. számú melléklet H. oszlop 22. sor + 2.2. számú melléklet H. oszlop 25. sor | D31: =+'2.1.sz.mell '!H27+'2.2.sz.mell '!H30 -> 87726670 | E31: =+B31-D31 -> 0
A32: 1. sz. melléklet Kiadások táblázat D. oszlop 10 sora = | B32: =+'1.1.sz.mell.'!D146 -> 406227210 | C32: 2.1. számú melléklet H. oszlop 23. sor + 2.2. számú melléklet H. oszlop 26. sor | D32: =+'2.1.sz.mell '!H28+'2.2.sz.mell '!H31 -> 406227210 | E32: =+B32-D32 -> 0
A34: =+ÖSSZEFÜGGÉSEK!A34 -> 2016. évi teljesítés KIADÁSOK
A36: 1. sz. melléklet Kiadások táblázat E. oszlop 4 sora = | B36: =+'1.1.sz.mell.'!E125 -> 304149378 | C36: 2.1. számú melléklet I. oszlop 13. sor + 2.2. számú melléklet I. oszlop 12. sor | D36: =+'2.1.sz.mell '!I18+'2.2.sz.mell '!I17 -> 304149378 | E36: =+B36-D36 -> 0
A37: 1. sz. melléklet Kiadások táblázat E. oszlop 9 sora = | B37: =+'1.1.sz.mell.'!E145 -> 87726670 | C37: 2.1. számú melléklet I. oszlop 22. sor + 2.2. számú melléklet I. oszlop 25. sor | D37: =+'2.1.sz.mell '!I27+'2.2.sz.mell '!I30 -> 87726670 | E37: =+B37-D37 -> 0
A38: 1. sz. melléklet Kiadások táblázat E. oszlop 10 sora = | B38: =+'1.1.sz.mell.'!E146 -> 391876048 | C38: 2.1. számú melléklet I. oszlop 23. sor + 2.2. számú melléklet I. oszlop 26. sor | D38: =+'2.1.sz.mell '!I28+'2.2.sz.mell '!I31 -> 391876048 | E38: =+B38-D38 -> 0

Sheet 3.sz.mell.
A1: Beruházási (felhalmozási) kiadások előirányzata beruházásonként | H1: 3. melléklet a 8/2017. (V.29.) önkormányzati rendelethez
G2: ='2.2.sz.mell '!I2 -> Forintban!
A3: Beruházás megnevezése | B3: Teljes költség | C3: Kivitelezés kezdési és befejezési éve | D3: =+CONCATENATE("Felhasználás ",LEFT(ÖSSZEFÜGGÉSEK!A4,4)-1,". XII.31-ig") -> Felhasználás 2015. XII.31-ig | E3: =+CONCATENATE(LEFT(ÖSSZEFÜGGÉSEK!A4,4),". évi módosított előirányzat") -> 2016. évi módosított előirányzat | F3: =+CONCATENATE(LEFT(ÖSSZEFÜGGÉSEK!A4,4),". évi teljesítés") -> 2016. évi teljesítés | G3: =+CONCATENATE("Összes teljesítés ",LEFT(ÖSSZEFÜGGÉSEK!A4,4),". dec. 31-ig") -> Összes teljesítés 2016. dec. 31-ig
A4: A | B4: B | C4: C | D4: D | E4: E | F4: F | G4: G=(D+F)
A5: Térfigyelő kamerea beüzemelése | B5: 3665000 | C5: 2014-2017 | D5: 2439593 | G5: =+D5+F5 -> 2439593
A6: 034/17 és 473 hrsz ingatlanvásárlás | B6: 4916400 | C6: 2016-2016 | E6: 4916400 | F6: 4916400 | G6: =+D6+F6 -> 4916400
A7: Szekrény védőnői szolgálat | B7: 97500 | C7: 2016-2016 | E7: 97500 | F7: 97500 | G7: =+D7+F7 -> 97500
A8: Szekrény háziorosi szolgálat | B8: 292500 | C8: 2016-2016 | E8: 292500 | F8: 292500 | G8: =+D8+F8 -> 292500
A9: Fali szemétgyűjtő buszmegállókba | B9: 351282 | C9: 2016-2016 | E9: 351282 | F9: 351382 | G9: =+D9+F9 -> 351382
A10: Laptop védőni szolgálat | B10: 215900 | C10: 2016-2016 | E10: 215900 | F10: 215900 | G10: =+D10+F10 -> 215900
A11: Kosárpálya játszótér | B11: 549078 | C11: 2016-2016 | E11: 549078 | F11: 549078 | G11: =+D11+F11 -> 549078
A12: Kisértékű tárgyi eszközök | B12: 256818 | C12: 2016-2016 | E12: 256818 | F12: 256818 | G12: =+D12+F12 -> 256818
A13: Kisértékű tárgyi eszközök közfoglalkoztatáshoz | B13: 1455626 | C13: 2016-2016 | E13: 1455626 | F13: 1455626 | G13: =+D13+F13 -> 1455626
A14: Televízió | B14: 240490 | C14: 2016-2016 | E14: 240490 | F14: 240490 | G14: =+D14+F14 -> 240490
A15: Interaktív tábla | B15: 469000 | C15: 2016-2016 | E15: 469000 | F15: 469000 | G15: =+D15+F15 -> 469000
A16: ASP-hez informatikai eszközök | B16: 728802 | C16: 2016-2016 | E16: 728802 | F16: 728802 | G16: =+D16+F16 -> 728802
A17: Kisértékű tárgyi eszköz - PH | B17: 173989 | C17: 2016-2016 | E17: 173989 | F17: 173989 | G17: =+D17+F17 -> 173989
... A22: Számítógép - ÁMK igazgató | B22: 180200 | C22: 2016-2016 | E22: 180200 | F22: 180200 | G22: =+D22+F22 -> 180200
G23: =+D23+F23 -> 0
A24: ÖSSZESEN: | B24: =SUM(B5:B23) -> 15176998 | D24: =SUM(D5:D23) -> 2439593 | E24: =SUM(E5:E23) -> 11511998 | F24: =SUM(F5:F23) -> 11512098 | G24: =SUM(G5:G23) -> 13951691

Sheet 4.sz.mell.
A1: Felújítási kiadások előirányzata felújításonként | H1: 4. melléklet a 8/2017. (V.29.) önkormányzati rendelethez
G2: ='3.sz.mell.'!G2 -> Forintban!
A3: Felújítás megnevezése | B3: Teljes költség | C3: Kivitelezés kezdési és befejezési éve | D3: =+'3.sz.mell.'!D3 -> Felhasználás 2015. XII.31-ig | E3: =+'3.sz.mell.'!E3 -> 2016. évi módosított előirányzat | F3: =+'3.sz.mell.'!F3 -> 2016. évi teljesítés | G3: =+'3.sz.mell.'!G3 -> Összes teljesítés 2016. dec. 31-ig
A4: A | B4: B | C4: C | D4: D | E4: E | F4: F | G4: G=(D+F)
A5: Nyílászárók cseréje - iskola | B5: 1077595 | C5: 2016-2016 | E5: 1077595 | F5: 1077595 | G5: =+D5+F5 -> 1077595
A6: Szabadidő park ideiglenes áramvételezésének kialakítása | B6: 1240790 | C6: 2016-2016 | E6: 1240790 | F6: 1240790 | G6: =+D6+F6 -> 1240790
A7: Fűtés korszerűsítés - orvosi rendelő | B7: 1352141 | C7: 2016-2016 | E7: 1352141 | F7: 1352141 | G7: =+D7+F7 -> 1352141
A8: Udvar térkövezés - PH | B8: 4834830 | C8: 2016-2017 | E8: 3056703 | F8: 3056703 | G8: =+D8+F8 -> 3056703
G9: =+D9+F9 -> 0
G10: =+D10+F10 -> 0
G11: =+D11+F11 -> 0
G12: =+D12+F12 -> 0
G13: =+D13+F13 -> 0
G14: =+D14+F14 -> 0
G15: =+D15+F15 -> 0
G16: =+D16+F16 -> 0
G17: =+D17+F17 -> 0
G18: =+D18+F18 -> 0
G19: =+D19+F19 -> 0
G20: =+D20+F20 -> 0
... G23: =+D23+F23 -> 0
A24: ÖSSZESEN: | B24: =SUM(B5:B23) -> 8505356 | D24: =SUM(D5:D23) -> 0 | E24: =SUM(E5:E23) -> 6727229 | F24: =SUM(F5:F23) -> 6727229 | G24: =SUM(G5:G23) -> 6727229

Sheet 5. sz. mell. 
A1: EU-s projekt neve, azonosítója:* | N1: 5. melléklet a 8/2017. (V.29.) önkormányzati rendelethez
A2: KÖFOP-1.2.1-VEKOP-16 - Csatlakoztatási konstrukció az önkormányzati ASP rendszer országos kiterjesztéséhez | M2: ='4.sz.mell.'!G2 -> Forintban!
A3: Források | B3: Támogatási szerződés szerinti bevételek, kiadások | J3: Teljesítés
B4: Eredeti | C4: Módosított | D4: Évenkénti üteme
D5: Eredeti | E5: Módosított | F5: Eredeti | G5: Módosított | H5: Eredeti | I5: Módosított
B6: Összes bevétel, kiadás | D6: =+CONCATENATE(LEFT(ÖSSZEFÜGGÉSEK!A4,4),". előtt") -> 2016. előtt | F6: =+CONCATENATE(LEFT(ÖSSZEFÜGGÉSEK!A4,4),". évi") -> 2016. évi | H6: =+CONCATENATE(LEFT(ÖSSZEFÜGGÉSEK!A4,4),". után") -> 2016. után | J6: =+D6 -> 2016. előtt | K6: =+F6 -> 2016. évi | L6: Összesen | M6: =+CONCATENATE("Teljesítés %-a ",LEFT(ÖSSZEFÜGGÉSEK!A4,4),". XII. 31-ig") -> Teljesítés %-a 2016. XII. 31-ig
A7: A | B7: B | C7: C | D7: D | E7: E | F7: F | G7: G | H7: H | I7: I | J7: J | K7: K | L7: L=(J+K) | M7: M=(L/C)
A8: Saját erő | L8: =+J8+K8 -> 0 | M8: =IF((C8<>0),ROUND((L8/C8)*100,1),"")
A9: - saját erőből központi támogatás | L9: =+J9+K9 -> 0 | M9: =IF((C9<>0),ROUND((L9/C9)*100,1),"")
A10: EU-s forrás | C10: 6000000 | G10: 6000000 | K10: 6000000 | L10: =+J10+K10 -> 6000000 | M10: =IF((C10<>0),ROUND((L10/C10)*100,1),"") -> 100
A11: Társfinanszírozás | L11: =+J11+K11 -> 0 | M11: =IF((C11<>0),ROUND((L11/C11)*100,1),"")
A12: Hitel | L12: =+J12+K12 -> 0 | M12: =IF((C12<>0),ROUND((L12/C12)*100,1),"")
A13: Egyéb forrás | L13: =+J13+K13 -> 0 | M13: =IF((C13<>0),ROUND((L13/C13)*100,1),"")
L14: =+J14+K14 -> 0 | M14: =IF((C14<>0),ROUND((L14/C14)*100,1),"")
A15: Források összesen: | B15: =B8+SUM(B10:B14) -> 0 | C15: =C8+SUM(C10:C14) -> 6000000 | D15: =D8+SUM(D10:D14) -> 0 | E15: =E8+SUM(E10:E14) -> 0 | F15: =F8+SUM(F10:F14) -> 0 | G15: =G8+SUM(G10:G14) -> 6000000 | H15: =H8+SUM(H10:H14) -> 0 | I15: =I8+SUM(I10:I14) -> 0 | ... L15: =L8+SUM(L10:L14) -> 6000000 | M15: =IF((C15<>0),ROUND((L15/C15)*100,1),"") -> 100
A17: Kiadások, költségek
A18: Személyi jellegű | L18: =+J18+K18 -> 0 | M18: =IF((C18<>0),ROUND((L18/C18)*100,1),"")
A19: Beruházások, beszerzések | E19: 2565705 | G19: 728802 | J19: 2565705 | K19: 728802 | L19: =+J19+K19 -> 3294507 | M19: =IF((C19<>0),ROUND((L19/C19)*100,1),"")
A20: Szolgáltatások igénybe vétele | L20: =+J20+K20 -> 0 | M20: =IF((C20<>0),ROUND((L20/C20)*100,1),"")
A21: Adminisztratív költségek | L21: =+J21+K21 -> 0 | M21: =IF((C21<>0),ROUND((L21/C21)*100,1),"")
L22: =+J22+K22 -> 0 | M22: =IF((C22<>0),ROUND((L22/C22)*100,1),"")
L23: =+J23+K23 -> 0 | M23: =IF((C23<>0),ROUND((L23/C23)*100,1),"")
A24: Kiadások összesen: | B24: =SUM(B18:B23) -> 0 | C24: =SUM(C18:C23) -> 0 | D24: =SUM(D18:D23) -> 0 | E24: =SUM(E18:E23) -> 2565705 | F24: =SUM(F18:F23) -> 0 | G24: =SUM(G18:G23) -> 728802 | H24: =SUM(H18:H23) -> 0 | I24: =SUM(I18:I23) -> 0 | ... L24: =SUM(L18:L23) -> 3294507 | M24: =IF((C24<>0),ROUND((L24/C24)*100,1),"")
A25: * Amennyiben több projekt megvalósítása történi egy időben akkor azokat külön-külön, projektenként be kell mutatni!
A27: =+CONCATENATE("Önkormányzaton kívüli EU-s projekthez történő hozzájárulás ",LEFT(ÖSSZEFÜGGÉSEK!A4,4),". évi előirányzata és teljesítése") -> Önkormányzaton kívüli EU-s projekthez történő hozzájárulás 2016. évi előirányzata és teljesítése
L28: =M2 -> Forintban!
A29: Támogatott neve | K29: Eredeti ei. | L29: Módosított ei. | M29: Teljesítés
A32: Összesen: | K32: =SUM(K30:K31) -> 0 | L32: =SUM(L30:L31) -> 0 | M32: =SUM(M30:M31) -> 0

Sheet 6.1. sz. mell
E1: 6.1. melléklet a 8/2017. (V.29.) önkormányzati rendelethez
A2: Megnevezés | B2: Önkormányzat | E2: 01
A3: Feladat megnevezése | B3: Összes bevétel, kiadás | E3: 01
E4: ='5. sz. mell. '!M2 -> Forintban!
A5: Száma | B5: Kiemelt előirányzat, előirányzat megnevezése | C5: Eredeti előirányzat | D5: Módosított előirányzat | E5: Teljesítés
A6: A | B6: B | C6: C | D6: D | E6: E
A7: Bevételek
A8: 1. | B8: Önkormányzat működési támogatásai (1.1.+…+.1.6.) | C8: =SUM(C9:C13) -> 76532385 | D8: =SUM(D9:D14) -> 75519365 | E8: =SUM(E9:E14) -> 75519365
A9: 1.1. | B9: Helyi önkormányzatok működésének általános támogatása | C9: 20129106 | D9: 20129106 | E9: 20129106
A10: 1.2. | B10: Önkormányzatok egyes köznevelési feladatainak támogatása | C10: 24828566 | D10: 26445800 | E10: 26445800
A11: 1.3. | B11: Önkormányzatok szociális és gyermekjóléti feladatainak támogatása | C11: 29065573 | D11: 24500716 | E11: 24500716
A12: 1.4. | B12: Önkormányzatok kulturális feladatainak támogatása | C12: 2509140 | D12: 2644990 | E12: 2644990
A13: 1.5. | B13: Helyi önkormányzatok kiegészítő támogatásai | D13: 1794129 | E13: 1794129
A14: 1.6. | B14: Elszámolásbó származó bevételek | D14: 4624 | E14: 4624
A15: 2. | B15: Működési célú támogatások államháztartáson belülről (2.1.+…+.2.5.) | C15: =SUM(C16:C20) -> 16444100 | D15: =SUM(D16:D20) -> 22231005 | E15: =SUM(E16:E20) -> 22231005
A16: 2.1. | B16: Elvonások és befizetések bevételei
A17: 2.2. | B17: Működési célú garancia- és kezességvállalásból megtérülések
A18: 2.3. | B18: Működési célú visszatérítendő támogatások, kölcsönök visszatérülése
A19: 2.4. | B19: Működési célú visszatérítendő támogatások, kölcsönök igénybevétele
A20: 2.5. | B20: Egyéb működési célú támogatások bevételei | C20: 16444100 | D20: 22231005 | E20: 22231005
A21: 2.6. | B21: 2.5.-ből EU-s támogatás
A22: 3. | B22: Felhalmozási célú támogatások államháztartáson belülről (3.1.+…+3.5.) | C22: =SUM(C23:C27) -> 0 | D22: =SUM(D23:D27) -> 6000000 | E22: =SUM(E23:E27) -> 6000000
A23: 3.1. | B23: Felhalmozási célú önkormányzati támogatások | D23: 6000000 | E23: 6000000
A24: 3.2. | B24: Felhalmozási célú garancia- és kezességvállalásból megtérülések
A25: 3.3. | B25: Felhalmozási célú visszatérítendő támogatások, kölcsönök visszatérülése
A26: 3.4. | B26: Felhalmozási célú visszatérítendő támogatások, kölcsönök igénybevétele
A27: 3.5. | B27: Egyéb felhalmozási célú támogatások bevételei
A28: 3.6. | B28: 3.5.-ből EU-s támogatás
A29: 4. | B29: Közhatalmi bevételek (4.1.+...+4.7.) | C29: =SUM(C30:C35) -> 124700000 | D29: =SUM(D30:D35) -> 140153300 | E29: =SUM(E30:E35) -> 133167150
A30: 4.1. | B30: Építményadó | C30: 2500000 | D30: 3540148 | E30: 3425513
A31: 4.2. | B31: Telekadó | C31: 30000000 | D31: 41695798 | E31: 39937082
A32: 4.3. | B32: Iparűzési adó | C32: 85000000 | D32: 85223908 | E32: 81124886
A33: 4.5. | B33: Gépjárműadók önkormányzatot megillető részer | C33: 7000000 | D33: 9167371 | E33: 8349286
A34: 4.6. | B34: Egyéb áruhasználati és szolgáltatási adók
A35: 4.7. | B35: Egyéb közhatalmi bevételek | C35: 200000 | D35: 526075 | E35: 330383
A36: 5. | B36: Működési bevételek (5.1.+…+ 5.10.) | C36: =SUM(C37:C46) -> 23116800 | D36: =SUM(D37:D46) -> 31874127 | E36: =SUM(E37:E46) -> 30833458
A37: 5.1. | B37: Készletértékesítés ellenértéke
A38: 5.2. | B38: Szolgáltatások ellenértéke | C38: 1570000 | D38: 5183551 | E38: 4859625
A39: 5.3. | B39: Közvetített szolgáltatások értéke | C39: 800000 | D39: 777810 | E39: 777810
A40: 5.4. | B40: Tulajdonosi bevételek | D40: 10234855 | E40: 10234855
A41: 5.5. | B41: Ellátási díjak | C41: 15896000 | D41: 9794074 | E41: 9257331
A42: 5.6. | B42: Kiszámlázott általános forgalmi adó | C42: 4850800 | D42: 5620165 | E42: 5440165
A43: 5.7. | B43: Általános forgalmi adó visszatérítése
A44: 5.8. | B44: Kamatbevételek | D44: 70204 | E44: 70204
A45: 5.9. | B45: Egyéb pénzügyi műveletek bevételei
A46: 5.10. | B46: Egyéb működési bevételek | D46: 193468 | E46: 193468
A47: 6. | B47: Felhalmozási bevételek (6.1.+…+6.5.) | C47: =SUM(C48:C52) -> 15000000 | D47: =SUM(D48:D52) -> 2150000 | E47: =SUM(E48:E52) -> 2150000
A48: 6.1. | B48: Immateriális javak értékesítése
A49: 6.2. | B49: Ingatlanok értékesítése | C49: 15000000 | D49: 2150000 | E49: 2150000
A50: 6.3. | B50: Egyéb tárgyi eszközök értékesítése
A51: 6.4. | B51: Részesedések értékesítése
A52: 6.5. | B52: Részesedések megszűnéséhez kapcsolódó bevételek
A53: 7. | B53: Működési célú átvett pénzeszközök (7.1. + … + 7.3.) | C53: =SUM(C54:C56) -> 0 | D53: =SUM(D54:D56) -> 250000 | E53: =SUM(E54:E56) -> 250000
A54: 7.1. | B54: Működési célú garancia- és kezességvállalásból megtérülések ÁH-n kívülről
A55: 7.2. | B55: Működési célú visszatérítendő támogatások, kölcsönök visszatér. ÁH-n kívülről
A56: 7.3. | B56: Egyéb működési célú átvett pénzeszköz | D56: 250000 | E56: 250000
A57: 7.4. | B57: 7.3.-ból EU-s támogatás (közvetlen)
A58: 8. | B58: Felhalmozási célú átvett pénzeszközök (8.1.+8.2.+8.3.) | C58: =SUM(C59:C61) -> 0 | D58: =SUM(D59:D61) -> 583430 | E58: =SUM(E59:E61) -> 583430
A59: 8.1. | B59: Felhalm. célú garancia- és kezességvállalásból megtérülések ÁH-n kívülről
A60: 8.2. | B60: Felhalm. célú visszatérítendő tám., kölcsönök visszatér. ÁH-n kívülről | D60: 583430 | E60: 583430
A61: 8.3. | B61: Egyéb felhalmozási célú átvett pénzeszköz
A62: 8.4. | B62: 8.3.-ból EU-s támogatás (közvetlen)
A63: 9. | B63: KÖLTSÉGVETÉSI BEVÉTELEK ÖSSZESEN: (1+…+8) | C63: =+C8+C15+C22+C29+C36+C47+C53+C58 -> 255793285 | D63: =+D8+D15+D22+D29+D36+D47+D53+D58 -> 278761227 | E63: =+E8+E15+E22+E29+E36+E47+E53+E58 -> 270734408
A64: 10. | B64: Hitel-, kölcsönfelvétel államháztartáson kívülről (10.1.+10.3.) | C64: =SUM(C65:C67) -> 0 | D64: =SUM(D65:D67) -> 0 | E64: =SUM(E65:E67) -> 0
A65: 10.1. | B65: Hosszú lejáratú hitelek, kölcsönök felvétele
A66: 10.2. | B66: Likviditási célú hitelek, kölcsönök felvétele pénzügyi vállalkozástól
A67: 10.3. | B67: Rövid lejáratú hitelek, kölcsönök felvétele
A68: 11. | B68: Belföldi értékpapírok bevételei (11.1. +…+ 11.4.) | C68: =SUM(C69:C72) -> 49676247 | D68: =SUM(D69:D72) -> 115945929 | E68: =SUM(E69:E72) -> 115945929
A69: 11.1. | B69: Forgatási célú belföldi értékpapírok beváltása, értékesítése | C69: 49676247 | D69: 115945929 | E69: 115945929
A70: 11.2. | B70: Forgatási célú belföldi értékpapírok kibocsátása
A71: 11.3. | B71: Befektetési célú belföldi értékpapírok beváltása, értékesítése
A72: 11.4. | B72: Befektetési célú belföldi értékpapírok kibocsátása
A73: 12. | B73: Maradvány igénybevétele (12.1. + 12.2.) | C73: =SUM(C74:C75) -> 6804000 | D73: =SUM(D74:D75) -> 6806668 | E73: =SUM(E74:E75) -> 6806668
A74: 12.1. | B74: Előző év költségvetési maradványának igénybevétele | C74: 6804000 | D74: 6806668 | E74: 6806668
A75: 12.2. | B75: Előző év vállalkozási maradványának igénybevétele
A76: 13. | B76: Belföldi finanszírozás bevételei (13.1. + … + 13.3.) | C76: =SUM(C77:C79) -> 0 | D76: =SUM(D77:D79) -> 0 | E76: =SUM(E77:E79) -> 3277299
A77: 13.1. | B77: Államháztartáson belüli megelőlegezések | E77: 3277299
A78: 13.2. | B78: Államháztartáson belüli megelőlegezések törlesztése
A79: 13.3. | B79: Betétek megszüntetése
A80: 14. | B80: Külföldi finanszírozás bevételei (14.1.+…14.4.) | C80: =SUM(C81:C84) -> 0 | D80: =SUM(D81:D84) -> 0 | E80: =SUM(E81:E84) -> 0
A81: 14.1. | B81: Forgatási célú külföldi értékpapírok beváltása, értékesítése
A82: 14.2. | B82: Befektetési célú külföldi értékpapírok beváltása, értékesítése
A83: 14.3. | B83: Külföldi értékpapírok kibocsátása
A84: 14.4. | B84: Külföldi hitelek, kölcsönök felvétele
A85: 15. | B85: Adóssághoz nem kapcsolódó származékos ügyletek bevételei
A86: 16. | B86: FINANSZÍROZÁSI BEVÉTELEK ÖSSZESEN: (10. + … +15.) | C86: =+C64+C68+C73+C76+C80+C85 -> 56480247 | D86: =+D64+D68+D73+D76+D80+D85 -> 122752597 | E86: =+E64+E68+E73+E76+E80+E85 -> 126029896
A87: 17. | B87: BEVÉTELEK ÖSSZESEN: (9+16) | C87: =+C63+C86 -> 312273532 | D87: =+D63+D86 -> 401513824 | E87: =+E63+E86 -> 396764304
A90: Kiadások
A91: 1. | B91: Működési költségvetés kiadásai (1.1+…+1.5.) | C91: =SUM(C92:C96) -> 171391038 | D91: =SUM(D92:D96) -> 164854054 | E91: =SUM(E92:E96) -> 161139475
A92: 1.1. | B92: Személyi juttatások | C92: 36656300 | D92: 42652411 | E92: 40761628
A93: 1.2. | B93: Munkaadókat terhelő járulékok és szociális hozzájárulási adó | C93: 7878466 | D93: 8766263 | E93: 8766263
A94: 1.3. | B94: Dologi kiadások | C94: 65745772 | D94: 68239900 | E94: 66416104
A95: 1.4. | B95: Ellátottak pénzbeli juttatásai | C95: 26148500 | D95: 10203003 | E95: 10203003
A96: 1.5 | B96: Egyéb működési célú kiadások | C96: 34962000 | D96: 34992477 | E96: 34992477
A97: 1.6. | B97: - az 1.5-ből: - Elvonások és befizetések | D97: 408831 | E97: 408831
A98: 1.7. | B98: - Garancia- és kezességvállalásból kifizetés ÁH-n belülre
A99: 1.8. | B99: -Visszatérítendő támogatások, kölcsönök nyújtása ÁH-n belülre
A100: 1.9. | B100: - Visszatérítendő támogatások, kölcsönök törlesztése ÁH-n belülre
A101: 1.10. | B101: - Egyéb működési célú támogatások ÁH-n belülre | C101: 1582000 | D101: 1784240 | E101: 1784240
A102: 1.11. | B102: - Garancia és kezességvállalásból kifizetés ÁH-n kívülre
...

Sheet 6.2. sz. mell
E1: 6.2. melléklet a 8/2017. (V.29.) önkormányzati rendelethez
A2: Megnevezés | B2: Önkormányzat | E2: 01
A3: Feladat megnevezése | B3: Kötelező feladatok | E3: 02
E4: ='6.1. sz. mell'!E4 -> Forintban!
A5: Száma | B5: Kiemelt előirányzat, előirányzat megnevezése | C5: Eredeti előirányzat | D5: Módosított előirányzat | E5: Teljesítés
A6: A | B6: B | C6: C | D6: D | E6: E
A7: Bevételek
A8: 1. | B8: Önkormányzat működési támogatásai (1.1.+…+.1.6.) | C8: =SUM(C9:C14) -> 76532385 | D8: =SUM(D9:D14) -> 75519275 | E8: =SUM(E9:E14) -> 75519365
A9: 1.1. | B9: Helyi önkormányzatok működésének általános támogatása | C9: 20129106 | D9: 20129106 | E9: 20129106
A10: 1.2. | B10: Önkormányzatok egyes köznevelési feladatainak támogatása | C10: 24828566 | D10: 26445800 | E10: 26445800
A11: 1.3. | B11: Önkormányzatok szociális és gyermekjóléti feladatainak támogatása | C11: 29065573 | D11: 24500716 | E11: 24500716
A12: 1.4. | B12: Önkormányzatok kulturális feladatainak támogatása | C12: 2509140 | D12: 2644900 | E12: 2644990
A13: 1.5. | B13: Működési célú központosított előirányzatok | D13: 1794129 | E13: 1794129
A14: 1.6. | B14: Helyi önkormányzatok kiegészítő támogatásai | D14: 4624 | E14: 4624
A15: 2. | B15: Működési célú támogatások államháztartáson belülről (2.1.+…+.2.5.) | C15: =SUM(C16:C20) -> 16444100 | D15: =SUM(D16:D20) -> 22231005 | E15: =SUM(E16:E20) -> 22231005
A16: 2.1. | B16: Elvonások és befizetések bevételei
A17: 2.2. | B17: Működési célú garancia- és kezességvállalásból megtérülések
A18: 2.3. | B18: Működési célú visszatérítendő támogatások, kölcsönök visszatérülése
A19: 2.4. | B19: Működési célú visszatérítendő támogatások, kölcsönök igénybevétele
A20: 2.5. | B20: Egyéb működési célú támogatások bevételei | C20: 16444100 | D20: 22231005 | E20: 22231005
A21: 2.6. | B21: 2.5.-ből EU-s támogatás
A22: 3. | B22: Felhalmozási célú támogatások államháztartáson belülről (3.1.+…+3.5.) | C22: =SUM(C23:C27) -> 0 | D22: =SUM(D23:D27) -> 6000000 | E22: =SUM(E23:E27) -> 6000000
A23: 3.1. | B23: Felhalmozási célú önkormányzati támogatások | D23: 6000000 | E23: 6000000
A24: 3.2. | B24: Felhalmozási célú garancia- és kezességvállalásból megtérülések
A25: 3.3. | B25: Felhalmozási célú visszatérítendő támogatások, kölcsönök visszatérülése
A26: 3.4. | B26: Felhalmozási célú visszatérítendő támogatások, kölcsönök igénybevétele
A27: 3.5. | B27: Egyéb felhalmozási célú támogatások bevételei
A28: 3.6. | B28: 3.5.-ből EU-s támogatás
A29: 4. | B29: Közhatalmi bevételek (4.1.+...+4.7.) | C29: =SUM(C30:C35) -> 124700000 | D29: =SUM(D30:D35) -> 140153300 | E29: =SUM(E30:E35) -> 133167150
A30: 4.1. | B30: Építményadó | C30: 2500000 | D30: 3540148 | E30: 3425513
A31: 4.2. | B31: Idegenforgalmi adó | C31: 30000000 | D31: 41695798 | E31: 39937082
A32: 4.3. | B32: Iparűzési adó | C32: 85000000 | D32: 85223908 | E32: 81124886
A33: 4.5. | B33: Talajterhelési díj | C33: 7000000 | D33: 9167371 | E33: 8349286
A34: 4.6. | B34: Egyéb áruhasználati és szolgáltatási adók
A35: 4.7. | B35: Egyéb közhatalmi bevételek | C35: 200000 | D35: 526075 | E35: 330383
A36: 5. | B36: Működési bevételek (5.1.+…+ 5.10.) | C36: =SUM(C37:C46) -> 23116800 | D36: =SUM(D37:D46) -> 31874127 | E36: =SUM(E37:E46) -> 30833488
A37: 5.1. | B37: Készletértékesítés ellenértéke
A38: 5.2. | B38: Szolgáltatások ellenértéke | C38: 1570000 | D38: 5183551 | E38: 4859625
A39: 5.3. | B39: Közvetített szolgáltatások értéke | C39: 800000 | D39: 777810 | E39: 777810
A40: 5.4. | B40: Tulajdonosi bevételek | D40: 10234855 | E40: 10234885
A41: 5.5. | B41: Ellátási díjak | C41: 15896000 | D41: 9794074 | E41: 9257331
A42: 5.6. | B42: Kiszámlázott általános forgalmi adó | C42: 4850800 | D42: 5620165 | E42: 5440165
A43: 5.7. | B43: Általános forgalmi adó visszatérítése
A44: 5.8. | B44: Kamatbevételek | D44: 70204 | E44: 70204
A45: 5.9. | B45: Egyéb pénzügyi műveletek bevételei
A46: 5.10. | B46: Egyéb működési bevételek | D46: 193468 | E46: 193468
A47: 6. | B47: Felhalmozási bevételek (6.1.+…+6.5.) | C47: =SUM(C48:C52) -> 15000000 | D47: =SUM(D48:D52) -> 2150000 | E47: =SUM(E48:E52) -> 2150000
A48: 6.1. | B48: Immateriális javak értékesítése
A49: 6.2. | B49: Ingatlanok értékesítése | C49: 15000000 | D49: 2150000 | E49: 2150000
A50: 6.3. | B50: Egyéb tárgyi eszközök értékesítése
A51: 6.4. | B51: Részesedések értékesítése
A52: 6.5. | B52: Részesedések megszűnéséhez kapcsolódó bevételek
A53: 7. | B53: Működési célú átvett pénzeszközök (7.1. + … + 7.3.) | C53: =SUM(C54:C56) -> 0 | D53: =SUM(D54:D56) -> 250000 | E53: =SUM(E54:E56) -> 250000
A54: 7.1. | B54: Működési célú garancia- és kezességvállalásból megtérülések ÁH-n kívülről
A55: 7.2. | B55: Működési célú visszatérítendő támogatások, kölcsönök visszatér. ÁH-n kívülről
A56: 7.3. | B56: Egyéb működési célú átvett pénzeszköz | D56: 250000 | E56: 250000
A57: 7.4. | B57: 7.3.-ból EU-s támogatás (közvetlen)
A58: 8. | B58: Felhalmozási célú átvett pénzeszközök (8.1.+8.2.+8.3.) | C58: =SUM(C59:C61) -> 0 | D58: =SUM(D59:D61) -> 583430 | E58: =SUM(E59:E61) -> 583430
A59: 8.1. | B59: Felhalm. célú garancia- és kezességvállalásból megtérülések ÁH-n kívülről
A60: 8.2. | B60: Felhalm. célú visszatérítendő tám., kölcsönök visszatér. ÁH-n kívülről | D60: 583430 | E60: 583430
A61: 8.3. | B61: Egyéb felhalmozási célú átvett pénzeszköz
A62: 8.4. | B62: 8.3.-ból EU-s támogatás (közvetlen)
A63: 9. | B63: KÖLTSÉGVETÉSI BEVÉTELEK ÖSSZESEN: (1+…+8) | C63: =+C8+C15+C22+C29+C36+C47+C53+C58 -> 255793285 | D63: =+D8+D15+D22+D29+D36+D47+D53+D58 -> 278761137 | E63: =+E8+E15+E22+E29+E36+E47+E53+E58 -> 270734438
A64: 10. | B64: Hitel-, kölcsönfelvétel államháztartáson kívülről (10.1.+10.3.) | C64: =SUM(C65:C67) -> 0 | D64: =SUM(D65:D67) -> 0 | E64: =SUM(E65:E67) -> 0
A65: 10.1. | B65: Hosszú lejáratú hitelek, kölcsönök felvétele
A66: 10.2. | B66: Likviditási célú hitelek, kölcsönök felvétele pénzügyi vállalkozástól
A67: 10.3. | B67: Rövid lejáratú hitelek, kölcsönök felvétele
A68: 11. | B68: Belföldi értékpapírok bevételei (11.1. +…+ 11.4.) | C68: =SUM(C69:C72) -> 49676247 | D68: =SUM(D69:D72) -> 115945929 | E68: =SUM(E69:E72) -> 115945929
A69: 11.1. | B69: Forgatási célú belföldi értékpapírok beváltása, értékesítése | C69: 49676247 | D69: 115945929 | E69: 115945929
A70: 11.2. | B70: Forgatási célú belföldi értékpapírok kibocsátása
A71: 11.3. | B71: Befektetési célú belföldi értékpapírok beváltása, értékesítése
A72: 11.4. | B72: Befektetési célú belföldi értékpapírok kibocsátása
A73: 12. | B73: Maradvány igénybevétele (12.1. + 12.2.) | C73: =SUM(C74:C75) -> 6804000 | D73: =SUM(D74:D75) -> 6806668 | E73: =SUM(E74:E75) -> 6806668
A74: 12.1. | B74: Előző év költségvetési maradványának igénybevétele | C74: 6804000 | D74: 6806668 | E74: 6806668
A75: 12.2. | B75: Előző év vállalkozási maradványának igénybevétele
A76: 13. | B76: Belföldi finanszírozás bevételei (13.1. + … + 13.3.) | C76: =SUM(C77:C79) -> 0 | D76: =SUM(D77:D79) -> 0 | E76: =SUM(E77:E79) -> 3277299
A77: 13.1. | B77: Államháztartáson belüli megelőlegezések | E77: 3277299
A78: 13.2. | B78: Államháztartáson belüli megelőlegezések törlesztése
A79: 13.3. | B79: Betétek megszüntetése
A80: 14. | B80: Külföldi finanszírozás bevételei (14.1.+…14.4.) | C80: =SUM(C81:C84) -> 0 | D80: =SUM(D81:D84) -> 0 | E80: =SUM(E81:E84) -> 0
A81: 14.1. | B81: Forgatási célú külföldi értékpapírok beváltása, értékesítése
A82: 14.2. | B82: Befektetési célú külföldi értékpapírok beváltása, értékesítése
A83: 14.3. | B83: Külföldi értékpapírok kibocsátása
A84: 14.4. | B84: Külföldi hitelek, kölcsönök felvétele
A85: 15. | B85: Adóssághoz nem kapcsolódó származékos ügyletek bevételei
A86: 16. | B86: FINANSZÍROZÁSI BEVÉTELEK ÖSSZESEN: (10. + … +15.) | C86: =+C64+C68+C73+C76+C80+C85 -> 56480247 | D86: =+D64+D68+D73+D76+D80+D85 -> 122752597 | E86: =+E64+E68+E73+E76+E80+E85 -> 126029896
A87: 17. | B87: BEVÉTELEK ÖSSZESEN: (9+16) | C87: =+C63+C86 -> 312273532 | D87: =+D63+D86 -> 401513734 | E87: =+E63+E86 -> 396764334
A90: Kiadások
A91: 1. | B91: Működési költségvetés kiadásai (1.1+…+1.5.) | C91: =SUM(C92:C96) -> 171391038 | D91: =SUM(D92:D96) -> 164854054 | E91: =SUM(E92:E96) -> 161139475
A92: 1.1. | B92: Személyi juttatások | C92: 36656300 | D92: 42652411 | E92: 40761628
A93: 1.2. | B93: Munkaadókat terhelő járulékok és szociális hozzájárulási adó | C93: 7878466 | D93: 8766263 | E93: 8766263
A94: 1.3. | B94: Dologi kiadások | C94: 65745772 | D94: 68239900 | E94: 66416104
A95: 1.4. | B95: Ellátottak pénzbeli juttatásai | C95: 26148500 | D95: 10203003 | E95: 10203003
A96: 1.5 | B96: Egyéb működési célú kiadások | C96: 34962000 | D96: 34992477 | E96: 34992477
A97: 1.6. | B97: - az 1.5-ből: - Elvonások és befizetések | D97: 408931 | E97: 408831
A98: 1.7. | B98: - Garancia- és kezességvállalásból kifizetés ÁH-n belülre
A99: 1.8. | B99: -Visszatérítendő támogatások, kölcsönök nyújtása ÁH-n belülre
A100: 1.9. | B100: - Visszatérítendő támogatások, kölcsönök törlesztése ÁH-n belülre
A101: 1.10. | B101: - Egyéb működési célú támogatások ÁH-n belülre | C101: 1582000 | D101: 1784240 | E101: 1784240
A102: 1.11. | B102: - Garancia és kezességvállalásból kifizetés ÁH-n kívülre
...

Sheet 6.3. sz. mell
E1: 6.3. melléklet a 8/2017. (V.29.) önkormányzati rendelethez
A2: Megnevezés | B2: Önkormányzat | E2: 01
A3: Feladat megnevezése | B3: Önként vállalt feladatok | E3: 03
E4: ='6.2. sz. mell'!E4 -> Forintban!
A5: Száma | B5: Kiemelt előirányzat, előirányzat megnevezése | C5: Eredeti előirányzat | D5: Módosított előirányzat | E5: Teljesítés
A6: A | B6: B | C6: C | D6: D | E6: E
A7: Bevételek
A8: 1. | B8: Önkormányzat működési támogatásai (1.1.+…+.1.6.) | C8: =SUM(C9:C14) -> 0 | D8: =SUM(D9:D14) -> 0 | E8: =SUM(E9:E14) -> 0
A9: 1.1. | B9: Helyi önkormányzatok működésének általános támogatása
A10: 1.2. | B10: Önkormányzatok egyes köznevelési feladatainak támogatása
A11: 1.3. | B11: Önkormányzatok szociális és gyermekjóléti feladatainak támogatása
A12: 1.4. | B12: Önkormányzatok kulturális feladatainak támogatása
A13: 1.5. | B13: Működési célú központosított előirányzatok
A14: 1.6. | B14: Helyi önkormányzatok kiegészítő támogatásai
A15: 2. | B15: Működési célú támogatások államháztartáson belülről (2.1.+…+.2.5.) | C15: =SUM(C16:C20) -> 0 | D15: =SUM(D16:D20) -> 0 | E15: =SUM(E16:E20) -> 0
A16: 2.1. | B16: Elvonások és befizetések bevételei
A17: 2.2. | B17: Működési célú garancia- és kezességvállalásból megtérülések
A18: 2.3. | B18: Működési célú visszatérítendő támogatások, kölcsönök visszatérülése
A19: 2.4. | B19: Működési célú visszatérítendő támogatások, kölcsönök igénybevétele
A20: 2.5. | B20: Egyéb működési célú támogatások bevételei
A21: 2.6. | B21: 2.5.-ből EU-s támogatás
A22: 3. | B22: Felhalmozási célú támogatások államháztartáson belülről (3.1.+…+3.5.) | C22: =SUM(C23:C27) -> 0 | D22: =SUM(D23:D27) -> 0 | E22: =SUM(E23:E27) -> 0
A23: 3.1. | B23: Felhalmozási célú önkormányzati támogatások
A24: 3.2. | B24: Felhalmozási célú garancia- és kezességvállalásból megtérülések
A25: 3.3. | B25: Felhalmozási célú visszatérítendő támogatások, kölcsönök visszatérülése
A26: 3.4. | B26: Felhalmozási célú visszatérítendő támogatások, kölcsönök igénybevétele
A27: 3.5. | B27: Egyéb felhalmozási célú támogatások bevételei
A28: 3.6. | B28: 3.5.-ből EU-s támogatás
A29: 4. | B29: Közhatalmi bevételek (4.1.+...+4.7.) | C29: =SUM(C30:C35) -> 0 | D29: =SUM(D30:D35) -> 0 | E29: =SUM(E30:E35) -> 0
A30: 4.1. | B30: Építményadó | D30: =+D31+D32 -> 0 | E30: =+E31+E32 -> 0
A31: 4.2. | B31: Idegenforgalmi adó
A32: 4.3. | B32: Iparűzési adó
A33: 4.5. | B33: Talajterhelési díj
A34: 4.6. | B34: Egyéb áruhasználati és szolgáltatási adók
A35: 4.7. | B35: Egyéb közhatalmi bevételek
A36: 5. | B36: Működési bevételek (5.1.+…+ 5.10.) | C36: =SUM(C37:C46) -> 0 | D36: =SUM(D37:D46) -> 0 | E36: =SUM(E37:E46) -> 0
A37: 5.1. | B37: Készletértékesítés ellenértéke
A38: 5.2. | B38: Szolgáltatások ellenértéke
A39: 5.3. | B39: Közvetített szolgáltatások értéke
A40: 5.4. | B40: Tulajdonosi bevételek
A41: 5.5. | B41: Ellátási díjak
A42: 5.6. | B42: Kiszámlázott általános forgalmi adó
A43: 5.7. | B43: Általános forgalmi adó visszatérítése
A44: 5.8. | B44: Kamatbevételek
A45: 5.9. | B45: Egyéb pénzügyi műveletek bevételei
A46: 5.10. | B46: Egyéb működési bevételek
A47: 6. | B47: Felhalmozási bevételek (6.1.+…+6.5.) | C47: =SUM(C48:C52) -> 0 | D47: =SUM(D48:D52) -> 0 | E47: =SUM(E48:E52) -> 0
A48: 6.1. | B48: Immateriális javak értékesítése
A49: 6.2. | B49: Ingatlanok értékesítése
A50: 6.3. | B50: Egyéb tárgyi eszközök értékesítése
A51: 6.4. | B51: Részesedések értékesítése
A52: 6.5. | B52: Részesedések megszűnéséhez kapcsolódó bevételek
A53: 7. | B53: Működési célú átvett pénzeszközök (7.1. + … + 7.3.) | C53: =SUM(C54:C56) -> 0 | D53: =SUM(D54:D56) -> 0 | E53: =SUM(E54:E56) -> 0
A54: 7.1. | B54: Működési célú garancia- és kezességvállalásból megtérülések ÁH-n kívülről
A55: 7.2. | B55: Működési célú visszatérítendő támogatások, kölcsönök visszatér. ÁH-n kívülről
A56: 7.3. | B56: Egyéb működési célú átvett pénzeszköz
A57: 7.4. | B57: 7.3.-ból EU-s támogatás (közvetlen)
A58: 8. | B58: Felhalmozási célú átvett pénzeszközök (8.1.+8.2.+8.3.) | C58: =SUM(C59:C61) -> 0 | D58: =SUM(D59:D61) -> 0 | E58: =SUM(E59:E61) -> 0
A59: 8.1. | B59: Felhalm. célú garancia- és kezességvállalásból megtérülések ÁH-n kívülről
A60: 8.2. | B60: Felhalm. célú visszatérítendő tám., kölcsönök visszatér. ÁH-n kívülről
A61: 8.3. | B61: Egyéb felhalmozási célú átvett pénzeszköz
A62: 8.4. | B62: 8.3.-ból EU-s támogatás (közvetlen)
A63: 9. | B63: KÖLTSÉGVETÉSI BEVÉTELEK ÖSSZESEN: (1+…+8) | C63: =+C8+C15+C22+C29+C36+C47+C53+C58 -> 0 | D63: =+D8+D15+D22+D29+D36+D47+D53+D58 -> 0 | E63: =+E8+E15+E22+E29+E36+E47+E53+E58 -> 0
A64: 10. | B64: Hitel-, kölcsönfelvétel államháztartáson kívülről (10.1.+10.3.) | C64: =SUM(C65:C67) -> 0 | D64: =SUM(D65:D67) -> 0 | E64: =SUM(E65:E67) -> 0
A65: 10.1. | B65: Hosszú lejáratú hitelek, kölcsönök felvétele
A66: 10.2. | B66: Likviditási célú hitelek, kölcsönök felvétele pénzügyi vállalkozástól
A67: 10.3. | B67: Rövid lejáratú hitelek, kölcsönök felvétele
A68: 11. | B68: Belföldi értékpapírok bevételei (11.1. +…+ 11.4.) | C68: =SUM(C69:C72) -> 0 | D68: =SUM(D69:D72) -> 0 | E68: =SUM(E69:E72) -> 0
A69: 11.1. | B69: Forgatási célú belföldi értékpapírok beváltása, értékesítése
A70: 11.2. | B70: Forgatási célú belföldi értékpapírok kibocsátása
A71: 11.3. | B71: Befektetési célú belföldi értékpapírok beváltása, értékesítése
A72: 11.4. | B72: Befektetési célú belföldi értékpapírok kibocsátása
A73: 12. | B73: Maradvány igénybevétele (12.1. + 12.2.) | C73: =SUM(C74:C75) -> 0 | D73: =SUM(D74:D75) -> 0 | E73: =SUM(E74:E75) -> 0
A74: 12.1. | B74: Előző év költségvetési maradványának igénybevétele
A75: 12.2. | B75: Előző év vállalkozási maradványának igénybevétele
A76: 13. | B76: Belföldi finanszírozás bevételei (13.1. + … + 13.3.) | C76: =SUM(C77:C79) -> 0 | D76: =SUM(D77:D79) -> 0 | E76: =SUM(E77:E79) -> 0
A77: 13.1. | B77: Államháztartáson belüli megelőlegezések
A78: 13.2. | B78: Államháztartáson belüli megelőlegezések törlesztése
A79: 13.3. | B79: Betétek megszüntetése
A80: 14. | B80: Külföldi finanszírozás bevételei (14.1.+…14.4.) | C80: =SUM(C81:C84) -> 0 | D80: =SUM(D81:D84) -> 0 | E80: =SUM(E81:E84) -> 0
A81: 14.1. | B81: Forgatási célú külföldi értékpapírok beváltása, értékesítése
A82: 14.2. | B82: Befektetési célú külföldi értékpapírok beváltása, értékesítése
A83: 14.3. | B83: Külföldi értékpapírok kibocsátása
A84: 14.4. | B84: Külföldi hitelek, kölcsönök felvétele
A85: 15. | B85: Adóssághoz nem kapcsolódó származékos ügyletek bevételei
A86: 16. | B86: FINANSZÍROZÁSI BEVÉTELEK ÖSSZESEN: (10. + … +15.) | C86: =+C64+C68+C73+C76+C80+C85 -> 0 | D86: =+D64+D68+D73+D76+D80+D85 -> 0 | E86: =+E64+E68+E73+E76+E80+E85 -> 0
A87: 17. | B87: BEVÉTELEK ÖSSZESEN: (9+16) | C87: =+C63+C86 -> 0 | D87: =+D63+D86 -> 0 | E87: =+E63+E86 -> 0
A90: Kiadások
A91: 1. | B91: Működési költségvetés kiadásai (1.1+…+1.5.) | C91: =SUM(C92:C96) -> 0 | D91: =SUM(D92:D96) -> 0 | E91: =SUM(E92:E96) -> 0
A92: 1.1. | B92: Személyi juttatások
A93: 1.2. | B93: Munkaadókat terhelő járulékok és szociális hozzájárulási adó
A94: 1.3. | B94: Dologi kiadások
A95: 1.4. | B95: Ellátottak pénzbeli juttatásai
A96: 1.5 | B96: Egyéb működési célú kiadások
A97: 1.6. | B97: - az 1.5-ből: - Elvonások és befizetések
A98: 1.7. | B98: - Garancia- és kezességvállalásból kifizetés ÁH-n belülre
A99: 1.8. | B99: -Visszatérítendő támogatások, kölcsönök nyújtása ÁH-n belülre
A100: 1.9. | B100: - Visszatérítendő támogatások, kölcsönök törlesztése ÁH-n belülre
A101: 1.10. | B101: - Egyéb működési célú támogatások ÁH-n belülre
A102: 1.11. | B102: - Garancia és kezességvállalásból kifizetés ÁH-n kívülre
...

Sheet 6.4. sz. mell
E1: 6.4. melléklet a 8/2017. (V.29.) önkormányzati rendelethez
A2: Megnevezés | B2: Önkormányzat | E2: 01
A3: Feladat megnevezése | B3: Államigazgatási feladatok | E3: 04
E4: ='6.3. sz. mell'!E4 -> Forintban!
A5: Száma | B5: Kiemelt előirányzat, előirányzat megnevezése | C5: Eredeti előirányzat | D5: Módosított előirányzat | E5: Teljesítés
A6: A | B6: B | C6: C | D6: D | E6: E
A7: Bevételek
A8: 1. | B8: Önkormányzat működési támogatásai (1.1.+…+.1.6.) | C8: =SUM(C9:C14) -> 0 | D8: =SUM(D9:D14) -> 0 | E8: =SUM(E9:E14) -> 0
A9: 1.1. | B9: Helyi önkormányzatok működésének általános támogatása
A10: 1.2. | B10: Önkormányzatok egyes köznevelési feladatainak támogatása
A11: 1.3. | B11: Önkormányzatok szociális és gyermekjóléti feladatainak támogatása
A12: 1.4. | B12: Önkormányzatok kulturális feladatainak támogatása
A13: 1.5. | B13: Működési célú központosított előirányzatok
A14: 1.6. | B14: Helyi önkormányzatok kiegészítő támogatásai
A15: 2. | B15: Működési célú támogatások államháztartáson belülről (2.1.+…+.2.5.) | C15: =SUM(C16:C20) -> 0 | D15: =SUM(D16:D20) -> 0 | E15: =SUM(E16:E20) -> 0
A16: 2.1. | B16: Elvonások és befizetések bevételei
A17: 2.2. | B17: Működési célú garancia- és kezességvállalásból megtérülések
A18: 2.3. | B18: Működési célú visszatérítendő támogatások, kölcsönök visszatérülése
A19: 2.4. | B19: Működési célú visszatérítendő támogatások, kölcsönök igénybevétele
A20: 2.5. | B20: Egyéb működési célú támogatások bevételei
A21: 2.6. | B21: 2.5.-ből EU-s támogatás
A22: 3. | B22: Felhalmozási célú támogatások államháztartáson belülről (3.1.+…+3.5.) | C22: =SUM(C23:C27) -> 0 | D22: =SUM(D23:D27) -> 0 | E22: =SUM(E23:E27) -> 0
A23: 3.1. | B23: Felhalmozási célú önkormányzati támogatások
A24: 3.2. | B24: Felhalmozási célú garancia- és kezességvállalásból megtérülések
A25: 3.3. | B25: Felhalmozási célú visszatérítendő támogatások, kölcsönök visszatérülése
A26: 3.4. | B26: Felhalmozási célú visszatérítendő támogatások, kölcsönök igénybevétele
A27: 3.5. | B27: Egyéb felhalmozási célú támogatások bevételei
A28: 3.6. | B28: 3.5.-ből EU-s támogatás
A29: 4. | B29: Közhatalmi bevételek (4.1.+...+4.7.) | C29: =SUM(C30:C35) -> 0 | D29: =SUM(D30:D35) -> 0 | E29: =SUM(E30:E35) -> 0
A30: 4.1. | B30: Építményadó | D30: =+D31+D32 -> 0 | E30: =+E31+E32 -> 0
A31: 4.2. | B31: Idegenforgalmi adó
A32: 4.3. | B32: Iparűzési adó
A33: 4.5. | B33: Talajterhelési díj
A34: 4.6. | B34: Egyéb áruhasználati és szolgáltatási adók
A35: 4.7. | B35: Egyéb közhatalmi bevételek
A36: 5. | B36: Működési bevételek (5.1.+…+ 5.10.) | C36: =SUM(C37:C46) -> 0 | D36: =SUM(D37:D46) -> 0 | E36: =SUM(E37:E46) -> 0
A37: 5.1. | B37: Készletértékesítés ellenértéke
A38: 5.2. | B38: Szolgáltatások ellenértéke
A39: 5.3. | B39: Közvetített szolgáltatások értéke
A40: 5.4. | B40: Tulajdonosi bevételek
A41: 5.5. | B41: Ellátási díjak
A42: 5.6. | B42: Kiszámlázott általános forgalmi adó
A43: 5.7. | B43: Általános forgalmi adó visszatérítése
A44: 5.8. | B44: Kamatbevételek
A45: 5.9. | B45: Egyéb pénzügyi műveletek bevételei
A46: 5.10. | B46: Egyéb működési bevételek
A47: 6. | B47: Felhalmozási bevételek (6.1.+…+6.5.) | C47: =SUM(C48:C52) -> 0 | D47: =SUM(D48:D52) -> 0 | E47: =SUM(E48:E52) -> 0
A48: 6.1. | B48: Immateriális javak értékesítése
A49: 6.2. | B49: Ingatlanok értékesítése
A50: 6.3. | B50: Egyéb tárgyi eszközök értékesítése
A51: 6.4. | B51: Részesedések értékesítése
A52: 6.5. | B52: Részesedések megszűnéséhez kapcsolódó bevételek
A53: 7. | B53: Működési célú átvett pénzeszközök (7.1. + … + 7.3.) | C53: =SUM(C54:C56) -> 0 | D53: =SUM(D54:D56) -> 0 | E53: =SUM(E54:E56) -> 0
A54: 7.1. | B54: Működési célú garancia- és kezességvállalásból megtérülések ÁH-n kívülről
A55: 7.2. | B55: Működési célú visszatérítendő támogatások, kölcsönök visszatér. ÁH-n kívülről
A56: 7.3. | B56: Egyéb működési célú átvett pénzeszköz
A57: 7.4. | B57: 7.3.-ból EU-s támogatás (közvetlen)
A58: 8. | B58: Felhalmozási célú átvett pénzeszközök (8.1.+8.2.+8.3.) | C58: =SUM(C59:C61) -> 0 | D58: =SUM(D59:D61) -> 0 | E58: =SUM(E59:E61) -> 0
A59: 8.1. | B59: Felhalm. célú garancia- és kezességvállalásból megtérülések ÁH-n kívülről
A60: 8.2. | B60: Felhalm. célú visszatérítendő tám., kölcsönök visszatér. ÁH-n kívülről
A61: 8.3. | B61: Egyéb felhalmozási célú átvett pénzeszköz
A62: 8.4. | B62: 8.3.-ból EU-s támogatás (közvetlen)
A63: 9. | B63: KÖLTSÉGVETÉSI BEVÉTELEK ÖSSZESEN: (1+…+8) | C63: =+C8+C15+C22+C29+C36+C47+C53+C58 -> 0 | D63: =+D8+D15+D22+D29+D36+D47+D53+D58 -> 0 | E63: =+E8+E15+E22+E29+E36+E47+E53+E58 -> 0
A64: 10. | B64: Hitel-, kölcsönfelvétel államháztartáson kívülről (10.1.+10.3.) | C64: =SUM(C65:C67) -> 0 | D64: =SUM(D65:D67) -> 0 | E64: =SUM(E65:E67) -> 0
A65: 10.1. | B65: Hosszú lejáratú hitelek, kölcsönök felvétele
A66: 10.2. | B66: Likviditási célú hitelek, kölcsönök felvétele pénzügyi vállalkozástól
A67: 10.3. | B67: Rövid lejáratú hitelek, kölcsönök felvétele
A68: 11. | B68: Belföldi értékpapírok bevételei (11.1. +…+ 11.4.) | C68: =SUM(C69:C72) -> 0 | D68: =SUM(D69:D72) -> 0 | E68: =SUM(E69:E72) -> 0
A69: 11.1. | B69: Forgatási célú belföldi értékpapírok beváltása, értékesítése
A70: 11.2. | B70: Forgatási célú belföldi értékpapírok kibocsátása
A71: 11.3. | B71: Befektetési célú belföldi értékpapírok beváltása, értékesítése
A72: 11.4. | B72: Befektetési célú belföldi értékpapírok kibocsátása
A73: 12. | B73: Maradvány igénybevétele (12.1. + 12.2.) | C73: =SUM(C74:C75) -> 0 | D73: =SUM(D74:D75) -> 0 | E73: =SUM(E74:E75) -> 0
A74: 12.1. | B74: Előző év költségvetési maradványának igénybevétele
A75: 12.2. | B75: Előző év vállalkozási maradványának igénybevétele
A76: 13. | B76: Belföldi finanszírozás bevételei (13.1. + … + 13.3.) | C76: =SUM(C77:C79) -> 0 | D76: =SUM(D77:D79) -> 0 | E76: =SUM(E77:E79) -> 0
A77: 13.1. | B77: Államháztartáson belüli megelőlegezések
A78: 13.2. | B78: Államháztartáson belüli megelőlegezések törlesztése
A79: 13.3. | B79: Betétek megszüntetése
A80: 14. | B80: Külföldi finanszírozás bevételei (14.1.+…14.4.) | C80: =SUM(C81:C84) -> 0 | D80: =SUM(D81:D84) -> 0 | E80: =SUM(E81:E84) -> 0
A81: 14.1. | B81: Forgatási célú külföldi értékpapírok beváltása, értékesítése
A82: 14.2. | B82: Befektetési célú külföldi értékpapírok beváltása, értékesítése
A83: 14.3. | B83: Külföldi értékpapírok kibocsátása
A84: 14.4. | B84: Külföldi hitelek, kölcsönök felvétele
A85: 15. | B85: Adóssághoz nem kapcsolódó származékos ügyletek bevételei
A86: 16. | B86: FINANSZÍROZÁSI BEVÉTELEK ÖSSZESEN: (10. + … +15.) | C86: =+C64+C68+C73+C76+C80+C85 -> 0 | D86: =+D64+D68+D73+D76+D80+D85 -> 0 | E86: =+E64+E68+E73+E76+E80+E85 -> 0
A87: 17. | B87: BEVÉTELEK ÖSSZESEN: (9+16) | C87: =+C63+C86 -> 0 | D87: =+D63+D86 -> 0 | E87: =+E63+E86 -> 0
A90: Kiadások
A91: 1. | B91: Működési költségvetés kiadásai (1.1+…+1.5.) | C91: =SUM(C92:C96) -> 0 | D91: =SUM(D92:D96) -> 0 | E91: =SUM(E92:E96) -> 0
A92: 1.1. | B92: Személyi juttatások
A93: 1.2. | B93: Munkaadókat terhelő járulékok és szociális hozzájárulási adó
A94: 1.3. | B94: Dologi kiadások
A95: 1.4. | B95: Ellátottak pénzbeli juttatásai
A96: 1.5 | B96: Egyéb működési célú kiadások
A97: 1.6. | B97: - az 1.5-ből: - Elvonások és befizetések
A98: 1.7. | B98: - Garancia- és kezességvállalásból kifizetés ÁH-n belülre
A99: 1.8. | B99: -Visszatérítendő támogatások, kölcsönök nyújtása ÁH-n belülre
A100: 1.9. | B100: - Visszatérítendő támogatások, kölcsönök törlesztése ÁH-n belülre
A101: 1.10. | B101: - Egyéb működési célú támogatások ÁH-n belülre
A102: 1.11. | B102: - Garancia és kezességvállalásból kifizetés ÁH-n kívülre
...

Sheet 7.1. sz. mell
E1: 7.1. melléklet a 8/2017. (V.29.) önkormányzati rendelethez
A2: Költségvetési szerv megnevezése | B2: Polgármesteri /közös/ hivatal | E2: 02
A3: Feladat megnevezése | B3: Összes bevétel, kiadás | E3: 01
E4: ='6.4. sz. mell'!E4 -> Forintban!
A5: Száma | B5: Kiemelt előirányzat, előirányzat megnevezése | C5: Eredeti előirányzat | D5: Módosított előirányzat | E5: Teljesítés
A6: A | B6: B | C6: C | D6: D | E6: E
A7: Bevételek
A8: 1. | B8: Működési bevételek (1.1.+…+1.10.) | C8: =SUM(C9:C18) -> 0 | D8: =SUM(D9:D18) -> 15 | E8: =SUM(E9:E18) -> 15
A9: 1.1. | B9: Készletértékesítés ellenértéke
A10: 1.2. | B10: Szolgáltatások ellenértéke
A11: 1.3. | B11: Közvetített szolgáltatások értéke
A12: 1.4. | B12: Tulajdonosi bevételek
A13: 1.5. | B13: Ellátási díjak
A14: 1.6. | B14: Kiszámlázott általános forgalmi adó
A15: 1.7. | B15: Általános forgalmi adó visszatérülése
A16: 1.8. | B16: Kamatbevételek | D16: 14 | E16: 14
A17: 1.9. | B17: Egyéb pénzügyi műveletek bevételei
A18: 1.10. | B18: Egyéb működési bevételek | D18: 1 | E18: 1
A19: 2. | B19: Működési célú támogatások államháztartáson belülről (2.1.+…+2.3.) | C19: =SUM(C20:C22) -> 0 | D19: =SUM(D20:D22) -> 491433 | E19: =SUM(E20:E22) -> 491433
A20: 2.1. | B20: Elvonások és befizetések bevételei
A21: 2.2. | B21: Visszatérítendő támogatások, kölcsönök visszatérülése ÁH-n belülről
A22: 2.3. | B22: Egyéb működési célú támogatások bevételei államháztartáson belülről | D22: 491433 | E22: 491433
A23: 2.4. | B23: - 2.3-ból EU-s támogatás
A24: 3. | B24: Közhatalmi bevételek | C24: 30000 | D24: 14000 | E24: 14000
A25: 4. | B25: Felhalmozási célú támogatások államháztartáson belülről (4.1.+4.2.) | C25: =SUM(C26:C27) -> 0 | D25: =SUM(D26:D27) -> 0 | E25: =SUM(E26:E27) -> 0
A26: 4.1. | B26: Visszatérítendő támogatások, kölcsönök visszatérülése ÁH-n belülről
A27: 4.2. | B27: Egyéb felhalmozási célú támogatások bevételei államháztartáson belülről
A28: 4.3. | B28: - 4.2-ből EU-s támogatás
A29: 5. | B29: Felhalmozási bevételek (5.1.+…+5.3.) | C29: =SUM(C30:C32) -> 0 | D29: =SUM(D30:D32) -> 0 | E29: =SUM(E30:E32) -> 0
A30: 5.1. | B30: Immateriális javak értékesítése
A31: 5.2. | B31: Ingatlanok értékesítése
A32: 5.3. | B32: Egyéb tárgyi eszközök értékesítése
A33: 6. | B33: Működési célú átvett pénzeszközök
A34: 7. | B34: Felhalmozási célú átvett pénzeszközök
A35: 8. | B35: KÖLTSÉGVETÉSI BEVÉTELEK ÖSSZESEN: (1.+…+7.) | C35: =+C8+C19+C24+C25+C29+C33+C34 -> 30000 | D35: =+D8+D19+D24+D25+D29+D33+D34 -> 505448 | E35: =+E8+E19+E24+E25+E29+E33+E34 -> 505448
A36: 9. | B36: Finanszírozási bevételek (9.1.+…+9.3.) | C36: =+C37+C38+C39 -> 48850845 | D36: =+D37+D38+D39 -> 47322312 | E36: =+E37+E38+E39 -> 47322312
A37: 9.1. | B37: Költségvetési maradvány igénybevétele | C37: 1574000 | D37: 1575275 | E37: 1575275
A38: 9.2. | B38: Vállalkozási maradvány igénybevétele
A39: 9.3. | B39: Irányító szervi (önkormányzati) támogatás (intézményfinanszírozás) | C39: 47276845 | D39: 45747037 | E39: 45747037
A40: 10. | B40: BEVÉTELEK ÖSSZESEN: (8.+9.) | C40: =+C35+C36 -> 48880845 | D40: =+D35+D36 -> 47827760 | E40: =+E35+E36 -> 47827760
A43: Kiadások
A44: 1. | B44: Működési költségvetés kiadásai (1.1+…+1.5.) | C44: =SUM(C45:C49) -> 47610845 | D44: =SUM(D45:D49) -> 47486131 | E44: =SUM(E45:E49) -> 46723614
A45: 1.1. | B45: Személyi juttatások | C45: 27805245 | D45: 30556972 | E45: 30556972
A46: 1.2. | B46: Munkaadókat terhelő járulékok és szociális hozzájárulási adó | C46: 7072300 | D46: 8352757 | E46: 8352757
A47: 1.3. | B47: Dologi kiadások | C47: 12733300 | D47: 8576402 | E47: 7813885
A48: 1.4. | B48: Ellátottak pénzbeli juttatásai
A49: 1.5. | B49: Egyéb működési célú kiadások
A50: 2. | B50: Felhalmozási költségvetés kiadásai (2.1.+…+2.3.) | C50: =SUM(C51:C53) -> 1270000 | D50: =SUM(D51:D53) -> 341629 | E50: =SUM(E51:E53) -> 341629
A51: 2.1. | B51: Beruházások | C51: 1270000 | D51: 341629 | E51: 341629
A52: 2.2. | B52: Felújítások
A53: 2.3. | B53: Egyéb fejlesztési célú kiadások
A54: 2.4. | B54: - 2.3-ból EU-s forrásból tám. megvalósuló programok, projektek kiadásai
A55: 3. | B55: KIADÁSOK ÖSSZESEN: (1.+2.) | C55: =+C44+C50 -> 48880845 | D55: =+D44+D50 -> 47827760 | E55: =+E44+E50 -> 47065243
A57: Éves tényleges állományi létszám (fő) | C57: 7 | D57: 7 | E57: 7
A58: Közfoglalkoztatottak tényleges állományi létszáma (fő) | C58: 7 | D58: 7 | E58: 7

Sheet 7.2. sz. mell
E1: 7.2. melléklet a 8/2017. (V.29.) önkormányzati rendelethez
A2: Költségvetési szerv megnevezése | B2: Polgármesteri /közös/ hivatal | E2: 02
A3: Feladat megnevezése | B3: Kötelező feladatok | E3: 02
E4: ='7.1. sz. mell'!E4 -> Forintban!
A5: Száma | B5: Kiemelt előirányzat, előirányzat megnevezése | C5: Eredeti előirányzat | D5: Módosított előirányzat | E5: Teljesítés
A6: A | B6: B | C6: C | D6: D | E6: E
A7: Bevételek
A8: 1. | B8: Működési bevételek (1.1.+…+1.10.) | C8: =SUM(C9:C18) -> 0 | D8: =SUM(D9:D18) -> 15 | E8: =SUM(E9:E18) -> 15
A9: 1.1. | B9: Készletértékesítés ellenértéke
A10: 1.2. | B10: Szolgáltatások ellenértéke
A11: 1.3. | B11: Közvetített szolgáltatások értéke
A12: 1.4. | B12: Tulajdonosi bevételek
A13: 1.5. | B13: Ellátási díjak
A14: 1.6. | B14: Kiszámlázott általános forgalmi adó
A15: 1.7. | B15: Általános forgalmi adó visszatérülése
A16: 1.8. | B16: Kamatbevételek | D16: 14 | E16: 14
A17: 1.9. | B17: Egyéb pénzügyi műveletek bevételei
A18: 1.10. | B18: Egyéb működési bevételek | D18: 1 | E18: 1
A19: 2. | B19: Működési célú támogatások államháztartáson belülről (2.1.+…+2.3.) | C19: =SUM(C20:C22) -> 0 | D19: =SUM(D20:D22) -> 491433 | E19: =SUM(E20:E22) -> 491433
A20: 2.1. | B20: Elvonások és befizetések bevételei
A21: 2.2. | B21: Visszatérítendő támogatások, kölcsönök visszatérülése ÁH-n belülről
A22: 2.3. | B22: Egyéb működési célú támogatások bevételei államháztartáson belülről | D22: 491433 | E22: 491433
A23: 2.4. | B23: - 2.3-ból EU-s támogatás
A24: 3. | B24: Közhatalmi bevételek | C24: 30000 | D24: 14000 | E24: 14000
A25: 4. | B25: Felhalmozási célú támogatások államháztartáson belülről (4.1.+4.2.) | C25: =SUM(C26:C27) -> 0 | D25: =SUM(D26:D27) -> 0 | E25: =SUM(E26:E27) -> 0
A26: 4.1. | B26: Visszatérítendő támogatások, kölcsönök visszatérülése ÁH-n belülről
A27: 4.2. | B27: Egyéb felhalmozási célú támogatások bevételei államháztartáson belülről
A28: 4.3. | B28: - 4.2-ből EU-s támogatás
A29: 5. | B29: Felhalmozási bevételek (5.1.+…+5.3.) | C29: =SUM(C30:C32) -> 0 | D29: =SUM(D30:D32) -> 0 | E29: =SUM(E30:E32) -> 0
A30: 5.1. | B30: Immateriális javak értékesítése
A31: 5.2. | B31: Ingatlanok értékesítése
A32: 5.3. | B32: Egyéb tárgyi eszközök értékesítése
A33: 6. | B33: Működési célú átvett pénzeszközök
A34: 7. | B34: Felhalmozási célú átvett pénzeszközök
A35: 8. | B35: KÖLTSÉGVETÉSI BEVÉTELEK ÖSSZESEN: (1.+…+7.) | C35: =+C8+C19+C24+C25+C29+C33+C34 -> 30000 | D35: =+D8+D19+D24+D25+D29+D33+D34 -> 505448 | E35: =+E8+E19+E24+E25+E29+E33+E34 -> 505448
A36: 9. | B36: Finanszírozási bevételek (9.1.+…+9.3.) | C36: =+C37+C38+C39 -> 48850845 | D36: =+D37+D38+D39 -> 47322312 | E36: =+E37+E38+E39 -> 47322312
A37: 9.1. | B37: Költségvetési maradvány igénybevétele | C37: 1574000 | D37: 1575275 | E37: 1575275
A38: 9.2. | B38: Vállalkozási maradvány igénybevétele
A39: 9.3. | B39: Irányító szervi (önkormányzati) támogatás (intézményfinanszírozás) | C39: 47276845 | D39: 45747037 | E39: 45747037
A40: 10. | B40: BEVÉTELEK ÖSSZESEN: (8.+9.) | C40: =+C35+C36 -> 48880845 | D40: =+D35+D36 -> 47827760 | E40: =+E35+E36 -> 47827760
A43: Kiadások
A44: 1. | B44: Működési költségvetés kiadásai (1.1+…+1.5.) | C44: =SUM(C45:C49) -> 47610845 | D44: =SUM(D45:D49) -> 47486131 | E44: =SUM(E45:E49) -> 46723614
A45: 1.1. | B45: Személyi juttatások | C45: 27805245 | D45: 30556972 | E45: 30556972
A46: 1.2. | B46: Munkaadókat terhelő járulékok és szociális hozzájárulási adó | C46: 7072300 | D46: 8352757 | E46: 8352757
A47: 1.3. | B47: Dologi kiadások | C47: 12733300 | D47: 8576402 | E47: 7813885
A48: 1.4. | B48: Ellátottak pénzbeli juttatásai
A49: 1.5. | B49: Egyéb működési célú kiadások
A50: 2. | B50: Felhalmozási költségvetés kiadásai (2.1.+…+2.3.) | C50: =SUM(C51:C53) -> 1270000 | D50: =SUM(D51:D53) -> 341629 | E50: =SUM(E51:E53) -> 341629
A51: 2.1. | B51: Beruházások | C51: 1270000 | D51: 341629 | E51: 341629
A52: 2.2. | B52: Felújítások
A53: 2.3. | B53: Egyéb fejlesztési célú kiadások
A54: 2.4. | B54: - 2.3-ból EU-s forrásból tám. megvalósuló programok, projektek kiadásai
A55: 3. | B55: KIADÁSOK ÖSSZESEN: (1.+2.) | C55: =+C44+C50 -> 48880845 | D55: =+D44+D50 -> 47827760 | E55: =+E44+E50 -> 47065243
A57: Éves tényleges állományi létszám (fő) | C57: 7 | D57: 7 | E57: 7
A58: Közfoglalkoztatottak tényleges állományi létszáma (fő) | C58: 7 | D58: 7 | E58: 7

Sheet 7.3. sz. mell
E1: 7.3. melléklet a 8/2017. (V.29.) önkormányzati rendelethez
A2: Költségvetési szerv megnevezése | B2: Polgármesteri /közös/ hivatal | E2: 02
A3: Feladat megnevezése | B3: Önként vállalt feladatok | E3: 03
E4: ='7.2. sz. mell'!E4 -> Forintban!
A5: Száma | B5: Kiemelt előirányzat, előirányzat megnevezése | C5: Eredeti előirányzat | D5: Módosított előirányzat | E5: Teljesítés
A6: A | B6: B | C6: C | D6: D | E6: E
A7: Bevételek
A8: 1. | B8: Működési bevételek (1.1.+…+1.10.) | C8: =SUM(C9:C18) -> 0 | D8: =SUM(D9:D18) -> 0 | E8: =SUM(E9:E18) -> 0
A9: 1.1. | B9: Készletértékesítés ellenértéke
A10: 1.2. | B10: Szolgáltatások ellenértéke
A11: 1.3. | B11: Közvetített szolgáltatások értéke
A12: 1.4. | B12: Tulajdonosi bevételek
A13: 1.5. | B13: Ellátási díjak
A14: 1.6. | B14: Kiszámlázott általános forgalmi adó
A15: 1.7. | B15: Általános forgalmi adó visszatérülése
A16: 1.8. | B16: Kamatbevételek
A17: 1.9. | B17: Egyéb pénzügyi műveletek bevételei
A18: 1.10. | B18: Egyéb működési bevételek
A19: 2. | B19: Működési célú támogatások államháztartáson belülről (2.1.+…+2.3.) | C19: =SUM(C20:C22) -> 0 | D19: =SUM(D20:D22) -> 0 | E19: =SUM(E20:E22) -> 0
A20: 2.1. | B20: Elvonások és befizetések bevételei
A21: 2.2. | B21: Visszatérítendő támogatások, kölcsönök visszatérülése ÁH-n belülről
A22: 2.3. | B22: Egyéb működési célú támogatások bevételei államháztartáson belülről
A23: 2.4. | B23: - 2.3-ból EU-s támogatás
A24: 3. | B24: Közhatalmi bevételek
A25: 4. | B25: Felhalmozási célú támogatások államháztartáson belülről (4.1.+4.2.) | C25: =SUM(C26:C27) -> 0 | D25: =SUM(D26:D27) -> 0 | E25: =SUM(E26:E27) -> 0
A26: 4.1. | B26: Visszatérítendő támogatások, kölcsönök visszatérülése ÁH-n belülről
A27: 4.2. | B27: Egyéb felhalmozási célú támogatások bevételei államháztartáson belülről
A28: 4.3. | B28: - 4.2-ből EU-s támogatás
A29: 5. | B29: Felhalmozási bevételek (5.1.+…+5.3.) | C29: =SUM(C30:C32) -> 0 | D29: =SUM(D30:D32) -> 0 | E29: =SUM(E30:E32) -> 0
A30: 5.1. | B30: Immateriális javak értékesítése
A31: 5.2. | B31: Ingatlanok értékesítése
A32: 5.3. | B32: Egyéb tárgyi eszközök értékesítése
A33: 6. | B33: Működési célú átvett pénzeszközök
A34: 7. | B34: Felhalmozási célú átvett pénzeszközök
A35: 8. | B35: KÖLTSÉGVETÉSI BEVÉTELEK ÖSSZESEN: (1.+…+7.) | C35: =+C8+C19+C24+C25+C29+C33+C34 -> 0 | D35: =+D8+D19+D24+D25+D29+D33+D34 -> 0 | E35: =+E8+E19+E24+E25+E29+E33+E34 -> 0
A36: 9. | B36: Finanszírozási bevételek (9.1.+…+9.3.) | C36: =+C37+C38+C39 -> 0 | D36: =+D37+D38+D39 -> 0 | E36: =+E37+E38+E39 -> 0
A37: 9.1. | B37: Költségvetési maradvány igénybevétele
A38: 9.2. | B38: Vállalkozási maradvány igénybevétele
A39: 9.3. | B39: Irányító szervi (önkormányzati) támogatás (intézményfinanszírozás)
A40: 10. | B40: BEVÉTELEK ÖSSZESEN: (8.+9.) | C40: =+C35+C36 -> 0 | D40: =+D35+D36 -> 0 | E40: =+E35+E36 -> 0
A43: Kiadások
A44: 1. | B44: Működési költségvetés kiadásai (1.1+…+1.5.) | C44: =SUM(C45:C49) -> 0 | D44: =SUM(D45:D49) -> 0 | E44: =SUM(E45:E49) -> 0
A45: 1.1. | B45: Személyi juttatások
A46: 1.2. | B46: Munkaadókat terhelő járulékok és szociális hozzájárulási adó
A47: 1.3. | B47: Dologi kiadások
A48: 1.4. | B48: Ellátottak pénzbeli juttatásai
A49: 1.5. | B49: Egyéb működési célú kiadások
A50: 2. | B50: Felhalmozási költségvetés kiadásai (2.1.+…+2.3.) | C50: =SUM(C51:C53) -> 0 | D50: =SUM(D51:D53) -> 0 | E50: =SUM(E51:E53) -> 0
A51: 2.1. | B51: Beruházások
A52: 2.2. | B52: Felújítások
A53: 2.3. | B53: Egyéb fejlesztési célú kiadások
A54: 2.4. | B54: - 2.3-ból EU-s forrásból tám. megvalósuló programok, projektek kiadásai
A55: 3. | B55: KIADÁSOK ÖSSZESEN: (1.+2.) | C55: =+C44+C50 -> 0 | D55: =+D44+D50 -> 0 | E55: =+E44+E50 -> 0
A57: Éves tényleges állományi létszám (fő)
A58: Közfoglalkoztatottak tényleges állományi létszáma (fő)

Sheet 7.4. sz. mell
E1: 7.4. melléklet a 8/2017. (V.29.) önkormányzati rendelethez
A2: Költségvetési szerv megnevezése | B2: Polgármesteri /közös/ hivatal | E2: 02
A3: Feladat megnevezése | B3: Államigazgatási feladatok | E3: 04
E4: ='7.3. sz. mell'!E4 -> Forintban!
A5: Száma | B5: Kiemelt előirányzat, előirányzat megnevezése | C5: Eredeti előirányzat | D5: Módosított előirányzat | E5: Teljesítés
A6: A | B6: B | C6: C | D6: D | E6: E
A7: Bevételek
A8: 1. | B8: Működési bevételek (1.1.+…+1.10.) | C8: =SUM(C9:C18) -> 0 | D8: =SUM(D9:D18) -> 0 | E8: =SUM(E9:E18) -> 0
A9: 1.1. | B9: Készletértékesítés ellenértéke
A10: 1.2. | B10: Szolgáltatások ellenértéke
A11: 1.3. | B11: Közvetített szolgáltatások értéke
A12: 1.4. | B12: Tulajdonosi bevételek
A13: 1.5. | B13: Ellátási díjak
A14: 1.6. | B14: Kiszámlázott általános forgalmi adó
A15: 1.7. | B15: Általános forgalmi adó visszatérülése
A16: 1.8. | B16: Kamatbevételek
A17: 1.9. | B17: Egyéb pénzügyi műveletek bevételei
A18: 1.10. | B18: Egyéb működési bevételek
A19: 2. | B19: Működési célú támogatások államháztartáson belülről (2.1.+…+2.3.) | C19: =SUM(C20:C22) -> 0 | D19: =SUM(D20:D22) -> 0 | E19: =SUM(E20:E22) -> 0
A20: 2.1. | B20: Elvonások és befizetések bevételei
A21: 2.2. | B21: Visszatérítendő támogatások, kölcsönök visszatérülése ÁH-n belülről
A22: 2.3. | B22: Egyéb működési célú támogatások bevételei államháztartáson belülről
A23: 2.4. | B23: - 2.3-ból EU-s támogatás
A24: 3. | B24: Közhatalmi bevételek
A25: 4. | B25: Felhalmozási célú támogatások államháztartáson belülről (4.1.+4.2.) | C25: =SUM(C26:C27) -> 0 | D25: =SUM(D26:D27) -> 0 | E25: =SUM(E26:E27) -> 0
A26: 4.1. | B26: Visszatérítendő támogatások, kölcsönök visszatérülése ÁH-n belülről
A27: 4.2. | B27: Egyéb felhalmozási célú támogatások bevételei államháztartáson belülről
A28: 4.3. | B28: - 4.2-ből EU-s támogatás
A29: 5. | B29: Felhalmozási bevételek (5.1.+…+5.3.) | C29: =SUM(C30:C32) -> 0 | D29: =SUM(D30:D32) -> 0 | E29: =SUM(E30:E32) -> 0
A30: 5.1. | B30: Immateriális javak értékesítése
A31: 5.2. | B31: Ingatlanok értékesítése
A32: 5.3. | B32: Egyéb tárgyi eszközök értékesítése
A33: 6. | B33: Működési célú átvett pénzeszközök
A34: 7. | B34: Felhalmozási célú átvett pénzeszközök
A35: 8. | B35: KÖLTSÉGVETÉSI BEVÉTELEK ÖSSZESEN: (1.+…+7.) | C35: =+C8+C19+C24+C25+C29+C33+C34 -> 0 | D35: =+D8+D19+D24+D25+D29+D33+D34 -> 0 | E35: =+E8+E19+E24+E25+E29+E33+E34 -> 0
A36: 9. | B36: Finanszírozási bevételek (9.1.+…+9.3.) | C36: =+C37+C38+C39 -> 0 | D36: =+D37+D38+D39 -> 0 | E36: =+E37+E38+E39 -> 0
A37: 9.1. | B37: Költségvetési maradvány igénybevétele
A38: 9.2. | B38: Vállalkozási maradvány igénybevétele
A39: 9.3. | B39: Irányító szervi (önkormányzati) támogatás (intézményfinanszírozás)
A40: 10. | B40: BEVÉTELEK ÖSSZESEN: (8.+9.) | C40: =+C35+C36 -> 0 | D40: =+D35+D36 -> 0 | E40: =+E35+E36 -> 0
A43: Kiadások
A44: 1. | B44: Működési költségvetés kiadásai (1.1+…+1.5.) | C44: =SUM(C45:C49) -> 0 | D44: =SUM(D45:D49) -> 0 | E44: =SUM(E45:E49) -> 0
A45: 1.1. | B45: Személyi juttatások
A46: 1.2. | B46: Munkaadókat terhelő járulékok és szociális hozzájárulási adó
A47: 1.3. | B47: Dologi kiadások
A48: 1.4. | B48: Ellátottak pénzbeli juttatásai
A49: 1.5. | B49: Egyéb működési célú kiadások
A50: 2. | B50: Felhalmozási költségvetés kiadásai (2.1.+…+2.3.) | C50: =SUM(C51:C53) -> 0 | D50: =SUM(D51:D53) -> 0 | E50: =SUM(E51:E53) -> 0
A51: 2.1. | B51: Beruházások
A52: 2.2. | B52: Felújítások
A53: 2.3. | B53: Egyéb fejlesztési célú kiadások
A54: 2.4. | B54: - 2.3-ból EU-s forrásból tám. megvalósuló programok, projektek kiadásai
A55: 3. | B55: KIADÁSOK ÖSSZESEN: (1.+2.) | C55: =+C44+C50 -> 0 | D55: =+D44+D50 -> 0 | E55: =+E44+E50 -> 0
A57: Éves tényleges állományi létszám (fő)
A58: Közfoglalkoztatottak tényleges állományi létszáma (fő)

Sheet 8.1. sz. mell.
E1: 8.1. melléklet a 8/2017. (V.29.) önkormányzati rendelethez
A2: Költségvetési szerv megnevezése | B2: Sajószögedi Általános Művelődési Központ - Család és Gyermekjóléti Szolgálat - Konyha - Művelődési Ház és Könyvtár | E2: 03
A3: Feladat megnevezése | B3: Összes bevétel, kiadás | E3: 01
E4: ='7.4. sz. mell'!E4 -> Forintban!
A5: Száma | B5: Kiemelt előirányzat, előirányzat megnevezése | C5: Eredeti előirányzat | D5: Módosított előirányzat | E5: Teljesítés
A6: A | B6: B | C6: C | D6: D | E6: E
A7: Bevételek
A8: 1. | B8: Működési bevételek (1.1.+…+1.10.) | C8: =SUM(C9:C18) -> 100000 | D8: =SUM(D9:D18) -> 816435 | E8: =SUM(E9:E18) -> 816435
A9: 1.1. | B9: Készletértékesítés ellenértéke
A10: 1.2. | B10: Szolgáltatások ellenértéke | C10: 100000 | D10: 663005 | E10: 663005
A11: 1.3. | B11: Közvetített szolgáltatások értéke
A12: 1.4. | B12: Tulajdonosi bevételek
A13: 1.5. | B13: Ellátási díjak
A14: 1.6. | B14: Kiszámlázott általános forgalmi adó | D14: 132024 | E14: 132024
A15: 1.7. | B15: Általános forgalmi adó visszatérülése
A16: 1.8. | B16: Kamatbevételek | D16: 18 | E16: 18
A17: 1.9. | B17: Egyéb pénzügyi műveletek bevételei
A18: 1.10. | B18: Egyéb működési bevételek | D18: 21388 | E18: 21388
A19: 2. | B19: Működési célú támogatások államháztartáson belülről (2.1.+…+2.3.) | C19: =SUM(C20:C22) -> 0 | D19: =SUM(D20:D22) -> 0 | E19: =SUM(E20:E22) -> 0
A20: 2.1. | B20: Elvonások és befizetések bevételei
A21: 2.2. | B21: Visszatérítendő támogatások, kölcsönök visszatérülése ÁH-n belülről
A22: 2.3. | B22: Egyéb működési célú támogatások bevételei államháztartáson belülről
A23: 2.4. | B23: - 2.3.-ból EU-s támogatás
A24: 3. | B24: Közhatalmi bevételek
A25: 4. | B25: Felhalmozási célú támogatások államháztartáson belülről (4.1.+4.2.) | C25: =+C26+C27 -> 0 | D25: =+D26+D27 -> 0 | E25: =+E26+E27 -> 0
A26: 4.1. | B26: Visszatérítendő támogatások, kölcsönök visszatérülése ÁH-n belülről
A27: 4.2. | B27: Egyéb felhalmozási célú támogatások bevételei államháztartáson belülről
A28: 4.3. | B28: - 4.2.-ből EU-s támogatás
A29: 5. | B29: Felhalmozási bevételek (5.1.+…+5.3.) | C29: =+C30+C31+C32 -> 0 | D29: =+D30+D31+D32 -> 0 | E29: =+E30+E31+E32 -> 0
A30: 5.1. | B30: Immateriális javak értékesítése
A31: 5.2. | B31: Ingatlanok értékesítése
A32: 5.3. | B32: Egyéb tárgyi eszközök értékesítése
A33: 6. | B33: Működési célú átvett pénzeszközök | D33: 270000 | E33: 270000
A34: 7. | B34: Felhalmozási célú átvett pénzeszközök
A35: 8. | B35: Költségvetési bevételek összesen (1.+…+7.) | C35: =+C8+C19+C24+C25+C29+C33+C34 -> 100000 | D35: =+D8+D19+D24+D25+D29+D33+D34 -> 1086435 | E35: =+E8+E19+E24+E25+E29+E33+E34 -> 1086435
A36: 9. | B36: Finanszírozási bevételek (9.1.+…+9.3.) | C36: =+C37+C38+C39 -> 73327349 | D36: =+D37+D38+D39 -> 69808865 | E36: =+E37+E38+E39 -> 69808865
A37: 9.1. | B37: Költségvetési maradvány igénybevétele | C37: 1545000 | D37: 1546228 | E37: 1546228
A38: 9.2. | B38: Vállalkozási maradvány igénybevétele
A39: 9.3. | B39: Irányító szervi (önkormányzati) támogatás (intézményfinanszírozás) | C39: 71782349 | D39: 68262637 | E39: 68262637
A40: 10. | B40: BEVÉTELEK ÖSSZESEN: (8.+9.) | C40: =+C35+C36 -> 73427349 | D40: =+D35+D36 -> 70895300 | E40: =+E35+E36 -> 70895300
A43: Kiadások
A44: 1. | B44: Működési költségvetés kiadásai (1.1+…+1.5.) | C44: =SUM(C45:C49) -> 70620649 | D44: =SUM(D45:D49) -> 69298327 | E44: =SUM(E45:E49) -> 69146962
A45: 1.1. | B45: Személyi juttatások | C45: 36414171 | D45: 33980978 | E45: 33980978
A46: 1.2. | B46: Munkaadókat terhelő járulékok és szociális hozzájárulási adó | C46: 9824578 | D46: 9869889 | E46: 9869889
A47: 1.3. | B47: Dologi kiadások | C47: 24381900 | D47: 25447460 | E47: 25296095
A48: 1.4. | B48: Ellátottak pénzbeli juttatásai
A49: 1.5. | B49: Egyéb működési célú kiadások
A50: 2. | B50: Felhalmozási költségvetés kiadásai (2.1.+…+2.3.) | C50: =SUM(C51:C53) -> 2806700 | D50: =SUM(D51:D53) -> 1596973 | E50: =SUM(E51:E53) -> 1596973
A51: 2.1. | B51: Beruházások | C51: 2806700 | D51: 1596973 | E51: 1596973
A52: 2.2. | B52: Felújítások
A53: 2.3. | B53: Egyéb fejlesztési célú kiadások
A54: 2.4. | B54: - 2.3.-ból EU-s forrásból tám. megvalósuló programok, projektek kiadásai
A55: 3. | B55: KIADÁSOK ÖSSZESEN: (1.+2.) | C55: =+C44+C50 -> 73427349 | D55: =+D44+D50 -> 70895300 | E55: =+E44+E50 -> 70743935
A57: Éves tényleges állományi létszám (fő) | C57: 13 | D57: 12 | E57: 12
A58: Közfoglalkoztatottak tényleges állományi létszáma (fő) | C58: 13 | D58: 12 | E58: 12

Sheet 8.2. sz. mell.
E1: 8.1.1. melléklet a 8/2017. (V.29.) önkormányzati rendelethez
A2: Költségvetési szerv megnevezése | B2: Sajószögedi Általános Művelődési Központ - Család és Gyermekjóléti Szolgálat - Konyha - Művelődési Ház és Könyvtár | E2: 03
A3: Feladat megnevezése | B3: Kötelező feladatok | E3: 02
E4: ='8.1. sz. mell.'!E4 -> Forintban!
A5: Száma | B5: Kiemelt előirányzat, előirányzat megnevezése | C5: Eredeti előirányzat | D5: Módosított előirányzat | E5: Teljesítés
A6: A | B6: B | C6: C | D6: D | E6: E
A7: Bevételek
A8: 1. | B8: Működési bevételek (1.1.+…+1.10.) | C8: =SUM(C9:C18) -> 100000 | D8: =SUM(D9:D18) -> 816435 | E8: =SUM(E9:E18) -> 816435
A9: 1.1. | B9: Készletértékesítés ellenértéke
A10: 1.2. | B10: Szolgáltatások ellenértéke | C10: 100000 | D10: 663005 | E10: 663005
A11: 1.3. | B11: Közvetített szolgáltatások értéke
A12: 1.4. | B12: Tulajdonosi bevételek
A13: 1.5. | B13: Ellátási díjak
A14: 1.6. | B14: Kiszámlázott általános forgalmi adó | D14: 132024 | E14: 132024
A15: 1.7. | B15: Általános forgalmi adó visszatérülése
A16: 1.8. | B16: Kamatbevételek | D16: 18 | E16: 18
A17: 1.9. | B17: Egyéb pénzügyi műveletek bevételei
A18: 1.10. | B18: Egyéb működési bevételek | D18: 21388 | E18: 21388
A19: 2. | B19: Működési célú támogatások államháztartáson belülről (2.1.+…+2.3.) | C19: =SUM(C20:C22) -> 0 | D19: =SUM(D20:D22) -> 0 | E19: =SUM(E20:E22) -> 0
A20: 2.1. | B20: Elvonások és befizetések bevételei
A21: 2.2. | B21: Visszatérítendő támogatások, kölcsönök visszatérülése ÁH-n belülről
A22: 2.3. | B22: Egyéb működési célú támogatások bevételei államháztartáson belülről
A23: 2.4. | B23: - 2.3.-ból EU-s támogatás
A24: 3. | B24: Közhatalmi bevételek
A25: 4. | B25: Felhalmozási célú támogatások államháztartáson belülről (4.1.+4.2.) | C25: =+C26+C27 -> 0 | D25: =+D26+D27 -> 0 | E25: =+E26+E27 -> 0
A26: 4.1. | B26: Visszatérítendő támogatások, kölcsönök visszatérülése ÁH-n belülről
A27: 4.2. | B27: Egyéb felhalmozási célú támogatások bevételei államháztartáson belülről
A28: 4.3. | B28: - 4.2.-ből EU-s támogatás
A29: 5. | B29: Felhalmozási bevételek (5.1.+…+5.3.) | C29: =+C30+C31+C32 -> 0 | D29: =+D30+D31+D32 -> 0 | E29: =+E30+E31+E32 -> 0
A30: 5.1. | B30: Immateriális javak értékesítése
A31: 5.2. | B31: Ingatlanok értékesítése
A32: 5.3. | B32: Egyéb tárgyi eszközök értékesítése
A33: 6. | B33: Működési célú átvett pénzeszközök | D33: 270000 | E33: 270000
A34: 7. | B34: Felhalmozási célú átvett pénzeszközök
A35: 8. | B35: Költségvetési bevételek összesen (1.+…+7.) | C35: =+C8+C19+C24+C25+C29+C33+C34 -> 100000 | D35: =+D8+D19+D24+D25+D29+D33+D34 -> 1086435 | E35: =+E8+E19+E24+E25+E29+E33+E34 -> 1086435
A36: 9. | B36: Finanszírozási bevételek (9.1.+…+9.3.) | C36: =+C37+C38+C39 -> 73327349 | D36: =+D37+D38+D39 -> 69808865 | E36: =+E37+E38+E39 -> 69808865
A37: 9.1. | B37: Költségvetési maradvány igénybevétele | C37: 1545000 | D37: 1546228 | E37: 1546228
A38: 9.2. | B38: Vállalkozási maradvány igénybevétele
A39: 9.3. | B39: Irányító szervi (önkormányzati) támogatás (intézményfinanszírozás) | C39: 71782349 | D39: 68262637 | E39: 68262637
A40: 10. | B40: BEVÉTELEK ÖSSZESEN: (8.+9.) | C40: =+C35+C36 -> 73427349 | D40: =+D35+D36 -> 70895300 | E40: =+E35+E36 -> 70895300
A43: Kiadások
A44: 1. | B44: Működési költségvetés kiadásai (1.1+…+1.5.) | C44: =SUM(C45:C49) -> 70620649 | D44: =SUM(D45:D49) -> 69298327 | E44: =SUM(E45:E49) -> 69146962
A45: 1.1. | B45: Személyi juttatások | C45: 36414171 | D45: 33980978 | E45: 33980978
A46: 1.2. | B46: Munkaadókat terhelő járulékok és szociális hozzájárulási adó | C46: 9824578 | D46: 9869889 | E46: 9869889
A47: 1.3. | B47: Dologi kiadások | C47: 24381900 | D47: 25447460 | E47: 25296095
A48: 1.4. | B48: Ellátottak pénzbeli juttatásai
A49: 1.5. | B49: Egyéb működési célú kiadások
A50: 2. | B50: Felhalmozási költségvetés kiadásai (2.1.+…+2.3.) | C50: =SUM(C51:C53) -> 2806700 | D50: =SUM(D51:D53) -> 1596973 | E50: =SUM(E51:E53) -> 1596973
A51: 2.1. | B51: Beruházások | C51: 2806700 | D51: 1596973 | E51: 1596973
A52: 2.2. | B52: Felújítások
A53: 2.3. | B53: Egyéb fejlesztési célú kiadások
A54: 2.4. | B54: - 2.3.-ból EU-s forrásból tám. megvalósuló programok, projektek kiadásai
A55: 3. | B55: KIADÁSOK ÖSSZESEN: (1.+2.) | C55: =+C44+C50 -> 73427349 | D55: =+D44+D50 -> 70895300 | E55: =+E44+E50 -> 70743935
A57: Éves tényleges állományi létszám (fő) | C57: 13 | D57: 12 | E57: 12
A58: Közfoglalkoztatottak tényleges állományi létszáma (fő) | C58: 13 | D58: 12 | E58: 12

Sheet 8.3. sz. mell.
E1: 8.1.2. melléklet a 8/2017. (V.29.) önkormányzati rendelethez
A2: Költségvetési szerv megnevezése | B2: Sajószögedi Általános Művelődési Központ - Család és Gyermekjóléti Szolgálat - Konyha - Művelődési Ház és Könyvtár | E2: 03
A3: Feladat megnevezése | B3: Önként vállalt feladatok | E3: 03
E4: ='8.2. sz. mell.'!E4 -> Forintban!
A5: Száma | B5: Kiemelt előirányzat, előirányzat megnevezése | C5: Eredeti előirányzat | D5: Módosított előirányzat | E5: Teljesítés
A6: A | B6: B | C6: C | D6: D | E6: E
A7: Bevételek
A8: 1. | B8: Működési bevételek (1.1.+…+1.10.) | C8: =SUM(C9:C18) -> 0 | D8: =SUM(D9:D18) -> 0 | E8: =SUM(E9:E18) -> 0
A9: 1.1. | B9: Készletértékesítés ellenértéke
A10: 1.2. | B10: Szolgáltatások ellenértéke
A11: 1.3. | B11: Közvetített szolgáltatások értéke
A12: 1.4. | B12: Tulajdonosi bevételek
A13: 1.5. | B13: Ellátási díjak
A14: 1.6. | B14: Kiszámlázott általános forgalmi adó
A15: 1.7. | B15: Általános forgalmi adó visszatérülése
A16: 1.8. | B16: Kamatbevételek
A17: 1.9. | B17: Egyéb pénzügyi műveletek bevételei
A18: 1.10. | B18: Egyéb működési bevételek
A19: 2. | B19: Működési célú támogatások államháztartáson belülről (2.1.+…+2.3.) | C19: =SUM(C20:C22) -> 0 | D19: =SUM(D20:D22) -> 0 | E19: =SUM(E20:E22) -> 0
A20: 2.1. | B20: Elvonások és befizetések bevételei
A21: 2.2. | B21: Visszatérítendő támogatások, kölcsönök visszatérülése ÁH-n belülről
A22: 2.3. | B22: Egyéb működési célú támogatások bevételei államháztartáson belülről
A23: 2.4. | B23: - 2.3.-ból EU-s támogatás
A24: 3. | B24: Közhatalmi bevételek
A25: 4. | B25: Felhalmozási célú támogatások államháztartáson belülről (4.1.+4.2.) | C25: =+C26+C27 -> 0 | D25: =+D26+D27 -> 0 | E25: =+E26+E27 -> 0
A26: 4.1. | B26: Visszatérítendő támogatások, kölcsönök visszatérülése ÁH-n belülről
A27: 4.2. | B27: Egyéb felhalmozási célú támogatások bevételei államháztartáson belülről
A28: 4.3. | B28: - 4.2.-ből EU-s támogatás
A29: 5. | B29: Felhalmozási bevételek (5.1.+…+5.3.) | C29: =+C30+C31+C32 -> 0 | D29: =+D30+D31+D32 -> 0 | E29: =+E30+E31+E32 -> 0
A30: 5.1. | B30: Immateriális javak értékesítése
A31: 5.2. | B31: Ingatlanok értékesítése
A32: 5.3. | B32: Egyéb tárgyi eszközök értékesítése
A33: 6. | B33: Működési célú átvett pénzeszközök
A34: 7. | B34: Felhalmozási célú átvett pénzeszközök
A35: 8. | B35: Költségvetési bevételek összesen (1.+…+7.) | C35: =+C8+C19+C24+C25+C29+C33+C34 -> 0 | D35: =+D8+D19+D24+D25+D29+D33+D34 -> 0 | E35: =+E8+E19+E24+E25+E29+E33+E34 -> 0
A36: 9. | B36: Finanszírozási bevételek (9.1.+…+9.3.) | C36: =+C37+C38+C39 -> 0 | D36: =+D37+D38+D39 -> 0 | E36: =+E37+E38+E39 -> 0
A37: 9.1. | B37: Költségvetési maradvány igénybevétele
A38: 9.2. | B38: Vállalkozási maradvány igénybevétele
A39: 9.3. | B39: Irányító szervi (önkormányzati) támogatás (intézményfinanszírozás)
A40: 10. | B40: BEVÉTELEK ÖSSZESEN: (8.+9.) | C40: =+C35+C36 -> 0 | D40: =+D35+D36 -> 0 | E40: =+E35+E36 -> 0
A43: Kiadások
A44: 1. | B44: Működési költségvetés kiadásai (1.1+…+1.5.) | C44: =SUM(C45:C49) -> 0 | D44: =SUM(D45:D49) -> 0 | E44: =SUM(E45:E49) -> 0
A45: 1.1. | B45: Személyi juttatások
A46: 1.2. | B46: Munkaadókat terhelő járulékok és szociális hozzájárulási adó
A47: 1.3. | B47: Dologi kiadások
A48: 1.4. | B48: Ellátottak pénzbeli juttatásai
A49: 1.5. | B49: Egyéb működési célú kiadások
A50: 2. | B50: Felhalmozási költségvetés kiadásai (2.1.+…+2.3.) | C50: =SUM(C51:C53) -> 0 | D50: =SUM(D51:D53) -> 0 | E50: =SUM(E51:E53) -> 0
A51: 2.1. | B51: Beruházások
A52: 2.2. | B52: Felújítások
A53: 2.3. | B53: Egyéb fejlesztési célú kiadások
A54: 2.4. | B54: - 2.3.-ból EU-s forrásból tám. megvalósuló programok, projektek kiadásai
A55: 3. | B55: KIADÁSOK ÖSSZESEN: (1.+2.) | C55: =+C44+C50 -> 0 | D55: =+D44+D50 -> 0 | E55: =+E44+E50 -> 0
A57: Éves tényleges állományi létszám (fő)
A58: Közfoglalkoztatottak tényleges állományi létszáma (fő)

Sheet 8.4. sz. mell.
E1: 8.1.3. melléklet a 8/2017. (V.29.) önkormányzati rendelethez
A2: Költségvetési szerv megnevezése | B2: Sajószögedi Általános Művelődési Központ - Család és Gyermekjóléti Szolgálat - Konyha - Művelődési Ház és Könyvtár | E2: 03
A3: Feladat megnevezése | B3: Államigazgatási feladatok | E3: 04
E4: ='8.3. sz. mell.'!E4 -> Forintban!
A5: Száma | B5: Kiemelt előirányzat, előirányzat megnevezése | C5: Eredeti előirányzat | D5: Módosított előirányzat | E5: Teljesítés
A6: A | B6: B | C6: C | D6: D | E6: E
A7: Bevételek
A8: 1. | B8: Működési bevételek (1.1.+…+1.10.) | C8: =SUM(C9:C18) -> 0 | D8: =SUM(D9:D18) -> 0 | E8: =SUM(E9:E18) -> 0
A9: 1.1. | B9: Készletértékesítés ellenértéke
A10: 1.2. | B10: Szolgáltatások ellenértéke
A11: 1.3. | B11: Közvetített szolgáltatások értéke
A12: 1.4. | B12: Tulajdonosi bevételek
A13: 1.5. | B13: Ellátási díjak
A14: 1.6. | B14: Kiszámlázott általános forgalmi adó
A15: 1.7. | B15: Általános forgalmi adó visszatérülése
A16: 1.8. | B16: Kamatbevételek
A17: 1.9. | B17: Egyéb pénzügyi műveletek bevételei
A18: 1.10. | B18: Egyéb működési bevételek
A19: 2. | B19: Működési célú támogatások államháztartáson belülről (2.1.+…+2.3.) | C19: =SUM(C20:C22) -> 0 | D19: =SUM(D20:D22) -> 0 | E19: =SUM(E20:E22) -> 0
A20: 2.1. | B20: Elvonások és befizetések bevételei
A21: 2.2. | B21: Visszatérítendő támogatások, kölcsönök visszatérülése ÁH-n belülről
A22: 2.3. | B22: Egyéb működési célú támogatások bevételei államháztartáson belülről
A23: 2.4. | B23: - 2.3.-ból EU-s támogatás
A24: 3. | B24: Közhatalmi bevételek
A25: 4. | B25: Felhalmozási célú támogatások államháztartáson belülről (4.1.+4.2.) | C25: =+C26+C27 -> 0 | D25: =+D26+D27 -> 0 | E25: =+E26+E27 -> 0
A26: 4.1. | B26: Visszatérítendő támogatások, kölcsönök visszatérülése ÁH-n belülről
A27: 4.2. | B27: Egyéb felhalmozási célú támogatások bevételei államháztartáson belülről
A28: 4.3. | B28: - 4.2.-ből EU-s támogatás
A29: 5. | B29: Felhalmozási bevételek (5.1.+…+5.3.) | C29: =+C30+C31+C32 -> 0 | D29: =+D30+D31+D32 -> 0 | E29: =+E30+E31+E32 -> 0
A30: 5.1. | B30: Immateriális javak értékesítése
A31: 5.2. | B31: Ingatlanok értékesítése
A32: 5.3. | B32: Egyéb tárgyi eszközök értékesítése
A33: 6. | B33: Működési célú átvett pénzeszközök
A34: 7. | B34: Felhalmozási célú átvett pénzeszközök
A35: 8. | B35: Költségvetési bevételek összesen (1.+…+7.) | C35: =+C8+C19+C24+C25+C29+C33+C34 -> 0 | D35: =+D8+D19+D24+D25+D29+D33+D34 -> 0 | E35: =+E8+E19+E24+E25+E29+E33+E34 -> 0
A36: 9. | B36: Finanszírozási bevételek (9.1.+…+9.3.) | C36: =+C37+C38+C39 -> 0 | D36: =+D37+D38+D39 -> 0 | E36: =+E37+E38+E39 -> 0
A37: 9.1. | B37: Költségvetési maradvány igénybevétele
A38: 9.2. | B38: Vállalkozási maradvány igénybevétele
A39: 9.3. | B39: Irányító szervi (önkormányzati) támogatás (intézményfinanszírozás)
A40: 10. | B40: BEVÉTELEK ÖSSZESEN: (8.+9.) | C40: =+C35+C36 -> 0 | D40: =+D35+D36 -> 0 | E40: =+E35+E36 -> 0
A43: Kiadások
A44: 1. | B44: Működési költségvetés kiadásai (1.1+…+1.5.) | C44: =SUM(C45:C49) -> 0 | D44: =SUM(D45:D49) -> 0 | E44: =SUM(E45:E49) -> 0
A45: 1.1. | B45: Személyi juttatások
A46: 1.2. | B46: Munkaadókat terhelő járulékok és szociális hozzájárulási adó
A47: 1.3. | B47: Dologi kiadások
A48: 1.4. | B48: Ellátottak pénzbeli juttatásai
A49: 1.5. | B49: Egyéb működési célú kiadások
A50: 2. | B50: Felhalmozási költségvetés kiadásai (2.1.+…+2.3.) | C50: =SUM(C51:C53) -> 0 | D50: =SUM(D51:D53) -> 0 | E50: =SUM(E51:E53) -> 0
A51: 2.1. | B51: Beruházások
A52: 2.2. | B52: Felújítások
A53: 2.3. | B53: Egyéb fejlesztési célú kiadások
A54: 2.4. | B54: - 2.3.-ból EU-s forrásból tám. megvalósuló programok, projektek kiadásai
A55: 3. | B55: KIADÁSOK ÖSSZESEN: (1.+2.) | C55: =+C44+C50 -> 0 | D55: =+D44+D50 -> 0 | E55: =+E44+E50 -> 0
A57: Éves tényleges állományi létszám (fő)
A58: Közfoglalkoztatottak tényleges állományi létszáma (fő)

Sheet 9. sz. mell
G1: =#REF! -> #REF!
A2: Sor-szám | B2: Költségvetési szerv neve | C2: Költségvetési maradvány összege | D2: Elvonás (-) | E2: Intézményt megillető maradvány
E3: Jóváhagyott | F3: Jóváhagyott-ból működési | G3: Jóváhagyott-ból felhalmozási
A4: A | B4: B | C4: C | D4: D | E4: E=(C-D) | F4: F | G4: G
A5: 1. | B5: Sajószögedi Polgármesteri Hivatal | C5: 762517 | E5: =C5+D5 -> 762517 | F5: 762517
A6: 2. | B6: Sajószögedi Általános Művelődési Központ | C6: 151365 | E6: =C6+D6 -> 151365 | F6: 151365
A7: 3. | E7: =C7+D7 -> 0
A8: 4. | E8: =C8+D8 -> 0
A9: 5. | E9: =C9+D9 -> 0
A10: 6. | E10: =C10+D10 -> 0
A11: 7. | E11: =C11+D11 -> 0
A12: 8. | E12: =C12+D12 -> 0
A13: 9. | E13: =C13+D13 -> 0
A14: 10. | E14: =C14+D14 -> 0
A15: 11. | E15: =C15+D15 -> 0
A16: 12. | E16: =C16+D16 -> 0
A17: 13. | E17: =C17+D17 -> 0
A18: 14. | E18: =C18+D18 -> 0
... A29: 25. | E29: =C29+D29 -> 0
A30: 26.
A31: 27. | E31: =C31+D31 -> 0
A32: 28. | E32: =C32+D32 -> 0
A33: 29. | E33: =C33+D33 -> 0
A34: 30. | E34: =C34+D34 -> 0
A35: 31. | E35: =C35+D35 -> 0
A36: Összesen: | C36: =SUM(C5:C35) -> 913882 | D36: =SUM(D5:D35) -> 0 | E36: =SUM(E5:E35) -> 913882 | F36: =SUM(F5:F35) -> 913882 | G36: =SUM(G5:G35) -> 0

Sheet 1.tájékoztató
A1: B E V É T E L E K
A2: 1. sz. táblázat | E2: ='9. sz. mell'!G1 -> #REF!
A3: Sor- szám | B3: Bevételi jogcím | C3: =+CONCATENATE(LEFT(ÖSSZEFÜGGÉSEK!A4,4)-1,". évi tény") -> 2015. évi tény | D3: =+CONCATENATE(LEFT(ÖSSZEFÜGGÉSEK!A4,4),". évi") -> 2016. évi
D4: Módosított előirányzat | E4: Teljesítés
A5: A | B5: B | C5: C | D5: E | E5: F
A6: 1. | B6: Önkormányzat működési támogatásai (1.1.+…+.1.6.) | C6: =+C7+C8+C9+C10+C11+C12 -> 77153000 | D6: =+D7+D8+D9+D10+D11+D12 -> 75519365 | E6: =+E7+E8+E9+E10+E11+E12 -> 75519365
A7: 1.1. | B7: Helyi önkormányzatok működésének általános támogatása | C7: 19403000 | D7: 20129106 | E7: 20129106
A8: 1.2. | B8: Önkormányzatok egyes köznevelési feladatainak támogatása | C8: 25929000 | D8: 26445800 | E8: 26445800
A9: 1.3. | B9: Önkormányzatok szociális és gyermekjóléti feladatainak támogatása | C9: 26979000 | D9: 24500716 | E9: 24500716
A10: 1.4. | B10: Önkormányzatok kulturális feladatainak támogatása | C10: 2656000 | D10: 2644990 | E10: 2644990
A11: 1.5. | B11: Működési célú központosított előirányzatok | C11: 2055000 | D11: 1794129 | E11: 1794129
A12: 1.6. | B12: Helyi önkormányzatok kiegészítő támogatásai | C12: 131000 | D12: 4624 | E12: 4624
A13: 2. | B13: Működési célú támogatások államháztartáson belülről (2.1.+…+.2.5.) | C13: =+C14+C15+C16+C17+C18 -> 21871000 | D13: =+D14+D15+D16+D17+D18 -> 22722438 | E13: =+E14+E15+E16+E17+E18 -> 22722438
A14: 2.1. | B14: Elvonások és befizetések bevételei
A15: 2.2. | B15: Működési célú garancia- és kezességvállalásból megtérülések
A16: 2.3. | B16: Működési célú visszatérítendő támogatások, kölcsönök visszatérülése
A17: 2.4. | B17: Működési célú visszatérítendő támogatások, kölcsönök igénybevétele
A18: 2.5. | B18: Egyéb működési célú támogatások bevételei | C18: 21871000 | D18: 22722438 | E18: 22722438
A19: 2.6. | B19: 2.5.-ből EU-s támogatás
A20: 3. | B20: Felhalmozási célú támogatások államháztartáson belülről (3.1.+…+3.5.) | C20: =+C21+C22+C23+C24+C25 -> 107000 | D20: =+D21+D22+D23+D24+D25 -> 6000000 | E20: =+E21+E22+E23+E24+E25 -> 6000000
A21: 3.1. | B21: Felhalmozási célú önkormányzati támogatások | C21: 107000 | D21: 6000000 | E21: 6000000
A22: 3.2. | B22: Felhalmozási célú garancia- és kezességvállalásból megtérülések
A23: 3.3. | B23: Felhalmozási célú visszatérítendő támogatások, kölcsönök visszatérülése
A24: 3.4. | B24: Felhalmozási célú visszatérítendő támogatások, kölcsönök igénybevétele
A25: 3.5. | B25: Egyéb felhalmozási célú támogatások bevételei
A26: 3.6. | B26: 3.5.-ből EU-s támogatás
A27: 4. | B27: Közhatalmi bevételek (4.1.+...+4.7.) | C27: =SUM(C28:C33) -> 176381000 | D27: =SUM(D28:D33) -> 140167300 | E27: =SUM(E28:E33) -> 133181150
A28: 4.1. | B28: Építményadó és telekadó | C28: 74822000 | D28: 45235946 | E28: 43362595
A29: 4.2. | B29: Idegenforgalmi adó
A30: 4.3. | B30: Iparűzési adó | C30: 92978000 | D30: 85223908 | E30: 81124886
A31: 4.5. | B31: Gépjárműadó önkormányzatot megillető része | C31: 7800000 | D31: 9167371 | E31: 8349286
A32: 4.6. | B32: Egyéb áruhasználati és szolgáltatási adók
A33: 4.7. | B33: Egyéb közhatalmi bevételek | C33: 781000 | D33: 540075 | E33: 344383
A34: 5. | B34: Működési bevételek (5.1.+…+ 5.10.) | C34: =SUM(C35:C44) -> 45765000 | D34: =SUM(D35:D44) -> 32690577 | E34: =SUM(E35:E44) -> 31650308
A35: 5.1. | B35: Készletértékesítés ellenértéke
A36: 5.2. | B36: Szolgáltatások ellenértéke | C36: 3725000 | D36: 5846556 | E36: 5522630
A37: 5.3. | B37: Közvetített szolgáltatások értéke | C37: 981000 | D37: 777810 | E37: 777810
A38: 5.4. | B38: Tulajdonosi bevételek | C38: 18230000 | D38: 10234855 | E38: 10234855
A39: 5.5. | B39: Ellátási díjak | C39: 9271000 | D39: 9794074 | E39: 9257731
A40: 5.6. | B40: Kiszámlázott általános forgalmi adó | C40: 8126000 | D40: 5752189 | E40: 5572189
A41: 5.7. | B41: Általános forgalmi adó visszatérítése | C41: 563000
A42: 5.8. | B42: Kamatbevételek | C42: 4317000 | D42: 70236 | E42: 70236
A43: 5.9. | B43: Egyéb pénzügyi műveletek bevételei
A44: 5.10. | B44: Egyéb működési bevételek | C44: 552000 | D44: 214857 | E44: 214857
A45: 6. | B45: Felhalmozási bevételek (6.1.+…+6.5.) | C45: =SUM(C46:C50) -> 0 | D45: =SUM(D46:D50) -> 2150000 | E45: =SUM(E46:E50) -> 2150000
A46: 6.1. | B46: Immateriális javak értékesítése
A47: 6.2. | B47: Ingatlanok értékesítése | D47: 2150000 | E47: 2150000
A48: 6.3. | B48: Egyéb tárgyi eszközök értékesítése
A49: 6.4. | B49: Részesedések értékesítése
A50: 6.5. | B50: Részesedések megszűnéséhez kapcsolódó bevételek
A51: 7. | B51: Működési célú átvett pénzeszközök (7.1. + … + 7.3.) | C51: =SUM(C52:C54) -> 18091000 | D51: =SUM(D52:D54) -> 520000 | E51: =SUM(E52:E54) -> 520000
A52: 7.1. | B52: Működési célú garancia- és kezességvállalásból megtérülések ÁH-n kívülről
A53: 7.2. | B53: Működési célú visszatérítendő támogatások kölcsönök visszatér. ÁH-n kívülről | C53: 17641000
A54: 7.3. | B54: Egyéb működési célú átvett pénzeszköz | C54: 450000 | D54: 520000 | E54: 520000
A55: 7.4. | B55: 7.3.-ból EU-s támogatás (közvetlen)
A56: 8. | B56: Felhalmozási célú átvett pénzeszközök (8.1.+8.2.+8.3.) | C56: =SUM(C57:C59) -> 543000 | D56: =SUM(D57:D59) -> 583430 | E56: =SUM(E57:E59) -> 583430
A57: 8.1. | B57: Felhalm. célú garancia- és kezességvállalásból megtérülések ÁH-n kívülről
A58: 8.2. | B58: Felhalm. célú visszatérítendő támogatások kölcsönök visszatér. ÁH-n kívülről | C58: 257000 | D58: 583430 | E58: 583430
A59: 8.3. | B59: Egyéb felhalmozási célú átvett pénzeszköz | C59: 286000
A60: 8.4. | B60: 8.3.-ból EU-s támogatás (közvetlen)
A61: 9. | B61: KÖLTSÉGVETÉSI BEVÉTELEK ÖSSZESEN: (1+…+8) | C61: =+C6+C13+C20+C27+C34+C45+C51+C56 -> 339911000 | D61: =+D6+D13+D20+D27+D34+D45+D51+D56 -> 280353110 | E61: =+E6+E13+E20+E27+E34+E45+E51+E56 -> 272326691
A62: 10. | B62: Hitel-, kölcsönfelvétel államháztartáson kívülről (10.1.+…+10.3.) | C62: =SUM(C63:C65) -> 0 | D62: =SUM(D63:D65) -> 0 | E62: =SUM(E63:E65) -> 0
A63: 10.1. | B63: Hosszú lejáratú hitelek, kölcsönök felvétele
A64: 10.2. | B64: Likviditási célú hitelek, kölcsönök felvétele pénzügyi vállalkozástól
A65: 10.3. | B65: Rövid lejáratú hitelek, kölcsönök felvétele
A66: 11. | B66: Belföldi értékpapírok bevételei (11.1. +…+ 11.4.) | C66: =SUM(C67:C70) -> 88683000 | D66: =SUM(D67:D70) -> 115945929 | E66: =SUM(E67:E70) -> 115945929
A67: 11.1. | B67: Forgatási célú belföldi értékpapírok beváltása, értékesítése | C67: 88683000 | D67: 115945929 | E67: 115945929
A68: 11.2. | B68: Forgatási célú belföldi értékpapírok kibocsátása
A69: 11.3. | B69: Befektetési célú belföldi értékpapírok beváltása, értékesítése
A70: 11.4. | B70: Befektetési célú belföldi értékpapírok kibocsátása
A71: 12. | B71: Maradvány igénybevétele (12.1. + 12.2.) | C71: =SUM(C72:C73) -> 12773000 | D71: =SUM(D72:D73) -> 9928171 | E71: =SUM(E72:E73) -> 9928171
A72: 12.1. | B72: Előző év költségvetési maradványának igénybevétele | C72: 12773000 | D72: 9928171 | E72: 9928171
A73: 12.2. | B73: Előző év vállalkozási maradványának igénybevétele
A74: 13. | B74: Belföldi finanszírozás bevételei (13.1. + … + 13.3.) | C74: =SUM(C75:C77) -> 2712000 | D74: =SUM(D75:D77) -> 0 | E74: =SUM(E75:E77) -> 3277299
A75: 13.1. | B75: Államháztartáson belüli megelőlegezések | C75: 2712000 | E75: 3277299
A76: 13.2. | B76: Államháztartáson belüli megelőlegezések törlesztése
A77: 13.3. | B77: Betétek megszüntetése
A78: 14. | B78: Külföldi finanszírozás bevételei (14.1.+…14.4.) | C78: =SUM(C79:C82) -> 0 | D78: =SUM(D79:D82) -> 0 | E78: =SUM(E79:E82) -> 0
A79: 14.1. | B79: Forgatási célú külföldi értékpapírok beváltása, értékesítése
A80: 14.2. | B80: Befektetési célú külföldi értékpapírok beváltása, értékesítése
A81: 14.3. | B81: Külföldi értékpapírok kibocsátása
A82: 14.4. | B82: Külföldi hitelek, kölcsönök felvétele
A83: 15. | B83: Adóssághoz nem kapcsolódó származékos ügyletek bevételei
A84: 16. | B84: FINANSZÍROZÁSI BEVÉTELEK ÖSSZESEN: (10. + … +15.) | C84: =+C62+C66+C71+C74+C78+C83 -> 104168000 | D84: =+D62+D66+D71+D74+D78+D83 -> 125874100 | E84: =+E62+E66+E71+E74+E78+E83 -> 129151399
A85: 17. | B85: KÖLTSÉGVETÉSI ÉS FINANSZÍROZÁSI BEVÉTELEK ÖSSZESEN: (9+16) | C85: =+C61+C84 -> 444079000 | D85: =+D61+D84 -> 406227210 | E85: =+E61+E84 -> 401478090
A86: K I A D Á S O K
A87: 2. sz. táblázat | E87: =E2 -> #REF!
A88: Sor- szám | B88: Kiadási jogcím | C88: =+C3 -> 2015. évi tény | D88: =+D3 -> 2016. évi
D89: Módosított előirányzat | E89: Teljesítés
A90: A | B90: B | C90: C | D90: E | E90: F
A91: 1. | B91: Működési költségvetés kiadásai (1.1+…+1.5.) | C91: =SUM(C92:C96) -> 260752000 | D91: =+D92+D93+D94+D95+D96 -> 281638512 | E91: =+E92+E93+E94+E95+E96 -> 277010051
A92: 1.1. | B92: Személyi juttatások | C92: 96099000 | D92: 107190361 | E92: 105299578
A93: 1.2. | B93: Munkaadókat terhelő járulékok és szociális hozzájárulási adó | C93: 22845000 | D93: 26988909 | E93: 26988909
A94: 1.3. | B94: Dologi kiadások | C94: 95762000 | D94: 102263762 | E94: 99526084
A95: 1.4. | B95: Ellátottak pénzbeli juttatásai | C95: 12337000 | D95: 10203003 | E95: 10203003
A96: 1.5 | B96: Egyéb működési célú kiadások | C96: 33709000 | D96: 34992477 | E96: 34992477
A97: 1.6. | B97: - az 1.5-ből: - Elvonások és befizetések | C97: 86000 | D97: 408831 | E97: 408831
A98: 1.7. | B98: - Garancia- és kezességvállalásból kifizetés ÁH-n belülre
A99: 1.8. | B99: -Visszatérítendő támogatások, kölcsönök nyújtása ÁH-n belülre | C99: 1789000 | D99: 1784240 | E99: 1784240
A100: 1.9. | B100: - Visszatérítendő támogatások, kölcsönök törlesztése ÁH-n belülre
...

Sheet 2. tájékoztató tábla
J1: ='1.tájékoztató'!E2 -> #REF! | K1: 2. tájékoztató tábla a 8/2017. (V.29.) önkormányzati rendelethez
A2: Sor- szám | B2: Kötelezettség jogcíme | C2: Kötelezettség- vállalás éve | D2: Összes vállalt kötelezettség | E2: =+CONCATENATE(LEFT(ÖSSZEFÜGGÉSEK!A4,4),". évi teljesítés") -> 2016. évi teljesítés | F2: Kötelezettségek a következő években | J2: Még fennálló kötelezettség
F3: =+CONCATENATE(LEFT(ÖSSZEFÜGGÉSEK!A4,4)+1,".") -> 2017. | G3: =+CONCATENATE(LEFT(ÖSSZEFÜGGÉSEK!A4,4)+2,".") -> 2018. | H3: =+CONCATENATE(LEFT(ÖSSZEFÜGGÉSEK!A4,4)+3,".") -> 2019. | I3: =+CONCATENATE(LEFT(ÖSSZEFÜGGÉSEK!A4,4)+3,". után") -> 2019. után
A4: A | B4: B | C4: C | D4: D | E4: E | F4: F | G4: G | H4: H | I4: I | J4: J=(F+…+I)
A5: 1. | B5: Működési célú hiteltörlesztés (tőke+kamat) | D5: =SUM(D6:D7) -> 0 | E5: =SUM(E6:E7) -> 0 | F5: =SUM(F6:F7) -> 0 | G5: =SUM(G6:G7) -> 0 | H5: =SUM(H6:H7) -> 0 | I5: =SUM(I6:I7) -> 0 | J5: =SUM(F5:I5) -> 0
A6: 2. | B6: ............................ | J6: =SUM(F6:I6) -> 0
A7: 3. | B7: ............................ | J7: =SUM(F7:I7) -> 0
A8: 4. | B8: Felhalmozási célú hiteltörlesztés (tőke+kamat) | D8: =SUM(D9:D10) -> 0 | E8: =SUM(E9:E10) -> 0 | F8: =SUM(F9:F10) -> 0 | G8: =SUM(G9:G10) -> 0 | H8: =SUM(H9:H10) -> 0 | I8: =SUM(I9:I10) -> 0 | J8: =SUM(F8:I8) -> 0
A9: 5. | B9: ............................ | J9: =SUM(F9:I9) -> 0
A10: 6. | B10: ............................ | J10: =SUM(F10:I10) -> 0
A11: 7. | B11: Beruházás feladatonként | D11: =SUM(D12:D12) -> 0 | E11: =SUM(E12:E12) -> 0 | F11: =SUM(F12:F12) -> 0 | G11: =SUM(G12:G12) -> 0 | H11: =SUM(H12:H12) -> 0 | I11: =SUM(I12:I12) -> 0 | J11: =SUM(F11:I11) -> 0
A12: 8. | B12: ............................ | J12: =SUM(F12:I12) -> 0
A13: 9. | B13: Felújítás célonként | D13: =SUM(D14:D14) -> 0 | E13: =SUM(E14:E14) -> 0 | F13: =SUM(F14:F14) -> 0 | G13: =SUM(G14:G14) -> 0 | H13: =SUM(H14:H14) -> 0 | I13: =SUM(I14:I14) -> 0 | J13: =SUM(F13:I13) -> 0
A14: 10. | B14: ............................ | J14: =SUM(F14:I14) -> 0
A15: 11. | B15: Egyéb | D15: =SUM(D16:D17) -> 0 | E15: =SUM(E16:E17) -> 0 | F15: =SUM(F16:F17) -> 0 | G15: =SUM(G16:G17) -> 0 | H15: =SUM(H16:H17) -> 0 | I15: =SUM(I16:I17) -> 0 | J15: =SUM(F15:I15) -> 0
A16: 12. | B16: ............................ | J16: =SUM(F16:I16) -> 0
A17: 13. | B17: ............................ | I17: 0 | J17: =SUM(F17:I17) -> 0
A18: 14. | B18: Összesen (1+4+7+9+11) | D18: =D5+D8+D11+D13+D15 -> 0 | E18: =E5+E8+E11+E13+E15 -> 0 | F18: =F5+F8+F11+F13+F15 -> 0 | G18: =G5+G8+G11+G13+G15 -> 0 | H18: =H5+H8+H11+H13+H15 -> 0 | I18: =I5+I8+I11+I13+I15 -> 0 | J18: =J5+J8+J11+J13+J15 -> 0

Sheet 3. tájékoztató tábla
H1: ='2. tájékoztató tábla'!J1 -> #REF! | I1: 3. tájékoztató tábla a 8/2017. (V.29.) önkormányzati rendelethez
A2: Sor- szám | B2: Hitel, kölcsön | C2: Kölcsön- nyújtás éve | D2: Lejárat éve | E2: =+CONCATENATE("Hitel, kölcsön állomány ",LEFT(ÖSSZEFÜGGÉSEK!A4,4),". dec. 31-én") -> Hitel, kölcsön állomány 2016. dec. 31-én | F2: Hitel, kölcsön állomány december 31-én | H2: =+CONCATENATE(LEFT(ÖSSZEFÜGGÉSEK!A4,4)+2,". után") -> 2018. után
F3: =+CONCATENATE(LEFT(ÖSSZEFÜGGÉSEK!A4,4)+1,".") -> 2017. | G3: =+CONCATENATE(LEFT(ÖSSZEFÜGGÉSEK!A4,4)+2,".") -> 2018.
A4: A | B4: B | C4: C | D4: D | E4: E | F4: F | G4: G | H4: H
A5: 1. | B5: Rövid lejáratú | E5: =SUM(E6:E11) -> 0 | F5: =SUM(F6:F11) -> 0 | G5: =SUM(G6:G11) -> 0 | H5: =SUM(H6:H11) -> 0
A6: 2. | B6: ............................
A7: 3. | B7: ............................
A8: 4. | B8: ............................
A9: 5. | B9: ............................
A10: 6. | B10: ............................
A11: 7. | B11: ............................
A12: 8. | B12: Hosszú lejáratú | E12: =SUM(E13:E18) -> 0 | F12: =SUM(F13:F18) -> 0 | G12: =SUM(G13:G18) -> 0 | H12: =SUM(H13:H18) -> 0
A13: 9. | B13: ............................
A14: 10. | B14: ............................
A15: 11. | B15: ............................
A16: 12. | B16: ............................
A17: 13. | B17: ............................
A18: 14. | B18: ............................
A19: 15. | B19: Összesen (1+8) | E19: =E5+E12 -> 0 | F19: =F5+F12 -> 0 | G19: =G5+G12 -> 0 | H19: =H5+H12 -> 0

Sheet 4. tájékoztató tábla
A1: =+CONCATENATE("Adósság állomány alakulása lejárat, eszközök, bel- és külföldi hitelezők szerinti bontásban ",CHAR(10),LEFT(ÖSSZEFÜGGÉSEK!A4,4),". december 31-én") -> Adósság állomány alakulása lejárat, eszközök, bel- és külföldi hitelezők szerinti bontásban 2016. december 31-én | J1: 4. tájékoztató tábla a 8/2017. (V.29.) önkormányzati rendelethez
H2: ='3. tájékoztató tábla'!H1 -> #REF!
A3: Sor-szám | B3: Adósságállomány eszközök szerint | C3: Nem lejárt | D3: Lejárt | I3: Nem lejárt, lejárt összes tartozás
D4: 1-90 nap közötti | E4: 91-180 nap közötti | F4: 181-360 nap közötti | G4: 360 napon túli | H4: Összes lejárt tartozás
A5: A | B5: B | C5: C | D5: D | E5: E | F5: F | G5: G | H5: H=(D+…+G) | I5: I=(C+H)
A6: I. Belföldi hitelezők
A7: 1. | B7: Adóhatósággal szembeni tartozások | H7: =SUM(D7:G7) -> 0 | I7: =C7+H7 -> 0
A8: 2. | B8: Központi költségvetéssel szemben fennálló tartozás | C8: 3277299 | H8: =SUM(D8:G8) -> 0 | I8: =C8+H8 -> 3277299
A9: 3. | B9: Elkülönített állami pénzalapokkal szembeni tartozás | H9: =SUM(D9:G9) -> 0 | I9: =C9+H9 -> 0
A10: 4. | B10: TB alapokkal szembeni tartozás | H10: =SUM(D10:G10) -> 0 | I10: =C10+H10 -> 0
A11: 5. | B11: Tartozásállomány önkormányzatok és intézmények felé | H11: =SUM(D11:G11) -> 0 | I11: =C11+H11 -> 0
A12: 6. | B12: Szállítói tartozás | H12: =SUM(D12:G12) -> 0 | I12: =C12+H12 -> 0
A13: 7. | B13: Egyéb adósság | H13: =SUM(D13:G13) -> 0 | I13: =C13+H13 -> 0
A14: Belföldi összesen: | C14: =SUM(C7:C13) -> 3277299 | D14: =SUM(D7:D13) -> 0 | E14: =SUM(E7:E13) -> 0 | F14: =SUM(F7:F13) -> 0 | G14: =SUM(G7:G13) -> 0 | H14: =SUM(H7:H13) -> 0 | I14: =SUM(I7:I13) -> 3277299
A15: II. Külföldi hitelezők
A16: 1. | B16: Külföldi szállítók | H16: =SUM(D16:G16) -> 0 | I16: =C16+H16 -> 0
A17: 2. | B17: Egyéb adósság | H17: =SUM(D17:G17) -> 0 | I17: =C17+H17 -> 0
A18: Külföldi összesen: | C18: =SUM(C16:C17) -> 0 | D18: =SUM(D16:D17) -> 0 | E18: =SUM(E16:E17) -> 0 | F18: =SUM(F16:F17) -> 0 | G18: =SUM(G16:G17) -> 0 | H18: =SUM(H16:H17) -> 0 | I18: =SUM(I16:I17) -> 0
A19: Adósságállomány mindösszesen: | C19: =C14+C18 -> 3277299 | D19: =D14+D18 -> 0 | E19: =E14+E18 -> 0 | F19: =F14+F18 -> 0 | G19: =G14+G18 -> 0 | H19: =H14+H18 -> 0 | I19: =I14+I18 -> 3277299

Sheet 5. tájékoztató tábla
E1: =#REF! -> #REF!
A2: Sor- szám | B2: Támogatott szervezet neve | C2: Támogatás célja | D2: Tervezett (E Ft) | E2: Tényleges (E Ft)
A3: 1. | B3: Sajószöged Önkormányzat Községüzemeltetési Kft. | C3: működési támogatás | E3: 25581820
A4: 2. | B4: Sajószöged Önkormányzat Községüzemeltetési Kft. | C4: felhalmozási célú támogatás | E4: 7300000
A5: 3. | B5: Lakásvásárláshoz nyújtott visszatérítendő | C5: felhalmozási célú támogatás | E5: 1600000
A6: 4. | B6: Tiszaújvárosi Rendelőintézet | C6: ügyeleti hozzájárulás | E6: 1297800
A7: 5. | B7: Tiszaújvárosi Humánszolgáltató | C7: jelzőrendszeres HSNY támogatása | E7: 232000
A8: 6. | B8: Tiszaújvárosi Önkormányzat | C8: Ravatalozó fenntartás | E8: 254440
A9: 7. | B9: Sajószöged Községi Testedző Kör | C9: működési támogatás | E9: 3875000
A10: 8. | B10: Sajószögedi Polgárőr Egyesület | C10: működési támogatás | E10: 1630000
A11: 9. | B11: Szöged Big Band | C11: működési támogatás | E11: 560000
A12: 10. | B12: Országos Egyesület a Mosolyért | C12: működési támogatás | E12: 65000
A13: 11. | B13: Római katolikus egyház | C13: működési támogatás | E13: 154010
A14: 12. | B14: Görök katolikus egyház | C14: működési támogatás | E14: 250000
... A18: 16. | B18: háztartások | C18: Bursa Hungarica | E18: 490000
A19: 17.
A20: 18.
A21: 19.
A22: 20.
A23: 21.
A24: 22.
A25: 23.
A26: 24.
A27: 25.
A28: 26.
A29: 27.
A30: 28.
... A35: 33.
A36: Összesen: | D36: =SUM(D3:D35) -> 0 | E36: =SUM(E3:E35) -> 43483646

Sheet 6.1. tájékoztató tábla
A1: =+CONCATENATE("VAGYONKIMUTATÁS",CHAR(10),"a könyvviteli mérlegben értékkel szereplő eszközökről",CHAR(10),LEFT(ÖSSZEFÜGGÉSEK!A4,4),".") -> VAGYONKIMUTATÁS a könyvviteli mérlegben értékkel szereplő eszközökről 2016.
C2: ='5. tájékoztató tábla'!E1 -> #REF!
A3: ESZKÖZÖK | B3: Sorszám | C3: Bruttó | D3: Könyv szerinti | E3: Becsült
C5: állományi érték
A6: A | B6: B | C6: C | D6: D | E6: E
A7: I. Immateriális javak | B7: 01. | C7: 5917994 | D7: 524123
A8: II. Tárgyi eszközök (03+08+13+18+23) | B8: 02. | C8: =+C9+C14+C19+C24+C29 -> 1171920437 | D8: 882948090 | E8: =+E9+E14+E19+E24+E29 -> 0
A9: 1. Ingatlanok és kapcsolódó vagyoni értékű jogok (04+05+06+07) | B9: 03. | C9: =+C10+C11+C12+C13 -> 1132617289 | D9: =+D10+D11+D12+D13 -> 869864928 | E9: =+E10+E11+E12+E13 -> 0
A10: 1.1. Forgalomképtelen ingatlanok és kapcsolódó vagyoni értékű jogok | B10: 04. | C10: 764486389 | D10: 613342247
A11: 1.2. Nemzetgazdasági szempontból kiemelt jelentőségű ingatlanok és kapcsolódó vagyoni értékű jogok | B11: 05.
A12: 1.3. Korlátozottan forgalomképes ingatlanok és kapcsolódó vagyoni értékű jogok | B12: 06. | C12: 332485110 | D12: 223627146
A13: 1.4. Üzleti ingatlanok és kapcsolódó vagyoni értékű jogok | B13: 07. | C13: 35645790 | D13: 32895535
A14: 2. Gépek, berendezések, felszerelések, járművek (09+10+11+12) | B14: 08. | C14: =+C15+C16+C17+C18 -> 34456702 | D14: =+D15+D16+D17+D18 -> 8236716 | E14: =+E15+E16+E17+E18 -> 0
A15: 2.1. Forgalomképtelen gépek, berendezések, felszerelések, járművek | B15: 09. | C15: 8363981
A16: 2.2. Nemzetgazdasági szempontból kiemelt jelentőségű gépek, berendezések, felszerelések, járművek | B16: 10.
A17: 2.3. Korlátozottan forgalomképes gépek, berendezések, felszerelések, járművek | B17: 11. | C17: 14202450 | D17: 3156631
A18: 2.4. Üzleti gépek, berendezések, felszerelések, járművek | B18: 12. | C18: 11890271 | D18: 5080085
A19: 3. Tenyészállatok (14+15+16+17) | B19: 13. | C19: =+C20+C21+C22+C23 -> 0 | D19: =+D20+D21+D22+D23 -> 0 | E19: =+E20+E21+E22+E23 -> 0
A20: 3.1. Forgalomképtelen tenyészállatok | B20: 14.
A21: 3.2. Nemzetgazdasági szempontból kiemelt jelentőségű tenyészállatok | B21: 15.
A22: 3.3. Korlátozottan forgalomképes tenyészállatok | B22: 16.
A23: 3.4. Üzleti tenyészállatok | B23: 17.
A24: 4. Beruházások, felújítások (19+20+21+22) | B24: 18. | C24: =+C25+C26+C27+C28 -> 4846446 | D24: =+D25+D26+D27+D28 -> 4846446 | E24: =+E25+E26+E27+E28 -> 0
A25: 4.1. Forgalomképtelen beruházások, felújítások | B25: 19. | C25: 2406853 | D25: 2406853
A26: 4.2. Nemzetgazdasági szempontból kiemelt jelentőségű beruházások, felújítások | B26: 20. | C26: =D26 -> 0
A27: 4.3. Korlátozottan forgalomképes beruházások, felújítások | B27: 21. | C27: 2439593 | D27: 2439593
A28: 4.4. Üzleti beruházások, felújítások | B28: 22. | C28: =D28 -> 0
A29: 5. Tárgyi eszközök értékhelyesbítése (24+25+26+27) | B29: 23. | C29: =+C30+C31+C32+C33 -> 0 | D29: =+D30+D31+D32+D33 -> 0 | E29: =+E30+E31+E32+E33 -> 0
A30: 5.1. Forgalomképtelen tárgyi eszközök értékhelyesbítése | B30: 24.
A31: 5.2. Nemzetgazdasági szempontból kiemelt jelentőségű tárgyi eszközök értékhelyesbítése | B31: 25.
A32: 5.3. Korlátozottan forgalomképes tárgyi eszközök értékhelyesbítése | B32: 26.
A33: 5.4. Üzleti tárgyi eszközök értékhelyesbítése | B33: 27.
A34: III. Befektetett pénzügyi eszközök (29+34+39) | B34: 28. | C34: =+C35+C40+C45 -> 18100000 | D34: =+D35+D40+D45 -> 15775505 | E34: =+E35+E40+E45 -> 0
A35: 1. Tartós részesedések (30+31+32+33) | B35: 29. | C35: =+C36+C37+C38+C39 -> 18100000 | D35: =+D36+D37+D38+D39 -> 15775505 | E35: =+E36+E37+E38+E39 -> 0
A36: 1.1. Forgalomképtelen tartós részesedések | B36: 30. | C36: 18100000 | D36: 15775505
A37: 1.2. Nemzetgazdasági szempontból kiemelt jelentőségű tartós részesedések | B37: 31.
A38: 1.3. Korlátozottan forgalomképes tartós részesedések | B38: 32.
A39: 1.4. Üzleti tartós részesedések | B39: 33.
A40: 2. Tartós hitelviszonyt megtestesítő értékpapírok (35+36+37+38) | B40: 34. | C40: =+C41+C42+C43+C44 -> 0 | D40: =+D41+D42+D43+D44 -> 0 | E40: =+E41+E42+E43+E44 -> 0
A41: 2.1. Forgalomképtelen tartós hitelviszonyt megtestesítő értékpapírok | B41: 35.
A42: 2.2. Nemzetgazdasági szempontból kiemelt jelentőségű tartós hitelviszonyt megtestesítő értékpapírok | B42: 36.
A43: 2.3. Korlátozottan forgalomképes tartós hitelviszonyt megtestesítő értékpapírok | B43: 37.
A44: 2.4. Üzleti tartós hitelviszonyt megtestesítő értékpapírok | B44: 38.
A45: 3. Befektetett pénzügyi eszközök értékhelyesbítése (40+41+42+43) | B45: 39. | C45: =+C46+C47+C48+C49 -> 0 | D45: =+D46+D47+D48+D49 -> 0 | E45: =+E46+E47+E48+E49 -> 0
A46: 3.1. Forgalomképtelen befektetett pénzügyi eszközök értékhelyesbítése | B46: 40.
A47: 3.2. Nemzetgazdasági szempontból kiemelt jelentőségű befektetett pénzügyi eszközök értékhelyesbítése | B47: 41.
A48: 3.3. Korlátozottan forgalomképes befektetett pénzügyi eszközök értékhelyesbítése | B48: 42.
A49: 3.4. Üzleti befektetett pénzügyi eszközök értékhelyesbítése | B49: 43.
A50: IV. Koncesszióba, vagyonkezelésbe adott eszközök | B50: 44. | C50: 780236187 | D50: 525003991
A51: A) NEMZETI VAGYONBA TARTOZÓ BEFEKTETETT ESZKÖZÖK (01+02+28+44) | B51: 45. | C51: =+C7+C8+C34+C50 -> 1976174618 | D51: =+D7+D8+D34+D50 -> 1424251709 | E51: =+E7+E8+E34+E50 -> 0
A52: I. Készletek | B52: 46. | C52: 385824 | D52: 385824
A53: II. Értékpapírok | B53: 47. | C53: =D53 -> 51285848 | D53: 51285848
A54: B) NEMZETI VAGYONBA TARTOZÓ FORGÓESZKÖZÖK (46+47) | B54: 48. | C54: =+C52+C53 -> 51671672 | D54: =+D52+D53 -> 51671672 | E54: =+E52+E53 -> 0
A55: I. Lekötött bankbetétek | B55: 49.
A56: II. Pénztárak, csekkek, betétkönyvek | B56: 50. | C56: 377400 | D56: 377400
A57: III. Forintszámlák | B57: 51. | C57: =D57 -> 6985340 | D57: 6985340
A58: IV. Devizaszámlák | B58: 52.
A59: C) PÉNZESZKÖZÖK (49+50+51+52) | B59: 53. | C59: =+C55+C56+C57+C58 -> 7362740 | D59: =+D55+D56+D57+D58 -> 7362740 | E59: =+E55+E56+E57+E58 -> 0
A60: I. Költségvetési évben esedékes követelések | B60: 54. | C60: =D60 -> 8026419 | D60: 8026419
A61: II. Költségvetési évet követően esedékes követelések | B61: 55. | C61: =D61 -> 2575475 | D61: 2575475
A62: III. Követelés jellegű sajátos elszámolások | B62: 56. | C62: 1039766 | D62: 1039766
A63: D) KÖVETELÉSEK (54+55+56) | B63: 57. | C63: =+C60+C61+C62 -> 11641660 | D63: =+D60+D61+D62 -> 11641660 | E63: =+E60+E61+E62 -> 0
A64: I. December havi illetmények, munkabérek elszámolása | B64: 58.
A65: II. Utalványok, bérletek és más hasonló, készpénz-helyettesítő fizetési eszköznek nem minősülő eszközök elszámolásai | B65: 59. | C65: 25000 | D65: 25000
A66: III. Más fizetendő általános forgalmi adó | B66: 60. | C66: -611000 | D66: -611000
A67: IV. Más előzetesen felszámított levonható általános forgalmi adó | B67: 61. | C67: 1180418 | D67: 1180418
A68: E) EGYÉB SAJÁTOS ESZKÖZOLDALI ELSZÁMOLÁSOK (58+59) | B68: 62. | C68: =SUM(C64:C67) -> 594418 | D68: =SUM(D64:D67) -> 594418 | E68: =+E64+E65 -> 0
A69: F) AKTÍV IDŐBELI ELHATÁROLÁSOK | B69: 63. | C69: 283004 | D69: 283004
A70: ESZKÖZÖK ÖSSZESEN (45+48+53+57+60+61) | B70: 64. | C70: =+C51+C54+C59+C63+C68+C69 -> 2047728112 | D70: =+D51+D54+D59+D63+D68+D69 -> 1495805203 | E70: =+E51+E54+E59+E63+E68+E69 -> 0

Sheet 6.2. tájékoztató tábla
A1: VAGYONKIMUTATÁS a könyvviteli mérlegben értékkel szereplő forrásokról
A2: =+CONCATENATE(LEFT(ÖSSZEFÜGGÉSEK!A4,4),". év") -> 2016. év
B4: ='5. tájékoztató tábla'!E1 -> #REF!
A5: FORRÁSOK | B5: Sorszám | C5: állományi érték
A7: A | B7: B | C7: C
A8: I. Nemzeti vagyon induláskori értéke | B8: 01. | C8: 2270272000
A9: II. Nemzeti vagyon változásai | B9: 02. | C9: -129087393
A10: III. Egyéb eszközök induláskori értéke és változásai | B10: 03. | C10: 3765151
A11: IV. Felhalmozott eredmény | B11: 04. | C11: -597494838
A12: V. Eszközök értékhelyesbítésének forrása | B12: 05. | C12: 0
A13: VI. Mérleg szerinti eredmény | B13: 06. | C13: -68104293
A14: G) SAJÁT TŐKE (01+….+06) | B14: 07. | C14: =+C8+C9+C10+C11+C12+C13 -> 1479350627
A15: I. Költségvetési évben esedékes kötelezettségek | B15: 08. | C15: 350596
A16: II. Költségvetési évet követően esedékes kötelezettségek | B16: 09. | C16: 3367839
A17: III. Kötelezettség jellegű sajátos elszámolások | B17: 10. | C17: 2695504
A18: H) KÖTELEZETTSÉGEK (08+09+10) | B18: 11. | C18: =+C15+C16+C17 -> 6413939
A19: I) KINCSTÁRI SZÁMLAVEZETÉSSEL KAPCSOLATOS ELSZÁMOLÁSOK | B19: 12. | C19: 0
A20: J) PASSZÍV IDŐBELI ELHATÁROLÁSOK | B20: 13. | C20: 10040637
A21: FORRÁSOK ÖSSZESEN (07+11+12+13) | B21: 14. | C21: =+C14+C18+C19+C20 -> 1495805203

Sheet 6.3. tájékoztató tábla
A1: =+CONCATENATE("VAGYONKIMUTATÁS",CHAR(10),"az érték nélkül nyilvántartott eszközökről",CHAR(10),LEFT(ÖSSZEFÜGGÉSEK!A4,4),".") -> VAGYONKIMUTATÁS az érték nélkül nyilvántartott eszközökről 2016.
A3: Megnevezés | B3: Sorszám | C3: Mennyiség (db) | D3: Értéke (Ft)
A4: A | B4: B | C4: C | D4: D
A5: „0”-ra leírt eszközök | B5: 1. | C5: =2+7 -> 9 | D5: =4751935+3083876 -> 7835811
A6: Használatban lévő kisértékű immateriális javak | B6: 2.
A7: Használatban lévő kisértékű tárgyi eszközök | B7: 3.
A8: Készletek | B8: 4.
A9: 01 számlacsoportban nyilvántartott befektetett eszközök (6+…+9) | B9: 5. | D9: =+D10+D11+D12+D13 -> 225779721
A10: Államháztartáson belüli vagyonkezelésbe adott eszközök | B10: 6. | C10: 36 | D10: =207759430+18020291 -> 225779721
A11: Bérbe vett befektetett eszközök | B11: 7.
A12: Letétbe, bizományba, üzemeltetésre átvett befektetett eszközök | B12: 8.
A13: PPP konstrukcióban használt befektetett eszközök | B13: 9.
A14: 02 számlacsoportban nyilvántartott készletek (11+…+13) | B14: 10. | D14: =+D15+D16+D17 -> 0
A15: Bérbe vett készletek | B15: 11.
A16: Letétbe bizományba átvett készletek | B16: 12.
A17: Intervenciós készletek | B17: 13.
A18: Gyűjtemény, régészeti lelet* (15+…+17) | B18: 14. | D18: =+D19+D20+D21 -> 0
A19: Közgyűjtemény | B19: 15.
A20: Saját gyűjteményben nyilvántartott kulturális javak | B20: 16.
A21: Régészeti lelet | B21: 17.
A22: Egyéb érték nélkül nyilvántartott eszközök | B22: 18.
B23: 19.
B24: 20.
B25: 21.
B26: 22.
B27: 23.
B28: 24.
B29: 25.
B30: 26.
B31: 27.
B32: 28.
B33: 29.
B34: 30.
... B37: 33.
A38: Összesen (1+…+4)+5+10+14+(18+…+31): | D38: =+D5+D6+D7+D8+D9+D14+D18+D22+D23+D24+D25+D26+D27+D28+D29+D30+D31+D32+D33+D34+D35+D36+D37 -> 233615532
A39: * Nvt. 1. § (2) bekezdés g) és h) pontja szerinti kulturális javak és régészeti eszközök

Sheet 6.4.tájékoztató tábla
C1: 6.4. tájékoztató tábla a 8/2017. (V.29.) önkormányzati rendelethez
A3: VAGYONKIMUTATÁS
A4: A mérlegen kívüli tételekről
A5: 2016. december 31.-ig
E8: Ft-ban
A9: Ssz. | B9: Megnevezés | C9: Bruttó érték | D9: Értékcsökkenés | E9: Nettó érték
A10: 1 | B10: Épületek | C10: 4694336 | D10: 935222 | E10: =C10-D10 -> 3759114
A11: 2 | B11: Építmények | C11: 29422544 | D11: 4956181 | E11: =C11-D11 -> 24466363
A12: 3 | B12: Gépek, berendezések | C12: 36773702 | D12: 21019134 | E12: =C12-D12 -> 15754568
A13: 4 | B13: Járművek | C13: 18594201 | D13: 6169454 | E13: =C13-D13 -> 12424747
A14: 5 | B14: Számítástechnika Hejőpapi | C14: 2247459 | D14: 947677 | E14: =C14-D14 -> 1299782
A15: 6 | B15: Mirehu Nonp.Kft részére vagyonkezelésbe adott eszközök összesen | C15: =SUM(C10:C14) -> 91732242 | D15: =SUM(D10:D14) -> 34027668 | E15: =C15-D15 -> 57704574
A16: 7 | E16: =C16-D16 -> 0
A17: 8 | B17: Rekultiváció | C17: 8737114 | E17: =C17-D17 -> 8737114
A18: 9 | B18: Megfigyelő kutak | C18: 114620 | D18: 36316 | E18: =C18-D18 -> 78304
A19: 10 | B19: Biogázrendszer | C19: 235159 | D19: 25942 | E19: =C19-D19 -> 209217
A20: 11 | B20: Konzorcium tulajdonában maradó eszközök összesen | C20: =SUM(C17:C19) -> 9086893 | D20: =SUM(D18:D19) -> 62258 | E20: =C20-D20 -> 9024635
A21: 12 | E21: =C21-D21 -> 0
A22: 13 | B22: Mihő-nek vagyonkezelésbe adott földter. | C22: 7614293 | E22: =C22-D22 -> 7614293
A23: 14 | B23: Mihő-nek vagyonkezelésbe adott építmények | C23: 703019 | D23: 138907 | E23: =C23-D23 -> 564112
A24: 15 | B24: Egyéb gépek | C24: 18036 | D24: 3556 | E24: =C24-D24 -> 14480
A25: 16 | B25: Mihő-nek vagyonkez.be adott összesen | C25: =SUM(C22:C24) -> 8335348 | D25: =SUM(D23:D24) -> 142463 | E25: =C25-D25 -> 8192885
A26: 17 | B26: Mindösszesen | C26: =C15+C20+C25 -> 109154483 | D26: =D15+D20+D25 -> 34232389 | E26: =C26-D26 -> 74922094

Sheet 7. tájékoztató tábla
F1: 7. tájékoztató tábla a 8/2017. (V.29.) önkormányzati rendelethez
A2: =+CONCATENATE("A Sajószöged Községi Önkormányzat tulajdonában álló gazdálkodó szervezetek működéséből származó",CHAR(10),"kötelezettségek és részesedések alakulása a ",LEFT(ÖSSZEFÜGGÉSEK!A4,4),". évben") -> A Sajószöged Községi Önkormányzat tulajdonában álló gazdálkodó szervezetek működéséből származó kötelezettségek és részesedések alakulása a 2016. évben
A4: Sorszám | B4: Gazdálkodó szervezet megnevezése | C4: Részesedés mértéke (%-ban) | D4: Részesedés összege (Ft-ban) | E4: Működésből származó kötelezettségek összege XII. 31-én (Ft-ban)
A5: 1. | B5: Sajószöged Községi Önkormányzat Községüzemeltetési Kft. | C5: 1 | D5: 3700000 | E5: 1194730
A6: 2.
A7: 3.
A8: 4.
A9: 5.
A10: 6.
A11: 7.
A12: 8.
A13: 9.
A14: 10.
A15: 11.
A16: 12.
A17: 13.
... A21: 17.
A22: ÖSSZESEN: | D22: =IF(SUM(D5:D21)=0,"",SUM(D5:D21)) -> 3700000 | E22: =IF(SUM(E5:E21)=0,"",SUM(E5:E21)) -> 1194730

Sheet 8. tájékoztató tábla
C1: 8. sz. tájékoztató tábla a 8/2017. (V.29.) önkormányzati rendelethez
A3: PÉNZESZKÖZÖK VÁLTOZÁSÁNAK LEVEZETÉSE
A5: Sor-szám | B5: Megnevezés | C5: Összeg (Ft )
A6: 1. | B6: =+CONCATENATE("Pénzkészlet ",LEFT(ÖSSZEFÜGGÉSEK!A4,4),". január 1-jén",CHAR(10),"ebből:") -> Pénzkészlet 2016. január 1-jén ebből: | C6: =C7+C8 -> 3563222
A7: 2. | B7:  Bankszámlák egyenlege | C7: 667071
A8: 3. | B8:  Pénztárak és betétkönyvek egyenlege | C8: 2896151
A9: 4. | B9: Bevételek ( + ) | C9: 401478090
A10: 5. | B10: Kiadások ( - ) | C10: 391876049
A11: 6. | B11: Egyéb korrekciós tételek (+,-) | C11: -5802523
A12: 7. | B12: =+CONCATENATE("Záró pénzkészlet ",LEFT(ÖSSZEFÜGGÉSEK!A4,4),". december 31-én",CHAR(10),"ebből:") -> Záró pénzkészlet 2016. december 31-én ebből: | C12: =C6+C9-C10+C11 -> 7362740
A13: 8. | B13:  Bankszámlák egyenlege | C13: 6985340
A14: 9. | B14:  Pénztárak és betétkönyvek egyenlege | C14: 377400

Sheet Munka1
