Workbook

Sheet ÖSSZEFÜGGÉSEK
A2: Költségvetési rendelet űrlapjainak összefüggései:
A5: 2016. évi előirányzat BEVÉTELEK
A7: 1.1. sz. melléklet Bevételek táblázat C. oszlop 9 sora = | B7: 2.1. számú melléklet C. oszlop 13. sor + 2.2. számú melléklet C. oszlop 12. sor
A8: 1.1. sz. melléklet Bevételek táblázat C. oszlop 17 sora = | B8: 2.1. számú melléklet C. oszlop 24. sor + 2.2. számú melléklet C. oszlop 25. sor
A9: 1.1. sz. melléklet Bevételek táblázat C. oszlop 18 sora = | B9: 2.1. számú melléklet C. oszlop 25. sor + 2.2. számú melléklet C. oszlop 26. sor
A12: =+CONCATENATE(LEFT(A5,4),". évi előirányzat KIADÁSOK") -> 2016. évi előirányzat KIADÁSOK
A14: 1.1. sz. melléklet Kiadások táblázat C. oszlop 3 sora = | B14: 2.1. számú melléklet E. oszlop 13. sor + 2.2. számú melléklet E. oszlop 12. sor
A15: 1.1. sz. melléklet Kiadások táblázat C. oszlop 10 sora = | B15: 2.1. számú melléklet E. oszlop 24. sor + 2.2. számú melléklet E. oszlop 25. sor
A16: 1.1. sz. melléklet Kiadások táblázat C. oszlop 11 sora = | B16: 2.1. számú melléklet E. oszlop 25. sor + 2.2. számú melléklet E. oszlop 26. sor

Sheet 1.1.sz.mell.
A1: B E V É T E L E K
A2: 1. sz. táblázat
A3: Sor- szám | B3: Bevételi jogcím | C3: =+CONCATENATE(LEFT([1]ÖSSZEFÜGGÉSEK!A6,4),". évi") -> 2016. évi
C4: Eredeti előirányzat | D4: 1. sz. módosítás (±) | E4: 2016. december 31. módosítás utáni
A5: A | B5: B | C5: C | D5: D | E5: E=C±D
A6: 1. | B6: Önkormányzat működési támogatásai (1.1.+…+.1.6.) | C6: =+C7+C8+C9+C10+C11+C12 -> 76532385 | D6: =+D7+D8+D9+D10+D11+D12 -> -1013020 | E6: =+E7+E8+E9+E10+E11+E12 -> 75519365
A7: 1.1. | B7: Helyi önkormányzatok működésének általános támogatása | C7: 20129106 | D7: =E7-C7 -> 0 | E7: 20129106
A8: 1.2. | B8: Önkormányzatok egyes köznevelési feladatainak támogatása | C8: 24828566 | D8: =E8-C8 -> 1617234 | E8: 26445800
A9: 1.3. | B9: Önkormányzatok szociális és gyermekjóléti feladatainak támogatása | C9: 29065573 | D9: =E9-C9 -> -4564857 | E9: 24500716
A10: 1.4. | B10: Önkormányzatok kulturális feladatainak támogatása | C10: 2509140 | D10: =E10-C10 -> 135850 | E10: 2644990
A11: 1.5. | B11: Működési célú kvi támogatások és kiegészítő támogatások | D11: =E11-C11 -> 1794129 | E11: 1794129
A12: 1.6. | B12: Elszámolásból származó bevételek | D12: =E12-C12 -> 4624 | E12: 4624
A13: 2. | B13: Működési célú támogatások államháztartáson belülről (2.1.+…+.2.5.) | C13: =+C14+C15+C16+C17+C18 -> 16444100 | D13: =+D14+D15+D16+D17+D18 -> 6278338 | E13: =+E14+E15+E16+E17+E18 -> 22722438
A14: 2.1. | B14: Elvonások és befizetések bevételei | E14: =C14+D14 -> 0
A15: 2.2. | B15: Működési célú garancia- és kezességvállalásból megtérülések | E15: =C15+D15 -> 0
A16: 2.3. | B16: Működési célú visszatérítendő támogatások, kölcsönök visszatérülése | E16: =C16+D16 -> 0
A17: 2.4. | B17: Működési célú visszatérítendő támogatások, kölcsönök igénybevétele | E17: =C17+D17 -> 0
A18: 2.5. | B18: Egyéb működési célú támogatások bevételei | C18: 16444100 | D18: =E18-C18 -> 6278338 | E18: 22722438
A19: 2.6. | B19: 2.5.-ből EU-s támogatás | E19: =C19+D19 -> 0
A20: 3. | B20: Felhalmozási célú támogatások államháztartáson belülről (3.1.+…+3.5.) | C20: =+C21+C22+C23+C24+C25 -> 0 | D20: =+D21+D22+D23+D24+D25 -> 6000000 | E20: =+E21+E22+E23+E24+E25 -> 6000000
A21: 3.1. | B21: Felhalmozási célú önkormányzati támogatások | D21: 6000000 | E21: =C21+D21 -> 6000000
A22: 3.2. | B22: Felhalmozási célú garancia- és kezességvállalásból megtérülések | E22: =C22+D22 -> 0
A23: 3.3. | B23: Felhalmozási célú visszatérítendő támogatások, kölcsönök visszatérülése | E23: =C23+D23 -> 0
A24: 3.4. | B24: Felhalmozási célú visszatérítendő támogatások, kölcsönök igénybevétele | E24: =C24+D24 -> 0
A25: 3.5. | B25: Egyéb felhalmozási célú támogatások bevételei | E25: =C25+D25 -> 0
A26: 3.6. | B26: 3.5.-ből EU-s támogatás | E26: =C26+D26 -> 0
A27: 4. | B27: Közhatalmi bevételek (4.1.+...+4.7.) | C27: =+C28+C29+C30+C31+C32+C33+C34 -> 124730000 | D27: =+D28+D29+D30+D31+D32+D33+D34 -> 15437300 | E27: =+E28+E29+E30+E31+E32+E33+E34 -> 140167300
A28: 4.1. | B28: Építményadó | C28: 2500000 | D28: =E28-C28 -> 1040148 | E28: 3540148
A29: 4.2. | B29: Telekadó | C29: 30000000 | D29: =E29-C29 -> 11695798 | E29: 41695798
A30: 4.3. | B30: Iparűzési adó | C30: 85000000 | D30: =E30-C30 -> 223908 | E30: 85223908
A31: 4.4. | B31: Talajterhelési díj | D31: =E31-C31 -> 0
A32: 4.5. | B32: Gépjárműadó | C32: 7000000 | D32: =E32-C32 -> 2167371 | E32: 9167371
A33: 4.6. | B33: Egyéb áruhasználati és szolgáltatási adók | D33: =E33-C33 -> 0
A34: 4.7. | B34: Egyéb közhatalmi bevételek | C34: 230000 | D34: =E34-C34 -> 310075 | E34: 540075
A35: 5. | B35: Működési bevételek (5.1.+…+ 5.11.) | C35: =SUM(C36:C46) -> 23216800 | D35: =SUM(D36:D46) -> 9473777 | E35: =SUM(E36:E46) -> 32690577
A36: 5.1. | B36: Készletértékesítés ellenértéke | D36: =E36-C36 -> 0
A37: 5.2. | B37: Szolgáltatások ellenértéke | C37: 1670000 | D37: =E37-C37 -> 4176556 | E37: 5846556
A38: 5.3. | B38: Közvetített szolgáltatások értéke | C38: 800000 | D38: =E38-C38 -> -22190 | E38: 777810
A39: 5.4. | B39: Tulajdonosi bevételek | D39: =E39-C39 -> 10234855 | E39: 10234855
A40: 5.5. | B40: Ellátási díjak | C40: 15896000 | D40: =E40-C40 -> -6101926 | E40: 9794074
...

Sheet 1.2.sz.mell.
A1: B E V É T E L E K
A2: 1. sz. táblázat
A3: Sor- szám | B3: Bevételi jogcím | C3: =+CONCATENATE(LEFT([1]ÖSSZEFÜGGÉSEK!A6,4),". évi") -> 2016. évi
C4: Eredeti előirányzat | D4: 1. sz. módosítás (±) | E4: 2016. december 31. módosítás utáni
A5: A | B5: B | C5: C | D5: D | E5: E=C±D
A6: 1. | B6: Önkormányzat működési támogatásai (1.1.+…+.1.6.) | C6: =+C7+C8+C9+C10+C11+C12 -> 76532385 | D6: =+D7+D8+D9+D10+D11+D12 -> -1013020 | E6: =+E7+E8+E9+E10+E11+E12 -> 75519365
A7: 1.1. | B7: Helyi önkormányzatok működésének általános támogatása | C7: 20129106 | D7: =E7-C7 -> 0 | E7: 20129106
A8: 1.2. | B8: Önkormányzatok egyes köznevelési feladatainak támogatása | C8: 24828566 | D8: =E8-C8 -> 1617234 | E8: 26445800
A9: 1.3. | B9: Önkormányzatok szociális és gyermekjóléti feladatainak támogatása | C9: 29065573 | D9: =E9-C9 -> -4564857 | E9: 24500716
A10: 1.4. | B10: Önkormányzatok kulturális feladatainak támogatása | C10: 2509140 | D10: =E10-C10 -> 135850 | E10: 2644990
A11: 1.5. | B11: Működési célú kvi támogatások és kiegészítő támogatások | D11: =E11-C11 -> 1794129 | E11: 1794129
A12: 1.6. | B12: Elszámolásból származó bevételek | D12: =E12-C12 -> 4624 | E12: 4624
A13: 2. | B13: Működési célú támogatások államháztartáson belülről (2.1.+…+.2.5.) | C13: =+C14+C15+C16+C17+C18 -> 16444100 | D13: =+D14+D15+D16+D17+D18 -> 6278338 | E13: =+E14+E15+E16+E17+E18 -> 22722438
A14: 2.1. | B14: Elvonások és befizetések bevételei | E14: =C14+D14 -> 0
A15: 2.2. | B15: Működési célú garancia- és kezességvállalásból megtérülések | E15: =C15+D15 -> 0
A16: 2.3. | B16: Működési célú visszatérítendő támogatások, kölcsönök visszatérülése | E16: =C16+D16 -> 0
A17: 2.4. | B17: Működési célú visszatérítendő támogatások, kölcsönök igénybevétele | E17: =C17+D17 -> 0
A18: 2.5. | B18: Egyéb működési célú támogatások bevételei | C18: 16444100 | D18: =E18-C18 -> 6278338 | E18: 22722438
A19: 2.6. | B19: 2.5.-ből EU-s támogatás | E19: =C19+D19 -> 0
A20: 3. | B20: Felhalmozási célú támogatások államháztartáson belülről (3.1.+…+3.5.) | C20: =+C21+C22+C23+C24+C25 -> 0 | D20: =+D21+D22+D23+D24+D25 -> 6000000 | E20: =+E21+E22+E23+E24+E25 -> 6000000
A21: 3.1. | B21: Felhalmozási célú önkormányzati támogatások | D21: 6000000 | E21: =C21+D21 -> 6000000
A22: 3.2. | B22: Felhalmozási célú garancia- és kezességvállalásból megtérülések | E22: =C22+D22 -> 0
A23: 3.3. | B23: Felhalmozási célú visszatérítendő támogatások, kölcsönök visszatérülése | E23: =C23+D23 -> 0
A24: 3.4. | B24: Felhalmozási célú visszatérítendő támogatások, kölcsönök igénybevétele | E24: =C24+D24 -> 0
A25: 3.5. | B25: Egyéb felhalmozási célú támogatások bevételei | E25: =C25+D25 -> 0
A26: 3.6. | B26: 3.5.-ből EU-s támogatás | E26: =C26+D26 -> 0
A27: 4. | B27: Közhatalmi bevételek (4.1.+...+4.7.) | C27: =+C28+C29+C30+C31+C32+C33+C34 -> 124730000 | D27: =+D28+D29+D30+D31+D32+D33+D34 -> 15437300 | E27: =+E28+E29+E30+E31+E32+E33+E34 -> 140167300
A28: 4.1. | B28: Építményadó | C28: 2500000 | D28: =E28-C28 -> 1040148 | E28: 3540148
A29: 4.2. | B29: Idegenforgalmi adó | C29: 30000000 | D29: =E29-C29 -> 11695798 | E29: 41695798
A30: 4.3. | B30: Iparűzési adó | C30: 85000000 | D30: =E30-C30 -> 223908 | E30: 85223908
A31: 4.4. | B31: Talajterhelési díj | D31: =E31-C31 -> 0
A32: 4.5. | B32: Gépjárműadó | C32: 7000000 | D32: =E32-C32 -> 2167371 | E32: 9167371
A33: 4.6. | B33: Egyéb áruhasználati és szolgáltatási adók | D33: =E33-C33 -> 0
A34: 4.7. | B34: Egyéb közhatalmi bevételek | C34: 230000 | D34: =E34-C34 -> 310075 | E34: 540075
A35: 5. | B35: Működési bevételek (5.1.+…+ 5.11.) | C35: =SUM(C36:C46) -> 23216800 | D35: =SUM(D36:D46) -> 9473777 | E35: =SUM(E36:E46) -> 32690577
A36: 5.1. | B36: Készletértékesítés ellenértéke | D36: =E36-C36 -> 0
A37: 5.2. | B37: Szolgáltatások ellenértéke | C37: 1670000 | D37: =E37-C37 -> 4176556 | E37: 5846556
A38: 5.3. | B38: Közvetített szolgáltatások értéke | C38: 800000 | D38: =E38-C38 -> -22190 | E38: 777810
A39: 5.4. | B39: Tulajdonosi bevételek | D39: =E39-C39 -> 10234855 | E39: 10234855
A40: 5.5. | B40: Ellátási díjak | C40: 15896000 | D40: =E40-C40 -> -6101926 | E40: 9794074
...

Sheet 1.3.sz.mell.
A1: B E V É T E L E K
A2: 1. sz. táblázat | C2: Ezer forintban
A3: Sor- szám | B3: Bevételi jogcím | C3: =+CONCATENATE(LEFT(ÖSSZEFÜGGÉSEK!A5,4),". évi előirányzat") -> 2016. évi előirányzat
B4: A | C4: B
A5: 1. | B5: Önkormányzat működési támogatásai (1.1.+…+.1.6.) | C5: =+C6+C7+C8+C9+C10+C11 -> 0
A6: 1.1. | B6: Helyi önkormányzatok működésének általános támogatása
A7: 1.2. | B7: Önkormányzatok egyes köznevelési feladatainak támogatása
A8: 1.3. | B8: Önkormányzatok szociális és gyermekjóléti, étkeztetési feladatainak támogatása
A9: 1.4. | B9: Önkormányzatok kulturális feladatainak támogatása
A10: 1.5. | B10: Működési célú kvi támogatások és kiegészítő támogatások
A11: 1.6. | B11: Elszámolásból származó bevételek
A12: 2. | B12: Működési célú támogatások államháztartáson belülről (2.1.+…+.2.5.) | C12: =+C13+C14+C15+C16+C17 -> 0
A13: 2.1. | B13: Elvonások és befizetések bevételei
A14: 2.2. | B14: Működési célú garancia- és kezességvállalásból megtérülések
A15: 2.3. | B15: Működési célú visszatérítendő támogatások, kölcsönök visszatérülése
A16: 2.4. | B16: Működési célú visszatérítendő támogatások, kölcsönök igénybevétele
A17: 2.5. | B17: Egyéb működési célú támogatások bevételei
A18: 2.6. | B18: 2.5.-ből EU-s támogatás
A19: 3. | B19: Felhalmozási célú támogatások államháztartáson belülről (3.1.+…+3.5.) | C19: =+C20+C21+C22+C23+C24 -> 0
A20: 3.1. | B20: Felhalmozási célú önkormányzati támogatások
A21: 3.2. | B21: Felhalmozási célú garancia- és kezességvállalásból megtérülések
A22: 3.3. | B22: Felhalmozási célú visszatérítendő támogatások, kölcsönök visszatérülése
A23: 3.4. | B23: Felhalmozási célú visszatérítendő támogatások, kölcsönök igénybevétele
A24: 3.5. | B24: Egyéb felhalmozási célú támogatások bevételei
A25: 3.6. | B25: 3.5.-ből EU-s támogatás
A26: 4. | B26: Közhatalmi bevételek (4.1.+…+4.7.) | C26: =SUM(C27:C33) -> 0
A27: 4.1. | B27: Építményadó
A28: 4.2. | B28: Idegenforgalmi adó
A29: 4.3. | B29: Iparűzési adó
A30: 4.4. | B30: Talajterhelési díj
A31: 4.5. | B31: Gépjárműadó
A32: 4.6. | B32: Egyéb áruhasználati és szolgáltatási adók
A33: 4.7. | B33: Egyéb közhatalmi bevételek
A34: 5. | B34: Működési bevételek (5.1.+…+ 5.11.) | C34: =SUM(C35:C45) -> 0
A35: 5.1. | B35: Készletértékesítés ellenértéke
A36: 5.2. | B36: Szolgáltatások ellenértéke
A37: 5.3. | B37: Közvetített szolgáltatások értéke
A38: 5.4. | B38: Tulajdonosi bevételek
A39: 5.5. | B39: Ellátási díjak
A40: 5.6. | B40: Kiszámlázott általános forgalmi adó
...

Sheet 1.4.sz.mell.
A1: B E V É T E L E K
A2: 1. sz. táblázat | C2: Ezer forintban
A3: Sor- szám | B3: Bevételi jogcím | C3: =+CONCATENATE(LEFT(ÖSSZEFÜGGÉSEK!A5,4),". évi előirányzat") -> 2016. évi előirányzat
B4: A | C4: B
A5: 1. | B5: Önkormányzat működési támogatásai (1.1.+…+.1.6.) | C5: =+C6+C7+C8+C9+C10+C11 -> 0
A6: 1.1. | B6: Helyi önkormányzatok működésének általános támogatása
A7: 1.2. | B7: Önkormányzatok egyes köznevelési feladatainak támogatása
A8: 1.3. | B8: Önkormányzatok szociális és gyermekjóléti, étkeztetési feladatainak támogatása
A9: 1.4. | B9: Önkormányzatok kulturális feladatainak támogatása
A10: 1.5. | B10: Működési célú kvi támogatások és kiegészítő támogatások
A11: 1.6. | B11: Elszámolásból származó bevételek
A12: 2. | B12: Működési célú támogatások államháztartáson belülről (2.1.+…+.2.5.) | C12: =+C13+C14+C15+C16+C17 -> 0
A13: 2.1. | B13: Elvonások és befizetések bevételei
A14: 2.2. | B14: Működési célú garancia- és kezességvállalásból megtérülések
A15: 2.3. | B15: Működési célú visszatérítendő támogatások, kölcsönök visszatérülése
A16: 2.4. | B16: Működési célú visszatérítendő támogatások, kölcsönök igénybevétele
A17: 2.5. | B17: Egyéb működési célú támogatások bevételei
A18: 2.6. | B18: 2.5.-ből EU-s támogatás
A19: 3. | B19: Felhalmozási célú támogatások államháztartáson belülről (3.1.+…+3.5.) | C19: =+C20+C21+C22+C23+C24 -> 0
A20: 3.1. | B20: Felhalmozási célú önkormányzati támogatások
A21: 3.2. | B21: Felhalmozási célú garancia- és kezességvállalásból megtérülések
A22: 3.3. | B22: Felhalmozási célú visszatérítendő támogatások, kölcsönök visszatérülése
A23: 3.4. | B23: Felhalmozási célú visszatérítendő támogatások, kölcsönök igénybevétele
A24: 3.5. | B24: Egyéb felhalmozási célú támogatások bevételei
A25: 3.6. | B25: 3.5.-ből EU-s támogatás
A26: 4. | B26: Közhatalmi bevételek (4.1.+...+4.7.) | C26: =SUM(C27:C33) -> 0
A27: 4.1. | B27: Építményadó
A28: 4.2. | B28: Idegenforgalmi adó
A29: 4.3. | B29: Iparűzési adó
A30: 4.4. | B30: Talajterhelési díj
A31: 4.5. | B31: Gépjárműadó
A32: 4.6. | B32: Egyéb áruhasználati és szolgáltatási adók
A33: 4.7. | B33: Egyéb közhatalmi bevételek
A34: 5. | B34: Működési bevételek (5.1.+…+ 5.11.) | C34: =SUM(C35:C45) -> 0
A35: 5.1. | B35: Készletértékesítés ellenértéke
A36: 5.2. | B36: Szolgáltatások ellenértéke
A37: 5.3. | B37: Közvetített szolgáltatások értéke
A38: 5.4. | B38: Tulajdonosi bevételek
A39: 5.5. | B39: Ellátási díjak
A40: 5.6. | B40: Kiszámlázott általános forgalmi adó
...

Sheet 2.1.sz.mell  
B1: I. Működési célú bevételek és kiadások mérlege (Önkormányzati szinten) | J1: 4 2.1. melléklet a 2/2016. (II.26.) önkormányzati rendelethez
A3: Sor- szám | B3: Bevételek | F3: Kiadások
B4: Megnevezés | C4: =+CONCATENATE('1.1.sz.mell.'!C3," eredeti előirányzat") -> 2016. évi eredeti előirányzat | D4: =+CONCATENATE('1.1.sz.mell.'!C3," 1. sz. módosítás (±)") -> 2016. évi 1. sz. módosítás (±) | E4: 2016. december 31. Módosítás utáni | F4: Megnevezés | G4: =+C4 -> 2016. évi eredeti előirányzat | H4: =+D4 -> 2016. évi 1. sz. módosítás (±) | I4: =+E4 -> 2016. december 31. Módosítás utáni
A5: A | B5: B | C5: C | D5: D | E5: E=C±D | F5: F | G5: G | H5: H | I5: I=G±H
A6: 1. | B6: Önkormányzatok működési támogatásai | C6: 76532385 | D6: -1013020 | E6: =C6+D6 -> 75519365 | F6: Személyi juttatások | G6: 100875716 | H6: 6314645 | I6: =G6+H6 -> 107190361
A7: 2. | B7: Működési célú támogatások államháztartáson belülről | C7: 16444100 | D7: 6278338 | E7: =C7+D7 -> 22722438 | F7: Munkaadókat terhelő járulékok és szociális hozzájárulási adó | G7: 24775344 | H7: 2213565 | I7: =G7+H7 -> 26988909
A8: 3. | B8: 2.-ból EU-s támogatás | E8: =C8+D8 -> 0 | F8: Dologi kiadások | G8: 102860972 | H8: -597210 | I8: =G8+H8 -> 102263762
A9: 4. | B9: Közhatalmi bevételek | C9: 124730000 | D9: 15437300 | E9: =C9+D9 -> 140167300 | F9: Ellátottak pénzbeli juttatásai | G9: 26148500 | H9: -15945497 | I9: =G9+H9 -> 10203003
A10: 5. | B10: Működési bevételek | C10: 23216800 | D10: 9473777 | E10: =C10+D10 -> 32690577 | F10: Egyéb működési célú kiadások | G10: 34962000 | H10: 30477 | I10: =G10+H10 -> 34992477
A11: 6. | B11: Működési célú átvett pénzeszközök | D11: 520000 | E11: =C11+D11 -> 520000 | F11: Tartalékok | G11: 5000000 | H11: -5000000 | I11: =G11+H11 -> 0
A12: 7. | B12: 6.-ból EU-s támogatás (közvetlen) | E12: =C12+D12 -> 0 | I12: =G12+H12 -> 0
A13: 8. | E13: =C13+D13 -> 0 | I13: =G13+H13 -> 0
A14: 9. | E14: =C14+D14 -> 0 | I14: =G14+H14 -> 0
A15: 10. | E15: =C15+D15 -> 0 | I15: =G15+H15 -> 0
A16: 11. | E16: =C16+D16 -> 0 | I16: =G16+H16 -> 0
A17: 12. | I17: =G17+H17 -> 0
A18: 13. | B18: Költségvetési bevételek összesen (1.+2.+4.+5.+6.+8.+…+12.) | C18: =SUM(C6:C17) -> 240923285 | D18: =SUM(D6:D17) -> 30696395 | E18: =SUM(E6:E17) -> 271619680 | F18: Költségvetési kiadások összesen (1.+...+12.) | G18: =SUM(G6:G17) -> 294622532 | H18: =SUM(H6:H17) -> -12984020 | I18: =SUM(I6:I17) -> 281638512
A19: 14. | B19: Hiány belső finanszírozásának bevételei (15.+…+18. ) | C19: =+C20+C21+C22+C23 -> 9923000 | D19: =+D20+D21+D22+D23 -> 5171 | E19: =+E20+E21+E22+E23 -> 9928171 | F19: Értékpapír vásárlása, visszavásárlása | I19: =G19+H19 -> 0
A20: 15. | B20: Költségvetési maradvány igénybevétele | C20: 9923000 | D20: 5171 | E20: =C20+D20 -> 9928171 | F20: Likviditási célú hitelek törlesztése | I20: =G20+H20 -> 0
A21: 16. | B21: Vállalkozási maradvány igénybevétele | E21: =C21+D21 -> 0 | F21: Rövid lejáratú hitelek törlesztése | I21: =G21+H21 -> 0
A22: 17. | B22: Betét visszavonásából származó bevétel | E22: =C22+D22 -> 0 | F22: Hosszú lejáratú hitelek törlesztése | I22: =G22+H22 -> 0
A23: 18. | B23: Egyéb belső finanszírozási bevételek | E23: =C23+D23 -> 0 | F23: Kölcsön törlesztése | I23: =G23+H23 -> 0
A24: 19. | B24: Hiány külső finanszírozásának bevételei (20.+…+21.) | C24: =+C25+C26 -> 49676247 | D24: =+D25+D26 -> 66269682 | E24: =+E25+E26 -> 115945929 | F24: Forgatási célú belföldi, külföldi értékpapírok vásárlása | H24: 85015109 | I24: =G24+H24 -> 85015109
A25: 20. | B25: Likviditási célú hitelek, kölcsönök felvétele | E25: =C25+D25 -> 0 | F25: Pénzeszközök lekötött betétként elhelyezése | I25: =G25+H25 -> 0
A26: 21. | B26: Értékpapírok bevételei | C26: 49676247 | D26: 66269682 | E26: =C26+D26 -> 115945929 | F26: Adóssághoz nem kapcsolódó származékos ügyletek | I26: =G26+H26 -> 0
A27: 22. | B27: Váltóbevételek | E27: =C27+D27 -> 0 | F27: Váltókiadások | I27: =G27+H27 -> 0
A28: 23. | B28: Adóssághoz nem kapcsolódó származékos ügyletek bevételei | E28: =C28+D28 -> 0 | F28: Államháztartáson belüli megelőlegezések visszafizetése | H28: 2711561 | I28: =G28+H28 -> 2711561
A29: 24. | B29: Működési célú finanszírozási bevételek összesen (14.+19.+22.+23.) | C29: =+C19+C24+C27+C28 -> 59599247 | D29: =+D19+D24+D27+D28 -> 66274853 | E29: =+E19+E24+E27+E28 -> 125874100 | F29: Működési célú finanszírozási kiadások összesen (14.+...+23.) | G29: =SUM(G19:G28) -> 0 | H29: =SUM(H19:H28) -> 87726670 | I29: =SUM(I19:I28) -> 87726670
A30: 25. | B30: BEVÉTEL ÖSSZESEN (13.+24.) | C30: =+C18+C29 -> 300522532 | D30: =+D18+D29 -> 96971248 | E30: =+E18+E29 -> 397493780 | F30: KIADÁSOK ÖSSZESEN (13.+24.) | G30: =+G18+G29 -> 294622532 | H30: =+H18+H29 -> 74742650 | I30: =+I18+I29 -> 369365182
A31: 26. | B31: Költségvetési hiány: | C31: =IF(C18-G18<0,G18-C18,"-") -> 53699247 | D31: =IF(D18-H18<0,H18-D18,"-") -> - | E31: =IF(E18-I18<0,I18-E18,"-") -> 10018832 | F31: Költségvetési többlet: | G31: =IF(C18-G18>0,C18-G18,"-") -> - | H31: =IF(D18-H18>0,D18-H18,"-") -> 43680415 | I31: =IF(E18-I18>0,E18-I18,"-") -> -
A32: 27. | B32: Tárgyévi hiány: | C32: =IF(C18+C29-G30<0,G30-(C18+C29),"-") -> - | D32: =IF(D18+D29-H30<0,H30-(D18+D29),"-") -> - | E32: =IF(E18+E29-I30<0,I30-(E18+E29),"-") -> - | F32: Tárgyévi többlet: | G32: =IF(C18+C29-G30>0,C18+C29-G30,"-") -> 5900000 | H32: =IF(D18+D29-H30>0,D18+D29-H30,"-") -> 22228598 | I32: =IF(E18+E29-I30>0,E18+E29-I30,"-") -> 28128598
A34: 4 Módosította a 7/2017.(V.29.) önkormányzati rendelet 2.§ (3) bekezdése. Hatályos 2017.05.30-tól.

Sheet 2.2.sz.mell  
B1: II. Felhalmozási célú bevételek és kiadások mérlege (Önkormányzati szinten) | J1: 5 2.2. melléklet a 2/2016. (II.26.) önkormányzati rendelethez
A3: Sor- szám | B3: Bevételek | F3: Kiadások
B4: Megnevezés | C4: =+CONCATENATE('1.1.sz.mell.'!C3," eredeti előirányzat") -> 2016. évi eredeti előirányzat | D4: =+CONCATENATE('1.1.sz.mell.'!C3," 1. sz. módosítás (±)") -> 2016. évi 1. sz. módosítás (±) | E4: 2016. december 31. Módosítás utáni | F4: Megnevezés | G4: =+C4 -> 2016. évi eredeti előirányzat | H4: =+D4 -> 2016. évi 1. sz. módosítás (±) | I4: =+E4 -> 2016. december 31. Módosítás utáni
A5: A | B5: B | C5: C | D5: D | E5: E=C±D | F5: F | G5: G | H5: H | I5: I=G±H
A6: 1. | B6: Felhalmozási célú támogatások államháztartáson belülről | E6: =C6+D6 -> 0 | F6: Beruházások | G6: 9554400 | H6: 4721698 | I6: =G6+H6 -> 14276098
A7: 2. | B7: 1.-ből EU-s támogatás | E7: =C7+D7 -> 0 | F7: 1.-ből EU-s forrásból megvalósuló beruházás | I7: =G7+H7 -> 0
A8: 3. | B8: Felhalmozási bevételek | C8: 15000000 | D8: -12850000 | E8: =C8+D8 -> 2150000 | F8: Felújítások | G8: 5445600 | H8: 8240330 | I8: =G8+H8 -> 13685930
A9: 4. | B9: Felhalmozási célú átvett pénzeszközök átvétele | D9: 6000000 | E9: =C9+D9 -> 6000000 | F9: 3.-ból EU-s forrásból megvalósuló felújítás | I9: =G9+H9 -> 0
A10: 5. | B10: 4.-ből EU-s támogatás (közvetlen) | D10: 6000000 | E10: =C10+D10 -> 6000000 | F10: Egyéb felhalmozási kiadások | G10: 5900000 | H10: 3000000 | I10: =G10+H10 -> 8900000
A11: 6. | B11: Egyéb felhalmozási célú bevételek | D11: 583430 | E11: =C11+D11 -> 583430 | I11: =G11+H11 -> 0
A12: 7. | E12: =C12+D12 -> 0 | I12: =G12+H12 -> 0
A13: 8. | E13: =C13+D13 -> 0 | I13: =G13+H13 -> 0
A14: 9. | E14: =C14+D14 -> 0 | I14: =G14+H14 -> 0
A15: 10. | E15: =C15+D15 -> 0 | I15: =G15+H15 -> 0
A16: 11. | E16: =C16+D16 -> 0 | F16: Tartalékok | I16: =G16+H16 -> 0
A17: 12. | B17: Költségvetési bevételek összesen: (1.+3.+4.+6.+…+11.) | C17: =+C6+C8+C9+C11+C12+C13+C14+C15+C16 -> 15000000 | D17: =+D6+D8+D9+D11+D12+D13+D14+D15+D16 -> -6266570 | E17: =+E6+E8+E9+E11+E12+E13+E14+E15+E16 -> 8733430 | F17: Költségvetési kiadások összesen: (1.+3.+5.+...+11.) | G17: =+G6+G8+G10+G11+G12+G13+G14+G15+G16 -> 20900000 | H17: =+H6+H8+H10+H11+H12+H13+H14+H15+H16 -> 15962028 | I17: =+I6+I8+I10+I11+I12+I13+I14+I15+I16 -> 36862028
A18: 13. | B18: Hiány belső finanszírozás bevételei ( 14+…+18) | C18: =+C19+C20+C21+C22+C23 -> 0 | D18: =+D19+D20+D21+D22+D23 -> 0 | E18: =+E19+E20+E21+E22+E23 -> 0 | F18: Értékpapír vásárlása, visszavásárlása | I18: =G18+H18 -> 0
A19: 14. | B19: Költségvetési maradvány igénybevétele | E19: =C19+D19 -> 0 | F19: Hitelek törlesztése | I19: =G19+H19 -> 0
A20: 15. | B20: Vállalkozási maradvány igénybevétele | E20: =C20+D20 -> 0 | F20: Rövid lejáratú hitelek törlesztése | I20: =G20+H20 -> 0
A21: 16. | B21: Betét visszavonásából származó bevétel | E21: =C21+D21 -> 0 | F21: Hosszú lejáratú hitelek törlesztése | I21: =G21+H21 -> 0
A22: 17. | B22: Értékpapír értékesítése | E22: =C22+D22 -> 0 | F22: Kölcsön törlesztése | I22: =G22+H22 -> 0
A23: 18. | B23: Egyéb belső finanszírozási bevételek | E23: =C23+D23 -> 0 | F23: Befektetési célú belföldi, külföldi értékpapírok vásárlása | I23: =G23+H23 -> 0
A24: 19. | B24: Hiány külső finanszírozásának bevételei (20+…+24 ) | C24: =+C25+C26+C27+C28+C29 -> 0 | D24: =+D25+D26+D27+D28+D29 -> 0 | E24: =+E25+E26+E27+E28+E29 -> 0 | F24: Betét elhelyezése | I24: =G24+H24 -> 0
A25: 20. | B25: Hosszú lejáratú hitelek, kölcsönök felvétele | E25: =C25+D25 -> 0 | F25: Pénzügyi lízing kiadásai | I25: =G25+H25 -> 0
A26: 21. | B26: Likviditási célú hitelek, kölcsönök felvétele | E26: =C26+D26 -> 0 | I26: =G26+H26 -> 0
A27: 22. | B27: Rövid lejáratú hitelek, kölcsönök felvétele | E27: =C27+D27 -> 0 | I27: =G27+H27 -> 0
A28: 23. | B28: Értékpapírok kibocsátása | E28: =C28+D28 -> 0 | I28: =G28+H28 -> 0
A29: 24. | B29: Egyéb külső finanszírozási bevételek | E29: =C29+D29 -> 0 | I29: =G29+H29 -> 0
A30: 25. | B30: Felhalmozási célú finanszírozási bevételek összesen (13.+19.) | C30: =+C18+C24 -> 0 | D30: =+D18+D24 -> 0 | E30: =+E18+E24 -> 0 | F30: Felhalmozási célú finanszírozási kiadások összesen (13.+...+24.) | G30: =SUM(G18:G29) -> 0 | H30: =SUM(H18:H29) -> 0 | I30: =SUM(I18:I29) -> 0
A31: 26. | B31: BEVÉTEL ÖSSZESEN (12+25) | C31: =+C17+C30 -> 15000000 | D31: =+D17+D30 -> -6266570 | E31: =+E17+E30 -> 8733430 | F31: KIADÁSOK ÖSSZESEN (12+25) | G31: =+G17+G30 -> 20900000 | H31: =+H17+H30 -> 15962028 | I31: =+I17+I30 -> 36862028
A32: 27. | B32: Költségvetési hiány: | C32: =IF(C17-G17<0,G17-C17,"-") -> 5900000 | D32: =IF(D17-H17<0,H17-D17,"-") -> 22228598 | E32: =IF(E17-I17<0,I17-E17,"-") -> 28128598 | F32: Költségvetési többlet: | G32: =IF(C17-G17>0,C17-G17,"-") -> - | H32: =IF(D17-H17>0,D17-H17,"-") -> - | I32: =IF(E17-I17>0,E17-I17,"-") -> -
A33: 28. | B33: Tárgyévi hiány: | C33: =IF(C17+C30-G26<0,G26-(C17+C30),"-") -> - | D33: =IF(D17+D30-H26<0,H26-(D17+D30),"-") -> 6266570 | E33: =IF(E17+E30-I26<0,I26-(E17+E30),"-") -> - | F33: Tárgyévi többlet: | G33: =IF(C17+C30-G26>0,C17+C30-G26,"-") -> 15000000 | H33: =IF(D17+D30-H26>0,D17+D30-H26,"-") -> - | I33: =IF(E17+E30-I26>0,E17+E30-I26,"-") -> 8733430
A35: 5 Módosította a 7/2017.(V.29.) önkormányzati rendelet 2.§ (4) bekezdése. Hatályos 2017.05.30-tól.

Sheet ELLENŐRZÉS-1.sz.2.a.sz.2.b.sz.
A1: Költségvetési rendelet űrlapjainak összefüggései: | E1: ELTÉRÉS
A4: =+ÖSSZEFÜGGÉSEK!A5 -> 2016. évi előirányzat BEVÉTELEK
A6: 1.1. sz. melléklet Bevételek táblázat C. oszlop 9 sora = | B6: =+#REF! -> #REF! | C6: 2.1. számú melléklet C. oszlop 13. sor + 2.2. számú melléklet C. oszlop 12. sor | D6: =+#REF!+#REF! -> #REF! | E6: =+B6-D6 -> #REF!
A7: 1.1. sz. melléklet Bevételek táblázat C. oszlop 17 sora = | B7: =+#REF! -> #REF! | C7: 2.1. számú melléklet C. oszlop 24. sor + 2.2. számú melléklet C. oszlop 25. sor | D7: =+#REF!+#REF! -> #REF! | E7: =+B7-D7 -> #REF!
A8: 1.1. sz. melléklet Bevételek táblázat C. oszlop 18 sora = | B8: =+#REF! -> #REF! | C8: 2.1. számú melléklet C. oszlop 25. sor + 2.2. számú melléklet C. oszlop 26. sor | D8: =+#REF!+#REF! -> #REF! | E8: =+B8-D8 -> #REF!
A11: =+ÖSSZEFÜGGÉSEK!A12 -> 2016. évi előirányzat KIADÁSOK
A13: 1.1. sz. melléklet Kiadások táblázat C. oszlop 3 sora = | B13: =+#REF! -> #REF! | C13: 2.1. számú melléklet E. oszlop 13. sor + 2.2. számú melléklet E. oszlop 12. sor | D13: =+#REF!+#REF! -> #REF! | E13: =+B13-D13 -> #REF!
A14: 1.1. sz. melléklet Kiadások táblázat C. oszlop 10 sora = | B14: =+#REF! -> #REF! | C14: 2.1. számú melléklet E. oszlop 24. sor + 2.2. számú melléklet E. oszlop 25. sor | D14: =+#REF!+#REF! -> #REF! | E14: =+B14-D14 -> #REF!
A15: 1.1. sz. melléklet Kiadások táblázat C. oszlop 11 sora = | B15: =+#REF! -> #REF! | C15: 2.1. számú melléklet E. oszlop 25. sor + 2.2. számú melléklet E. oszlop 26. sor | D15: =+#REF!+#REF! -> #REF! | E15: =+B15-D15 -> #REF!

Sheet 3.sz.mell.
A1: Beruházási (felhalmozási) kiadások előirányzata beruházásonként
A3: Beruházás megnevezése | B3: Teljes költség | C3: Kivitelezés kezdési és befejezési éve | D3: =+CONCATENATE("Felhasználás ",LEFT([1]ÖSSZEFÜGGÉSEK!A6,4)-1,". XII. 31-ig") -> Felhasználás 2015. XII. 31-ig | E3: =+CONCATENATE(LEFT([1]ÖSSZEFÜGGÉSEK!A6,4),". évi",CHAR(10),"eredeti előirányzat") -> 2016. évi eredeti előirányzat | F3: =+CONCATENATE("1. sz. módosítás",CHAR(10),LEFT([1]ÖSSZEFÜGGÉSEK!A6,4),". (±)") -> 1. sz. módosítás 2016. (±) | G3: 2016. december 31. Módosítás utáni
A4: A | B4: B | C4: C | D4: D | E4: E | F4: F | G4: G=(D+F)
A5: Térfigyelő kamerarendszer berüzemelése | B5: 3665000 | C5: 2014-2016 | D5: 2636000 | E5: 1029000 | F5: -1029000 | G5: =E5+F5 -> 0
A6: Szabadidőpark villamos hálózat feljlesztése | B6: 1000000 | C6: 2016-2016 | D6: 0 | E6: 1000000 | F6: 240790 | G6: =E6+F6 -> 1240790
A7: Járdaprogram | B7: 2000000 | C7: 2016-2016 | E7: 2000000 | F7: -2000000 | G7: =E7+F7 -> 0
A8: Egyéb beruházások önkormányzat és intézményei | C8: 2016-2016 | F8: 7483098 | G8: =E8+F8 -> 7483098
A9: Egyéb beruházások (fennálló követelések megtérülése esetén) | C9: 2016-2016 | F9: 5552210 | G9: =E9+F9 -> 5552210
G10: =E10+F10 -> 0
G11: =E11+F11 -> 0
G12: =E12+F12 -> 0
G13: =E13+F13 -> 0
G14: =E14+F14 -> 0
G15: =E15+F15 -> 0
G16: =E16+F16 -> 0
G17: =E17+F17 -> 0
G18: =E18+F18 -> 0
G19: =E19+F19 -> 0
G20: =E20+F20 -> 0
G21: =E21+F21 -> 0
G22: =E22+F22 -> 0
A23: ÖSSZESEN: | B23: =SUM(B5:B22) -> 6665000 | D23: =SUM(D5:D22) -> 2636000 | E23: =SUM(E5:E22) -> 4029000 | F23: =SUM(F5:F22) -> 10247098 | G23: =SUM(G5:G22) -> 14276098
A25: 6 Módosította a 7/2017.(V.29.) önkormányzati rendelet 2.§ (5) bekezdése. Hatályos 2017.05.30-tól.

Sheet 4.sz.mell.
A1: Felújítási kiadások előirányzata felújításonként
A3: Felújítás megnevezése | B3: Teljes költség | C3: Kivitelezés kezdési és befejezési éve | D3: =+'[1]3.sz.mell.'!D3 -> Felhasználás 2015. XII. 31-ig | E3: =+CONCATENATE(LEFT([1]ÖSSZEFÜGGÉSEK!A6,4),". évi",CHAR(10),"eredeti előirányzat") -> 2016. évi eredeti előirányzat | F3: =+CONCATENATE("1. sz. módosítás",CHAR(10),LEFT([1]ÖSSZEFÜGGÉSEK!A6,4),". (±)") -> 1. sz. módosítás 2016. (±) | G3: 2016. december 31. Módosítási utáni
A4: A | B4: B | C4: C | D4: D | E4: E | F4: F | G4: G=(D+F)
A5: Nyílászárók cseréje iskola | B5: 1077595 | C5: 2016-2016 | E5: 1000000 | F5: 77595 | G5: =E5+F5 -> 1077595
A6: Belterületi utak felújítása | B6: 1346000 | C6: 2016-2016 | E6: 1346000 | F6: -1346000 | G6: =E6+F6 -> 0
A7: Teraszkorlát felújítás PH | B7: 400000 | C7: 2016-2016 | E7: 400000 | F7: -400000 | G7: =E7+F7 -> 0
A8: Tűzlétra és kémény átépítés Óvodaépület | B8: 700000 | C8: 2016-2016 | E8: 700000 | F8: -700000 | G8: =E8+F8 -> 0
A9: Művelődési Ház fűtéskorszerűsítés és kazáncsere | B9: 2000000 | C9: 2016-2016 | E9: 2000000 | F9: -2000000 | G9: =E9+F9 -> 0
A10: Egyéb felújítások önkormányzat és intézményeinél | B10: 5649634 | C10: 2016-2016 | F10: 5649634 | G10: =E10+F10 -> 5649634
A11: Egyéb felújítások (kintlévőségek megtérülése esetén) | B11: 6958701 | C11: 2016-2016 | F11: 6958701 | G11: =E11+F11 -> 6958701
G12: =E12+F12 -> 0
G13: =E13+F13 -> 0
G14: =E14+F14 -> 0
G15: =E15+F15 -> 0
G16: =E16+F16 -> 0
G17: =E17+F17 -> 0
G18: =E18+F18 -> 0
G19: =E19+F19 -> 0
G20: =E20+F20 -> 0
G21: =E21+F21 -> 0
G22: =E22+F22 -> 0
G23: =E23+F23 -> 0
A24: ÖSSZESEN: | B24: =SUM(B5:B23) -> 18131930 | D24: =SUM(D5:D23) -> 0 | F24: =SUM(F5:F23) -> 8239930 | G24: =SUM(G5:G23) -> 13685930
A26: 7 Módosította a 7/2017.(V.29.) önkormányzati rendelet 2.§ (6) bekezdése. Hatályos 2017.05.30-tól.

Sheet 5.sz.mell.
A1: Sajószöged Község Önkormányzata 2016. évi adósságot keletkeztető fejlesztési céljai
C2: Ezer forintban !
A3: Sor-szám | B3: Fejlesztési cél leírása | C3: Fejlesztés várható kiadása
B4: A | C4: B
A5: 1. | B5: ---------------------------------
A6: 2.
A7: 3.
A8: 4. | B8: ADÓSSÁGOT KELETKEZTETŐ ÜGYLETEK VÁRHATÓ EGYÜTTES ÖSSZEGE | C8: =SUM(C5:C7) -> 0

Sheet 6.sz.mell.
A1: Beruházási (felhalmozási) kiadások előirányzata beruházásonként
F2: Ezer forintban !
A3: Beruházás megnevezése | B3: Teljes költség | C3: Kivitelezés kezdési és befejezési éve | D3: =+CONCATENATE("Felhasználás ",LEFT(ÖSSZEFÜGGÉSEK!A5,4)-1,". XII. 31-ig") -> Felhasználás 2015. XII. 31-ig | E3: =+#REF! -> #REF! | F3: =+CONCATENATE(LEFT(ÖSSZEFÜGGÉSEK!A5,4),". utáni szükséglet") -> 2016. utáni szükséglet
A4: A | B4: B | C4: C | D4: D | E4: E | F4: F=(B-D-E)
A5: Térfigyelő kamerarendszer beüzemelése | B5: 3665 | C5: 2014-2015 | D5: 2636 | E5: 1029 | F5: =B5-D5-E5 -> 0
A6: Szabadidőpark villamos hálózat fejlesztése | B6: 1000 | C6: 2015-2015 | E6: 1000 | F6: =B6-D6-E6 -> 0
A7: Művelődési Háznál elektromos csatlakozó szekrény kiép. | B7: 560 | C7: 2015-2015. | E7: 560 | F7: =B7-D7-E7 -> 0
A8: Járdaprogram | B8: 2000 | C8: 2015-2015 | E8: 2000 | F8: =B8-D8-E8 -> 0
F9: =B9-D9-E9 -> 0
F10: =B10-D10-E10 -> 0
F11: =B11-D11-E11 -> 0
F12: =B12-D12-E12 -> 0
F13: =B13-D13-E13 -> 0
F14: =B14-D14-E14 -> 0
F15: =B15-D15-E15 -> 0
F16: =B16-D16-E16 -> 0
F17: =B17-D17-E17 -> 0
F18: =B18-D18-E18 -> 0
F19: =B19-D19-E19 -> 0
F20: =B20-D20-E20 -> 0
... F22: =B22-D22-E22 -> 0
A23: ÖSSZESEN: | B23: =SUM(B5:B22) -> 7225 | D23: =SUM(D5:D22) -> 2636 | E23: =SUM(E5:E22) -> 4589 | F23: =SUM(F5:F22) -> 0

Sheet 7.sz.mell.
A1: Felújítási kiadások előirányzata felújításonként
F2: Ezer forintban !
A3: Felújítás megnevezése | B3: Teljes költség | C3: Kivitelezés kezdési és befejezési éve | D3: =+'6.sz.mell.'!D3 -> Felhasználás 2015. XII. 31-ig | E3: =+'6.sz.mell.'!E3 -> #REF! | F3: =+CONCATENATE(LEFT(ÖSSZEFÜGGÉSEK!A5,4),". utáni szükséglet ",CHAR(10),"") -> 2016. utáni szükséglet
A4: A | B4: B | C4: C | D4: D | E4: E | F4: F=(B-D-E)
A5: Belterületi utak felújítása | B5: 1346 | C5: 2016-2016 | E5: 1346 | F5: =B5-D5-E5 -> 0
A6: Iskolai tetőtéri ablakok cseréje | B6: 1000 | C6: 2016-2016 | E6: 1000 | F6: =B6-D6-E6 -> 0
A7: Teraszkorlát felújítás (PH) | B7: 400 | C7: 2016-2016 | E7: 400 | F7: =B7-D7-E7 -> 0
A8: Tűzlétra és kémény átépítés óvodaépület | B8: 700 | C8: 2016-2019 | E8: 700 | F8: =B8-D8-E8 -> 0
A9: Művelődési Ház fűtéskorszerűsítés és kazáncsere | B9: 2000 | C9: 2016-2016 | E9: 2000 | F9: =B9-D9-E9 -> 0
F10: =B10-D10-E10 -> 0
F11: =B11-D11-E11 -> 0
F12: =B12-D12-E12 -> 0
F13: =B13-D13-E13 -> 0
F14: =B14-D14-E14 -> 0
F15: =B15-D15-E15 -> 0
F16: =B16-D16-E16 -> 0
F17: =B17-D17-E17 -> 0
F18: =B18-D18-E18 -> 0
F19: =B19-D19-E19 -> 0
F20: =B20-D20-E20 -> 0
F21: =B21-D21-E21 -> 0
... F23: =B23-D23-E23 -> 0
A24: ÖSSZESEN: | B24: =SUM(B5:B23) -> 5446 | D24: =SUM(D5:D23) -> 0 | E24: =SUM(E5:E23) -> 5446 | F24: =SUM(F5:F23) -> 0

Sheet 8. sz. mell. 
A2: EU-s projekt neve, azonosítója:
D3: Ezer forintban!
A4: Források | B4: =CONCATENATE((LEFT(ÖSSZEFÜGGÉSEK!A5,4)),".") -> 2016. | C4: =CONCATENATE((LEFT(ÖSSZEFÜGGÉSEK!A5,4))+1,".") -> 2017. | D4: =CONCATENATE((LEFT(ÖSSZEFÜGGÉSEK!A5,4))+1,". után") -> 2017. után | E4: Összesen
A5: Saját erő | B5: 0 | E5: =SUM(B5:D5) -> 0
A6: - saját erőből központi támogatás | E6: =SUM(B6:D6) -> 0
A7: EU-s forrás | E7: =SUM(B7:D7) -> 0
A8: Társfinanszírozás | E8: =SUM(B8:D8) -> 0
A9: Hitel | E9: =SUM(B9:D9) -> 0
A10: Egyéb forrás | E10: =SUM(B10:D10) -> 0
E11: =SUM(B11:D11) -> 0
A12: Források összesen: | B12: =B5+SUM(B7:B11) -> 0 | C12: =C5+SUM(C7:C11) -> 0 | D12: =D5+SUM(D7:D11) -> 0 | E12: =E5+SUM(E7:E11) -> 0
A14: Kiadások, költségek | B14: =+B4 -> 2016. | C14: =+C4 -> 2017. | D14: =+D4 -> 2017. után | E14: Összesen
A15: Személyi jellegű | B15: 0 | E15: =SUM(B15:D15) -> 0
A16: Beruházások, beszerzések | E16: =SUM(B16:D16) -> 0
A17: Szolgáltatások igénybe vétele | E17: =SUM(B17:D17) -> 0
A18: Adminisztratív költségek | E18: =SUM(B18:D18) -> 0
E19: =SUM(B19:D19) -> 0
E20: =SUM(B20:D20) -> 0
E21: =SUM(B21:D21) -> 0
A22: Összesen: | B22: =SUM(B15:B21) -> 0 | C22: =SUM(C15:C21) -> 0 | D22: =SUM(D15:D21) -> 0 | E22: =SUM(E15:E21) -> 0
A25: EU-s projekt neve, azonosítója:
D26: Ezer forintban!
A27: Források | B27: =+B14 -> 2016. | C27: =+C14 -> 2017. | D27: =+D14 -> 2017. után | E27: Összesen
A28: Saját erő | E28: =SUM(B28:D28) -> 0
A29: - saját erőből központi támogatás | E29: =SUM(B29:D29) -> 0
A30: EU-s forrás | E30: =SUM(B30:D30) -> 0
A31: Társfinanszírozás | E31: =SUM(B31:D31) -> 0
A32: Hitel | E32: =SUM(B32:D32) -> 0
A33: Egyéb forrás | E33: =SUM(B33:D33) -> 0
E34: =SUM(B34:D34) -> 0
A35: Források összesen: | B35: =B28+SUM(B30:B34) -> 0 | C35: =C28+SUM(C30:C34) -> 0 | D35: =D28+SUM(D30:D34) -> 0 | E35: =E28+SUM(E30:E34) -> 0
A37: Kiadások, költségek | B37: =+B27 -> 2016. | C37: =+C27 -> 2017. | D37: =+D27 -> 2017. után | E37: Összesen
A38: Személyi jellegű | E38: =SUM(B38:D38) -> 0
A39: Beruházások, beszerzések | E39: =SUM(B39:D39) -> 0
A40: Szolgáltatások igénybe vétele | E40: =SUM(B40:D40) -> 0
A41: Adminisztratív költségek | E41: =SUM(B41:D41) -> 0
E42: =SUM(B42:D42) -> 0
E43: =SUM(B43:D43) -> 0
E44: =SUM(B44:D44) -> 0
A45: Összesen: | B45: =SUM(B38:B44) -> 0 | C45: =SUM(C38:C44) -> 0 | D45: =SUM(D38:D44) -> 0 | E45: =SUM(E38:E44) -> 0
...

Sheet 9.1. sz. mell
E1: 8 9.1. melléklet a 2/2016. (II.26.) önkormányzati rendelethez
A2: Megnevezés | B2: Sajószöged Községi Önkormányzat | E2: 01
A3: Feladat megnevezése | B3: Összes bevétel, kiadás | E3: 01
A5: Száma | B5: Kiemelt előirányzat, előirányzat megnevezése | C5: Eredeti előirányzat | D5: 1. sz. módosítás (±) | E5: 2016. december 31. Módosítás utáni
A6: A | B6: B | C6: C | D6: D | E6: E=C±D
A7: Bevételek
A8: 1. | B8: Önkormányzat működési támogatásai (1.1.+…+.1.6.) | C8: =+C9+C10+C11+C12+C13+C14 -> 76532385 | D8: =+D9+D10+D11+D12+D13+D14 -> -1013020 | E8: =+E9+E10+E11+E12+E13+E14 -> 75519365
A9: 1.1. | B9: Helyi önkormányzatok működésének általános támogatása | C9: 20129106 | D9: =E9-C9 -> 0 | E9: 20129106
A10: 1.2. | B10: Önkormányzatok egyes köznevelési feladatainak támogatása | C10: 24828566 | D10: =E10-C10 -> 1617234 | E10: 26445800
A11: 1.3. | B11: Önkormányzatok szociális és gyermekjóléti feladatainak támogatása | C11: 29065573 | D11: =E11-C11 -> -4564857 | E11: 24500716
A12: 1.4. | B12: Önkormányzatok kulturális feladatainak támogatása | C12: 2509140 | D12: =E12-C12 -> 135850 | E12: 2644990
A13: 1.5. | B13: Működési célú kvi támogatások és kiegészítő támogatások | D13: =E13-C13 -> 1794129 | E13: 1794129
A14: 1.6. | B14: Elszámolásból származó bevételek | D14: =E14-C14 -> 4624 | E14: 4624
A15: 2. | B15: Működési célú támogatások államháztartáson belülről (2.1.+…+.2.5.) | C15: =+C16+C17+C18+C19+C20 -> 16444100 | D15: =+D16+D17+D18+D19+D20 -> 5786905 | E15: =+E16+E17+E18+E19+E20 -> 22231005
A16: 2.1. | B16: Elvonások és befizetések bevételei | E16: =C16+D16 -> 0
A17: 2.2. | B17: Működési célú garancia- és kezességvállalásból megtérülések | E17: =C17+D17 -> 0
A18: 2.3. | B18: Működési célú visszatérítendő támogatások, kölcsönök visszatérülése | E18: =C18+D18 -> 0
A19: 2.4. | B19: Működési célú visszatérítendő támogatások, kölcsönök igénybevétele | E19: =C19+D19 -> 0
A20: 2.5. | B20: Egyéb működési célú támogatások bevételei | C20: 16444100 | D20: =E20-C20 -> 5786905 | E20: 22231005
A21: 2.6. | B21: 2.5.-ből EU-s támogatás | E21: =C21+D21 -> 0
A22: 3. | B22: Felhalmozási célú támogatások államháztartáson belülről (3.1.+…+3.5.) | C22: =+C23+C24+C25+C26+C27 -> 0 | D22: =+D23+D24+D25+D26+D27 -> 0 | E22: =+E23+E24+E25+E26+E27 -> 6000000
A23: 3.1. | B23: Felhalmozási célú önkormányzati támogatások | E23: 6000000
A24: 3.2. | B24: Felhalmozási célú garancia- és kezességvállalásból megtérülések | E24: =C24+D24 -> 0
A25: 3.3. | B25: Felhalmozási célú visszatérítendő támogatások, kölcsönök visszatérülése | E25: =C25+D25 -> 0
A26: 3.4. | B26: Felhalmozási célú visszatérítendő támogatások, kölcsönök igénybevétele | E26: =C26+D26 -> 0
A27: 3.5. | B27: Egyéb felhalmozási célú támogatások bevételei | E27: =C27+D27 -> 0
A28: 3.6. | B28: 3.5.-ből EU-s támogatás | E28: =C28+D28 -> 0
A29: 4. | B29: Közhatalmi bevételek (4.1.+...+4.7.) | C29: =+C30+C31+C32+C33+C34+C35+C36 -> 124700000 | D29: =+D30+D31+D32+D33+D34+D35+D36 -> 15453300 | E29: =+E30+E31+E32+E33+E34+E35+E36 -> 140153300
A30: 4.1. | B30: Építményadó | C30: 2500000 | D30: =E30-C30 -> 1040148 | E30: 3540148
A31: 4.2. | B31: Telekadó | C31: 30000000 | D31: =E31-C31 -> 11695798 | E31: 41695798
A32: 4.3. | B32: Iparűzési adó | C32: 85000000 | D32: =E32-C32 -> 223908 | E32: 85223908
A33: 4.4. | B33: Talajterhelési díj | D33: =E33-C33 -> 0
A34: 4.5. | B34: Gépjárműadó | C34: 7000000 | D34: =E34-C34 -> 2167371 | E34: 9167371
A35: 4.6. | B35: Egyéb áruhasználati és szolgáltatási adók | D35: =E35-C35 -> 0
A36: 4.7. | B36: Egyéb közhatalmi bevételek | C36: 200000 | D36: =E36-C36 -> 326075 | E36: 526075
A37: 5. | B37: Működési bevételek (5.1.+…+ 5.11.) | C37: =SUM(C38:C48) -> 23116800 | D37: =SUM(D38:D48) -> 8757327 | E37: =SUM(E38:E48) -> 31874127
A38: 5.1. | B38: Készletértékesítés ellenértéke | E38: =C38+D38 -> 0
A39: 5.2. | B39: Szolgáltatások ellenértéke | C39: 1570000 | D39: =E39-C39 -> 3613551 | E39: 5183551
A40: 5.3. | B40: Közvetített szolgáltatások értéke | C40: 800000 | D40: =E40-C40 -> -22190 | E40: 777810
A41: 5.4. | B41: Tulajdonosi bevételek | D41: =E41-C41 -> 10234855 | E41: 10234855
...

Sheet 9.1.1. sz. mell
E1: 9 9.1.1. melléklet a 2/2016. (II.26.) önkormányzati rendelethez
A2: Megnevezés | B2: Sajószöged Községi Önkormányzat | E2: 01
A3: Feladat megnevezése | B3: Kötelező feladatok bevételei, kiadásai | E3: 02
A5: Száma | B5: Kiemelt előirányzat, előirányzat megnevezése | C5: Eredeti előirányzat | D5: 1. sz. módosítás (±) | E5: 2016. december 31. Módosítás utáni
A6: A | B6: B | C6: C | D6: D | E6: E=C±D
A7: Bevételek
A8: 1. | B8: Önkormányzat működési támogatásai (1.1.+…+.1.6.) | C8: =+C9+C10+C11+C12+C13+C14 -> 76532385 | D8: =+D9+D10+D11+D12+D13+D14 -> -1013020 | E8: =+E9+E10+E11+E12+E13+E14 -> 75519365
A9: 1.1. | B9: Helyi önkormányzatok működésének általános támogatása | C9: 20129106 | D9: =E9-C9 -> 0 | E9: 20129106
A10: 1.2. | B10: Önkormányzatok egyes köznevelési feladatainak támogatása | C10: 24828566 | D10: =E10-C10 -> 1617234 | E10: 26445800
A11: 1.3. | B11: Önkormányzatok szociális és gyermekjóléti feladatainak támogatása | C11: 29065573 | D11: =E11-C11 -> -4564857 | E11: 24500716
A12: 1.4. | B12: Önkormányzatok kulturális feladatainak támogatása | C12: 2509140 | D12: =E12-C12 -> 135850 | E12: 2644990
A13: 1.5. | B13: Működési célú kvi támogatások és kiegészítő támogatások | D13: =E13-C13 -> 1794129 | E13: 1794129
A14: 1.6. | B14: Elszámolásból származó bevételek | D14: =E14-C14 -> 4624 | E14: 4624
A15: 2. | B15: Működési célú támogatások államháztartáson belülről (2.1.+…+.2.5.) | C15: =+C16+C17+C18+C19+C20 -> 16444100 | D15: =+D16+D17+D18+D19+D20 -> 5786905 | E15: =+E16+E17+E18+E19+E20 -> 22231005
A16: 2.1. | B16: Elvonások és befizetések bevételei | E16: =C16+D16 -> 0
A17: 2.2. | B17: Működési célú garancia- és kezességvállalásból megtérülések | E17: =C17+D17 -> 0
A18: 2.3. | B18: Működési célú visszatérítendő támogatások, kölcsönök visszatérülése | E18: =C18+D18 -> 0
A19: 2.4. | B19: Működési célú visszatérítendő támogatások, kölcsönök igénybevétele | E19: =C19+D19 -> 0
A20: 2.5. | B20: Egyéb működési célú támogatások bevételei | C20: 16444100 | D20: =E20-C20 -> 5786905 | E20: 22231005
A21: 2.6. | B21: 2.5.-ből EU-s támogatás | E21: =C21+D21 -> 0
A22: 3. | B22: Felhalmozási célú támogatások államháztartáson belülről (3.1.+…+3.5.) | C22: =+C23+C24+C25+C26+C27 -> 0 | D22: =+D23+D24+D25+D26+D27 -> 0 | E22: =+E23+E24+E25+E26+E27 -> 6000000
A23: 3.1. | B23: Felhalmozási célú önkormányzati támogatások | E23: 6000000
A24: 3.2. | B24: Felhalmozási célú garancia- és kezességvállalásból megtérülések | E24: =C24+D24 -> 0
A25: 3.3. | B25: Felhalmozási célú visszatérítendő támogatások, kölcsönök visszatérülése | E25: =C25+D25 -> 0
A26: 3.4. | B26: Felhalmozási célú visszatérítendő támogatások, kölcsönök igénybevétele | E26: =C26+D26 -> 0
A27: 3.5. | B27: Egyéb felhalmozási célú támogatások bevételei | E27: =C27+D27 -> 0
A28: 3.6. | B28: 3.5.-ből EU-s támogatás | E28: =C28+D28 -> 0
A29: 4. | B29: Közhatalmi bevételek (4.1.+...+4.7.) | C29: =+C30+C31+C32+C33+C34+C35+C36 -> 124700000 | D29: =+D30+D31+D32+D33+D34+D35+D36 -> 15453300 | E29: =+E30+E31+E32+E33+E34+E35+E36 -> 140153300
A30: 4.1. | B30: Építményadó | C30: 2500000 | D30: =E30-C30 -> 1040148 | E30: 3540148
A31: 4.2. | B31: Idegenforgalmi adó | C31: 30000000 | D31: =E31-C31 -> 11695798 | E31: 41695798
A32: 4.3. | B32: Iparűzési adó | C32: 85000000 | D32: =E32-C32 -> 223908 | E32: 85223908
A33: 4.4. | B33: Talajterhelési díj | D33: =E33-C33 -> 0
A34: 4.5. | B34: Gépjárműadó | C34: 7000000 | D34: =E34-C34 -> 2167371 | E34: 9167371
A35: 4.6. | B35: Egyéb áruhasználati és szolgáltatási adók | D35: =E35-C35 -> 0
A36: 4.7. | B36: Egyéb közhatalmi bevételek | C36: 200000 | D36: =E36-C36 -> 326075 | E36: 526075
A37: 5. | B37: Működési bevételek (5.1.+…+ 5.11.) | C37: =SUM(C38:C48) -> 23116800 | D37: =SUM(D38:D48) -> 8757327 | E37: =SUM(E38:E48) -> 31874127
A38: 5.1. | B38: Készletértékesítés ellenértéke | E38: =C38+D38 -> 0
A39: 5.2. | B39: Szolgáltatások ellenértéke | C39: 1570000 | D39: =E39-C39 -> 3613551 | E39: 5183551
A40: 5.3. | B40: Közvetített szolgáltatások értéke | C40: 800000 | D40: =E40-C40 -> -22190 | E40: 777810
A41: 5.4. | B41: Tulajdonosi bevételek | D41: =E41-C41 -> 10234855 | E41: 10234855
...

Sheet 9.1.2. sz. mell 
C1: =+CONCATENATE("9.1.2. melléklet a 2/",LEFT(ÖSSZEFÜGGÉSEK!A5,4),". (II.26.) önkormányzati rendelethez") -> 9.1.2. melléklet a 2/2016. (II.26.) önkormányzati rendelethez
A2: Megnevezés | B2: Önkormányzat | C2: 01
A3: Feladat megnevezése | B3: Önként vállalt feladatok bevételei, kiadása | C3: 03
C4: Ezer forintban !
A5: Száma | B5: Kiemelt előirányzat, előirányzat megnevezése | C5: Előirányzat
B6: A | C6: B
B7: Bevételek
A8: 1. | B8: Önkormányzat működési támogatásai (1.1.+…+.1.6.) | C8: =+C9+C10+C11+C12+C13+C14 -> 0
A9: 1.1. | B9: Helyi önkormányzatok működésének általános támogatása
A10: 1.2. | B10: Önkormányzatok egyes köznevelési feladatainak támogatása
A11: 1.3. | B11: Önkormányzatok szociális és gyermekjóléti, étkeztetési feladatainak támogatása
A12: 1.4. | B12: Önkormányzatok kulturális feladatainak támogatása
A13: 1.5. | B13: Működési célú kvi támogatások és kiegészítő támogatások
A14: 1.6. | B14: Elszámolásból származó bevételek
A15: 2. | B15: Működési célú támogatások államháztartáson belülről (2.1.+…+.2.5.) | C15: =+C16+C17+C18+C19+C20 -> 0
A16: 2.1. | B16: Elvonások és befizetések bevételei
A17: 2.2. | B17: Működési célú garancia- és kezességvállalásból megtérülések
A18: 2.3. | B18: Működési célú visszatérítendő támogatások, kölcsönök visszatérülése
A19: 2.4. | B19: Működési célú visszatérítendő támogatások, kölcsönök igénybevétele
A20: 2.5. | B20: Egyéb működési célú támogatások bevételei
A21: 2.6. | B21: 2.5.-ből EU-s támogatás
A22: 3. | B22: Felhalmozási célú támogatások államháztartáson belülről (3.1.+…+3.5.) | C22: =+C23+C24+C25+C26+C27 -> 0
A23: 3.1. | B23: Felhalmozási célú önkormányzati támogatások
A24: 3.2. | B24: Felhalmozási célú garancia- és kezességvállalásból megtérülések
A25: 3.3. | B25: Felhalmozási célú visszatérítendő támogatások, kölcsönök visszatérülése
A26: 3.4. | B26: Felhalmozási célú visszatérítendő támogatások, kölcsönök igénybevétele
A27: 3.5. | B27: Egyéb felhalmozási célú támogatások bevételei
A28: 3.6. | B28: 3.5.-ből EU-s támogatás
A29: 4. | B29: Közhatalmi bevételek (4.1.+4.2.+4.3.+4.4.) | C29: =SUM(C30:C36) -> 0
A30: 4.1. | B30: Építményadó
A31: 4.2. | B31: Idegenforgalmi adó
A32: 4.3. | B32: Iparűzési adó
A33: 4.4. | B33: Talajterhelési díj
A34: 4.5. | B34: Gépjárműadó
A35: 4.6. | B35: Egyéb áruhasználati és szolgáltatási adók
A36: 4.7. | B36: Egyéb közhatalmi bevételek
A37: 5. | B37: Működési bevételek (5.1.+…+ 5.11.) | C37: =SUM(C38:C48) -> 0
A38: 5.1. | B38: Készletértékesítés ellenértéke
A39: 5.2. | B39: Szolgáltatások ellenértéke
A40: 5.3. | B40: Közvetített szolgáltatások értéke
...

Sheet 9.1.3. sz. mell
C1: =+CONCATENATE("9.1.3. melléklet a 2/",LEFT(ÖSSZEFÜGGÉSEK!A5,4),". (II.26.) önkormányzati rendelethez") -> 9.1.3. melléklet a 2/2016. (II.26.) önkormányzati rendelethez
A2: Megnevezés | B2: Önkormányzat | C2: 01
A3: Feladat megnevezése | B3: Államigazgatási feladatok bevételei, kiadása | C3: 04
C4: Ezer forintban !
A5: Száma | B5: Kiemelt előirányzat, előirányzat megnevezése | C5: Előirányzat
B6: A | C6: B
B7: Bevételek
A8: 1. | B8: Önkormányzat működési támogatásai (1.1.+…+.1.6.) | C8: =+C9+C10+C11+C12+C13+C14 -> 0
A9: 1.1. | B9: Helyi önkormányzatok működésének általános támogatása
A10: 1.2. | B10: Önkormányzatok egyes köznevelési feladatainak támogatása
A11: 1.3. | B11: Önkormányzatok szociális és gyermekjóléti, étkeztetési feladatainak támogatása
A12: 1.4. | B12: Önkormányzatok kulturális feladatainak támogatása
A13: 1.5. | B13: Működési célú kvi támogatások és kiegészítő támogatások
A14: 1.6. | B14: Elszámolásból származó bevételek
A15: 2. | B15: Működési célú támogatások államháztartáson belülről (2.1.+…+.2.5.) | C15: =+C16+C17+C18+C19+C20 -> 0
A16: 2.1. | B16: Elvonások és befizetések bevételei
A17: 2.2. | B17: Működési célú garancia- és kezességvállalásból megtérülések
A18: 2.3. | B18: Működési célú visszatérítendő támogatások, kölcsönök visszatérülése
A19: 2.4. | B19: Működési célú visszatérítendő támogatások, kölcsönök igénybevétele
A20: 2.5. | B20: Egyéb működési célú támogatások bevételei
A21: 2.6. | B21: 2.5.-ből EU-s támogatás
A22: 3. | B22: Felhalmozási célú támogatások államháztartáson belülről (3.1.+…+3.5.) | C22: =+C23+C24+C25+C26+C27 -> 0
A23: 3.1. | B23: Felhalmozási célú önkormányzati támogatások
A24: 3.2. | B24: Felhalmozási célú garancia- és kezességvállalásból megtérülések
A25: 3.3. | B25: Felhalmozási célú visszatérítendő támogatások, kölcsönök visszatérülése
A26: 3.4. | B26: Felhalmozási célú visszatérítendő támogatások, kölcsönök igénybevétele
A27: 3.5. | B27: Egyéb felhalmozási célú támogatások bevételei
A28: 3.6. | B28: 3.5.-ből EU-s támogatás
A29: 4. | B29: Közhatalmi bevételek (4.1.+4.2.+4.3.+4.4.) | C29: =SUM(C30:C36) -> 0
A30: 4.1. | B30: Építményadó
A31: 4.2. | B31: Idegenforgalmi adó
A32: 4.3. | B32: Iparűzési adó
A33: 4.4. | B33: Talajterhelési díj
A34: 4.5. | B34: Gépjárműadó
A35: 4.6. | B35: Egyéb áruhasználati és szolgáltatási adók
A36: 4.7. | B36: Egyéb közhatalmi bevételek
A37: 5. | B37: Működési bevételek (5.1.+…+ 5.11.) | C37: =SUM(C38:C48) -> 0
A38: 5.1. | B38: Készletértékesítés ellenértéke
A39: 5.2. | B39: Szolgáltatások ellenértéke
A40: 5.3. | B40: Közvetített szolgáltatások értéke
...

Sheet 9.2. sz. mell
E1: 10 9.2. melléklet a 2/2016. (II.26.) önkormányzati rendelethez
A2: Költségvetési szerv | B2: Sajószögedi Polgármesteri Hivatal | E2: 02
A3: Feladat megnevezése | B3: Összes bevétel, kiadás | E3: 01
A5: Száma | B5: Kiemelt előirányzat, előirányzat megnevezése | C5: Eredeti előirányzat | D5: 1. sz. módosítás (±) | E5: 2016. december 31. Módosítás utáni
A6: A | B6: B | C6: C | D6: D | E6: E=C±D
A7: Bevételek
A8: 1. | B8: Működési bevételek (1.1.+…+1.11.) | C8: =SUM(C9:C19) -> 0 | D8: =SUM(D9:D19) -> 15 | E8: =SUM(E9:E19) -> 15
A9: 1.1. | B9: Készletértékesítés ellenértéke | E9: =C9+D9 -> 0
A10: 1.2. | B10: Szolgáltatások ellenértéke | E10: =C10+D10 -> 0
A11: 1.3. | B11: Közvetített szolgáltatások értéke | E11: =C11+D11 -> 0
A12: 1.4. | B12: Tulajdonosi bevételek | E12: =C12+D12 -> 0
A13: 1.5. | B13: Ellátási díjak | E13: =C13+D13 -> 0
A14: 1.6. | B14: Kiszámlázott általános forgalmi adó | E14: =C14+D14 -> 0
A15: 1.7. | B15: Általános forgalmi adó visszatérülése | E15: =C15+D15 -> 0
A16: 1.8. | B16: Kamatbevételek | D16: =E16-C16 -> 14 | E16: 14
A17: 1.9. | B17: Egyéb pénzügyi műveletek bevételei | E17: =C17+D17 -> 0
A18: 1.10. | B18: Biztosító által fizetett kártérítés | E18: =C18+D18 -> 0
A19: 1.11. | B19: Egyéb működési bevételek | D19: =E19-C19 -> 1 | E19: 1
A20: 2. | B20: Működési célú támogatások államháztartáson belülről (2.1.+…+2.3.) | C20: =SUM(C21:C23) -> 0 | D20: =SUM(D21:D23) -> 491433 | E20: =SUM(E21:E23) -> 491433
A21: 2.1. | B21: Elvonások és befizetések bevételei | E21: =C21+D21 -> 0
A22: 2.2. | B22: Visszatérítendő támogatások, kölcsönök visszatérülése ÁH-n belülről | E22: =C22+D22 -> 0
A23: 2.3. | B23: Egyéb működési célú támogatások bevételei államháztartáson belülről | D23: 491433 | E23: =C23+D23 -> 491433
A24: 2.4. | B24: 2.3-ból EU támogatás | E24: =C24+D24 -> 0
A25: 3. | B25: Közhatalmi bevételek | C25: 30000 | D25: =E25-C25 -> -16000 | E25: 14000
A26: 4. | B26: Felhalmozási célú támogatások államháztartáson belülről (4.1.+…+4.3.) | C26: =+C27+C28+C29 -> 0 | D26: =+D27+D28+D29 -> 0 | E26: =+E27+E28+E29 -> 0
A27: 4.1. | B27: Felhalmozási célú önkormányzati támogatások | E27: =C27+D27 -> 0
A28: 4.2. | B28: Visszatérítendő támogatások, kölcsönök visszatérülése ÁH-n belülről | E28: =C28+D28 -> 0
A29: 4.3. | B29: Egyéb felhalmozási célú támogatások bevételei államháztartáson belülről | E29: =C29+D29 -> 0
A30: 4.4. | B30: 4.3.-ból EU-s támogatás | E30: =C30+D30 -> 0
A31: 5. | B31: Felhalmozási bevételek (5.1.+…+5.3.) | C31: =+C32+C33+C34 -> 0 | D31: =+D32+D33+D34 -> 0 | E31: =+E32+E33+E34 -> 0
A32: 5.1. | B32: Immateriális javak értékesítése | E32: =C32+D32 -> 0
A33: 5.2. | B33: Ingatlanok értékesítése | E33: =C33+D33 -> 0
A34: 5.3. | B34: Egyéb tárgyi eszközök értékesítése | E34: =C34+D34 -> 0
A35: 6. | B35: Működési célú átvett pénzeszközök | E35: =C35+D35 -> 0
A36: 7. | B36: Felhalmozási célú átvett pénzeszközök | E36: =C36+D36 -> 0
A37: 8. | B37: Költségvetési bevételek összesen (1.+…+7.) | C37: =+C8+C20+C25+C26+C31+C35+C36 -> 30000 | D37: =+D8+D20+D25+D26+D31+D35+D36 -> 475448 | E37: =+E8+E20+E25+E26+E31+E35+E36 -> 505448
A38: 9. | B38: Finanszírozási bevételek (9.1.+…+9.3.) | C38: =+C39+C40+C41 -> 48850845 | D38: =+D39+D40+D41 -> -1528533 | E38: =+E39+E40+E41 -> 47322312
A39: 9.1. | B39: Költségvetési maradvány igénybevétele | C39: 1574000 | D39: =E39-C39 -> 1275 | E39: 1575275
A40: 9.2. | B40: Vállalkozási maradvány igénybevétele | E40: =C40+D40 -> 0
A41: 9.3. | B41: Irányító szervi (önkormányzati) támogatás (intézményfinanszírozás) | C41: 47276845 | D41: =E41-C41 -> -1529808 | E41: 45747037
...

Sheet 9.2.1. sz. mell
E1: 11 9.2.1. melléklet a 2/2016. (II.26.) önkormányzati rendelethez
A2: Költségvetési szerv | B2: Sajószögedi Polgármesteri Hivatal | E2: 02
A3: Feladat megnevezése | B3: Kötelező feladatok bevételei, kiadásai | E3: 02
A5: Száma | B5: Kiemelt előirányzat, előirányzat megnevezése | C5: Eredeti előirányzat | D5: 1. sz. módosítás (±) | E5: 2016. december 31. Módosítás utáni
A6: A | B6: B | C6: C | D6: D | E6: E=C±D
A7: Bevételek
A8: 1. | B8: Működési bevételek (1.1.+…+1.11.) | C8: =SUM(C9:C19) -> 0 | D8: =SUM(D9:D19) -> 15 | E8: =SUM(E9:E19) -> 15
A9: 1.1. | B9: Készletértékesítés ellenértéke | E9: =C9+D9 -> 0
A10: 1.2. | B10: Szolgáltatások ellenértéke | E10: =C10+D10 -> 0
A11: 1.3. | B11: Közvetített szolgáltatások értéke | E11: =C11+D11 -> 0
A12: 1.4. | B12: Tulajdonosi bevételek | E12: =C12+D12 -> 0
A13: 1.5. | B13: Ellátási díjak | E13: =C13+D13 -> 0
A14: 1.6. | B14: Kiszámlázott általános forgalmi adó | E14: =C14+D14 -> 0
A15: 1.7. | B15: Általános forgalmi adó visszatérülése | E15: =C15+D15 -> 0
A16: 1.8. | B16: Kamatbevételek | D16: =E16-C16 -> 14 | E16: 14
A17: 1.9. | B17: Egyéb pénzügyi műveletek bevételei | E17: =C17+D17 -> 0
A18: 1.10. | B18: Biztosító által fizetett kártérítés | E18: =C18+D18 -> 0
A19: 1.11. | B19: Egyéb működési bevételek | D19: =E19-C19 -> 1 | E19: 1
A20: 2. | B20: Működési célú támogatások államháztartáson belülről (2.1.+…+2.3.) | C20: =SUM(C21:C23) -> 0 | D20: =SUM(D21:D23) -> 491433 | E20: =SUM(E21:E23) -> 491433
A21: 2.1. | B21: Elvonások és befizetések bevételei | E21: =C21+D21 -> 0
A22: 2.2. | B22: Visszatérítendő támogatások, kölcsönök visszatérülése ÁH-n belülről | E22: =C22+D22 -> 0
A23: 2.3. | B23: Egyéb működési célú támogatások bevételei államháztartáson belülről | D23: 491433 | E23: =C23+D23 -> 491433
A24: 2.4. | B24: 2.3-ból EU támogatás | E24: =C24+D24 -> 0
A25: 3. | B25: Közhatalmi bevételek | C25: 30000 | D25: =E25-C25 -> -16000 | E25: 14000
A26: 4. | B26: Felhalmozási célú támogatások államháztartáson belülről (4.1.+…+4.3.) | C26: =+C27+C28+C29 -> 0 | D26: =+D27+D28+D29 -> 0 | E26: =+E27+E28+E29 -> 0
A27: 4.1. | B27: Felhalmozási célú önkormányzati támogatások | E27: =C27+D27 -> 0
A28: 4.2. | B28: Visszatérítendő támogatások, kölcsönök visszatérülése ÁH-n belülről | E28: =C28+D28 -> 0
A29: 4.3. | B29: Egyéb felhalmozási célú támogatások bevételei államháztartáson belülről | E29: =C29+D29 -> 0
A30: 4.4. | B30: 4.3.-ból EU-s támogatás | E30: =C30+D30 -> 0
A31: 5. | B31: Felhalmozási bevételek (5.1.+…+5.3.) | C31: =+C32+C33+C34 -> 0 | D31: =+D32+D33+D34 -> 0 | E31: =+E32+E33+E34 -> 0
A32: 5.1. | B32: Immateriális javak értékesítése | E32: =C32+D32 -> 0
A33: 5.2. | B33: Ingatlanok értékesítése | E33: =C33+D33 -> 0
A34: 5.3. | B34: Egyéb tárgyi eszközök értékesítése | E34: =C34+D34 -> 0
A35: 6. | B35: Működési célú átvett pénzeszközök | E35: =C35+D35 -> 0
A36: 7. | B36: Felhalmozási célú átvett pénzeszközök | E36: =C36+D36 -> 0
A37: 8. | B37: Költségvetési bevételek összesen (1.+…+7.) | C37: =+C8+C20+C25+C26+C31+C35+C36 -> 30000 | D37: =+D8+D20+D25+D26+D31+D35+D36 -> 475448 | E37: =+E8+E20+E25+E26+E31+E35+E36 -> 505448
A38: 9. | B38: Finanszírozási bevételek (9.1.+…+9.3.) | C38: =+C39+C40+C41 -> 48850845 | D38: =+D39+D40+D41 -> -1528533 | E38: =+E39+E40+E41 -> 47322312
A39: 9.1. | B39: Költségvetési maradvány igénybevétele | C39: 1574000 | D39: =E39-C39 -> 1275 | E39: 1575275
A40: 9.2. | B40: Vállalkozási maradvány igénybevétele | E40: =C40+D40 -> 0
A41: 9.3. | B41: Irányító szervi (önkormányzati) támogatás (intézményfinanszírozás) | C41: 47276845 | D41: =E41-C41 -> -1529808 | E41: 45747037
...

Sheet 9.2.2. sz.  mell
C1: =+CONCATENATE("9.2.2. melléklet a 2/",LEFT(ÖSSZEFÜGGÉSEK!A5,4),". (II.26.) önkormányzati rendelethez") -> 9.2.2. melléklet a 2/2016. (II.26.) önkormányzati rendelethez
A2: Költségvetési szerv megnevezése | B2: Sajószögedi Polgármesteri Hivatal | C2: 02
A3: Feladat megnevezése | B3: Önként vállalt feladatok bevételei, kiadásai | C3: 02
C4: Ezer forintban !
A5: Száma | B5: Kiemelt előirányzat, előirányzat megnevezése | C5: Előirányzat
B6: A | C6: B
B7: Bevételek
A8: 1. | B8: Működési bevételek (1.1.+…+1.11.) | C8: =SUM(C9:C19) -> 0
A9: 1.1. | B9: Készletértékesítés ellenértéke
A10: 1.2. | B10: Szolgáltatások ellenértéke
A11: 1.3. | B11: Közvetített szolgáltatások értéke
A12: 1.4. | B12: Tulajdonosi bevételek
A13: 1.5. | B13: Ellátási díjak
A14: 1.6. | B14: Kiszámlázott általános forgalmi adó
A15: 1.7. | B15: Általános forgalmi adó visszatérülése
A16: 1.8. | B16: Kamatbevételek
A17: 1.9. | B17: Egyéb pénzügyi műveletek bevételei
A18: 1.10. | B18: Biztosító által fizetett kártérítés
A19: 1.11. | B19: Egyéb működési bevételek
A20: 2. | B20: Működési célú támogatások államháztartáson belülről (2.1.+…+2.3.) | C20: =SUM(C21:C23) -> 0
A21: 2.1. | B21: Elvonások és befizetések bevételei
A22: 2.2. | B22: Visszatérítendő támogatások, kölcsönök visszatérülése ÁH-n belülről
A23: 2.3. | B23: Egyéb működési célú támogatások bevételei államháztartáson belülről
A24: 2.4. | B24: 2.3-ból EU támogatás
A25: 3. | B25: Közhatalmi bevételek
A26: 4. | B26: Felhalmozási célú támogatások államháztartáson belülről (4.1.+…+4.3.) | C26: =+C27+C28+C29 -> 0
A27: 4.1. | B27: Felhalmozási célú önkormányzati támogatások
A28: 4.2. | B28: Visszatérítendő támogatások, kölcsönök visszatérülése ÁH-n belülről
A29: 4.3. | B29: Egyéb felhalmozási célú támogatások bevételei államháztartáson belülről
A30: 4.4. | B30: 4.3.-ból EU-s támogatás
A31: 5. | B31: Felhalmozási bevételek (5.1.+…+5.3.) | C31: =+C32+C33+C34 -> 0
A32: 5.1. | B32: Immateriális javak értékesítése
A33: 5.2. | B33: Ingatlanok értékesítése
A34: 5.3. | B34: Egyéb tárgyi eszközök értékesítése
A35: 6. | B35: Működési célú átvett pénzeszközök
A36: 7. | B36: Felhalmozási célú átvett pénzeszközök
A37: 8. | B37: Költségvetési bevételek összesen (1.+…+7.) | C37: =+C8+C20+C25+C26+C31+C35+C36 -> 0
A38: 9. | B38: Finanszírozási bevételek (9.1.+…+9.3.) | C38: =+C39+C40+C41 -> 0
A39: 9.1. | B39: Költségvetési maradvány igénybevétele
A40: 9.2. | B40: Vállalkozási maradvány igénybevétele
...

Sheet 9.2.3. sz. mell
C1: =+CONCATENATE("9.2.3. melléklet a 2/",LEFT(ÖSSZEFÜGGÉSEK!A5,4),". (II.26.) önkormányzati rendelethez") -> 9.2.3. melléklet a 2/2016. (II.26.) önkormányzati rendelethez
A2: Költségvetési szerv megnevezése | B2: Sajószögedi Polgármesteri Hivatal | C2: 02
A3: Feladat megnevezése | B3: Államigazgatási feladatok bevételei, kiadásai | C3: 03
C4: Ezer forintban !
A5: Száma | B5: Kiemelt előirányzat, előirányzat megnevezése | C5: Előirányzat
B6: A | C6: B
B7: Bevételek
A8: 1. | B8: Működési bevételek (1.1.+…+1.11.) | C8: =SUM(C9:C19) -> 0
A9: 1.1. | B9: Készletértékesítés ellenértéke
A10: 1.2. | B10: Szolgáltatások ellenértéke
A11: 1.3. | B11: Közvetített szolgáltatások értéke
A12: 1.4. | B12: Tulajdonosi bevételek
A13: 1.5. | B13: Ellátási díjak
A14: 1.6. | B14: Kiszámlázott általános forgalmi adó
A15: 1.7. | B15: Általános forgalmi adó visszatérülése
A16: 1.8. | B16: Kamatbevételek
A17: 1.9. | B17: Egyéb pénzügyi műveletek bevételei
A18: 1.10. | B18: Biztosító által fizetett kártérítés
A19: 1.11. | B19: Egyéb működési bevételek
